Workbook

Sheet Uputstvo
B2: APELACIONI SUD BRČKO DISTRIKTA
C4: Napomene:
B6: Kompletni materijali u vezi procesa izvještavanja i ocjenjivanja rada u sudovima za 2025. godinu dostupni su na linku:
B7: https://vstv.pravosudje.ba/vstvfo/B/141/article/143277
B8: Tabele za popunjavanje podataka o radu sudova nije moguće mijenjati, niti dodavati nove redove ili kolone.
B9: Tabele se isključivo popunjavaju predviđenim redoslijedom, po redoslijedu postavljenih tabela.
B12: Podatke je potrebno upisivati samo u polja osjenčena žutom bojom.
B13: U ostala polja nije moguće upisivati vrijednosti, u ovim poljima vrijednosti će biti izračunate automatski.
B15: Popunjene obrasce poslati na e-mail adresu: vstvstatistika@pravosudje.ba do 02.02.2026. godine.
B17: Za sva eventualna pitanja vezano za popunjavanje obrazaca molimo Vas da kontaktirate Odjel za pravosudnu analitiku i izvještavanje, na telefon: 033 704 616.
B20: Tabele za ocjenjivanje NPF u sudu sadrže detaljnije napomene koje je potrebno imati u vidu prilikom popunjavanja tabela.
B25: Pored napomena datih uz tabele, potrebno je imati u vidu i slijedeće:
B27: Radi obezbijeđenja konzistentosti dostavljenih podataka o radu sudova u tabelama su postavljeni kontrolnici, odnosno logička pravila koja moraju ispunjavati dostavljeni podaci.
B29: Radi pomoći sudovima u popunjavanju tabela, a i radi lakše obrade podataka za neke od ovih kontrolnika postavljeni su posebni mehanizmi prema kojima će u slučaju da podaci nisu u skladu sa ovim pravilima odgovarajuća polja u tabeli biti obojena crvenom bojom.
... B40: TABELA II – ODLUKE USTAVNOG SUDA BIH U tabeli II potrebno je prikazati samo podatke o odlukama Ustavnog suda BiH u kojima je izrekom obuhvaćena odluka Vašeg suda, odnosno postupak koji je u toku pred Vašim sudom (kada je riječ o apelacijama sa navodima da postoji kršenje prava na suđenje u razumnom roku). Posebna napomena: Traženi podaci se odnose na odluke iz apelacione nadležnosti Ustavnog suda BiH. Tabela IIa – Odluke kojima se ne usvaja apelacija: potrebno je prikazati podatke o odlukama Ustavnog suda BiH kojima je utvrđeno da nije osnovana apelacija izjavljena u odnosu na odluke Vašeg suda. Molimo da unesete podatake u kolone I-III prema njihovim nazivima. Podaci se automatski preračunavaju u koloni IV. Tabela IIb – Odluke kojima se apelacija usvaja: “Pravni osnov” - Odluke kojima se usvaja apelacija potrebno je razvrstati prema izrekama odluka Ustavnog suda BiH kojima su utvrđene povrede Ustava BiH, Evropske konvencije o ljudskim pravima (u tabeli: EK) i njenih protokola (u tabeli:P). Svi pomenuti dokumenti i klasifikacija povreda su dostupni na zvaničnoj web stranici Ustavnog suda BiH (http://www.ccbh.ba/bos/p_stream.php?kat=83). Kolone I - IV “Broj odluka kojim se usvaja apelacija” – Potrebno je razvrstati broj odluka Ustavnog suda kojima se izjavljena apelacija usvaja u odnosu na odluku Vašeg suda, prema odgovarajućim kategorijama, u zavisnosti od izreke odluke Ustavnog suda BiH. Preostale odluke Ustavnog suda, koje ne spadaju u navedene tri kategorije, potrebno je upisati u rubriku “Broj ostalih odluka kojima se usvajaju apelacije” (npr. odluka kojom se usvaja apelacija i konstatuje povreda prava na pravično suđenje, zbog prekoračenja razumnog roka za donošenje odluke, nakon što je sudski postupak završen, a kojom se ne nalaže sudu da okonča predmet bez odlaganja, odnosno ne ukida ili ne preinačuje odluka suda). Napomena 1 - Ukoliko su izrekom odluke Ustavnog suda BiH ustanovljene dvije ili više povreda ustavom zagarantovanih prava i sloboda, molimo Vas da svaku od povreda evidentirate posebno u tabeli IIb. Napomena 2 - Molimo Vas da i djelimično usvojene apelacije prikažete u odgovarajućim kolonama tabele IIb. Tabela IIc – Predmeti u kojima se nalaže sudu da okonča predmet bez odlaganja zbog kršenja prava na donošenje odluke u razumnom roku U tabeli IIc potrebno je prikazati predmete u kojima je Ustavni sud BiH naložio sudu da okonča predmet bez odlaganja zbog kršenja prava na donošenje odluke u razumnom roku. Molimo Vas da u ovu tabelu unesete samo podatke o predmetima u kojima je Vašem sudu naloženo da okonča predmet bez odlaganja. U skladu sa obrazloženjem odluke Ustavnog suda BiH, potrebno je da naznačite u kojoj fazi postupka je Vaš sud rješavao predmet za koji je Ustavni sud utvrdio da je Vaš sud u najvećoj mjeri doprinio odugovlačenju postupka. Tabela IId - Predmeti u kojima je utvrđeno kršenje prava na donošenje odluke u razumnom roku Takođe, potrebno je da popunite i tabelu IId koja se odnosi na ukupan broj predmeta, u kojima je usvojena apelacija u odnosu na Vaš sud i određena naknada nematerijalne štete zbog kršenja prava na donošenje odluke u razumnom roku, kao i ukupan iznos naknade koji je utvrdio Ustavni sud BiH.

Sheet Tabela I
A1: Apelacioni sud Brčko distrikta | F1: 2025
A2: Izvještajni period: | B2: 1.1.2025.-31.12.2025. | F2: 115
A3: Ostvarena kolektivna norma za sud u 2025. godini | E3: =+'Tabela Ia'!Q25
A4: Tabela I -Podaci o odlukama po pravnim lijekovima
A5: Vrsta predmeta | B5: Broj odbacujućih odluka | C5: Broj potvrđujućih odluka | D5: Broj preinačujućih odluka | E5: Broj ukidajućih odluka | F5: Riješeno na drugi način
C6: Odbijen pravni lijek
B7: I | C7: II | D7: III | E7: IV | F7: V
A8: Građansko odjeljenje
A9: Rev
A10: Gž
A11: Pž
A12: Rsž
A13: Gvl
A14: Gvlž
A15: Ostalo
A16: Krivično odjeljenje
A17: Kž
A18: Kmž
A19: Kžk
... A29: Ostalo
A31: Ukupno | B31: =SUM(B9:B15)+SUM(B17:B23)+SUM(B25:B29) -> 0 | C31: =SUM(C9:C15)+SUM(C17:C23)+SUM(C25:C29) -> 0 | D31: =SUM(D9:D15)+SUM(D17:D23)+SUM(D25:D29) -> 0 | E31: =SUM(E9:E15)+SUM(E17:E23)+SUM(E25:E29) -> 0 | F31: =SUM(F9:F15)+SUM(F17:F23)+SUM(F25:F29) -> 0

Sheet Tabela Ia
A1: ='Tabela I'!A1 -> Apelacioni sud Brčko distrikta
A2: Izvještajni period: | C2: 1.1.2025.-31.12.2025.
A3: Tabela Ia – Ostvarena orijentaciona norma - Elektronski obrazac za obračun ostvarene orijentacione norme (pogledati NAPOMENU 4)
A5: Redni broj | B5: Ime i prezime | C5: Ocjenjen u sudu | D5: Uključen u plan rješavanja predmeta | E5: Naziv odjela | F5: Pravosudna funkcija | H5: Procenat orijentacijske norme koju je nosilac pravosudne funkcije dužan ostvariti - Ukoliko procenat orijenatcijske norme nije predviđen u padajućem meniju pogledati NAPOMENU 3 | I5: Period obavljanja pravosudne funkcije u instituciji koja popunjava tabelu Ia | K5: Ukupan broj dana za obračun norme - pogledati NAPOMENU 2 | L5: Broj dana opravdanog odsustva iz člana 15. Kriterija za ocjenjivanje rada sudija i člana 14. Kriterija za ocjenjivanje rada PS (pogledati NAPOMENU 9) | M5: Ostvarena orijentaciona norma iz CMS-a | N5: Ostvarena orijentaciona norma na predmetima van CMS-a - pogledati NAPOMENU 6 | O5: Procenat ostvarene orijentacione norme prema članu 9. Pravilnika o orijentacijskim mjerilima - pogledati NAPOMENU 7 | P5: Procenat ostvarene propisane godišnje orijentacijske norme u 2025. godini | Q5: Ukupno ostvarena orijentacijska norma u 2025. godini | R5: Nedovoljan broj predmeta u radu - pogledati NAPOMENU 5 | W5: Broj ostvarenih bodova | X5: Sudija | Y5: Stručni saradnik | Z5: Predsjednik odjela | AA5: Predsjednik sudskog vijeća vrhovnog suda entiteta | AB5: Član VSTV-a
I6: Datum od | J6: Datum do | R6: broj predmeta u radu | S6: broj riješenih predmeta | T6: broj neriješenih predmeta sa zakonskim i procesnim smetnjama | U6: broj neriješenih predmeta bez zakonskih i procesnih smetnji | V6: procenat riješenih predmeta
A7: I | B7: II | C7: III | D7: IIIa | E7: IV | F7: V | H7: VI | I7: VII | J7: VIII | K7: IX | L7: X | M7: XI | N7: XII | O7: XIII | P7: XIV | Q7: XV | R7: XVI | S7: XVII | T7: XVIII | U7: XIX | V7: XX | W7: XXI | X7: 1 | Y7: 0.9 | Z7: 0.75 | AA7: 0.7 | AB7: 0.5 | AC7: 0.35 | AD7: 0.25 | AE7: Ne treba raditi na predm.
A8: 1 | F8: Predsjednik suda | K8: 261 | P8: =IF(H8="","",IF(H8="Ne treba raditi na predm.",1+SUM(M8:O8),(SUM(M8:O8)/H8))) | Q8: =IF(L8>0,IF(H8="Ne treba raditi na predm.",P8,P8*(K8/(K8-L8))),P8) | V8: =IF(R8="","",S8/(R8-T8)) | W8: =IF(Q8="","",IF(C8="Ne","",IF(H8="Ne treba raditi na predm.","",IF(D8="Da",IF(Q8>1,10,IF(V8="",IF(Q8>0.9,9,IF(Q8>0.8,8,IF(Q8>0.7,6,IF(Q8>0.6,4,IF(Q8>0.5,2,0))))),IF(V8>0.94,10,IF(V8>0.9,9,IF(V8>0.8,8,IF(V8>0.7,6,IF(V8>0.6,4,IF(V8>0.5,2,0)))))))),IF(Q8>1,15,IF(V8="",IF(Q8>0.9,13,IF(Q8>0.8,11,IF(Q8>0.7,9,IF(Q8>0.6,6,IF(Q8>0.5,3,0))))),IF(V8>0.94,15,IF(V8>0.9,12,IF(V8>0.8,9,IF(V8>0.7,8,IF(V8>0.6,6,IF(V8>0.5,3,0)))))))))))) | X8: 0.7 | Y8: 0.5 | Z8: 0.4 | AA8: 0.3 | AB8: Ne treba raditi na predm.
F9: Predsjednik suda | K9: 261 | P9: =IF(H9="","",IF(H9="Ne treba raditi na predm.",1+SUM(M9:O9),(SUM(M9:O9)/H9))) | Q9: =IF(L9>0,IF(H9="Ne treba raditi na predm.",P9,P9*(K9/(K9-L9))),P9) | V9: =IF(R9="","",S9/(R9-T9)) | W9: =IF(Q9="","",IF(C8="Ne","",IF(H9="Ne treba raditi na predm.","",IF(D8="Da",IF(Q9>1,10,IF(V9="",IF(Q9>0.9,9,IF(Q9>0.8,8,IF(Q9>0.7,6,IF(Q9>0.6,4,IF(Q9>0.5,2,0))))),IF(V9>0.94,10,IF(V9>0.9,9,IF(V9>0.8,8,IF(V9>0.7,6,IF(V9>0.6,4,IF(V9>0.5,2,0)))))))),IF(Q9>1,15,IF(V9="",IF(Q9>0.9,13,IF(Q9>0.8,11,IF(Q9>0.7,9,IF(Q9>0.6,6,IF(Q9>0.5,3,0))))),IF(V9>0.94,15,IF(V9>0.9,12,IF(V9>0.8,9,IF(V9>0.7,8,IF(V9>0.6,6,IF(V9>0.5,3,0))))))))))))
A10: 2 | G10: =IF(F10="Sudija",1,IF(F10="Stručni saradnik",1,"")) | K10: 261 | P10: =IF(H10="","",IF(H10="Ne treba raditi na predm.",1+SUM(M10:O10),(SUM(M10:O10)/H10))) | Q10: =IF(L10>0,IF(H10="Ne treba raditi na predm.",P10,P10*(K10/(K10-L10))),P10) | V10: =IF(R10="","",S10/(R10-T10)) | W10: =IF(Q10="","",IF(C10="Ne","",IF(H10="Ne treba raditi na predm.","",IF(D10="Da",IF(Q10>1,30,IF(V10="",IF(Q10>0.9,25,IF(Q10>0.8,20,IF(Q10>0.7,15,IF(Q10>0.6,10,IF(Q10>0.5,5,0))))),IF(V10>0.94,30,IF(V10>0.9,25,IF(V10>0.8,20,IF(V10>0.7,15,IF(V10>0.6,10,IF(V10>0.5,5,0)))))))),IF(Q10>1,40,IF(V10="",IF(Q10>0.95,35,IF(Q10>0.9,30,IF(Q10>0.8,20,IF(Q10>0.7,15,IF(Q10>0.6,10,IF(Q10>0.5,5,0)))))),IF(V10>0.94,40,IF(V10>0.9,35,IF(V10>0.8,30,IF(V10>0.7,20,IF(V10>0.6,15,IF(V10>0.5,10,0)))))))))))) | X10: Da | Y10: Ne
A11: 3 | G11: =IF(F11="Sudija",1,IF(F11="Stručni saradnik",1,"")) | K11: 261 | P11: =IF(H11="","",IF(H11="Ne treba raditi na predm.",1+SUM(M11:O11),(SUM(M11:O11)/H11))) | Q11: =IF(L11>0,IF(H11="Ne treba raditi na predm.",P11,P11*(K11/(K11-L11))),P11) | V11: =IF(R11="","",S11/(R11-T11)) | W11: =IF(Q11="","",IF(C11="Ne","",IF(H11="Ne treba raditi na predm.","",IF(D11="Da",IF(Q11>1,30,IF(V11="",IF(Q11>0.9,25,IF(Q11>0.8,20,IF(Q11>0.7,15,IF(Q11>0.6,10,IF(Q11>0.5,5,0))))),IF(V11>0.94,30,IF(V11>0.9,25,IF(V11>0.8,20,IF(V11>0.7,15,IF(V11>0.6,10,IF(V11>0.5,5,0)))))))),IF(Q11>1,40,IF(V11="",IF(Q11>0.95,35,IF(Q11>0.9,30,IF(Q11>0.8,20,IF(Q11>0.7,15,IF(Q11>0.6,10,IF(Q11>0.5,5,0)))))),IF(V11>0.94,40,IF(V11>0.9,35,IF(V11>0.8,30,IF(V11>0.7,20,IF(V11>0.6,15,IF(V11>0.5,10,0))))))))))))
A12: 4 | G12: =IF(F12="Sudija",1,IF(F12="Stručni saradnik",1,"")) | K12: 261 | P12: =IF(H12="","",IF(H12="Ne treba raditi na predm.",1+SUM(M12:O12),(SUM(M12:O12)/H12))) | Q12: =IF(L12>0,IF(H12="Ne treba raditi na predm.",P12,P12*(K12/(K12-L12))),P12) | V12: =IF(R12="","",S12/(R12-T12)) | W12: =IF(Q12="","",IF(C12="Ne","",IF(H12="Ne treba raditi na predm.","",IF(D12="Da",IF(Q12>1,30,IF(V12="",IF(Q12>0.9,25,IF(Q12>0.8,20,IF(Q12>0.7,15,IF(Q12>0.6,10,IF(Q12>0.5,5,0))))),IF(V12>0.94,30,IF(V12>0.9,25,IF(V12>0.8,20,IF(V12>0.7,15,IF(V12>0.6,10,IF(V12>0.5,5,0)))))))),IF(Q12>1,40,IF(V12="",IF(Q12>0.95,35,IF(Q12>0.9,30,IF(Q12>0.8,20,IF(Q12>0.7,15,IF(Q12>0.6,10,IF(Q12>0.5,5,0)))))),IF(V12>0.94,40,IF(V12>0.9,35,IF(V12>0.8,30,IF(V12>0.7,20,IF(V12>0.6,15,IF(V12>0.5,10,0))))))))))))
A13: 5 | G13: =IF(F13="Sudija",1,IF(F13="Stručni saradnik",1,"")) | K13: 261 | P13: =IF(H13="","",IF(H13="Ne treba raditi na predm.",1+SUM(M13:O13),(SUM(M13:O13)/H13))) | Q13: =IF(L13>0,IF(H13="Ne treba raditi na predm.",P13,P13*(K13/(K13-L13))),P13) | V13: =IF(R13="","",S13/(R13-T13)) | W13: =IF(Q13="","",IF(C13="Ne","",IF(H13="Ne treba raditi na predm.","",IF(D13="Da",IF(Q13>1,30,IF(V13="",IF(Q13>0.9,25,IF(Q13>0.8,20,IF(Q13>0.7,15,IF(Q13>0.6,10,IF(Q13>0.5,5,0))))),IF(V13>0.94,30,IF(V13>0.9,25,IF(V13>0.8,20,IF(V13>0.7,15,IF(V13>0.6,10,IF(V13>0.5,5,0)))))))),IF(Q13>1,40,IF(V13="",IF(Q13>0.95,35,IF(Q13>0.9,30,IF(Q13>0.8,20,IF(Q13>0.7,15,IF(Q13>0.6,10,IF(Q13>0.5,5,0)))))),IF(V13>0.94,40,IF(V13>0.9,35,IF(V13>0.8,30,IF(V13>0.7,20,IF(V13>0.6,15,IF(V13>0.5,10,0))))))))))))
A14: 6 | G14: =IF(F14="Sudija",1,IF(F14="Stručni saradnik",1,"")) | K14: 261 | P14: =IF(H14="","",IF(H14="Ne treba raditi na predm.",1+SUM(M14:O14),(SUM(M14:O14)/H14))) | Q14: =IF(L14>0,IF(H14="Ne treba raditi na predm.",P14,P14*(K14/(K14-L14))),P14) | V14: =IF(R14="","",S14/(R14-T14)) | W14: =IF(Q14="","",IF(C14="Ne","",IF(H14="Ne treba raditi na predm.","",IF(D14="Da",IF(Q14>1,30,IF(V14="",IF(Q14>0.9,25,IF(Q14>0.8,20,IF(Q14>0.7,15,IF(Q14>0.6,10,IF(Q14>0.5,5,0))))),IF(V14>0.94,30,IF(V14>0.9,25,IF(V14>0.8,20,IF(V14>0.7,15,IF(V14>0.6,10,IF(V14>0.5,5,0)))))))),IF(Q14>1,40,IF(V14="",IF(Q14>0.95,35,IF(Q14>0.9,30,IF(Q14>0.8,20,IF(Q14>0.7,15,IF(Q14>0.6,10,IF(Q14>0.5,5,0)))))),IF(V14>0.94,40,IF(V14>0.9,35,IF(V14>0.8,30,IF(V14>0.7,20,IF(V14>0.6,15,IF(V14>0.5,10,0))))))))))))
A15: 7 | G15: =IF(F15="Sudija",1,IF(F15="Stručni saradnik",1,"")) | K15: 261 | P15: =IF(H15="","",IF(H15="Ne treba raditi na predm.",1+SUM(M15:O15),(SUM(M15:O15)/H15))) | Q15: =IF(L15>0,IF(H15="Ne treba raditi na predm.",P15,P15*(K15/(K15-L15))),P15) | V15: =IF(R15="","",S15/(R15-T15)) | W15: =IF(Q15="","",IF(C15="Ne","",IF(H15="Ne treba raditi na predm.","",IF(D15="Da",IF(Q15>1,30,IF(V15="",IF(Q15>0.9,25,IF(Q15>0.8,20,IF(Q15>0.7,15,IF(Q15>0.6,10,IF(Q15>0.5,5,0))))),IF(V15>0.94,30,IF(V15>0.9,25,IF(V15>0.8,20,IF(V15>0.7,15,IF(V15>0.6,10,IF(V15>0.5,5,0)))))))),IF(Q15>1,40,IF(V15="",IF(Q15>0.95,35,IF(Q15>0.9,30,IF(Q15>0.8,20,IF(Q15>0.7,15,IF(Q15>0.6,10,IF(Q15>0.5,5,0)))))),IF(V15>0.94,40,IF(V15>0.9,35,IF(V15>0.8,30,IF(V15>0.7,20,IF(V15>0.6,15,IF(V15>0.5,10,0))))))))))))
A16: 8 | G16: =IF(F16="Sudija",1,IF(F16="Stručni saradnik",1,"")) | K16: 261 | P16: =IF(H16="","",IF(H16="Ne treba raditi na predm.",1+SUM(M16:O16),(SUM(M16:O16)/H16))) | Q16: =IF(L16>0,IF(H16="Ne treba raditi na predm.",P16,P16*(K16/(K16-L16))),P16) | V16: =IF(R16="","",S16/(R16-T16)) | W16: =IF(Q16="","",IF(C16="Ne","",IF(H16="Ne treba raditi na predm.","",IF(D16="Da",IF(Q16>1,30,IF(V16="",IF(Q16>0.9,25,IF(Q16>0.8,20,IF(Q16>0.7,15,IF(Q16>0.6,10,IF(Q16>0.5,5,0))))),IF(V16>0.94,30,IF(V16>0.9,25,IF(V16>0.8,20,IF(V16>0.7,15,IF(V16>0.6,10,IF(V16>0.5,5,0)))))))),IF(Q16>1,40,IF(V16="",IF(Q16>0.95,35,IF(Q16>0.9,30,IF(Q16>0.8,20,IF(Q16>0.7,15,IF(Q16>0.6,10,IF(Q16>0.5,5,0)))))),IF(V16>0.94,40,IF(V16>0.9,35,IF(V16>0.8,30,IF(V16>0.7,20,IF(V16>0.6,15,IF(V16>0.5,10,0))))))))))))
A17: 9 | G17: =IF(F17="Sudija",1,IF(F17="Stručni saradnik",1,"")) | K17: 261 | P17: =IF(H17="","",IF(H17="Ne treba raditi na predm.",1+SUM(M17:O17),(SUM(M17:O17)/H17))) | Q17: =IF(L17>0,IF(H17="Ne treba raditi na predm.",P17,P17*(K17/(K17-L17))),P17) | V17: =IF(R17="","",S17/(R17-T17)) | W17: =IF(Q17="","",IF(C17="Ne","",IF(H17="Ne treba raditi na predm.","",IF(D17="Da",IF(Q17>1,30,IF(V17="",IF(Q17>0.9,25,IF(Q17>0.8,20,IF(Q17>0.7,15,IF(Q17>0.6,10,IF(Q17>0.5,5,0))))),IF(V17>0.94,30,IF(V17>0.9,25,IF(V17>0.8,20,IF(V17>0.7,15,IF(V17>0.6,10,IF(V17>0.5,5,0)))))))),IF(Q17>1,40,IF(V17="",IF(Q17>0.95,35,IF(Q17>0.9,30,IF(Q17>0.8,20,IF(Q17>0.7,15,IF(Q17>0.6,10,IF(Q17>0.5,5,0)))))),IF(V17>0.94,40,IF(V17>0.9,35,IF(V17>0.8,30,IF(V17>0.7,20,IF(V17>0.6,15,IF(V17>0.5,10,0))))))))))))
A18: 10 | G18: =IF(F18="Sudija",1,IF(F18="Stručni saradnik",1,"")) | K18: 261 | P18: =IF(H18="","",IF(H18="Ne treba raditi na predm.",1+SUM(M18:O18),(SUM(M18:O18)/H18))) | Q18: =IF(L18>0,IF(H18="Ne treba raditi na predm.",P18,P18*(K18/(K18-L18))),P18) | V18: =IF(R18="","",S18/(R18-T18)) | W18: =IF(Q18="","",IF(C18="Ne","",IF(H18="Ne treba raditi na predm.","",IF(D18="Da",IF(Q18>1,30,IF(V18="",IF(Q18>0.9,25,IF(Q18>0.8,20,IF(Q18>0.7,15,IF(Q18>0.6,10,IF(Q18>0.5,5,0))))),IF(V18>0.94,30,IF(V18>0.9,25,IF(V18>0.8,20,IF(V18>0.7,15,IF(V18>0.6,10,IF(V18>0.5,5,0)))))))),IF(Q18>1,40,IF(V18="",IF(Q18>0.95,35,IF(Q18>0.9,30,IF(Q18>0.8,20,IF(Q18>0.7,15,IF(Q18>0.6,10,IF(Q18>0.5,5,0)))))),IF(V18>0.94,40,IF(V18>0.9,35,IF(V18>0.8,30,IF(V18>0.7,20,IF(V18>0.6,15,IF(V18>0.5,10,0))))))))))))
A19: 11 | G19: =IF(F19="Sudija",1,IF(F19="Stručni saradnik",1,"")) | K19: 261 | P19: =IF(H19="","",IF(H19="Ne treba raditi na predm.",1+SUM(M19:O19),(SUM(M19:O19)/H19))) | Q19: =IF(L19>0,IF(H19="Ne treba raditi na predm.",P19,P19*(K19/(K19-L19))),P19) | V19: =IF(R19="","",S19/(R19-T19)) | W19: =IF(Q19="","",IF(C19="Ne","",IF(H19="Ne treba raditi na predm.","",IF(D19="Da",IF(Q19>1,30,IF(V19="",IF(Q19>0.9,25,IF(Q19>0.8,20,IF(Q19>0.7,15,IF(Q19>0.6,10,IF(Q19>0.5,5,0))))),IF(V19>0.94,30,IF(V19>0.9,25,IF(V19>0.8,20,IF(V19>0.7,15,IF(V19>0.6,10,IF(V19>0.5,5,0)))))))),IF(Q19>1,40,IF(V19="",IF(Q19>0.95,35,IF(Q19>0.9,30,IF(Q19>0.8,20,IF(Q19>0.7,15,IF(Q19>0.6,10,IF(Q19>0.5,5,0)))))),IF(V19>0.94,40,IF(V19>0.9,35,IF(V19>0.8,30,IF(V19>0.7,20,IF(V19>0.6,15,IF(V19>0.5,10,0))))))))))))
A20: 12 | G20: =IF(F20="Sudija",1,IF(F20="Stručni saradnik",1,"")) | K20: 261 | P20: =IF(H20="","",IF(H20="Ne treba raditi na predm.",1+SUM(M20:O20),(SUM(M20:O20)/H20))) | Q20: =IF(L20>0,IF(H20="Ne treba raditi na predm.",P20,P20*(K20/(K20-L20))),P20) | V20: =IF(R20="","",S20/(R20-T20)) | W20: =IF(Q20="","",IF(C20="Ne","",IF(H20="Ne treba raditi na predm.","",IF(D20="Da",IF(Q20>1,30,IF(V20="",IF(Q20>0.9,25,IF(Q20>0.8,20,IF(Q20>0.7,15,IF(Q20>0.6,10,IF(Q20>0.5,5,0))))),IF(V20>0.94,30,IF(V20>0.9,25,IF(V20>0.8,20,IF(V20>0.7,15,IF(V20>0.6,10,IF(V20>0.5,5,0)))))))),IF(Q20>1,40,IF(V20="",IF(Q20>0.95,35,IF(Q20>0.9,30,IF(Q20>0.8,20,IF(Q20>0.7,15,IF(Q20>0.6,10,IF(Q20>0.5,5,0)))))),IF(V20>0.94,40,IF(V20>0.9,35,IF(V20>0.8,30,IF(V20>0.7,20,IF(V20>0.6,15,IF(V20>0.5,10,0))))))))))))
G21: =IF(F21="Sudija",1,IF(F21="Stručni saradnik",1,"")) | K21: 261 | P21: =IF(H21="","",IF(H21="Ne treba raditi na predm.",1+SUM(M21:O21),(SUM(M21:O21)/H21))) | Q21: =IF(L21>0,IF(H21="Ne treba raditi na predm.",P21,P21*(K21/(K21-L21))),P21) | V21: =IF(R21="","",S21/(R21-T21)) | W21: =IF(Q21="","",IF(C21="Ne","",IF(H21="Ne treba raditi na predm.","",IF(D21="Da",IF(Q21>1,30,IF(V21="",IF(Q21>0.9,25,IF(Q21>0.8,20,IF(Q21>0.7,15,IF(Q21>0.6,10,IF(Q21>0.5,5,0))))),IF(V21>0.94,30,IF(V21>0.9,25,IF(V21>0.8,20,IF(V21>0.7,15,IF(V21>0.6,10,IF(V21>0.5,5,0)))))))),IF(Q21>1,40,IF(V21="",IF(Q21>0.95,35,IF(Q21>0.9,30,IF(Q21>0.8,20,IF(Q21>0.7,15,IF(Q21>0.6,10,IF(Q21>0.5,5,0)))))),IF(V21>0.94,40,IF(V21>0.9,35,IF(V21>0.8,30,IF(V21>0.7,20,IF(V21>0.6,15,IF(V21>0.5,10,0))))))))))))
G22: =IF(F22="Sudija",1,IF(F22="Stručni saradnik",1,"")) | K22: 261 | P22: =IF(H22="","",IF(H22="Ne treba raditi na predm.",1+SUM(M22:O22),(SUM(M22:O22)/H22))) | Q22: =IF(L22>0,IF(H22="Ne treba raditi na predm.",P22,P22*(K22/(K22-L22))),P22) | V22: =IF(R22="","",S22/(R22-T22)) | W22: =IF(Q22="","",IF(C22="Ne","",IF(H22="Ne treba raditi na predm.","",IF(D22="Da",IF(Q22>1,30,IF(V22="",IF(Q22>0.9,25,IF(Q22>0.8,20,IF(Q22>0.7,15,IF(Q22>0.6,10,IF(Q22>0.5,5,0))))),IF(V22>0.94,30,IF(V22>0.9,25,IF(V22>0.8,20,IF(V22>0.7,15,IF(V22>0.6,10,IF(V22>0.5,5,0)))))))),IF(Q22>1,40,IF(V22="",IF(Q22>0.95,35,IF(Q22>0.9,30,IF(Q22>0.8,20,IF(Q22>0.7,15,IF(Q22>0.6,10,IF(Q22>0.5,5,0)))))),IF(V22>0.94,40,IF(V22>0.9,35,IF(V22>0.8,30,IF(V22>0.7,20,IF(V22>0.6,15,IF(V22>0.5,10,0))))))))))))
G23: =IF(F23="Sudija",1,IF(F23="Stručni saradnik",1,"")) | K23: 261 | P23: =IF(H23="","",IF(H23="Ne treba raditi na predm.",1+SUM(M23:O23),(SUM(M23:O23)/H23))) | Q23: =IF(L23>0,IF(H23="Ne treba raditi na predm.",P23,P23*(K23/(K23-L23))),P23) | V23: =IF(R23="","",S23/(R23-T23)) | W23: =IF(Q23="","",IF(C23="Ne","",IF(H23="Ne treba raditi na predm.","",IF(D23="Da",IF(Q23>1,30,IF(V23="",IF(Q23>0.9,25,IF(Q23>0.8,20,IF(Q23>0.7,15,IF(Q23>0.6,10,IF(Q23>0.5,5,0))))),IF(V23>0.94,30,IF(V23>0.9,25,IF(V23>0.8,20,IF(V23>0.7,15,IF(V23>0.6,10,IF(V23>0.5,5,0)))))))),IF(Q23>1,40,IF(V23="",IF(Q23>0.95,35,IF(Q23>0.9,30,IF(Q23>0.8,20,IF(Q23>0.7,15,IF(Q23>0.6,10,IF(Q23>0.5,5,0)))))),IF(V23>0.94,40,IF(V23>0.9,35,IF(V23>0.8,30,IF(V23>0.7,20,IF(V23>0.6,15,IF(V23>0.5,10,0))))))))))))
G24: =IF(F24="Sudija",1,IF(F24="Stručni saradnik",1,"")) | K24: 261 | P24: =IF(H24="","",IF(H24="Ne treba raditi na predm.",1+SUM(M24:O24),(SUM(M24:O24)/H24))) | Q24: =IF(L24>0,IF(H24="Ne treba raditi na predm.",P24,P24*(K24/(K24-L24))),P24) | V24: =IF(R24="","",S24/(R24-T24)) | W24: =IF(Q24="","",IF(C24="Ne","",IF(H24="Ne treba raditi na predm.","",IF(D24="Da",IF(Q24>1,30,IF(V24="",IF(Q24>0.9,25,IF(Q24>0.8,20,IF(Q24>0.7,15,IF(Q24>0.6,10,IF(Q24>0.5,5,0))))),IF(V24>0.94,30,IF(V24>0.9,25,IF(V24>0.8,20,IF(V24>0.7,15,IF(V24>0.6,10,IF(V24>0.5,5,0)))))))),IF(Q24>1,40,IF(V24="",IF(Q24>0.95,35,IF(Q24>0.9,30,IF(Q24>0.8,20,IF(Q24>0.7,15,IF(Q24>0.6,10,IF(Q24>0.5,5,0)))))),IF(V24>0.94,40,IF(V24>0.9,35,IF(V24>0.8,30,IF(V24>0.7,20,IF(V24>0.6,15,IF(V24>0.5,10,0))))))))))))
P25: KOLEKTIVNA NORMA SUDA | Q25: =IF(Q8="",IF(Q9="","",AVERAGEIF(Q8:Q24,">0,2")),AVERAGEIF(Q8:Q24,">0,2")) | R25: =SUM(R8:R24) -> 0 | S25: =SUM(S8:S24) -> 0 | T25: =SUM(T8:T24) -> 0 | U25: =SUM(U8:U24) -> 0 | V25: =IF(R25=0,"",S25/(R25-T25))
P26: BODOVANJE ZA OSTVARENU KOLEKTIVNU NORMU SUDA U SKLADU SA ČLANOM 19. STAV (2) KRITERIJA ZA OCJENJIVANJE RADA PREDSJEDNIKA SUDOVA | Q26: =IF(Q25="","",IF(Q25>1,30,IF(Q25>0.9,25,IF(Q25>0.8,20,IF(Q25>0.7,15,IF(Q25>0.6,10,IF(Q25>0.5,5,0)))))))
B28: Obrazloženje norme NPF-a unesene u plava polja
B29: Primjer - Sudija 1 | C29: 8 mjeseci sudija, 4 mjeseca šef odjela (90% norme sudije) | H29: 0.97
R35: Nedovoljan broj predmeta u radu
A36: NAPOMENA 1: U Tabelu Ia se unose podaci o ostvarenoj orijentacijskoj normi za sve nosioce pravosudnih funkcija, uključujući i one kod kojih je ukupno ostvarenje norme ispod 20%: novoimenovane sudije/stručni saradnici, sudije/stručni saradnici koji su imenovani u drugu instituciju, kao i sudije/stručni saradnici koji su prestali sa radom zbog: penzionisanja, podnošenja ostavke, smrti, gubitka radne sposobnosti, razrješenja od dužnosti, privremenog ili trajnog udaljenja od vršenja dužnosti itd. (član 15. Kriterija za ocjenjivanje rada predsjednika sudova u Bosni i Hercegovini). Ostvarena kolektivna norma suda automatski će se obračunati i predsjedniku suda će se dodijeliti odgovarajući broj bodova u skladu sa članom 19. Kriterija za ocjenjivanje rada predsjednika sudova u Bosni i Hercegovini. Ukoliko sud nije imao dovoljan broj predmeta u radu za ostvarenje orijentacijske norme, potrebno je manuelno unijeti ukupan broj predmeta koji su bili u radu u sudu kao i ukupan broj riješenih predmeta u sudu u periodu izvještavanja, kao i podatke o broju neriješenih predmeta sa zakonskim i procesnim smetnjama i broju neriješenih predmeta bez zakonskih i procesnih smetnji. Procenat riješenih predmeta automatski će se obračunati, te predsjedniku suda dodijeliti odgovarajući broj bodova u skladu sa članom 20. Kriterija za ocjenjivanje rada predsjednika sudova u Bosni i Hercegovini. | R36: broj predmeta u radu | S36: broj riješenih predmeta | T36: broj neriješenih predmeta sa zakonskim i procesnim smetnjama | U36: broj neriješenih predmeta bez zakonskih i procesnih smetnji | V36: procenat riješenih predmeta
V37: =IF(R37="","",S37/(R37-T37))
U38: BODOVANJE ZA BROJ RIJEŠENIH PREDMETA U SUDU U SKLADU SA ČLANOM 20. STAV (1) KRITERIJA ZA OCJENJIVANJE RADA PREDSJEDNIKA SUDOVA | V38: =IF(V37="","",IF(V37>0.94,30,IF(V37>0.9,25,IF(V37>0.8,20,IF(V37>0.7,15,IF(V37>0.6,10,IF(V37>0.5,5,0)))))))
A41: Tabela Ib -Obračun norme za proces ocjenjivanja za nosioce pravosudne funkcije koji su u toku godine prešli iz jednog suda u drugi sud - Obračun prema Instrukciji dio: II POSEBNI SLUČAJEVI OCJENJIVANJA 3) a) (pogledati NAPOMENU 4)
A42: Ime i prezime predsjednika suda | P42: Ukupna ostvarena orijentacijska norma koja se unosi u Obrazac za ocjenjivanje = | Q42: =Q43+Q44 -> 0
A43: Sud 1 | F43: Predsjednik suda | P43: =IF(H43="",0,IF(H43="Ne treba raditi na predm.",1+SUM(M43:O43),(SUM(M43:O43)/H43))) -> 0 | Q43: =IF(L43>0,IF(H43="Ne treba raditi na predm.",P43,P43*(K43/(K43-L43))),P43) -> 0 | V43: =IF(R43="","",(S43+S44)/(R43+R44-T43-T44)) | W43: =IF(Q43="","",IF(C43="Ne","",IF(H43="Ne treba raditi na predm.","",IF(D43="Da",IF((Q43+Q44)>1,10,IF(V43="",IF((Q43+Q44)>0.9,9,IF((Q43+Q44)>0.8,8,IF((Q43+Q44)>0.7,6,IF((Q43+Q44)>0.6,4,IF((Q43+Q44)>0.5,2,0))))),IF((V43+V44)>0.94,10,IF((V43+V44)>0.9,9,IF((V43+V44)>0.8,8,IF((V43+V44)>0.7,6,IF((V43+V44)>0.6,4,IF((V43+V44)>0.5,2,0)))))))),IF((Q43+Q44)>1,15,IF(V43="",IF((Q43+Q44)>0.9,13,IF((Q43+Q44)>0.8,11,IF((Q43+Q44)>0.7,9,IF((Q43+Q44)>0.6,6,IF((Q43+Q44)>0.5,3,0))))),IF((V43+V44)>0.94,15,IF((V43+V44)>0.9,12,IF((V43+V44)>0.8,9,IF((V43+V44)>0.7,8,IF((V43+V44)>0.6,6,IF((V43+V44)>0.5,3,0)))))))))))) -> 0
A44: Sud 2 | G44: =IF(F44="Sudija",1,IF(F44="Stručni saradnik",1,"")) | P44: =IF(H44="",0,IF(H44="Ne treba raditi na predm.",1+SUM(M44:O44),(SUM(M44:O44)/H44))) -> 0 | Q44: =IF(L44>0,IF(H44="Ne treba raditi na predm.",P44,P44*(K44/(K44-L44))),P44) -> 0 | W44: =IF(Q44="","",IF(C44="Ne","",IF(H44="Ne treba raditi na predm.","",IF(D44="Da",IF((Q43+Q44)>1,30,IF((V43+V44)="",IF((Q43+Q44)>0.9,25,IF((Q43+Q44)>0.8,20,IF((Q43+Q44)>0.7,15,IF((Q43+Q44)>0.6,10,IF((Q43+Q44)>0.5,5,0))))),IF((V43+V44)>0.94,30,IF((V43+V44)>0.9,25,IF((V43+V44)>0.8,20,IF((V43+V44)>0.7,15,IF((V43+V44)>0.6,10,IF((V43+V44)>0.5,5,0)))))))),IF((Q43+Q44)>1,40,IF(V44="",IF((Q43+Q44)>0.95,35,IF((Q43+Q44)>0.9,30,IF((Q43+Q44)>0.8,20,IF((Q43+Q44)>0.7,15,IF((Q43+Q44)>0.6,10,IF((Q43+Q44)>0.5,5,0)))))),IF((V43+V44)>0.94,40,IF((V43+V44)>0.9,35,IF((V43+V44)>0.8,30,IF((V43+V44)>0.7,20,IF((V43+V44)>0.6,15,IF((V43+V44)>0.5,10,0)))))))))))) -> 0
A45: Ime i prezime nosioca pravosudne funkcije | P45: Ukupna ostvarena orijentacijska norma koja se unosi u Obrazac za ocjenjivanje = | Q45: =Q46+Q47 -> 0
A46: Sud 1 | G46: =IF(F46="Sudija",1,IF(F46="Stručni saradnik",1,"")) | P46: =IF(H46="",0,IF(H46="Ne treba raditi na predm.",1+SUM(M46:O46),(SUM(M46:O46)/H46))) -> 0 | Q46: =IF(L46>0,IF(H46="Ne treba raditi na predm.",P46,P46*(K46/(K46-L46))),P46) -> 0 | V46: =IF(R46="","",(S46+S47)/(R46+R47-T46-T47)) | W46: =IF(Q46="","",IF(C46="Ne","",IF(H46="Ne treba raditi na predm.","",IF(D46="Da",IF((Q46+Q47)>1,30,IF((V46)="",IF((Q46+Q47)>0.9,25,IF((Q46+Q47)>0.8,20,IF((Q46+Q47)>0.7,15,IF((Q46+Q47)>0.6,10,IF((Q46+Q47)>0.5,5,0))))),IF((V46+V47)>0.94,30,IF((V46+V47)>0.9,25,IF((V46+V47)>0.8,20,IF((V46+V47)>0.7,15,IF((V46+V47)>0.6,10,IF((V46+V47)>0.5,5,0)))))))),IF((Q46+Q47)>1,40,IF(V46="",IF((Q46+Q47)>0.95,35,IF((Q46+Q47)>0.9,30,IF((Q46+Q47)>0.8,20,IF((Q46+Q47)>0.7,15,IF((Q46+Q47)>0.6,10,IF((Q46+Q47)>0.5,5,0)))))),IF((V46+V47)>0.94,40,IF((V46+V47)>0.9,35,IF((V46+V47)>0.8,30,IF((V46+V47)>0.7,20,IF((V46+V47)>0.6,15,IF((V46+V47)>0.5,10,0)))))))))))) -> 0
A47: Sud 2 | G47: =IF(F47="Sudija",1,IF(F47="Stručni saradnik",1,"")) | P47: =IF(H47="",0,IF(H47="Ne treba raditi na predm.",1+SUM(M47:O47),(SUM(M47:O47)/H47))) -> 0 | Q47: =IF(L47>0,IF(H47="Ne treba raditi na predm.",P47,P47*(K47/(K47-L47))),P47) -> 0 | W47: =IF(Q47="","",IF(C47="Ne","",IF(H47="Ne treba raditi na predm.","",IF(D47="Da",IF((Q46+Q47)>1,30,IF((V46)="",IF((Q46+Q47)>0.9,25,IF((Q46+Q47)>0.8,20,IF((Q46+Q47)>0.7,15,IF((Q46+Q47)>0.6,10,IF((Q46+Q47)>0.5,5,0))))),IF((V46+V47)>0.94,30,IF((V46+V47)>0.9,25,IF((V46+V47)>0.8,20,IF((V46+V47)>0.7,15,IF((V46+V47)>0.6,10,IF((V46+V47)>0.5,5,0)))))))),IF((Q46+Q47)>1,40,IF(V47="",IF((Q46+Q47)>0.95,35,IF((Q46+Q47)>0.9,30,IF((Q46+Q47)>0.8,20,IF((Q46+Q47)>0.7,15,IF((Q46+Q47)>0.6,10,IF((Q46+Q47)>0.5,5,0)))))),IF((V46+V47)>0.94,40,IF((V46+V47)>0.9,35,IF((V46+V47)>0.8,30,IF((V46+V47)>0.7,20,IF((V46+V47)>0.6,15,IF((V46+V47)>0.5,10,0)))))))))))) -> 0
A48: Ime i prezime nosioca pravosudne funkcije | P48: Ukupna ostvarena orijentacijska norma koja se unosi u Obrazac za ocjenjivanje = | Q48: =Q49+Q50 -> 0
A49: Sud 1 | G49: =IF(F49="Sudija",1,IF(F49="Stručni saradnik",1,"")) | P49: =IF(H49="",0,IF(H49="Ne treba raditi na predm.",1+SUM(M49:O49),(SUM(M49:O49)/H49))) -> 0 | Q49: =IF(L49>0,IF(H49="Ne treba raditi na predm.",P49,P49*(K49/(K49-L49))),P49) -> 0 | V49: =IF(R49="","",(S49+S50)/(R49+R50-T49-T50)) | W49: =IF(Q49="","",IF(C49="Ne","",IF(H49="Ne treba raditi na predm.","",IF(D49="Da",IF((Q49+Q50)>1,30,IF((V49)="",IF((Q49+Q50)>0.9,25,IF((Q49+Q50)>0.8,20,IF((Q49+Q50)>0.7,15,IF((Q49+Q50)>0.6,10,IF((Q49+Q50)>0.5,5,0))))),IF((V49+V50)>0.94,30,IF((V49+V50)>0.9,25,IF((V49+V50)>0.8,20,IF((V49+V50)>0.7,15,IF((V49+V50)>0.6,10,IF((V49+V50)>0.5,5,0)))))))),IF((Q49+Q50)>1,40,IF(V49="",IF((Q49+Q50)>0.95,35,IF((Q49+Q50)>0.9,30,IF((Q49+Q50)>0.8,20,IF((Q49+Q50)>0.7,15,IF((Q49+Q50)>0.6,10,IF((Q49+Q50)>0.5,5,0)))))),IF((V49+V50)>0.94,40,IF((V49+V50)>0.9,35,IF((V49+V50)>0.8,30,IF((V49+V50)>0.7,20,IF((V49+V50)>0.6,15,IF((V49+V50)>0.5,10,0)))))))))))) -> 0
...

Sheet Tabela II
A1: Apelacioni sud Brčko distrikta
A2: Izvještajni period: | B2: ='Tabela I'!B2 -> 1.1.2025.-31.12.2025.
A3: Tabela II - Odluke Ustavnog suda BiH
A4: Tabela IIa - Odluke kojima se ne usvaja apelacija
A5: Broj odluka kojima se odbacuje apelacija | B5: Broj odluka kojima se obustavlja postupak pred Ustavnim sudom BiH | C5: Broj odluka kojima se odbija apelacija | D5: Ukupno
A6: I | B6: II | C6: III | D6: IV=I+II+III
D7: =IF(SUM(A7:C7)=0," ",SUM(A7:C7))
A8: Tabela IIb - Odluke kojima se usvaja apelacija
A9: Pravni osnov | B9: Broj odluka kojima se usvaja apelacija | E9: Ukupno
B10: Broj odluka kojima se preinačuju odluke suda | C10: Broj odluka kojima se ukidaju odluke suda | D10: Broj ostalih odluka kojima se usvaja apelacija
B11: I | C11: II | D11: III | E11: IV=I+II+III
A12: Čl. 13. EK (pravo na djelotvorni pravni lijek) | E12: =IF(SUM(B12:D12)=0," ",SUM(B12:D12))
A13: Čl. 3. P7 (naknada za pogrešnu presudu) | E13: =IF(SUM(B13:D13)=0," ",SUM(B13:D13))
A14: Čl. 6. EK i II/3.e) Ustava BiH (pravo na pravično suđenje) | E14: =IF(SUM(B14:D14)=0," ",SUM(B14:D14))
A15: Čl. 5.EK i II/3d Ustava (pravo na ličnu slobodu) | E15: =IF(SUM(B15:D15)=0," ",SUM(B15:D15))
A16: Čl. 1. P.1. i II/3.k) Ustava BiH (pravo na imovinu) | E16: =IF(SUM(B16:D16)=0," ",SUM(B16:D16))
A17: Čl. 1. P.7. (Proceduralne zaštite u vezi sa protjerivanjem stranaca) | E17: =IF(SUM(B17:D17)=0," ",SUM(B17:D17))
A18: Ostalo | E18: =IF(SUM(B18:D18)=0," ",SUM(B18:D18))
A19: Tabela IIc – Predmeti u kojima se nalaže sudu da okonča predmet bez odlaganja zbog kršenja prava na donošenje odluke u razumnom roku
A20: Pravni osnov | B20: Broj odluka kojima se nalaže sudu da okonča predmet bez odlaganja zbog kršenja prava na donošenje odluke u razumnom roku jer je Ustavni sud BiH zaključio da je odugovlačenju postupka najviše doprinio
B21: prvostepeni sud | C21: drugostepeni sud | D21: sud koji rješava predmet po uloženom vanrednom pravnom lijeku | E21: Ostalo | F21: Ukupno
B22: I | C22: II | D22: III | E22: IV | F22: V=I+II+III+IV
A23: Čl. 6 EK i II/3.e) Ustava BiH (pravo na pravično suđenje) | F23: =IF(SUM(B23:E23)=0," ",SUM(B23:E23))
A24: Tabela IId - Predmeti u kojima je utvrđeno kršenje prava na donošenje odluke u razumnom roku
A25: Broj predmeta u kojima je određena naknada nematerijalne štete zbog kršenja prava na donošenje odluke u razumnom roku
A26: Ukupan iznos određene naknade
A28: * U Tabelu IId unose se podaci o predmetima u kojima je usvojena apelacija u odnosu na odluke Vašeg suda i određena naknada nematerijalne štete zbog kršenja prava na donošenje odluke u razumnom roku, kao i ukupan iznos naknade koji je utvrdio Ustavni sud BiH.

Sheet tbl Ia
A1: Godina | B1: Sud | C1: ImePrezime | D1: Ocjenjen | E1: Plan | F1: Odjel | G1: Funkcija | H1: NormaPravilnik | I1: DatumOd | J1: DatumDo | K1: BroDanaZa Normu | L1: Odsustvo | M1: NormaCMS | N1: NormaVanCMS | O1: VeceVrenovanje | P1: OstvarenaNorma | Q1: PreracunataNorma | R1: BrPredURadu | S1: BrRijPred | T1: BrNerijPredSaZakProcSmet | U1: BrNerijPredBezZakProcSmet | V1: ProcRijePred | W1: BrOStBod
A2: ='Tabela I'!$F$1 -> 2025 | B2: ='Tabela I'!$F$2 -> 115 | C2: ='Tabela Ia'!B8 -> 0 | D2: ='Tabela Ia'!C8 -> 0 | E2: ='Tabela Ia'!D8 -> 0 | F2: ='Tabela Ia'!E8 -> 0 | G2: ='Tabela Ia'!F8 -> Predsjednik suda | H2: ='Tabela Ia'!H8 -> 0 | I2: ='Tabela Ia'!I8 -> 0 | J2: ='Tabela Ia'!J8 -> 0 | K2: ='Tabela Ia'!K8 -> 261 | L2: ='Tabela Ia'!L8 -> 0 | M2: ='Tabela Ia'!M8 -> 0 | N2: ='Tabela Ia'!N8 -> 0 | O2: ='Tabela Ia'!O8 -> 0 | ... W2: ='Tabela Ia'!W8
A3: ='Tabela I'!$F$1 -> 2025 | B3: ='Tabela I'!$F$2 -> 115 | C3: =C2 -> 0 | D3: =D2 -> 0 | E3: =E2 -> 0 | F3: =F2 -> 0 | G3: =G2 -> Predsjednik suda | H3: ='Tabela Ia'!H9 -> 0 | I3: ='Tabela Ia'!I9 -> 0 | J3: ='Tabela Ia'!J9 -> 0 | K3: ='Tabela Ia'!K9 -> 261 | L3: ='Tabela Ia'!L9 -> 0 | M3: ='Tabela Ia'!M9 -> 0 | N3: ='Tabela Ia'!N9 -> 0 | O3: ='Tabela Ia'!O9 -> 0 | ... W3: ='Tabela Ia'!W9
A4: ='Tabela I'!$F$1 -> 2025 | B4: ='Tabela I'!$F$2 -> 115 | C4: ='Tabela Ia'!B10 -> 0 | D4: ='Tabela Ia'!C10 -> 0 | E4: ='Tabela Ia'!D10 -> 0 | F4: ='Tabela Ia'!E10 -> 0 | G4: ='Tabela Ia'!F10 -> 0 | H4: ='Tabela Ia'!H10 -> 0 | I4: ='Tabela Ia'!I10 -> 0 | J4: ='Tabela Ia'!J10 -> 0 | K4: ='Tabela Ia'!K10 -> 261 | L4: ='Tabela Ia'!L10 -> 0 | M4: ='Tabela Ia'!M10 -> 0 | N4: ='Tabela Ia'!N10 -> 0 | O4: ='Tabela Ia'!O10 -> 0 | ... W4: ='Tabela Ia'!W10
A5: ='Tabela I'!$F$1 -> 2025 | B5: ='Tabela I'!$F$2 -> 115 | C5: ='Tabela Ia'!B11 -> 0 | D5: ='Tabela Ia'!C11 -> 0 | E5: ='Tabela Ia'!D11 -> 0 | F5: ='Tabela Ia'!E11 -> 0 | G5: ='Tabela Ia'!F11 -> 0 | H5: ='Tabela Ia'!H11 -> 0 | I5: ='Tabela Ia'!I11 -> 0 | J5: ='Tabela Ia'!J11 -> 0 | K5: ='Tabela Ia'!K11 -> 261 | L5: ='Tabela Ia'!L11 -> 0 | M5: ='Tabela Ia'!M11 -> 0 | N5: ='Tabela Ia'!N11 -> 0 | O5: ='Tabela Ia'!O11 -> 0 | ... W5: ='Tabela Ia'!W11
A6: ='Tabela I'!$F$1 -> 2025 | B6: ='Tabela I'!$F$2 -> 115 | C6: ='Tabela Ia'!B12 -> 0 | D6: ='Tabela Ia'!C12 -> 0 | E6: ='Tabela Ia'!D12 -> 0 | F6: ='Tabela Ia'!E12 -> 0 | G6: ='Tabela Ia'!F12 -> 0 | H6: ='Tabela Ia'!H12 -> 0 | I6: ='Tabela Ia'!I12 -> 0 | J6: ='Tabela Ia'!J12 -> 0 | K6: ='Tabela Ia'!K12 -> 261 | L6: ='Tabela Ia'!L12 -> 0 | M6: ='Tabela Ia'!M12 -> 0 | N6: ='Tabela Ia'!N12 -> 0 | O6: ='Tabela Ia'!O12 -> 0 | ... W6: ='Tabela Ia'!W12
A7: ='Tabela I'!$F$1 -> 2025 | B7: ='Tabela I'!$F$2 -> 115 | C7: ='Tabela Ia'!B13 -> 0 | D7: ='Tabela Ia'!C13 -> 0 | E7: ='Tabela Ia'!D13 -> 0 | F7: ='Tabela Ia'!E13 -> 0 | G7: ='Tabela Ia'!F13 -> 0 | H7: ='Tabela Ia'!H13 -> 0 | I7: ='Tabela Ia'!I13 -> 0 | J7: ='Tabela Ia'!J13 -> 0 | K7: ='Tabela Ia'!K13 -> 261 | L7: ='Tabela Ia'!L13 -> 0 | M7: ='Tabela Ia'!M13 -> 0 | N7: ='Tabela Ia'!N13 -> 0 | O7: ='Tabela Ia'!O13 -> 0 | ... W7: ='Tabela Ia'!W13
A8: ='Tabela I'!$F$1 -> 2025 | B8: ='Tabela I'!$F$2 -> 115 | C8: ='Tabela Ia'!B14 -> 0 | D8: ='Tabela Ia'!C14 -> 0 | E8: ='Tabela Ia'!D14 -> 0 | F8: ='Tabela Ia'!E14 -> 0 | G8: ='Tabela Ia'!F14 -> 0 | H8: ='Tabela Ia'!H14 -> 0 | I8: ='Tabela Ia'!I14 -> 0 | J8: ='Tabela Ia'!J14 -> 0 | K8: ='Tabela Ia'!K14 -> 261 | L8: ='Tabela Ia'!L14 -> 0 | M8: ='Tabela Ia'!M14 -> 0 | N8: ='Tabela Ia'!N14 -> 0 | O8: ='Tabela Ia'!O14 -> 0 | ... W8: ='Tabela Ia'!W14
A9: ='Tabela I'!$F$1 -> 2025 | B9: ='Tabela I'!$F$2 -> 115 | C9: ='Tabela Ia'!B15 -> 0 | D9: ='Tabela Ia'!C15 -> 0 | E9: ='Tabela Ia'!D15 -> 0 | F9: ='Tabela Ia'!E15 -> 0 | G9: ='Tabela Ia'!F15 -> 0 | H9: ='Tabela Ia'!H15 -> 0 | I9: ='Tabela Ia'!I15 -> 0 | J9: ='Tabela Ia'!J15 -> 0 | K9: ='Tabela Ia'!K15 -> 261 | L9: ='Tabela Ia'!L15 -> 0 | M9: ='Tabela Ia'!M15 -> 0 | N9: ='Tabela Ia'!N15 -> 0 | O9: ='Tabela Ia'!O15 -> 0 | ... W9: ='Tabela Ia'!W15
A10: ='Tabela I'!$F$1 -> 2025 | B10: ='Tabela I'!$F$2 -> 115 | C10: ='Tabela Ia'!B16 -> 0 | D10: ='Tabela Ia'!C16 -> 0 | E10: ='Tabela Ia'!D16 -> 0 | F10: ='Tabela Ia'!E16 -> 0 | G10: ='Tabela Ia'!F16 -> 0 | H10: ='Tabela Ia'!H16 -> 0 | I10: ='Tabela Ia'!I16 -> 0 | J10: ='Tabela Ia'!J16 -> 0 | K10: ='Tabela Ia'!K16 -> 261 | L10: ='Tabela Ia'!L16 -> 0 | M10: ='Tabela Ia'!M16 -> 0 | N10: ='Tabela Ia'!N16 -> 0 | O10: ='Tabela Ia'!O16 -> 0 | ... W10: ='Tabela Ia'!W16
A11: ='Tabela I'!$F$1 -> 2025 | B11: ='Tabela I'!$F$2 -> 115 | C11: ='Tabela Ia'!B17 -> 0 | D11: ='Tabela Ia'!C17 -> 0 | E11: ='Tabela Ia'!D17 -> 0 | F11: ='Tabela Ia'!E17 -> 0 | G11: ='Tabela Ia'!F17 -> 0 | H11: ='Tabela Ia'!H17 -> 0 | I11: ='Tabela Ia'!I17 -> 0 | J11: ='Tabela Ia'!J17 -> 0 | K11: ='Tabela Ia'!K17 -> 261 | L11: ='Tabela Ia'!L17 -> 0 | M11: ='Tabela Ia'!M17 -> 0 | N11: ='Tabela Ia'!N17 -> 0 | O11: ='Tabela Ia'!O17 -> 0 | ... W11: ='Tabela Ia'!W17
A12: ='Tabela I'!$F$1 -> 2025 | B12: ='Tabela I'!$F$2 -> 115 | C12: ='Tabela Ia'!B18 -> 0 | D12: ='Tabela Ia'!C18 -> 0 | E12: ='Tabela Ia'!D18 -> 0 | F12: ='Tabela Ia'!E18 -> 0 | G12: ='Tabela Ia'!F18 -> 0 | H12: ='Tabela Ia'!H18 -> 0 | I12: ='Tabela Ia'!I18 -> 0 | J12: ='Tabela Ia'!J18 -> 0 | K12: ='Tabela Ia'!K18 -> 261 | L12: ='Tabela Ia'!L18 -> 0 | M12: ='Tabela Ia'!M18 -> 0 | N12: ='Tabela Ia'!N18 -> 0 | O12: ='Tabela Ia'!O18 -> 0 | ... W12: ='Tabela Ia'!W18
A13: ='Tabela I'!$F$1 -> 2025 | B13: ='Tabela I'!$F$2 -> 115 | C13: ='Tabela Ia'!B19 -> 0 | D13: ='Tabela Ia'!C19 -> 0 | E13: ='Tabela Ia'!D19 -> 0 | F13: ='Tabela Ia'!E19 -> 0 | G13: ='Tabela Ia'!F19 -> 0 | H13: ='Tabela Ia'!H19 -> 0 | I13: ='Tabela Ia'!I19 -> 0 | J13: ='Tabela Ia'!J19 -> 0 | K13: ='Tabela Ia'!K19 -> 261 | L13: ='Tabela Ia'!L19 -> 0 | M13: ='Tabela Ia'!M19 -> 0 | N13: ='Tabela Ia'!N19 -> 0 | O13: ='Tabela Ia'!O19 -> 0 | ... W13: ='Tabela Ia'!W19
A14: ='Tabela I'!$F$1 -> 2025 | B14: ='Tabela I'!$F$2 -> 115 | C14: ='Tabela Ia'!B20 -> 0 | D14: ='Tabela Ia'!C20 -> 0 | E14: ='Tabela Ia'!D20 -> 0 | F14: ='Tabela Ia'!E20 -> 0 | G14: ='Tabela Ia'!F20 -> 0 | H14: ='Tabela Ia'!H20 -> 0 | I14: ='Tabela Ia'!I20 -> 0 | J14: ='Tabela Ia'!J20 -> 0 | K14: ='Tabela Ia'!K20 -> 261 | L14: ='Tabela Ia'!L20 -> 0 | M14: ='Tabela Ia'!M20 -> 0 | N14: ='Tabela Ia'!N20 -> 0 | O14: ='Tabela Ia'!O20 -> 0 | ... W14: ='Tabela Ia'!W20
A15: ='Tabela I'!$F$1 -> 2025 | B15: ='Tabela I'!$F$2 -> 115 | C15: ='Tabela Ia'!B21 -> 0 | D15: ='Tabela Ia'!C21 -> 0 | E15: ='Tabela Ia'!D21 -> 0 | F15: ='Tabela Ia'!E21 -> 0 | G15: ='Tabela Ia'!F21 -> 0 | H15: ='Tabela Ia'!H21 -> 0 | I15: ='Tabela Ia'!I21 -> 0 | J15: ='Tabela Ia'!J21 -> 0 | K15: ='Tabela Ia'!K21 -> 261 | L15: ='Tabela Ia'!L21 -> 0 | M15: ='Tabela Ia'!M21 -> 0 | N15: ='Tabela Ia'!N21 -> 0 | O15: ='Tabela Ia'!O21 -> 0 | ... W15: ='Tabela Ia'!W21
... A18: ='Tabela I'!$F$1 -> 2025 | B18: ='Tabela I'!$F$2 -> 115 | C18: ='Tabela Ia'!B24 -> 0 | D18: ='Tabela Ia'!C24 -> 0 | E18: ='Tabela Ia'!D24 -> 0 | F18: ='Tabela Ia'!E24 -> 0 | G18: ='Tabela Ia'!F24 -> 0 | H18: ='Tabela Ia'!H24 -> 0 | I18: ='Tabela Ia'!I24 -> 0 | J18: ='Tabela Ia'!J24 -> 0 | K18: ='Tabela Ia'!K24 -> 261 | L18: ='Tabela Ia'!L24 -> 0 | M18: ='Tabela Ia'!M24 -> 0 | N18: ='Tabela Ia'!N24 -> 0 | O18: ='Tabela Ia'!O24 -> 0 | ... W18: ='Tabela Ia'!W24
A20: Godina | B20: Sud | C20: ImePrezime | D20: Ocjenjen | E20: Ocjenjen | F20: Odjel | G20: Funkcija | H20: NormaPravilnik | I20: DatumOd | J20: DatumDo | K20: BroDanaZa Normu | L20: Odsustvo | M20: NormaCMS | N20: NormaVanCMS | O20: VeceVrenovanje | P20: OstvarenaNorma | Q20: PreracunataNorma | R20: BrPredURadu | S20: BrRijPred | T20: BrNerijPredSaZakProcSmet | U20: BrNerijPredBezZakProcSmet | V20: ProcRijePred | W20: BrOStBod | X20: Sud
A21: ='Tabela I'!$F$1 -> 2025 | B21: ='Tabela I'!$F$2 -> 115 | C21: ='Tabela Ia'!E42 -> 0 | D21: ='Tabela Ia'!C43 -> 0 | E21: ='Tabela Ia'!D43 -> 0 | F21: ='Tabela Ia'!E43 -> 0 | G21: ='Tabela Ia'!F43 -> Predsjednik suda | H21: ='Tabela Ia'!H43 -> 0 | I21: ='Tabela Ia'!I43 -> 0 | J21: ='Tabela Ia'!J43 -> 0 | K21: ='Tabela Ia'!K43 -> 0 | L21: ='Tabela Ia'!L43 -> 0 | M21: ='Tabela Ia'!M43 -> 0 | N21: ='Tabela Ia'!N43 -> 0 | O21: ='Tabela Ia'!O43 -> 0 | ... W21: ='Tabela Ia'!W43 -> 0 | X21: ='Tabela Ia'!A43 -> Sud 1
A22: ='Tabela I'!$F$1 -> 2025 | B22: ='Tabela I'!$F$2 -> 115 | C22: =C21 -> 0 | D22: ='Tabela Ia'!C44 -> 0 | E22: ='Tabela Ia'!D44 -> 0 | F22: ='Tabela Ia'!E44 -> 0 | G22: ='Tabela Ia'!F44 -> 0 | H22: ='Tabela Ia'!H44 -> 0 | I22: ='Tabela Ia'!I44 -> 0 | J22: ='Tabela Ia'!J44 -> 0 | K22: ='Tabela Ia'!K44 -> 0 | L22: ='Tabela Ia'!L44 -> 0 | M22: ='Tabela Ia'!M44 -> 0 | N22: ='Tabela Ia'!N44 -> 0 | O22: ='Tabela Ia'!O44 -> 0 | ... W22: ='Tabela Ia'!W44 -> 0 | X22: ='Tabela Ia'!A44 -> Sud 2
A23: ='Tabela I'!$F$1 -> 2025 | B23: ='Tabela I'!$F$2 -> 115 | C23: ='Tabela Ia'!E45 -> 0 | D23: ='Tabela Ia'!C46 -> 0 | E23: ='Tabela Ia'!D46 -> 0 | F23: ='Tabela Ia'!E46 -> 0 | G23: ='Tabela Ia'!F46 -> 0 | H23: ='Tabela Ia'!H46 -> 0 | I23: ='Tabela Ia'!I46 -> 0 | J23: ='Tabela Ia'!J46 -> 0 | K23: ='Tabela Ia'!K46 -> 0 | L23: ='Tabela Ia'!L46 -> 0 | M23: ='Tabela Ia'!M46 -> 0 | N23: ='Tabela Ia'!N46 -> 0 | O23: ='Tabela Ia'!O46 -> 0 | ... W23: ='Tabela Ia'!W46 -> 0 | X23: ='Tabela Ia'!A46 -> Sud 1
A24: ='Tabela I'!$F$1 -> 2025 | B24: ='Tabela I'!$F$2 -> 115 | C24: =C23 -> 0 | D24: ='Tabela Ia'!C47 -> 0 | E24: ='Tabela Ia'!D47 -> 0 | F24: ='Tabela Ia'!E47 -> 0 | G24: ='Tabela Ia'!F47 -> 0 | H24: ='Tabela Ia'!H47 -> 0 | I24: ='Tabela Ia'!I47 -> 0 | J24: ='Tabela Ia'!J47 -> 0 | K24: ='Tabela Ia'!K47 -> 0 | L24: ='Tabela Ia'!L47 -> 0 | M24: ='Tabela Ia'!M47 -> 0 | N24: ='Tabela Ia'!N47 -> 0 | O24: ='Tabela Ia'!O47 -> 0 | ... W24: ='Tabela Ia'!W47 -> 0 | X24: ='Tabela Ia'!A47 -> Sud 2
A25: ='Tabela I'!$F$1 -> 2025 | B25: ='Tabela I'!$F$2 -> 115 | C25: ='Tabela Ia'!E48 -> 0 | D25: ='Tabela Ia'!C49 -> 0 | E25: ='Tabela Ia'!D49 -> 0 | F25: ='Tabela Ia'!E49 -> 0 | G25: ='Tabela Ia'!F49 -> 0 | H25: ='Tabela Ia'!H49 -> 0 | I25: ='Tabela Ia'!I49 -> 0 | J25: ='Tabela Ia'!J49 -> 0 | K25: ='Tabela Ia'!K49 -> 0 | L25: ='Tabela Ia'!L49 -> 0 | M25: ='Tabela Ia'!M49 -> 0 | N25: ='Tabela Ia'!N49 -> 0 | O25: ='Tabela Ia'!O49 -> 0 | ... W25: ='Tabela Ia'!W49 -> 0 | X25: ='Tabela Ia'!A49 -> Sud 1
A26: ='Tabela I'!$F$1 -> 2025 | B26: ='Tabela I'!$F$2 -> 115 | C26: =C25 -> 0 | D26: ='Tabela Ia'!C50 -> 0 | E26: ='Tabela Ia'!D50 -> 0 | F26: ='Tabela Ia'!E50 -> 0 | G26: ='Tabela Ia'!F50 -> 0 | H26: ='Tabela Ia'!H50 -> 0 | I26: ='Tabela Ia'!I50 -> 0 | J26: ='Tabela Ia'!J50 -> 0 | K26: ='Tabela Ia'!K50 -> 0 | L26: ='Tabela Ia'!L50 -> 0 | M26: ='Tabela Ia'!M50 -> 0 | N26: ='Tabela Ia'!N50 -> 0 | O26: ='Tabela Ia'!O50 -> 0 | ... W26: ='Tabela Ia'!W50 -> 0 | X26: ='Tabela Ia'!A50 -> Sud 2
A27: ='Tabela I'!$F$1 -> 2025 | B27: ='Tabela I'!$F$2 -> 115 | C27: ='Tabela Ia'!E51 -> 0 | D27: ='Tabela Ia'!C52 -> 0 | E27: ='Tabela Ia'!D52 -> 0 | F27: ='Tabela Ia'!E52 -> 0 | G27: ='Tabela Ia'!F52 -> 0 | H27: ='Tabela Ia'!H52 -> 0 | I27: ='Tabela Ia'!I52 -> 0 | J27: ='Tabela Ia'!J52 -> 0 | K27: ='Tabela Ia'!K52 -> 0 | L27: ='Tabela Ia'!L52 -> 0 | M27: ='Tabela Ia'!M52 -> 0 | N27: ='Tabela Ia'!N52 -> 0 | O27: ='Tabela Ia'!O52 -> 0 | ... W27: ='Tabela Ia'!W52 -> 0 | X27: ='Tabela Ia'!A52 -> Sud 1
A28: ='Tabela I'!$F$1 -> 2025 | B28: ='Tabela I'!$F$2 -> 115 | C28: =C27 -> 0 | D28: ='Tabela Ia'!C53 -> 0 | E28: ='Tabela Ia'!D53 -> 0 | F28: ='Tabela Ia'!E53 -> 0 | G28: ='Tabela Ia'!F53 -> 0 | H28: ='Tabela Ia'!H53 -> 0 | I28: ='Tabela Ia'!I53 -> 0 | J28: ='Tabela Ia'!J53 -> 0 | K28: ='Tabela Ia'!K53 -> 0 | L28: ='Tabela Ia'!L53 -> 0 | M28: ='Tabela Ia'!M53 -> 0 | N28: ='Tabela Ia'!N53 -> 0 | O28: ='Tabela Ia'!O53 -> 0 | ... W28: ='Tabela Ia'!W53 -> 0 | X28: ='Tabela Ia'!A53 -> Sud 2

Sheet tbl3akant_potvr_prein_odb
A1: For_key | B1: godina | C1: predmeti_odjeljenja | D1: OdbaOdlu | E1: PotvrOdlu | F1: PreinaOdlu | G1: UkidaOdlu | H1: RjeDrNacin
A2: ='Tabela I'!$F$2 -> 115 | B2: ='Tabela I'!$F$1 -> 2025 | C2: 66 | D2: ='Tabela I'!B9 -> 0 | E2: ='Tabela I'!C9 -> 0 | F2: ='Tabela I'!D9 -> 0 | G2: ='Tabela I'!E9 -> 0 | H2: ='Tabela I'!F9 -> 0
A3: ='Tabela I'!$F$2 -> 115 | B3: ='Tabela I'!$F$1 -> 2025 | C3: 34 | D3: ='Tabela I'!B10 -> 0 | E3: ='Tabela I'!C10 -> 0 | F3: ='Tabela I'!D10 -> 0 | G3: ='Tabela I'!E10 -> 0 | H3: ='Tabela I'!F10 -> 0
A4: ='Tabela I'!$F$2 -> 115 | B4: ='Tabela I'!$F$1 -> 2025 | C4: 35 | D4: ='Tabela I'!B11 -> 0 | E4: ='Tabela I'!C11 -> 0 | F4: ='Tabela I'!D11 -> 0 | G4: ='Tabela I'!E11 -> 0 | H4: ='Tabela I'!F11 -> 0
A5: ='Tabela I'!$F$2 -> 115 | B5: ='Tabela I'!$F$1 -> 2025 | C5: 90 | D5: ='Tabela I'!B12 -> 0 | E5: ='Tabela I'!C12 -> 0 | F5: ='Tabela I'!D12 -> 0 | G5: ='Tabela I'!E12 -> 0 | H5: ='Tabela I'!F12 -> 0
A6: ='Tabela I'!$F$2 -> 115 | B6: ='Tabela I'!$F$1 -> 2025 | C6: 67 | D6: ='Tabela I'!B13 -> 0 | E6: ='Tabela I'!C13 -> 0 | F6: ='Tabela I'!D13 -> 0 | G6: ='Tabela I'!E13 -> 0 | H6: ='Tabela I'!F13 -> 0
A7: ='Tabela I'!$F$2 -> 115 | B7: ='Tabela I'!$F$1 -> 2025 | C7: 91 | D7: ='Tabela I'!B14 -> 0 | E7: ='Tabela I'!C14 -> 0 | F7: ='Tabela I'!D14 -> 0 | G7: ='Tabela I'!E14 -> 0 | H7: ='Tabela I'!F14 -> 0
A8: ='Tabela I'!$F$2 -> 115 | B8: ='Tabela I'!$F$1 -> 2025 | C8: 36 | D8: ='Tabela I'!B15 -> 0 | E8: ='Tabela I'!C15 -> 0 | F8: ='Tabela I'!D15 -> 0 | G8: ='Tabela I'!E15 -> 0 | H8: ='Tabela I'!F15 -> 0
A9: ='Tabela I'!$F$2 -> 115 | B9: ='Tabela I'!$F$1 -> 2025 | C9: 38 | D9: ='Tabela I'!B17 -> 0 | E9: ='Tabela I'!C17 -> 0 | F9: ='Tabela I'!D17 -> 0 | G9: ='Tabela I'!E17 -> 0 | H9: ='Tabela I'!F17 -> 0
A10: ='Tabela I'!$F$2 -> 115 | B10: ='Tabela I'!$F$1 -> 2025 | C10: 39 | D10: ='Tabela I'!B18 -> 0 | E10: ='Tabela I'!C18 -> 0 | F10: ='Tabela I'!D18 -> 0 | G10: ='Tabela I'!E18 -> 0 | H10: ='Tabela I'!F18 -> 0
A11: ='Tabela I'!$F$2 -> 115 | B11: ='Tabela I'!$F$1 -> 2025 | C11: 40 | D11: ='Tabela I'!B19 -> 0 | E11: ='Tabela I'!C19 -> 0 | F11: ='Tabela I'!D19 -> 0 | G11: ='Tabela I'!E19 -> 0 | H11: ='Tabela I'!F19 -> 0
A12: ='Tabela I'!$F$2 -> 115 | B12: ='Tabela I'!$F$1 -> 2025 | C12: 68 | D12: ='Tabela I'!B20 -> 0 | E12: ='Tabela I'!C20 -> 0 | F12: ='Tabela I'!D20 -> 0 | G12: ='Tabela I'!E20 -> 0 | H12: ='Tabela I'!F20 -> 0
A13: ='Tabela I'!$F$2 -> 115 | B13: ='Tabela I'!$F$1 -> 2025 | C13: 41 | D13: ='Tabela I'!B21 -> 0 | E13: ='Tabela I'!C21 -> 0 | F13: ='Tabela I'!D21 -> 0 | G13: ='Tabela I'!E21 -> 0 | H13: ='Tabela I'!F21 -> 0
A14: ='Tabela I'!$F$2 -> 115 | B14: ='Tabela I'!$F$1 -> 2025 | C14: 43 | D14: ='Tabela I'!B22 -> 0 | E14: ='Tabela I'!C22 -> 0 | F14: ='Tabela I'!D22 -> 0 | G14: ='Tabela I'!E22 -> 0 | H14: ='Tabela I'!F22 -> 0
A15: ='Tabela I'!$F$2 -> 115 | B15: ='Tabela I'!$F$1 -> 2025 | C15: 19 | D15: ='Tabela I'!B23 -> 0 | E15: ='Tabela I'!C23 -> 0 | F15: ='Tabela I'!D23 -> 0 | G15: ='Tabela I'!E23 -> 0 | H15: ='Tabela I'!F23 -> 0
A16: ='Tabela I'!$F$2 -> 115 | B16: ='Tabela I'!$F$1 -> 2025 | C16: 70 | D16: ='Tabela I'!B25 -> 0 | E16: ='Tabela I'!C25 -> 0 | F16: ='Tabela I'!D25 -> 0 | G16: ='Tabela I'!E25 -> 0 | H16: ='Tabela I'!F25 -> 0
A17: ='Tabela I'!$F$2 -> 115 | B17: ='Tabela I'!$F$1 -> 2025 | C17: 110 | D17: ='Tabela I'!B26 -> 0 | E17: ='Tabela I'!C26 -> 0 | F17: ='Tabela I'!D26 -> 0 | G17: ='Tabela I'!E26 -> 0 | H17: ='Tabela I'!F26 -> 0
A18: ='Tabela I'!$F$2 -> 115 | B18: ='Tabela I'!$F$1 -> 2025 | C18: 53 | D18: ='Tabela I'!B27 -> 0 | E18: ='Tabela I'!C27 -> 0 | F18: ='Tabela I'!D27 -> 0 | G18: ='Tabela I'!E27 -> 0 | H18: ='Tabela I'!F27 -> 0
A19: ='Tabela I'!$F$2 -> 115 | B19: ='Tabela I'!$F$1 -> 2025 | C19: 55 | D19: ='Tabela I'!B28 -> 0 | E19: ='Tabela I'!C28 -> 0 | F19: ='Tabela I'!D28 -> 0 | G19: ='Tabela I'!E28 -> 0 | H19: ='Tabela I'!F28 -> 0
A20: ='Tabela I'!$F$2 -> 115 | B20: ='Tabela I'!$F$1 -> 2025 | C20: 56 | D20: ='Tabela I'!B29 -> 0 | E20: ='Tabela I'!C29 -> 0 | F20: ='Tabela I'!D29 -> 0 | G20: ='Tabela I'!E29 -> 0 | H20: ='Tabela I'!F29 -> 0
D21: =SUM(D2:D20) -> 0 | E21: =SUM(E2:E20) -> 0 | F21: =SUM(F2:F20) -> 0 | G21: =SUM(G2:G20) -> 0 | H21: =SUM(H2:H20) -> 0

Sheet tbl10_ust_sud
A1: for_key | B1: godina | C1: BrOdbacApel | D1: BrObustPost | E1: BrOdbijApel
A2: ='Tabela I'!$F$2 -> 115 | B2: ='Tabela I'!$F$1 -> 2025 | C2: ='Tabela II'!A7 -> 0 | D2: ='Tabela II'!B7 -> 0 | E2: ='Tabela II'!C7 -> 0
A5: for_key | B5: godina | C5: Pravni osnov | D5: BrPreinOdl | E5: BrUkidOdl | F5: BrUsvApel
A6: ='Tabela I'!$F$2 -> 115 | B6: ='Tabela I'!$F$1 -> 2025 | C6: 1 | D6: ='Tabela II'!B12 -> 0 | E6: ='Tabela II'!C12 -> 0 | F6: ='Tabela II'!D12 -> 0
A7: ='Tabela I'!$F$2 -> 115 | B7: ='Tabela I'!$F$1 -> 2025 | C7: 2 | D7: ='Tabela II'!B13 -> 0 | E7: ='Tabela II'!C13 -> 0 | F7: ='Tabela II'!D13 -> 0
A8: ='Tabela I'!$F$2 -> 115 | B8: ='Tabela I'!$F$1 -> 2025 | C8: 3 | D8: ='Tabela II'!B14 -> 0 | E8: ='Tabela II'!C14 -> 0 | F8: ='Tabela II'!D14 -> 0
A9: ='Tabela I'!$F$2 -> 115 | B9: ='Tabela I'!$F$1 -> 2025 | C9: 4 | D9: ='Tabela II'!B15 -> 0 | E9: ='Tabela II'!C15 -> 0 | F9: ='Tabela II'!D15 -> 0
A10: ='Tabela I'!$F$2 -> 115 | B10: ='Tabela I'!$F$1 -> 2025 | C10: 5 | D10: ='Tabela II'!B16 -> 0 | E10: ='Tabela II'!C16 -> 0 | F10: ='Tabela II'!D16 -> 0
A11: ='Tabela I'!$F$2 -> 115 | B11: ='Tabela I'!$F$1 -> 2025 | C11: 6 | D11: ='Tabela II'!B17 -> 0 | E11: ='Tabela II'!C17 -> 0 | F11: ='Tabela II'!D17 -> 0
A12: ='Tabela I'!$F$2 -> 115 | B12: ='Tabela I'!$F$1 -> 2025 | C12: 7 | D12: ='Tabela II'!B18 -> 0 | E12: ='Tabela II'!C18 -> 0 | F12: ='Tabela II'!D18 -> 0
A15: for_key | B15: godina | C15: Pravni osnov | D15: PrvostSud | E15: DrugostSud | F15: SudPoUlPrLij | G15: Ostalo
A16: ='Tabela I'!$F$2 -> 115 | B16: ='Tabela I'!$F$1 -> 2025 | C16: 3 | D16: ='Tabela II'!B23 -> 0 | E16: ='Tabela II'!C23 -> 0 | F16: ='Tabela II'!D23 -> 0 | G16: ='Tabela II'!E23 -> 0
A19: for_key | B19: godina | C19: BrNaknNematStete | D19: UkIznosNaknade
A20: ='Tabela I'!$F$2 -> 115 | B20: ='Tabela I'!$F$1 -> 2025 | C20: ='Tabela II'!B25 -> 0 | D20: ='Tabela II'!B26 -> 0
