Workbook

Sheet Uputstvo
B2: OPĆINSKI SUD U SARAJEVU
B4: Kompletni materijali u vezi procesa izvještavanja i ocjenjivanja rada u sudovima za 2025. godinu dostupni su na linku:
B5: https://vstv.pravosudje.ba/vstvfo/B/141/article/143277
B6: Tabele za popunjavanje podataka o radu sudova nije moguće mijenjati, niti dodavati nove redove ili kolone.
B7: Tabele se isključivo popunjavaju predviđenim redoslijedom, po redoslijedu postavljenih tabela.
B10: Podatke je potrebno upisivati samo u polja osjenčena žutom bojom.
B11: U ostala polja nije moguće upisivati vrijednosti, u ovim poljima vrijednosti će biti izračunate automatski.
B12: Molimo Vas da u Tabeli I i naslovu e-maila (subject) kojim ćete poslati popunjene obrasce navedete naziv Vašeg suda.
B15: Popunjene obrasce poslati na e-mail adresu: vstvstatistika@pravosudje.ba do 02.02.2026. godine.
B17: Za sva eventualna pitanja vezano za popunjavanje obrazaca molimo Vas da kontaktirate Odjel za pravosudnu analitiku i izvještavanje, na telefon: 033 704 616.
B20: Tabele za ocjenjivanje NPF u sudu sadrže detaljnije napomene koje je potrebno imati u vidu prilikom popunjavanja tabela.
B21: Pored napomena datih uz tabele, potrebno je imati u vidu i slijedeće:
... B33: TABELA I – PROTOK PREDMETA U SUDU KOJI NISU EVIDENTIRANI U CMS-U Napomena za prikazivanje podataka o tzv. komunalnim predmetima: Prema pojašnjenju ove kategorije predmeta, koja je Vijeće pružilo u dopisu broj VSTV-08-0027-10012007 od 10.01.2007.godine, pod komunalnim predmetima se smatraju svi predmeti u kojima su povjerilac preduzeća, a odnose se na neplaćene komunalne usluge. Prema tome, u ovu kategoriju predmeta spadaju predmeti koji se odnose na naplatu potraživanja nastalih na osnovu isporuke vode, toplotne energije, odvoza smeća, električne energije, telefonskih usluga, održavanje zajedničkih prostorija, RTV takse i slično.

Sheet Tabela I
A1: Općinski/Osnovni sud: | F1: 2025
A2: Izvještajni period: | C2: 1.1.2025.- 31.12.2025.
A3: Ostvarena kolektivna norma za sud u 2025. godini: | E3: =+'Tabela II'!Q194
A4: Kvalitet rada suda: | C4: ='Tabela III'!J47
A5: Tabela I - Protok predmeta u sudu koji nisu evidentirani u sistemu CMS (pogledati NAPOMENU 1)
A6: Vrsta predmeta | B6: Broj neriješenih predmeta na početku izvještajnog perioda | C6: Broj primljenih predmeta | D6: Ukupan broj svih predmeta u radu | E6: Broj riješenih predmeta | F6: Broj neriješenih predmeta na kraju izvještajnog perioda
B7: I | C7: II | D7: III=I+II | E7: IV | F7: V=III-IV
A8: Predmeti za naplatu komunalnih usluga
A9: Mal | D9: =IF((B9+C9)=0," ",(B9+C9)) | F9: =IF((B9+C9-E9)=0," ",(B9+C9-E9))
A10: Mals | D10: =IF((B10+C10)=0," ",(B10+C10)) | F10: =IF((B10+C10-E10)=0," ",(B10+C10-E10))
A11: I | D11: =IF((B11+C11)=0," ",(B11+C11)) | F11: =IF((B11+C11-E11)=0," ",(B11+C11-E11))
A12: Ip | D12: =IF((B12+C12)=0," ",(B12+C12)) | F12: =IF((B12+C12-E12)=0," ",(B12+C12-E12))
A13: Ukupno | B13: =SUM(B9:B12) -> 0 | C13: =SUM(C9:C12) -> 0 | D13: =SUM(D9:D12) -> 0 | E13: =SUM(E9:E12) -> 0 | F13: =SUM(F9:F12) -> 0
A14: Predmeti registracije
A15: Reg | D15: =IF((B15+C15)=0," ",(B15+C15)) | F15: =IF((B15+C15-E15)=0," ",(B15+C15-E15))
A16: RegZ | D16: =IF((B16+C16)=0," ",(B16+C16)) | F16: =IF((B16+C16-E16)=0," ",(B16+C16-E16))
A17: F1 | D17: =IF((B17+C17)=0," ",(B17+C17)) | F17: =IF((B17+C17-E17)=0," ",(B17+C17-E17))
A18: F2 | D18: =IF((B18+C18)=0," ",(B18+C18)) | F18: =IF((B18+C18-E18)=0," ",(B18+C18-E18))
A19: F3 | D19: =IF((B19+C19)=0," ",(B19+C19)) | F19: =IF((B19+C19-E19)=0," ",(B19+C19-E19))
A20: Ostalo | D20: =IF((B20+C20)=0," ",(B20+C20)) | F20: =IF((B20+C20-E20)=0," ",(B20+C20-E20))
A21: Ukupno | B21: =SUM(B15:B20) -> 0 | C21: =SUM(C15:C20) -> 0 | D21: =SUM(D15:D20) -> 0 | E21: =SUM(E15:E20) -> 0 | F21: =SUM(F15:F20) -> 0
A22: ZK predmeti
A23: Dn | D23: =IF((B23+C23)=0," ",(B23+C23)) | F23: =IF((B23+C23-E23)=0," ",(B23+C23-E23))
A24: Nar | D24: =IF((B24+C24)=0," ",(B24+C24)) | F24: =IF((B24+C24-E24)=0," ",(B24+C24-E24))
A25: Rz | D25: =IF((B25+C25)=0," ",(B25+C25)) | F25: =IF((B25+C25-E25)=0," ",(B25+C25-E25))
A26: Kpu | D26: =IF((B26+C26)=0," ",(B26+C26)) | F26: =IF((B26+C26-E26)=0," ",(B26+C26-E26))
A27: Ostalo | D27: =IF((B27+C27)=0," ",(B27+C27)) | F27: =IF((B27+C27-E27)=0," ",(B27+C27-E27))
A28: Ukupno | B28: =SUM(B23:B27) -> 0 | C28: =SUM(C23:C27) -> 0 | D28: =SUM(D23:D27) -> 0 | E28: =SUM(E23:E27) -> 0 | F28: =SUM(F23:F27) -> 0
A30: Medijacija | D30: =B30+C30 -> 0 | F30: =B30+C30-E30 -> 0
A32: UKUPNO | B32: =B13+B21+B28+B30 -> 0 | C32: =C13+C21+C28+C30 -> 0 | D32: =D13+D21+D28+D30 -> 0 | E32: =E13+E21+E28+E30 -> 0 | F32: =F13+F21+F28+F30 -> 0
A34: Napomena 1: Molimo Vas da obratite pažnju da podaci koji se iskazuju u Tabeli I - Protok predmeta u sudu koji nisu evidentirani u CMS Kolona I – Broj neriješenih predmeta na početku izvještajnog perioda trebaju biti jednaki podacima o broju neriješenih predmeta na kraju izvještajnog perioda koje ste iskazali u Tabeli za izvještavanje o radu suda za 2024. godinu (Tabela I - Protok predmeta u sudu koji nisu evidentirani u CMS Kolona V – Broj neriješenih predmeta na kraju izvještajnog perioda). | D34: Ukoliko, ipak, postoji razlika u broju neriješenih predmeta na početku 2025. godine u odnosu na kraj 2024. godine, molimo da unesete detaljno obrazloženje te razlike. Takođe, ukoliko je tokom godine došlo do značajnog povećanja priliva neke vrste predmeta navedene u ovoj izvještajnoj tabeli, molimo da unesete obrazloženje.
A36: Pomoći radi, na linku iz sheet-a "Uputstvo" nalazi se tabela "4. Pomoćna tabela: Ukupan broj neriješenih predmeta VAN CMS-a na kraju 2024.godine" sa podacima o ukupnom broju neriješenih predmeta koji nisu evidentirani u CMS-u na kraju 2024. godine, koje ste VSTV-u BiH dostavili putem Tabele za izvještavanje o radu suda za 2024. godinu (Tabela I - Protok predmeta u sudu koji nisu evidentirani u CMS Kolona V – Broj neriješenih predmeta na kraju izvještajnog perioda).

Sheet Tabela Ia
A1: Općinski/Osnovni sud: | B1: ='Tabela I'!C1 -> 0
A2: Izvještajni period: | B2: ='Tabela I'!C2 -> 1.1.2025.- 31.12.2025.
A3: Tabela Ia - Protok ZK predmeta
A4: Vrsta predmeta | B4: Broj neriješenih predmeta na početku izvještajnog perioda | C4: Broj primljenih predmeta | D4: Ukupan broj svih predmeta u radu | E4: Broj riješenih predmeta | F4: Broj neriješenih predmeta na kraju izvještajnog perioda
B5: I | C5: II | D5: III=I+II | E5: IV | F5: V=III-IV
A6: ZK predmeti
A7: Zahtjevi za upis | D7: =IF(B7+C7=0," ",(B7+C7)) | F7: =IF((B7+C7-E7)=0," ",(B7+C7-E7))
A8: Zahtjevi za ZK izvadke | D8: =IF(B8+C8=0," ",(B8+C8)) | F8: =IF((B8+C8-E8)=0," ",(B8+C8-E8))
A9: Zahtjevi za uspostavljanje ZK uložaka | D9: =IF(B9+C9=0," ",(B9+C9)) | F9: =IF((B9+C9-E9)=0," ",(B9+C9-E9))
A10: Ostalo (uvjerenja, potvrde i dr.) | D10: =IF(B10+C10=0," ",(B10+C10)) | F10: =IF((B10+C10-E10)=0," ",(B10+C10-E10))
A11: Ukupno | B11: =(B7+B8+B9+B10) -> 0 | C11: =(C7+C8+C9+C10) -> 0 | D11: =SUM(B7:C10) -> 0 | E11: =(E7+E8+E9+E10) -> 0 | F11: =(SUM(B7:C10)-SUM(E7:E10)) -> 0

Sheet Tabela II
A1: ='Tabela I'!A1 -> Općinski/Osnovni sud: | D1: ='Tabela I'!C1 -> 0
A2: Izvještajni period: | C2: 1.1.2025.-31.12.2025.
A3: Tabela IIa – Ostvarena orijentaciona norma - Elektronski obrazac za obračun ostvarene orijentacione norme (pogledati NAPOMENU 4)
A5: Redni broj | B5: Ime i prezime - evidentirani podatak se automatski prenosi u Tabelu IIIa | C5: Ocjenjen u sudu | D5: Uključen u plan rješavanja predmeta | E5: Naziv odjela | F5: Pravosudna funkcija | H5: Procenat orijentacijske norme koju je nosilac pravosudne funkcije dužan ostvariti - Ukoliko procenat orijenatcijske norme nije predviđen u padajućem meniju pogledati NAPOMENU 3 | I5: Period obavljanja pravosudne funkcije u instituciji koja popunjava tabelu Ia | K5: Ukupan broj dana za obračun norme - pogledati NAPOMENU 2 | L5: Broj dana opravdanog odsustva iz člana 15. Kriterija za ocjenjivanje rada sudija i člana 14. Kriterija za ocjenjivanje rada PS (pogledati NAPOMENU 9) | M5: Ostvarena orijentaciona norma iz CMS-a | N5: Ostvarena orijentaciona norma na predmetima van CMS-a - pogledati NAPOMENU 6 | O5: Procenat ostvarene orijentacione norme prema članu 9. Pravilnika o orijentacijskim mjerilima - pogledati NAPOMENU 7 | P5: Procenat ostvarene propisane godišnje orijentacijske norme u 2025. godini | Q5: Ukupno ostvarena orijentacijska norma u 2025. godini | R5: Nedovoljan broj predmeta u radu - pogledati NAPOMENU 5 | W5: Broj ostvarenih bodova | X5: Sudija | Y5: Stručni saradnik | Z5: Predsjednik odjela | AA5: Predsjednik sudskog vijeća vrhovnog suda entiteta | AB5: Član VSTV-a
I6: Datum od | J6: Datum do | R6: broj predmeta u radu | S6: broj riješenih predmeta | T6: broj neriješenih predmeta sa zakonskim i procesnim smetnjama | U6: broj neriješenih predmeta bez zakonskih i procesnih smetnji | V6: procenat riješenih predmeta | Y6: 90 | Z6: 85 | AA6: 70 | AB6: 50
A7: I | B7: II | C7: III | D7: IIIa | E7: IV | F7: V | H7: VI | I7: VII | J7: VIII | K7: IX | L7: X | M7: XI | N7: XII | O7: XIII | P7: XIV | Q7: XV | R7: XVI | S7: XVII | T7: XVIII | U7: XIX | V7: XX | W7: XXI | X7: 1 | Y7: 0.9 | Z7: 0.75 | AA7: 0.7 | AB7: 0.5 | AC7: 0.35 | AD7: 0.25 | AE7: Ne treba raditi na predm.
A8: 1 | F8: Predsjednik suda | K8: 261 | P8: =IF(H8="","",IF(H8="Ne treba raditi na predm.",1+SUM(M8:O8),(SUM(M8:O8)/H8))) | Q8: =IF(L8>0,IF(H8="Ne treba raditi na predm.",P8,P8*(K8/(K8-L8))),P8) | V8: =IF(R8="","",S8/(R8-T8)) | W8: =IF(Q8="","",IF(C8="Ne","",IF(H8="Ne treba raditi na predm.","",IF(D8="Da",IF(Q8>1,10,IF(V8="",IF(Q8>0.9,9,IF(Q8>0.8,8,IF(Q8>0.7,6,IF(Q8>0.6,4,IF(Q8>0.5,2,0))))),IF(V8>0.94,10,IF(V8>0.9,9,IF(V8>0.8,8,IF(V8>0.7,6,IF(V8>0.6,4,IF(V8>0.5,2,0)))))))),IF(Q8>1,15,IF(V8="",IF(Q8>0.9,13,IF(Q8>0.8,11,IF(Q8>0.7,9,IF(Q8>0.6,6,IF(Q8>0.5,3,0))))),IF(V8>0.94,15,IF(V8>0.9,12,IF(V8>0.8,9,IF(V8>0.7,8,IF(V8>0.6,6,IF(V8>0.5,3,0)))))))))))) | X8: 0.7 | Y8: 0.5 | Z8: 0.4 | AA8: 0.3 | AB8: Ne treba raditi na predm.
F9: Predsjednik suda | K9: 261 | P9: =IF(H9="","",IF(H9="Ne treba raditi na predm.",1+SUM(M9:O9),(SUM(M9:O9)/H9))) | Q9: =IF(L9>0,IF(H9="Ne treba raditi na predm.",P9,P9*(K9/(K9-L9))),P9) | V9: =IF(R9="","",S9/(R9-T9)) | W9: =IF(Q9="","",IF(C8="Ne","",IF(H9="Ne treba raditi na predm.","",IF(D8="Da",IF(Q9>1,10,IF(V9="",IF(Q9>0.9,9,IF(Q9>0.8,8,IF(Q9>0.7,6,IF(Q9>0.6,4,IF(Q9>0.5,2,0))))),IF(V9>0.94,10,IF(V9>0.9,9,IF(V9>0.8,8,IF(V9>0.7,6,IF(V9>0.6,4,IF(V9>0.5,2,0)))))))),IF(Q9>1,15,IF(V9="",IF(Q9>0.9,13,IF(Q9>0.8,11,IF(Q9>0.7,9,IF(Q9>0.6,6,IF(Q9>0.5,3,0))))),IF(V9>0.94,15,IF(V9>0.9,12,IF(V9>0.8,9,IF(V9>0.7,8,IF(V9>0.6,6,IF(V9>0.5,3,0))))))))))))
A10: 2 | G10: =IF(F10="Sudija",1,IF(F10="Stručni saradnik",1,"")) | K10: 261 | P10: =IF(H10="","",IF(H10="Ne treba raditi na predm.",1+SUM(M10:O10),(SUM(M10:O10)/H10))) | Q10: =IF(L10>0,IF(H10="Ne treba raditi na predm.",P10,P10*(K10/(K10-L10))),P10) | V10: =IF(R10="","",S10/(R10-T10)) | W10: =IF(Q10="","",IF(C10="Ne","",IF(H10="Ne treba raditi na predm.","",IF(D10="Da",IF(Q10>1,30,IF(V10="",IF(Q10>0.9,25,IF(Q10>0.8,20,IF(Q10>0.7,15,IF(Q10>0.6,10,IF(Q10>0.5,5,0))))),IF(V10>0.94,30,IF(V10>0.9,25,IF(V10>0.8,20,IF(V10>0.7,15,IF(V10>0.6,10,IF(V10>0.5,5,0)))))))),IF(Q10>1,40,IF(V10="",IF(Q10>0.95,35,IF(Q10>0.9,30,IF(Q10>0.8,20,IF(Q10>0.7,15,IF(Q10>0.6,10,IF(Q10>0.5,5,0)))))),IF(V10>0.94,40,IF(V10>0.9,35,IF(V10>0.8,30,IF(V10>0.7,20,IF(V10>0.6,15,IF(V10>0.5,10,0)))))))))))) | X10: Da | Y10: Ne
A11: 3 | G11: =IF(F11="Sudija",1,IF(F11="Stručni saradnik",1,"")) | K11: 261 | P11: =IF(H11="","",IF(H11="Ne treba raditi na predm.",1+SUM(M11:O11),(SUM(M11:O11)/H11))) | Q11: =IF(L11>0,IF(H11="Ne treba raditi na predm.",P11,P11*(K11/(K11-L11))),P11) | V11: =IF(R11="","",S11/(R11-T11)) | W11: =IF(Q11="","",IF(C11="Ne","",IF(H11="Ne treba raditi na predm.","",IF(D11="Da",IF(Q11>1,30,IF(V11="",IF(Q11>0.9,25,IF(Q11>0.8,20,IF(Q11>0.7,15,IF(Q11>0.6,10,IF(Q11>0.5,5,0))))),IF(V11>0.94,30,IF(V11>0.9,25,IF(V11>0.8,20,IF(V11>0.7,15,IF(V11>0.6,10,IF(V11>0.5,5,0)))))))),IF(Q11>1,40,IF(V11="",IF(Q11>0.95,35,IF(Q11>0.9,30,IF(Q11>0.8,20,IF(Q11>0.7,15,IF(Q11>0.6,10,IF(Q11>0.5,5,0)))))),IF(V11>0.94,40,IF(V11>0.9,35,IF(V11>0.8,30,IF(V11>0.7,20,IF(V11>0.6,15,IF(V11>0.5,10,0))))))))))))
A12: 4 | G12: =IF(F12="Sudija",1,IF(F12="Stručni saradnik",1,"")) | K12: 261 | P12: =IF(H12="","",IF(H12="Ne treba raditi na predm.",1+SUM(M12:O12),(SUM(M12:O12)/H12))) | Q12: =IF(L12>0,IF(H12="Ne treba raditi na predm.",P12,P12*(K12/(K12-L12))),P12) | V12: =IF(R12="","",S12/(R12-T12)) | W12: =IF(Q12="","",IF(C12="Ne","",IF(H12="Ne treba raditi na predm.","",IF(D12="Da",IF(Q12>1,30,IF(V12="",IF(Q12>0.9,25,IF(Q12>0.8,20,IF(Q12>0.7,15,IF(Q12>0.6,10,IF(Q12>0.5,5,0))))),IF(V12>0.94,30,IF(V12>0.9,25,IF(V12>0.8,20,IF(V12>0.7,15,IF(V12>0.6,10,IF(V12>0.5,5,0)))))))),IF(Q12>1,40,IF(V12="",IF(Q12>0.95,35,IF(Q12>0.9,30,IF(Q12>0.8,20,IF(Q12>0.7,15,IF(Q12>0.6,10,IF(Q12>0.5,5,0)))))),IF(V12>0.94,40,IF(V12>0.9,35,IF(V12>0.8,30,IF(V12>0.7,20,IF(V12>0.6,15,IF(V12>0.5,10,0))))))))))))
A13: 5 | G13: =IF(F13="Sudija",1,IF(F13="Stručni saradnik",1,"")) | K13: 261 | P13: =IF(H13="","",IF(H13="Ne treba raditi na predm.",1+SUM(M13:O13),(SUM(M13:O13)/H13))) | Q13: =IF(L13>0,IF(H13="Ne treba raditi na predm.",P13,P13*(K13/(K13-L13))),P13) | V13: =IF(R13="","",S13/(R13-T13)) | W13: =IF(Q13="","",IF(C13="Ne","",IF(H13="Ne treba raditi na predm.","",IF(D13="Da",IF(Q13>1,30,IF(V13="",IF(Q13>0.9,25,IF(Q13>0.8,20,IF(Q13>0.7,15,IF(Q13>0.6,10,IF(Q13>0.5,5,0))))),IF(V13>0.94,30,IF(V13>0.9,25,IF(V13>0.8,20,IF(V13>0.7,15,IF(V13>0.6,10,IF(V13>0.5,5,0)))))))),IF(Q13>1,40,IF(V13="",IF(Q13>0.95,35,IF(Q13>0.9,30,IF(Q13>0.8,20,IF(Q13>0.7,15,IF(Q13>0.6,10,IF(Q13>0.5,5,0)))))),IF(V13>0.94,40,IF(V13>0.9,35,IF(V13>0.8,30,IF(V13>0.7,20,IF(V13>0.6,15,IF(V13>0.5,10,0))))))))))))
A14: 6 | G14: =IF(F14="Sudija",1,IF(F14="Stručni saradnik",1,"")) | K14: 261 | P14: =IF(H14="","",IF(H14="Ne treba raditi na predm.",1+SUM(M14:O14),(SUM(M14:O14)/H14))) | Q14: =IF(L14>0,IF(H14="Ne treba raditi na predm.",P14,P14*(K14/(K14-L14))),P14) | V14: =IF(R14="","",S14/(R14-T14)) | W14: =IF(Q14="","",IF(C14="Ne","",IF(H14="Ne treba raditi na predm.","",IF(D14="Da",IF(Q14>1,30,IF(V14="",IF(Q14>0.9,25,IF(Q14>0.8,20,IF(Q14>0.7,15,IF(Q14>0.6,10,IF(Q14>0.5,5,0))))),IF(V14>0.94,30,IF(V14>0.9,25,IF(V14>0.8,20,IF(V14>0.7,15,IF(V14>0.6,10,IF(V14>0.5,5,0)))))))),IF(Q14>1,40,IF(V14="",IF(Q14>0.95,35,IF(Q14>0.9,30,IF(Q14>0.8,20,IF(Q14>0.7,15,IF(Q14>0.6,10,IF(Q14>0.5,5,0)))))),IF(V14>0.94,40,IF(V14>0.9,35,IF(V14>0.8,30,IF(V14>0.7,20,IF(V14>0.6,15,IF(V14>0.5,10,0))))))))))))
A15: 7 | G15: =IF(F15="Sudija",1,IF(F15="Stručni saradnik",1,"")) | K15: 261 | P15: =IF(H15="","",IF(H15="Ne treba raditi na predm.",1+SUM(M15:O15),(SUM(M15:O15)/H15))) | Q15: =IF(L15>0,IF(H15="Ne treba raditi na predm.",P15,P15*(K15/(K15-L15))),P15) | V15: =IF(R15="","",S15/(R15-T15)) | W15: =IF(Q15="","",IF(C15="Ne","",IF(H15="Ne treba raditi na predm.","",IF(D15="Da",IF(Q15>1,30,IF(V15="",IF(Q15>0.9,25,IF(Q15>0.8,20,IF(Q15>0.7,15,IF(Q15>0.6,10,IF(Q15>0.5,5,0))))),IF(V15>0.94,30,IF(V15>0.9,25,IF(V15>0.8,20,IF(V15>0.7,15,IF(V15>0.6,10,IF(V15>0.5,5,0)))))))),IF(Q15>1,40,IF(V15="",IF(Q15>0.95,35,IF(Q15>0.9,30,IF(Q15>0.8,20,IF(Q15>0.7,15,IF(Q15>0.6,10,IF(Q15>0.5,5,0)))))),IF(V15>0.94,40,IF(V15>0.9,35,IF(V15>0.8,30,IF(V15>0.7,20,IF(V15>0.6,15,IF(V15>0.5,10,0))))))))))))
A16: 8 | G16: =IF(F16="Sudija",1,IF(F16="Stručni saradnik",1,"")) | K16: 261 | P16: =IF(H16="","",IF(H16="Ne treba raditi na predm.",1+SUM(M16:O16),(SUM(M16:O16)/H16))) | Q16: =IF(L16>0,IF(H16="Ne treba raditi na predm.",P16,P16*(K16/(K16-L16))),P16) | V16: =IF(R16="","",S16/(R16-T16)) | W16: =IF(Q16="","",IF(C16="Ne","",IF(H16="Ne treba raditi na predm.","",IF(D16="Da",IF(Q16>1,30,IF(V16="",IF(Q16>0.9,25,IF(Q16>0.8,20,IF(Q16>0.7,15,IF(Q16>0.6,10,IF(Q16>0.5,5,0))))),IF(V16>0.94,30,IF(V16>0.9,25,IF(V16>0.8,20,IF(V16>0.7,15,IF(V16>0.6,10,IF(V16>0.5,5,0)))))))),IF(Q16>1,40,IF(V16="",IF(Q16>0.95,35,IF(Q16>0.9,30,IF(Q16>0.8,20,IF(Q16>0.7,15,IF(Q16>0.6,10,IF(Q16>0.5,5,0)))))),IF(V16>0.94,40,IF(V16>0.9,35,IF(V16>0.8,30,IF(V16>0.7,20,IF(V16>0.6,15,IF(V16>0.5,10,0))))))))))))
A17: 9 | G17: =IF(F17="Sudija",1,IF(F17="Stručni saradnik",1,"")) | K17: 261 | P17: =IF(H17="","",IF(H17="Ne treba raditi na predm.",1+SUM(M17:O17),(SUM(M17:O17)/H17))) | Q17: =IF(L17>0,IF(H17="Ne treba raditi na predm.",P17,P17*(K17/(K17-L17))),P17) | V17: =IF(R17="","",S17/(R17-T17)) | W17: =IF(Q17="","",IF(C17="Ne","",IF(H17="Ne treba raditi na predm.","",IF(D17="Da",IF(Q17>1,30,IF(V17="",IF(Q17>0.9,25,IF(Q17>0.8,20,IF(Q17>0.7,15,IF(Q17>0.6,10,IF(Q17>0.5,5,0))))),IF(V17>0.94,30,IF(V17>0.9,25,IF(V17>0.8,20,IF(V17>0.7,15,IF(V17>0.6,10,IF(V17>0.5,5,0)))))))),IF(Q17>1,40,IF(V17="",IF(Q17>0.95,35,IF(Q17>0.9,30,IF(Q17>0.8,20,IF(Q17>0.7,15,IF(Q17>0.6,10,IF(Q17>0.5,5,0)))))),IF(V17>0.94,40,IF(V17>0.9,35,IF(V17>0.8,30,IF(V17>0.7,20,IF(V17>0.6,15,IF(V17>0.5,10,0))))))))))))
A18: 10 | G18: =IF(F18="Sudija",1,IF(F18="Stručni saradnik",1,"")) | K18: 261 | P18: =IF(H18="","",IF(H18="Ne treba raditi na predm.",1+SUM(M18:O18),(SUM(M18:O18)/H18))) | Q18: =IF(L18>0,IF(H18="Ne treba raditi na predm.",P18,P18*(K18/(K18-L18))),P18) | V18: =IF(R18="","",S18/(R18-T18)) | W18: =IF(Q18="","",IF(C18="Ne","",IF(H18="Ne treba raditi na predm.","",IF(D18="Da",IF(Q18>1,30,IF(V18="",IF(Q18>0.9,25,IF(Q18>0.8,20,IF(Q18>0.7,15,IF(Q18>0.6,10,IF(Q18>0.5,5,0))))),IF(V18>0.94,30,IF(V18>0.9,25,IF(V18>0.8,20,IF(V18>0.7,15,IF(V18>0.6,10,IF(V18>0.5,5,0)))))))),IF(Q18>1,40,IF(V18="",IF(Q18>0.95,35,IF(Q18>0.9,30,IF(Q18>0.8,20,IF(Q18>0.7,15,IF(Q18>0.6,10,IF(Q18>0.5,5,0)))))),IF(V18>0.94,40,IF(V18>0.9,35,IF(V18>0.8,30,IF(V18>0.7,20,IF(V18>0.6,15,IF(V18>0.5,10,0))))))))))))
A19: 11 | G19: =IF(F19="Sudija",1,IF(F19="Stručni saradnik",1,"")) | K19: 261 | P19: =IF(H19="","",IF(H19="Ne treba raditi na predm.",1+SUM(M19:O19),(SUM(M19:O19)/H19))) | Q19: =IF(L19>0,IF(H19="Ne treba raditi na predm.",P19,P19*(K19/(K19-L19))),P19) | V19: =IF(R19="","",S19/(R19-T19)) | W19: =IF(Q19="","",IF(C19="Ne","",IF(H19="Ne treba raditi na predm.","",IF(D19="Da",IF(Q19>1,30,IF(V19="",IF(Q19>0.9,25,IF(Q19>0.8,20,IF(Q19>0.7,15,IF(Q19>0.6,10,IF(Q19>0.5,5,0))))),IF(V19>0.94,30,IF(V19>0.9,25,IF(V19>0.8,20,IF(V19>0.7,15,IF(V19>0.6,10,IF(V19>0.5,5,0)))))))),IF(Q19>1,40,IF(V19="",IF(Q19>0.95,35,IF(Q19>0.9,30,IF(Q19>0.8,20,IF(Q19>0.7,15,IF(Q19>0.6,10,IF(Q19>0.5,5,0)))))),IF(V19>0.94,40,IF(V19>0.9,35,IF(V19>0.8,30,IF(V19>0.7,20,IF(V19>0.6,15,IF(V19>0.5,10,0))))))))))))
A20: 12 | G20: =IF(F20="Sudija",1,IF(F20="Stručni saradnik",1,"")) | K20: 261 | P20: =IF(H20="","",IF(H20="Ne treba raditi na predm.",1+SUM(M20:O20),(SUM(M20:O20)/H20))) | Q20: =IF(L20>0,IF(H20="Ne treba raditi na predm.",P20,P20*(K20/(K20-L20))),P20) | V20: =IF(R20="","",S20/(R20-T20)) | W20: =IF(Q20="","",IF(C20="Ne","",IF(H20="Ne treba raditi na predm.","",IF(D20="Da",IF(Q20>1,30,IF(V20="",IF(Q20>0.9,25,IF(Q20>0.8,20,IF(Q20>0.7,15,IF(Q20>0.6,10,IF(Q20>0.5,5,0))))),IF(V20>0.94,30,IF(V20>0.9,25,IF(V20>0.8,20,IF(V20>0.7,15,IF(V20>0.6,10,IF(V20>0.5,5,0)))))))),IF(Q20>1,40,IF(V20="",IF(Q20>0.95,35,IF(Q20>0.9,30,IF(Q20>0.8,20,IF(Q20>0.7,15,IF(Q20>0.6,10,IF(Q20>0.5,5,0)))))),IF(V20>0.94,40,IF(V20>0.9,35,IF(V20>0.8,30,IF(V20>0.7,20,IF(V20>0.6,15,IF(V20>0.5,10,0))))))))))))
A21: 13 | G21: =IF(F21="Sudija",1,IF(F21="Stručni saradnik",1,"")) | K21: 261 | P21: =IF(H21="","",IF(H21="Ne treba raditi na predm.",1+SUM(M21:O21),(SUM(M21:O21)/H21))) | Q21: =IF(L21>0,IF(H21="Ne treba raditi na predm.",P21,P21*(K21/(K21-L21))),P21) | V21: =IF(R21="","",S21/(R21-T21)) | W21: =IF(Q21="","",IF(C21="Ne","",IF(H21="Ne treba raditi na predm.","",IF(D21="Da",IF(Q21>1,30,IF(V21="",IF(Q21>0.9,25,IF(Q21>0.8,20,IF(Q21>0.7,15,IF(Q21>0.6,10,IF(Q21>0.5,5,0))))),IF(V21>0.94,30,IF(V21>0.9,25,IF(V21>0.8,20,IF(V21>0.7,15,IF(V21>0.6,10,IF(V21>0.5,5,0)))))))),IF(Q21>1,40,IF(V21="",IF(Q21>0.95,35,IF(Q21>0.9,30,IF(Q21>0.8,20,IF(Q21>0.7,15,IF(Q21>0.6,10,IF(Q21>0.5,5,0)))))),IF(V21>0.94,40,IF(V21>0.9,35,IF(V21>0.8,30,IF(V21>0.7,20,IF(V21>0.6,15,IF(V21>0.5,10,0))))))))))))
A22: 14 | G22: =IF(F22="Sudija",1,IF(F22="Stručni saradnik",1,"")) | K22: 261 | P22: =IF(H22="","",IF(H22="Ne treba raditi na predm.",1+SUM(M22:O22),(SUM(M22:O22)/H22))) | Q22: =IF(L22>0,IF(H22="Ne treba raditi na predm.",P22,P22*(K22/(K22-L22))),P22) | V22: =IF(R22="","",S22/(R22-T22)) | W22: =IF(Q22="","",IF(C22="Ne","",IF(H22="Ne treba raditi na predm.","",IF(D22="Da",IF(Q22>1,30,IF(V22="",IF(Q22>0.9,25,IF(Q22>0.8,20,IF(Q22>0.7,15,IF(Q22>0.6,10,IF(Q22>0.5,5,0))))),IF(V22>0.94,30,IF(V22>0.9,25,IF(V22>0.8,20,IF(V22>0.7,15,IF(V22>0.6,10,IF(V22>0.5,5,0)))))))),IF(Q22>1,40,IF(V22="",IF(Q22>0.95,35,IF(Q22>0.9,30,IF(Q22>0.8,20,IF(Q22>0.7,15,IF(Q22>0.6,10,IF(Q22>0.5,5,0)))))),IF(V22>0.94,40,IF(V22>0.9,35,IF(V22>0.8,30,IF(V22>0.7,20,IF(V22>0.6,15,IF(V22>0.5,10,0))))))))))))
... A173: 165 | G173: =IF(F173="Sudija",1,IF(F173="Stručni saradnik",1,"")) | K173: 261 | P173: =IF(H173="","",IF(H173="Ne treba raditi na predm.",1+SUM(M173:O173),(SUM(M173:O173)/H173))) | Q173: =IF(L173>0,IF(H173="Ne treba raditi na predm.",P173,P173*(K173/(K173-L173))),P173) | V173: =IF(R173="","",S173/(R173-T173)) | W173: =IF(Q173="","",IF(C173="Ne","",IF(H173="Ne treba raditi na predm.","",IF(D173="Da",IF(Q173>1,30,IF(V173="",IF(Q173>0.9,25,IF(Q173>0.8,20,IF(Q173>0.7,15,IF(Q173>0.6,10,IF(Q173>0.5,5,0))))),IF(V173>0.94,30,IF(V173>0.9,25,IF(V173>0.8,20,IF(V173>0.7,15,IF(V173>0.6,10,IF(V173>0.5,5,0)))))))),IF(Q173>1,40,IF(V173="",IF(Q173>0.95,35,IF(Q173>0.9,30,IF(Q173>0.8,20,IF(Q173>0.7,15,IF(Q173>0.6,10,IF(Q173>0.5,5,0)))))),IF(V173>0.94,40,IF(V173>0.9,35,IF(V173>0.8,30,IF(V173>0.7,20,IF(V173>0.6,15,IF(V173>0.5,10,0))))))))))))
G174: =IF(F174="Sudija",1,IF(F174="Stručni saradnik",1,"")) | K174: 261 | P174: =IF(H174="","",IF(H174="Ne treba raditi na predm.",1+SUM(M174:O174),(SUM(M174:O174)/H174))) | Q174: =IF(L174>0,IF(H174="Ne treba raditi na predm.",P174,P174*(K174/(K174-L174))),P174) | V174: =IF(R174="","",S174/(R174-T174)) | W174: =IF(Q174="","",IF(C174="Ne","",IF(H174="Ne treba raditi na predm.","",IF(D174="Da",IF(Q174>1,30,IF(V174="",IF(Q174>0.9,25,IF(Q174>0.8,20,IF(Q174>0.7,15,IF(Q174>0.6,10,IF(Q174>0.5,5,0))))),IF(V174>0.94,30,IF(V174>0.9,25,IF(V174>0.8,20,IF(V174>0.7,15,IF(V174>0.6,10,IF(V174>0.5,5,0)))))))),IF(Q174>1,40,IF(V174="",IF(Q174>0.95,35,IF(Q174>0.9,30,IF(Q174>0.8,20,IF(Q174>0.7,15,IF(Q174>0.6,10,IF(Q174>0.5,5,0)))))),IF(V174>0.94,40,IF(V174>0.9,35,IF(V174>0.8,30,IF(V174>0.7,20,IF(V174>0.6,15,IF(V174>0.5,10,0))))))))))))
G175: =IF(F175="Sudija",1,IF(F175="Stručni saradnik",1,"")) | K175: 261 | P175: =IF(H175="","",IF(H175="Ne treba raditi na predm.",1+SUM(M175:O175),(SUM(M175:O175)/H175))) | Q175: =IF(L175>0,IF(H175="Ne treba raditi na predm.",P175,P175*(K175/(K175-L175))),P175) | V175: =IF(R175="","",S175/(R175-T175)) | W175: =IF(Q175="","",IF(C175="Ne","",IF(H175="Ne treba raditi na predm.","",IF(D175="Da",IF(Q175>1,30,IF(V175="",IF(Q175>0.9,25,IF(Q175>0.8,20,IF(Q175>0.7,15,IF(Q175>0.6,10,IF(Q175>0.5,5,0))))),IF(V175>0.94,30,IF(V175>0.9,25,IF(V175>0.8,20,IF(V175>0.7,15,IF(V175>0.6,10,IF(V175>0.5,5,0)))))))),IF(Q175>1,40,IF(V175="",IF(Q175>0.95,35,IF(Q175>0.9,30,IF(Q175>0.8,20,IF(Q175>0.7,15,IF(Q175>0.6,10,IF(Q175>0.5,5,0)))))),IF(V175>0.94,40,IF(V175>0.9,35,IF(V175>0.8,30,IF(V175>0.7,20,IF(V175>0.6,15,IF(V175>0.5,10,0))))))))))))
G176: =IF(F176="Sudija",1,IF(F176="Stručni saradnik",1,"")) | K176: 261 | P176: =IF(H176="","",IF(H176="Ne treba raditi na predm.",1+SUM(M176:O176),(SUM(M176:O176)/H176))) | Q176: =IF(L176>0,IF(H176="Ne treba raditi na predm.",P176,P176*(K176/(K176-L176))),P176) | V176: =IF(R176="","",S176/(R176-T176)) | W176: =IF(Q176="","",IF(C176="Ne","",IF(H176="Ne treba raditi na predm.","",IF(D176="Da",IF(Q176>1,30,IF(V176="",IF(Q176>0.9,25,IF(Q176>0.8,20,IF(Q176>0.7,15,IF(Q176>0.6,10,IF(Q176>0.5,5,0))))),IF(V176>0.94,30,IF(V176>0.9,25,IF(V176>0.8,20,IF(V176>0.7,15,IF(V176>0.6,10,IF(V176>0.5,5,0)))))))),IF(Q176>1,40,IF(V176="",IF(Q176>0.95,35,IF(Q176>0.9,30,IF(Q176>0.8,20,IF(Q176>0.7,15,IF(Q176>0.6,10,IF(Q176>0.5,5,0)))))),IF(V176>0.94,40,IF(V176>0.9,35,IF(V176>0.8,30,IF(V176>0.7,20,IF(V176>0.6,15,IF(V176>0.5,10,0))))))))))))
G177: =IF(F177="Sudija",1,IF(F177="Stručni saradnik",1,"")) | K177: 261 | P177: =IF(H177="","",IF(H177="Ne treba raditi na predm.",1+SUM(M177:O177),(SUM(M177:O177)/H177))) | Q177: =IF(L177>0,IF(H177="Ne treba raditi na predm.",P177,P177*(K177/(K177-L177))),P177) | V177: =IF(R177="","",S177/(R177-T177)) | W177: =IF(Q177="","",IF(C177="Ne","",IF(H177="Ne treba raditi na predm.","",IF(D177="Da",IF(Q177>1,30,IF(V177="",IF(Q177>0.9,25,IF(Q177>0.8,20,IF(Q177>0.7,15,IF(Q177>0.6,10,IF(Q177>0.5,5,0))))),IF(V177>0.94,30,IF(V177>0.9,25,IF(V177>0.8,20,IF(V177>0.7,15,IF(V177>0.6,10,IF(V177>0.5,5,0)))))))),IF(Q177>1,40,IF(V177="",IF(Q177>0.95,35,IF(Q177>0.9,30,IF(Q177>0.8,20,IF(Q177>0.7,15,IF(Q177>0.6,10,IF(Q177>0.5,5,0)))))),IF(V177>0.94,40,IF(V177>0.9,35,IF(V177>0.8,30,IF(V177>0.7,20,IF(V177>0.6,15,IF(V177>0.5,10,0))))))))))))
G178: =IF(F178="Sudija",1,IF(F178="Stručni saradnik",1,"")) | K178: 261 | P178: =IF(H178="","",IF(H178="Ne treba raditi na predm.",1+SUM(M178:O178),(SUM(M178:O178)/H178))) | Q178: =IF(L178>0,IF(H178="Ne treba raditi na predm.",P178,P178*(K178/(K178-L178))),P178) | V178: =IF(R178="","",S178/(R178-T178)) | W178: =IF(Q178="","",IF(C178="Ne","",IF(H178="Ne treba raditi na predm.","",IF(D178="Da",IF(Q178>1,30,IF(V178="",IF(Q178>0.9,25,IF(Q178>0.8,20,IF(Q178>0.7,15,IF(Q178>0.6,10,IF(Q178>0.5,5,0))))),IF(V178>0.94,30,IF(V178>0.9,25,IF(V178>0.8,20,IF(V178>0.7,15,IF(V178>0.6,10,IF(V178>0.5,5,0)))))))),IF(Q178>1,40,IF(V178="",IF(Q178>0.95,35,IF(Q178>0.9,30,IF(Q178>0.8,20,IF(Q178>0.7,15,IF(Q178>0.6,10,IF(Q178>0.5,5,0)))))),IF(V178>0.94,40,IF(V178>0.9,35,IF(V178>0.8,30,IF(V178>0.7,20,IF(V178>0.6,15,IF(V178>0.5,10,0))))))))))))
G179: =IF(F179="Sudija",1,IF(F179="Stručni saradnik",1,"")) | K179: 261 | P179: =IF(H179="","",IF(H179="Ne treba raditi na predm.",1+SUM(M179:O179),(SUM(M179:O179)/H179))) | Q179: =IF(L179>0,IF(H179="Ne treba raditi na predm.",P179,P179*(K179/(K179-L179))),P179) | V179: =IF(R179="","",S179/(R179-T179)) | W179: =IF(Q179="","",IF(C179="Ne","",IF(H179="Ne treba raditi na predm.","",IF(D179="Da",IF(Q179>1,30,IF(V179="",IF(Q179>0.9,25,IF(Q179>0.8,20,IF(Q179>0.7,15,IF(Q179>0.6,10,IF(Q179>0.5,5,0))))),IF(V179>0.94,30,IF(V179>0.9,25,IF(V179>0.8,20,IF(V179>0.7,15,IF(V179>0.6,10,IF(V179>0.5,5,0)))))))),IF(Q179>1,40,IF(V179="",IF(Q179>0.95,35,IF(Q179>0.9,30,IF(Q179>0.8,20,IF(Q179>0.7,15,IF(Q179>0.6,10,IF(Q179>0.5,5,0)))))),IF(V179>0.94,40,IF(V179>0.9,35,IF(V179>0.8,30,IF(V179>0.7,20,IF(V179>0.6,15,IF(V179>0.5,10,0))))))))))))
G180: =IF(F180="Sudija",1,IF(F180="Stručni saradnik",1,"")) | K180: 261 | P180: =IF(H180="","",IF(H180="Ne treba raditi na predm.",1+SUM(M180:O180),(SUM(M180:O180)/H180))) | Q180: =IF(L180>0,IF(H180="Ne treba raditi na predm.",P180,P180*(K180/(K180-L180))),P180) | V180: =IF(R180="","",S180/(R180-T180)) | W180: =IF(Q180="","",IF(C180="Ne","",IF(H180="Ne treba raditi na predm.","",IF(D180="Da",IF(Q180>1,30,IF(V180="",IF(Q180>0.9,25,IF(Q180>0.8,20,IF(Q180>0.7,15,IF(Q180>0.6,10,IF(Q180>0.5,5,0))))),IF(V180>0.94,30,IF(V180>0.9,25,IF(V180>0.8,20,IF(V180>0.7,15,IF(V180>0.6,10,IF(V180>0.5,5,0)))))))),IF(Q180>1,40,IF(V180="",IF(Q180>0.95,35,IF(Q180>0.9,30,IF(Q180>0.8,20,IF(Q180>0.7,15,IF(Q180>0.6,10,IF(Q180>0.5,5,0)))))),IF(V180>0.94,40,IF(V180>0.9,35,IF(V180>0.8,30,IF(V180>0.7,20,IF(V180>0.6,15,IF(V180>0.5,10,0))))))))))))
G181: =IF(F181="Sudija",1,IF(F181="Stručni saradnik",1,"")) | K181: 261 | P181: =IF(H181="","",IF(H181="Ne treba raditi na predm.",1+SUM(M181:O181),(SUM(M181:O181)/H181))) | Q181: =IF(L181>0,IF(H181="Ne treba raditi na predm.",P181,P181*(K181/(K181-L181))),P181) | V181: =IF(R181="","",S181/(R181-T181)) | W181: =IF(Q181="","",IF(C181="Ne","",IF(H181="Ne treba raditi na predm.","",IF(D181="Da",IF(Q181>1,30,IF(V181="",IF(Q181>0.9,25,IF(Q181>0.8,20,IF(Q181>0.7,15,IF(Q181>0.6,10,IF(Q181>0.5,5,0))))),IF(V181>0.94,30,IF(V181>0.9,25,IF(V181>0.8,20,IF(V181>0.7,15,IF(V181>0.6,10,IF(V181>0.5,5,0)))))))),IF(Q181>1,40,IF(V181="",IF(Q181>0.95,35,IF(Q181>0.9,30,IF(Q181>0.8,20,IF(Q181>0.7,15,IF(Q181>0.6,10,IF(Q181>0.5,5,0)))))),IF(V181>0.94,40,IF(V181>0.9,35,IF(V181>0.8,30,IF(V181>0.7,20,IF(V181>0.6,15,IF(V181>0.5,10,0))))))))))))
G182: =IF(F182="Sudija",1,IF(F182="Stručni saradnik",1,"")) | K182: 261 | P182: =IF(H182="","",IF(H182="Ne treba raditi na predm.",1+SUM(M182:O182),(SUM(M182:O182)/H182))) | Q182: =IF(L182>0,IF(H182="Ne treba raditi na predm.",P182,P182*(K182/(K182-L182))),P182) | V182: =IF(R182="","",S182/(R182-T182)) | W182: =IF(Q182="","",IF(C182="Ne","",IF(H182="Ne treba raditi na predm.","",IF(D182="Da",IF(Q182>1,30,IF(V182="",IF(Q182>0.9,25,IF(Q182>0.8,20,IF(Q182>0.7,15,IF(Q182>0.6,10,IF(Q182>0.5,5,0))))),IF(V182>0.94,30,IF(V182>0.9,25,IF(V182>0.8,20,IF(V182>0.7,15,IF(V182>0.6,10,IF(V182>0.5,5,0)))))))),IF(Q182>1,40,IF(V182="",IF(Q182>0.95,35,IF(Q182>0.9,30,IF(Q182>0.8,20,IF(Q182>0.7,15,IF(Q182>0.6,10,IF(Q182>0.5,5,0)))))),IF(V182>0.94,40,IF(V182>0.9,35,IF(V182>0.8,30,IF(V182>0.7,20,IF(V182>0.6,15,IF(V182>0.5,10,0))))))))))))
G183: =IF(F183="Sudija",1,IF(F183="Stručni saradnik",1,"")) | K183: 261 | P183: =IF(H183="","",IF(H183="Ne treba raditi na predm.",1+SUM(M183:O183),(SUM(M183:O183)/H183))) | Q183: =IF(L183>0,IF(H183="Ne treba raditi na predm.",P183,P183*(K183/(K183-L183))),P183) | V183: =IF(R183="","",S183/(R183-T183)) | W183: =IF(Q183="","",IF(C183="Ne","",IF(H183="Ne treba raditi na predm.","",IF(D183="Da",IF(Q183>1,30,IF(V183="",IF(Q183>0.9,25,IF(Q183>0.8,20,IF(Q183>0.7,15,IF(Q183>0.6,10,IF(Q183>0.5,5,0))))),IF(V183>0.94,30,IF(V183>0.9,25,IF(V183>0.8,20,IF(V183>0.7,15,IF(V183>0.6,10,IF(V183>0.5,5,0)))))))),IF(Q183>1,40,IF(V183="",IF(Q183>0.95,35,IF(Q183>0.9,30,IF(Q183>0.8,20,IF(Q183>0.7,15,IF(Q183>0.6,10,IF(Q183>0.5,5,0)))))),IF(V183>0.94,40,IF(V183>0.9,35,IF(V183>0.8,30,IF(V183>0.7,20,IF(V183>0.6,15,IF(V183>0.5,10,0))))))))))))
G184: =IF(F184="Sudija",1,IF(F184="Stručni saradnik",1,"")) | K184: 261 | P184: =IF(H184="","",IF(H184="Ne treba raditi na predm.",1+SUM(M184:O184),(SUM(M184:O184)/H184))) | Q184: =IF(L184>0,IF(H184="Ne treba raditi na predm.",P184,P184*(K184/(K184-L184))),P184) | V184: =IF(R184="","",S184/(R184-T184)) | W184: =IF(Q184="","",IF(C184="Ne","",IF(H184="Ne treba raditi na predm.","",IF(D184="Da",IF(Q184>1,30,IF(V184="",IF(Q184>0.9,25,IF(Q184>0.8,20,IF(Q184>0.7,15,IF(Q184>0.6,10,IF(Q184>0.5,5,0))))),IF(V184>0.94,30,IF(V184>0.9,25,IF(V184>0.8,20,IF(V184>0.7,15,IF(V184>0.6,10,IF(V184>0.5,5,0)))))))),IF(Q184>1,40,IF(V184="",IF(Q184>0.95,35,IF(Q184>0.9,30,IF(Q184>0.8,20,IF(Q184>0.7,15,IF(Q184>0.6,10,IF(Q184>0.5,5,0)))))),IF(V184>0.94,40,IF(V184>0.9,35,IF(V184>0.8,30,IF(V184>0.7,20,IF(V184>0.6,15,IF(V184>0.5,10,0))))))))))))
G185: =IF(F185="Sudija",1,IF(F185="Stručni saradnik",1,"")) | K185: 261 | P185: =IF(H185="","",IF(H185="Ne treba raditi na predm.",1+SUM(M185:O185),(SUM(M185:O185)/H185))) | Q185: =IF(L185>0,IF(H185="Ne treba raditi na predm.",P185,P185*(K185/(K185-L185))),P185) | V185: =IF(R185="","",S185/(R185-T185)) | W185: =IF(Q185="","",IF(C185="Ne","",IF(H185="Ne treba raditi na predm.","",IF(D185="Da",IF(Q185>1,30,IF(V185="",IF(Q185>0.9,25,IF(Q185>0.8,20,IF(Q185>0.7,15,IF(Q185>0.6,10,IF(Q185>0.5,5,0))))),IF(V185>0.94,30,IF(V185>0.9,25,IF(V185>0.8,20,IF(V185>0.7,15,IF(V185>0.6,10,IF(V185>0.5,5,0)))))))),IF(Q185>1,40,IF(V185="",IF(Q185>0.95,35,IF(Q185>0.9,30,IF(Q185>0.8,20,IF(Q185>0.7,15,IF(Q185>0.6,10,IF(Q185>0.5,5,0)))))),IF(V185>0.94,40,IF(V185>0.9,35,IF(V185>0.8,30,IF(V185>0.7,20,IF(V185>0.6,15,IF(V185>0.5,10,0))))))))))))
... G193: =IF(F193="Sudija",1,IF(F193="Stručni saradnik",1,"")) | K193: 261 | P193: =IF(H193="","",IF(H193="Ne treba raditi na predm.",1+SUM(M193:O193),(SUM(M193:O193)/H193))) | Q193: =IF(L193>0,IF(H193="Ne treba raditi na predm.",P193,P193*(K193/(K193-L193))),P193) | V193: =IF(R193="","",S193/(R193-T193)) | W193: =IF(Q193="","",IF(C193="Ne","",IF(H193="Ne treba raditi na predm.","",IF(D193="Da",IF(Q193>1,30,IF(V193="",IF(Q193>0.9,25,IF(Q193>0.8,20,IF(Q193>0.7,15,IF(Q193>0.6,10,IF(Q193>0.5,5,0))))),IF(V193>0.94,30,IF(V193>0.9,25,IF(V193>0.8,20,IF(V193>0.7,15,IF(V193>0.6,10,IF(V193>0.5,5,0)))))))),IF(Q193>1,40,IF(V193="",IF(Q193>0.95,35,IF(Q193>0.9,30,IF(Q193>0.8,20,IF(Q193>0.7,15,IF(Q193>0.6,10,IF(Q193>0.5,5,0)))))),IF(V193>0.94,40,IF(V193>0.9,35,IF(V193>0.8,30,IF(V193>0.7,20,IF(V193>0.6,15,IF(V193>0.5,10,0))))))))))))
P194: KOLEKTIVNA NORMA SUDA | Q194: =IF(Q8="",IF(Q9="","",AVERAGEIF(Q8:Q193,">0,2")),AVERAGEIF(Q8:Q193,">0,2")) | R194: =SUM(R8:R193) -> 0 | S194: =SUM(S8:S193) -> 0 | T194: =SUM(T8:T193) -> 0 | U194: =SUM(U8:U193) -> 0 | V194: =IF(R194=0,"",S194/(R194-T194))
P195: BODOVANJE ZA OSTVARENU KOLEKTIVNU NORMU SUDA U SKLADU SA ČLANOM 19. STAV (2) KRITERIJA ZA OCJENJIVANJE RADA PREDSJEDNIKA SUDOVA | Q195: =IF(Q194="","",IF(Q194>1,30,IF(Q194>0.9,25,IF(Q194>0.8,20,IF(Q194>0.7,15,IF(Q194>0.6,10,IF(Q194>0.5,5,0)))))))
B197: Obrazloženje norme NPF-a unesene u plava polja
B198: Primjer - Sudija 1 | C198: 8 mjeseci sudija, 4 mjeseca šef odjela (90% norme sudije) | H198: 0.97
R220: Nedovoljan broj predmeta u radu
...

Sheet Tabela III
A1: Općinski/Osnovni sud: | B1: ='Tabela I'!C1 -> 0
A2: Izvještajni period: | B2: ='Tabela I'!C2 -> 1.1.2025.- 31.12.2025.
A3: Tabela III - Kvalitet sudskih odluka po vrstama predmeta
A4: Vrsta predmeta | B4: Broj donesenih odluka na koje se može izjaviti pravni lijek | C4: Ukupan broj ožalbenih odluka | D4: Broj odbačenih pravnih lijekova | E4: Broj potvrđenih odluka | F4: Broj preinačenih odluka | G4: Broj preinačenih odluka donijetih nakon održane glavne rasprave ili pretresa pred drugostepenim sudom | H4: Broj ukinutih odluka | I4: Broj djelimično ukinutih odluka | J4: Kvalitet sudskih odluka | K4: Broj presuda koje su ukinute i predmet vraćen na ponovno suđenje
E5: Odbijen pravni lijek
B6: I | C6: II=IV+V+VI+ VII+VIII) | D6: III | E6: IV | F6: V | G6: VI | H6: VII | I6: VIII | J6: IX1 | K6: X
A7: Parnični referat
A8: P | C8: =E8+F8+G8+H8+I8 -> 0 | J8: =IF(C8=0,"",IF(B8=0,1,0.7*((C8-H8-I8/2)/C8)+0.3*((B8-G8-H8-I8/2)/B8)))
A9: Mal | C9: =E9+F9+G9+H9+I9 -> 0 | J9: =IF(C9=0,"",IF(B9=0,1,0.7*((C9-H9-I9/2)/C9)+0.3*((B9-G9-H9-I9/2)/B9)))
A10: Radni sporovi | C10: =E10+F10+G10+H10+I10 -> 0 | J10: =IF(C10=0,"",IF(B10=0,1,0.7*((C10-H10-I10/2)/C10)+0.3*((B10-G10-H10-I10/2)/B10)))
A11: Pom | C11: =E11+F11+G11+H11+I11 -> 0 | J11: =IF(C11=0,"",IF(B11=0,1,0.7*((C11-H11-I11/2)/C11)+0.3*((B11-G11-H11-I11/2)/B11)))
A12: Ostalo | C12: =E12+F12+G12+H12+I12 -> 0 | J12: =IF(C12=0,"",IF(B12=0,1,0.7*((C12-H12-I12/2)/C12)+0.3*((B12-G12-H12-I12/2)/B12)))
A13: Privredni referat
A14: Ps | C14: =E14+F14+G14+H14+I14 -> 0 | J14: =IF(C14=0,"",IF(B14=0,1,0.7*((C14-H14-I14/2)/C14)+0.3*((B14-G14-H14-I14/2)/B14)))
A15: Mals | C15: =E15+F15+G15+H15+I15 -> 0 | J15: =IF(C15=0,"",IF(B15=0,1,0.7*((C15-H15-I15/2)/C15)+0.3*((B15-G15-H15-I15/2)/B15)))
A16: L | C16: =E16+F16+G16+H16+I16 -> 0 | J16: =IF(C16=0,"",IF(B16=0,1,0.7*((C16-H16-I16/2)/C16)+0.3*((B16-G16-H16-I16/2)/B16)))
A17: Ls | C17: =E17+F17+G17+H17+I17 -> 0 | J17: =IF(C17=0,"",IF(B17=0,1,0.7*((C17-H17-I17/2)/C17)+0.3*((B17-G17-H17-I17/2)/B17)))
A18: St | C18: =E18+F18+G18+H18+I18 -> 0 | J18: =IF(C18=0,"",IF(B18=0,1,0.7*((C18-H18-I18/2)/C18)+0.3*((B18-G18-H18-I18/2)/B18)))
A19: Ostalo | C19: =E19+F19+G19+H19+I19 -> 0 | J19: =IF(C19=0,"",IF(B19=0,1,0.7*((C19-H19-I19/2)/C19)+0.3*((B19-G19-H19-I19/2)/B19)))
A20: Krivični referat
A21: K | C21: =E21+F21+G21+H21+I21 -> 0 | J21: =IF(C21=0,"",IF(B21=0,1,0.7*((C21-H21-I21/2)/C21)+0.3*((B21-G21-H21-I21/2)/B21)))
A22: Kpp | C22: =E22+F22+G22+H22+I22 -> 0 | J22: =IF(C22=0,"",IF(B22=0,1,0.7*((C22-H22-I22/2)/C22)+0.3*((B22-G22-H22-I22/2)/B22)))
A23: Kps | C23: =E23+F23+G23+H23+I23 -> 0 | J23: =IF(C23=0,"",IF(B23=0,1,0.7*((C23-H23-I23/2)/C23)+0.3*((B23-G23-H23-I23/2)/B23)))
A24: Kzs | C24: =E24+F24+G24+H24+I24 -> 0 | J24: =IF(C24=0,"",IF(B24=0,1,0.7*((C24-H24-I24/2)/C24)+0.3*((B24-G24-H24-I24/2)/B24)))
A25: Kbs | C25: =E25+F25+G25+H25+I25 -> 0 | J25: =IF(C25=0,"",IF(B25=0,1,0.7*((C25-H25-I25/2)/C25)+0.3*((B25-G25-H25-I25/2)/B25)))
A26: Km | C26: =E26+F26+G26+H26+I26 -> 0 | J26: =IF(C26=0,"",IF(B26=0,1,0.7*((C26-H26-I26/2)/C26)+0.3*((B26-G26-H26-I26/2)/B26)))
A27: Kv | C27: =E27+F27+G27+H27+I27 -> 0 | J27: =IF(C27=0,"",IF(B27=0,1,0.7*((C27-H27-I27/2)/C27)+0.3*((B27-G27-H27-I27/2)/B27)))
A28: Kvl | C28: =E28+F28+G28+H28+I28 -> 0 | J28: =IF(C28=0,"",IF(B28=0,1,0.7*((C28-H28-I28/2)/C28)+0.3*((B28-G28-H28-I28/2)/B28)))
A29: Kp | C29: =E29+F29+G29+H29+I29 -> 0 | J29: =IF(C29=0,"",IF(B29=0,1,0.7*((C29-H29-I29/2)/C29)+0.3*((B29-G29-H29-I29/2)/B29)))
A30: Iks | C30: =E30+F30+G30+H30+I30 -> 0 | J30: =IF(C30=0,"",IF(B30=0,1,0.7*((C30-H30-I30/2)/C30)+0.3*((B30-G30-H30-I30/2)/B30)))
A31: Pom | C31: =E31+F31+G31+H31+I31 -> 0 | J31: =IF(C31=0,"",IF(B31=0,1,0.7*((C31-H31-I31/2)/C31)+0.3*((B31-G31-H31-I31/2)/B31)))
A32: Ostalo | C32: =E32+F32+G32+H32+I32 -> 0 | J32: =IF(C32=0,"",IF(B32=0,1,0.7*((C32-H32-I32/2)/C32)+0.3*((B32-G32-H32-I32/2)/B32)))
A33: Izvršni referat
A34: I | C34: =E34+F34+G34+H34+I34 -> 0 | J34: =IF(C34=0,"",IF(B34=0,1,0.7*((C34-H34-I34/2)/C34)+0.3*((B34-G34-H34-I34/2)/B34)))
A35: Ip | C35: =E35+F35+G35+H35+I35 -> 0 | J35: =IF(C35=0,"",IF(B35=0,1,0.7*((C35-H35-I35/2)/C35)+0.3*((B35-G35-H35-I35/2)/B35)))
A36: Ostalo | C36: =E36+F36+G36+H36+I36 -> 0 | J36: =IF(C36=0,"",IF(B36=0,1,0.7*((C36-H36-I36/2)/C36)+0.3*((B36-G36-H36-I36/2)/B36)))
A37: Vanparnični referat
A38: V | C38: =E38+F38+G38+H38+I38 -> 0 | J38: =IF(C38=0,"",IF(B38=0,1,0.7*((C38-H38-I38/2)/C38)+0.3*((B38-G38-H38-I38/2)/B38)))
A39: O | C39: =E39+F39+G39+H39+I39 -> 0 | J39: =IF(C39=0,"",IF(B39=0,1,0.7*((C39-H39-I39/2)/C39)+0.3*((B39-G39-H39-I39/2)/B39)))
A40: Ostalo | C40: =E40+F40+G40+H40+I40 -> 0 | J40: =IF(C40=0,"",IF(B40=0,1,0.7*((C40-H40-I40/2)/C40)+0.3*((B40-G40-H40-I40/2)/B40)))
...

Sheet Tabela IIIa
A1: =+'Tabela I'!A1 -> Općinski/Osnovni sud: | D1: =+'Tabela I'!C1 -> 0
A2: Izvještajni period: | D2: =+'Tabela I'!C2 -> 1.1.2025.- 31.12.2025.
A3: Tabela IIIa - Kvalitet sudskih odluka po nosiocima pravosudnih funkcija - Elektronski obrazac za obračun kvaliteta odluka (pogledati NAPOMENU 2 i 3)
A5: Redni broj | B5: Ime i prezime - podatak je automatski prenesen iz Tabele IIa - OBAVEZNO ZADRŽATI REDOSLIJED NPF-a iz Tabele IIa | C5: Pravosudna funkcija | D5: Ocijenjen / Nije ocijenjen u sudu | E5: Ukupan broj donesenih odluka na koje se može izjaviti pravni lijek | F5: Ukupan broj ožalbenih odluka | G5: Broj odbačenih pravnih lijekova*** | H5: Broj potvrđenih odluka | I5: Broj preinačenih odluka | J5: Broj preinačenih odluka donijetih nakon održane glavne rasprave ili pretresa pred drugostepenim sudom | K5: Broj ukinutih odluka | L5: Broj djelimično ukinutih odluka | M5: Kvalitet sudskih odluka prema članu 19. stav 1. tačka a) | N5: Broj ostvarenih bodova za kvalitet prema članu 19. stav 1. tačka a) | O5: Kvalitet sudskih odluka prema članu 19. stav 1. tačka b) | P5: Broj ostvarenih bodova za kvalitet prema članu 19. stav 1. tačka b) | Q5: UKUPAN broj ostvarenih bodova za kvalitet sudskih odluka
H6: Odbijen pravni lijek
A7: I | B7: II | C7: III | D7: IV | E7: V | F7: VI | G7: VII | H7: VIII | I7: IX | J7: X | K7: XI | L7: XII | M7: XIII | N7: XIV | O7: XV | P7: XVI | Q7: XVII
A9: 1 | B9: =IF('Tabela II'!B8="","",'Tabela II'!B8) | C9: Predsjednik suda * | F9: =SUM(H9:L9) -> 0 | M9: =IF(D9="","",IF(D9="Nije ocijenjen ili Ne treba raditi na predmetima","",IF(D9="Ocijenjen",IF(F9<10,"Član 26. stav 7. Kriterija",(K9+(L9/2))/(F9))))) | N9: =IF(D9="","",IF(D9="Nije ocijenjen ili Ne treba raditi na predmetima","",IF(D9="Ocijenjen",IF(M9="Član 26. stav 7. Kriterija","",IF(M9>0.4,0,IF(M9>0.3,2,IF(M9>0.2,3,IF(M9>0.1,4,IF(M9<=0.1,5,))))))))) | O9: =IF(D9="","",IF(D9="Nije ocijenjen ili Ne treba raditi na predmetima","",IF(D9="Ocijenjen",IF(E9=0,"",((K9+J9+(L9/2))/(E9)))))) | P9: =IF(D9="","",IF(D9="Nije ocijenjen ili Ne treba raditi na predmetima","",IF(D9="Ocijenjen",IF(O9>0.2,0,IF(O9>0.15,1,IF(O9>0.1,2,IF(O9>0.06,3,IF(O9>0.03,4,IF(O9<=0.03,5,))))))))) | Q9: =IF(D9="","",IF(D9="Nije ocijenjen ili Ne treba raditi na predmetima","",IF(D9="Ocijenjen",IF(M9="Član 26. stav 7. Kriterija",P9,N9+P9)))) | U9: Ocijenjen
A10: 2 | B10: =IF('Tabela II'!B10="","",'Tabela II'!B10) | F10: =SUM(H10:L10) -> 0 | M10: =IF(D10="","",IF(D10="Nije ocijenjen","",IF(D10="Ocijenjen",IF(F10<10,"Član 19. stav 7. Kriterija",(K10+(L10/2))/(F10))))) | N10: =IF(D10="","",IF(D10="Nije ocijenjen","",IF(D10="Ocijenjen",IF(M10="Član 19. stav 7. Kriterija","",IF(M10>0.5,0,IF(M10>0.4,9,IF(M10>0.3,18,IF(M10>0.15,26,IF(M10<=0.15,35,))))))))) | O10: =IF(D10="","",IF(D10="Nije ocijenjen","",IF(D10="Ocijenjen",IF(E10=0,"",((K10+J10+(L10/2))/(E10)))))) | P10: =IF(D10="","",IF(D10="Nije ocijenjen","",IF(D10="Ocijenjen",IF(O10>0.2,0,IF(O10>0.15,3,IF(O10>0.1,6,IF(O10>0.06,9,IF(O10>0.03,12,IF(O10<=0.03,15,))))))))) | Q10: =IF(D10="","",IF(D10="Nije ocijenjen","",IF(D10="Ocijenjen",IF(M10="Član 19. stav 7. Kriterija",P10,N10+P10)))) | S10: Sudija | U10: Nije ocijenjen
A11: 3 | B11: =IF('Tabela II'!B11="","",'Tabela II'!B11) | F11: =SUM(H11:L11) -> 0 | M11: =IF(D11="","",IF(D11="Nije ocijenjen","",IF(D11="Ocijenjen",IF(F11<10,"Član 19. stav 7. Kriterija",(K11+(L11/2))/(F11))))) | N11: =IF(D11="","",IF(D11="Nije ocijenjen","",IF(D11="Ocijenjen",IF(M11="Član 19. stav 7. Kriterija","",IF(M11>0.5,0,IF(M11>0.4,9,IF(M11>0.3,18,IF(M11>0.15,26,IF(M11<=0.15,35,))))))))) | O11: =IF(D11="","",IF(D11="Nije ocijenjen","",IF(D11="Ocijenjen",IF(E11=0,"",((K11+J11+(L11/2))/(E11)))))) | P11: =IF(D11="","",IF(D11="Nije ocijenjen","",IF(D11="Ocijenjen",IF(O11>0.2,0,IF(O11>0.15,3,IF(O11>0.1,6,IF(O11>0.06,9,IF(O11>0.03,12,IF(O11<=0.03,15,))))))))) | Q11: =IF(D11="","",IF(D11="Nije ocijenjen","",IF(D11="Ocijenjen",IF(M11="Član 19. stav 7. Kriterija",P11,N11+P11)))) | S11: Stručni saradnik
A12: 4 | B12: =IF('Tabela II'!B12="","",'Tabela II'!B12) | F12: =SUM(H12:L12) -> 0 | M12: =IF(D12="","",IF(D12="Nije ocijenjen","",IF(D12="Ocijenjen",IF(F12<10,"Član 19. stav 7. Kriterija",(K12+(L12/2))/(F12))))) | N12: =IF(D12="","",IF(D12="Nije ocijenjen","",IF(D12="Ocijenjen",IF(M12="Član 19. stav 7. Kriterija","",IF(M12>0.5,0,IF(M12>0.4,9,IF(M12>0.3,18,IF(M12>0.15,26,IF(M12<=0.15,35,))))))))) | O12: =IF(D12="","",IF(D12="Nije ocijenjen","",IF(D12="Ocijenjen",IF(E12=0,"",((K12+J12+(L12/2))/(E12)))))) | P12: =IF(D12="","",IF(D12="Nije ocijenjen","",IF(D12="Ocijenjen",IF(O12>0.2,0,IF(O12>0.15,3,IF(O12>0.1,6,IF(O12>0.06,9,IF(O12>0.03,12,IF(O12<=0.03,15,))))))))) | Q12: =IF(D12="","",IF(D12="Nije ocijenjen","",IF(D12="Ocijenjen",IF(M12="Član 19. stav 7. Kriterija",P12,N12+P12)))) | S12: Predsjednik odjela
A13: 5 | B13: =IF('Tabela II'!B13="","",'Tabela II'!B13) | F13: =SUM(H13:L13) -> 0 | M13: =IF(D13="","",IF(D13="Nije ocijenjen","",IF(D13="Ocijenjen",IF(F13<10,"Član 19. stav 7. Kriterija",(K13+(L13/2))/(F13))))) | N13: =IF(D13="","",IF(D13="Nije ocijenjen","",IF(D13="Ocijenjen",IF(M13="Član 19. stav 7. Kriterija","",IF(M13>0.5,0,IF(M13>0.4,9,IF(M13>0.3,18,IF(M13>0.15,26,IF(M13<=0.15,35,))))))))) | O13: =IF(D13="","",IF(D13="Nije ocijenjen","",IF(D13="Ocijenjen",IF(E13=0,"",((K13+J13+(L13/2))/(E13)))))) | P13: =IF(D13="","",IF(D13="Nije ocijenjen","",IF(D13="Ocijenjen",IF(O13>0.2,0,IF(O13>0.15,3,IF(O13>0.1,6,IF(O13>0.06,9,IF(O13>0.03,12,IF(O13<=0.03,15,))))))))) | Q13: =IF(D13="","",IF(D13="Nije ocijenjen","",IF(D13="Ocijenjen",IF(M13="Član 19. stav 7. Kriterija",P13,N13+P13)))) | S13: Predsjednik sudskog vijeća vrhovnog suda entiteta
A14: 6 | B14: =IF('Tabela II'!B14="","",'Tabela II'!B14) | F14: =SUM(H14:L14) -> 0 | M14: =IF(D14="","",IF(D14="Nije ocijenjen","",IF(D14="Ocijenjen",IF(F14<10,"Član 19. stav 7. Kriterija",(K14+(L14/2))/(F14))))) | N14: =IF(D14="","",IF(D14="Nije ocijenjen","",IF(D14="Ocijenjen",IF(M14="Član 19. stav 7. Kriterija","",IF(M14>0.5,0,IF(M14>0.4,9,IF(M14>0.3,18,IF(M14>0.15,26,IF(M14<=0.15,35,))))))))) | O14: =IF(D14="","",IF(D14="Nije ocijenjen","",IF(D14="Ocijenjen",IF(E14=0,"",((K14+J14+(L14/2))/(E14)))))) | P14: =IF(D14="","",IF(D14="Nije ocijenjen","",IF(D14="Ocijenjen",IF(O14>0.2,0,IF(O14>0.15,3,IF(O14>0.1,6,IF(O14>0.06,9,IF(O14>0.03,12,IF(O14<=0.03,15,))))))))) | Q14: =IF(D14="","",IF(D14="Nije ocijenjen","",IF(D14="Ocijenjen",IF(M14="Član 19. stav 7. Kriterija",P14,N14+P14))))
A15: 7 | B15: =IF('Tabela II'!B15="","",'Tabela II'!B15) | F15: =SUM(H15:L15) -> 0 | M15: =IF(D15="","",IF(D15="Nije ocijenjen","",IF(D15="Ocijenjen",IF(F15<10,"Član 19. stav 7. Kriterija",(K15+(L15/2))/(F15))))) | N15: =IF(D15="","",IF(D15="Nije ocijenjen","",IF(D15="Ocijenjen",IF(M15="Član 19. stav 7. Kriterija","",IF(M15>0.5,0,IF(M15>0.4,9,IF(M15>0.3,18,IF(M15>0.15,26,IF(M15<=0.15,35,))))))))) | O15: =IF(D15="","",IF(D15="Nije ocijenjen","",IF(D15="Ocijenjen",IF(E15=0,"",((K15+J15+(L15/2))/(E15)))))) | P15: =IF(D15="","",IF(D15="Nije ocijenjen","",IF(D15="Ocijenjen",IF(O15>0.2,0,IF(O15>0.15,3,IF(O15>0.1,6,IF(O15>0.06,9,IF(O15>0.03,12,IF(O15<=0.03,15,))))))))) | Q15: =IF(D15="","",IF(D15="Nije ocijenjen","",IF(D15="Ocijenjen",IF(M15="Član 19. stav 7. Kriterija",P15,N15+P15))))
A16: 8 | B16: =IF('Tabela II'!B16="","",'Tabela II'!B16) | F16: =SUM(H16:L16) -> 0 | M16: =IF(D16="","",IF(D16="Nije ocijenjen","",IF(D16="Ocijenjen",IF(F16<10,"Član 19. stav 7. Kriterija",(K16+(L16/2))/(F16))))) | N16: =IF(D16="","",IF(D16="Nije ocijenjen","",IF(D16="Ocijenjen",IF(M16="Član 19. stav 7. Kriterija","",IF(M16>0.5,0,IF(M16>0.4,9,IF(M16>0.3,18,IF(M16>0.15,26,IF(M16<=0.15,35,))))))))) | O16: =IF(D16="","",IF(D16="Nije ocijenjen","",IF(D16="Ocijenjen",IF(E16=0,"",((K16+J16+(L16/2))/(E16)))))) | P16: =IF(D16="","",IF(D16="Nije ocijenjen","",IF(D16="Ocijenjen",IF(O16>0.2,0,IF(O16>0.15,3,IF(O16>0.1,6,IF(O16>0.06,9,IF(O16>0.03,12,IF(O16<=0.03,15,))))))))) | Q16: =IF(D16="","",IF(D16="Nije ocijenjen","",IF(D16="Ocijenjen",IF(M16="Član 19. stav 7. Kriterija",P16,N16+P16)))) | U16: Ocijenjen
A17: 9 | B17: =IF('Tabela II'!B17="","",'Tabela II'!B17) | F17: =SUM(H17:L17) -> 0 | M17: =IF(D17="","",IF(D17="Nije ocijenjen","",IF(D17="Ocijenjen",IF(F17<10,"Član 19. stav 7. Kriterija",(K17+(L17/2))/(F17))))) | N17: =IF(D17="","",IF(D17="Nije ocijenjen","",IF(D17="Ocijenjen",IF(M17="Član 19. stav 7. Kriterija","",IF(M17>0.5,0,IF(M17>0.4,9,IF(M17>0.3,18,IF(M17>0.15,26,IF(M17<=0.15,35,))))))))) | O17: =IF(D17="","",IF(D17="Nije ocijenjen","",IF(D17="Ocijenjen",IF(E17=0,"",((K17+J17+(L17/2))/(E17)))))) | P17: =IF(D17="","",IF(D17="Nije ocijenjen","",IF(D17="Ocijenjen",IF(O17>0.2,0,IF(O17>0.15,3,IF(O17>0.1,6,IF(O17>0.06,9,IF(O17>0.03,12,IF(O17<=0.03,15,))))))))) | Q17: =IF(D17="","",IF(D17="Nije ocijenjen","",IF(D17="Ocijenjen",IF(M17="Član 19. stav 7. Kriterija",P17,N17+P17)))) | U17: Nije ocijenjen ili Ne treba raditi na predmetima
A18: 10 | B18: =IF('Tabela II'!B18="","",'Tabela II'!B18) | F18: =SUM(H18:L18) -> 0 | M18: =IF(D18="","",IF(D18="Nije ocijenjen","",IF(D18="Ocijenjen",IF(F18<10,"Član 19. stav 7. Kriterija",(K18+(L18/2))/(F18))))) | N18: =IF(D18="","",IF(D18="Nije ocijenjen","",IF(D18="Ocijenjen",IF(M18="Član 19. stav 7. Kriterija","",IF(M18>0.5,0,IF(M18>0.4,9,IF(M18>0.3,18,IF(M18>0.15,26,IF(M18<=0.15,35,))))))))) | O18: =IF(D18="","",IF(D18="Nije ocijenjen","",IF(D18="Ocijenjen",IF(E18=0,"",((K18+J18+(L18/2))/(E18)))))) | P18: =IF(D18="","",IF(D18="Nije ocijenjen","",IF(D18="Ocijenjen",IF(O18>0.2,0,IF(O18>0.15,3,IF(O18>0.1,6,IF(O18>0.06,9,IF(O18>0.03,12,IF(O18<=0.03,15,))))))))) | Q18: =IF(D18="","",IF(D18="Nije ocijenjen","",IF(D18="Ocijenjen",IF(M18="Član 19. stav 7. Kriterija",P18,N18+P18))))
A19: 11 | B19: =IF('Tabela II'!B19="","",'Tabela II'!B19) | F19: =SUM(H19:L19) -> 0 | M19: =IF(D19="","",IF(D19="Nije ocijenjen","",IF(D19="Ocijenjen",IF(F19<10,"Član 19. stav 7. Kriterija",(K19+(L19/2))/(F19))))) | N19: =IF(D19="","",IF(D19="Nije ocijenjen","",IF(D19="Ocijenjen",IF(M19="Član 19. stav 7. Kriterija","",IF(M19>0.5,0,IF(M19>0.4,9,IF(M19>0.3,18,IF(M19>0.15,26,IF(M19<=0.15,35,))))))))) | O19: =IF(D19="","",IF(D19="Nije ocijenjen","",IF(D19="Ocijenjen",IF(E19=0,"",((K19+J19+(L19/2))/(E19)))))) | P19: =IF(D19="","",IF(D19="Nije ocijenjen","",IF(D19="Ocijenjen",IF(O19>0.2,0,IF(O19>0.15,3,IF(O19>0.1,6,IF(O19>0.06,9,IF(O19>0.03,12,IF(O19<=0.03,15,))))))))) | Q19: =IF(D19="","",IF(D19="Nije ocijenjen","",IF(D19="Ocijenjen",IF(M19="Član 19. stav 7. Kriterija",P19,N19+P19))))
A20: 12 | B20: =IF('Tabela II'!B20="","",'Tabela II'!B20) | F20: =SUM(H20:L20) -> 0 | M20: =IF(D20="","",IF(D20="Nije ocijenjen","",IF(D20="Ocijenjen",IF(F20<10,"Član 19. stav 7. Kriterija",(K20+(L20/2))/(F20))))) | N20: =IF(D20="","",IF(D20="Nije ocijenjen","",IF(D20="Ocijenjen",IF(M20="Član 19. stav 7. Kriterija","",IF(M20>0.5,0,IF(M20>0.4,9,IF(M20>0.3,18,IF(M20>0.15,26,IF(M20<=0.15,35,))))))))) | O20: =IF(D20="","",IF(D20="Nije ocijenjen","",IF(D20="Ocijenjen",IF(E20=0,"",((K20+J20+(L20/2))/(E20)))))) | P20: =IF(D20="","",IF(D20="Nije ocijenjen","",IF(D20="Ocijenjen",IF(O20>0.2,0,IF(O20>0.15,3,IF(O20>0.1,6,IF(O20>0.06,9,IF(O20>0.03,12,IF(O20<=0.03,15,))))))))) | Q20: =IF(D20="","",IF(D20="Nije ocijenjen","",IF(D20="Ocijenjen",IF(M20="Član 19. stav 7. Kriterija",P20,N20+P20))))
A21: 13 | B21: =IF('Tabela II'!B21="","",'Tabela II'!B21) | F21: =SUM(H21:L21) -> 0 | M21: =IF(D21="","",IF(D21="Nije ocijenjen","",IF(D21="Ocijenjen",IF(F21<10,"Član 19. stav 7. Kriterija",(K21+(L21/2))/(F21))))) | N21: =IF(D21="","",IF(D21="Nije ocijenjen","",IF(D21="Ocijenjen",IF(M21="Član 19. stav 7. Kriterija","",IF(M21>0.5,0,IF(M21>0.4,9,IF(M21>0.3,18,IF(M21>0.15,26,IF(M21<=0.15,35,))))))))) | O21: =IF(D21="","",IF(D21="Nije ocijenjen","",IF(D21="Ocijenjen",IF(E21=0,"",((K21+J21+(L21/2))/(E21)))))) | P21: =IF(D21="","",IF(D21="Nije ocijenjen","",IF(D21="Ocijenjen",IF(O21>0.2,0,IF(O21>0.15,3,IF(O21>0.1,6,IF(O21>0.06,9,IF(O21>0.03,12,IF(O21<=0.03,15,))))))))) | Q21: =IF(D21="","",IF(D21="Nije ocijenjen","",IF(D21="Ocijenjen",IF(M21="Član 19. stav 7. Kriterija",P21,N21+P21))))
A22: 14 | B22: =IF('Tabela II'!B22="","",'Tabela II'!B22) | F22: =SUM(H22:L22) -> 0 | M22: =IF(D22="","",IF(D22="Nije ocijenjen","",IF(D22="Ocijenjen",IF(F22<10,"Član 19. stav 7. Kriterija",(K22+(L22/2))/(F22))))) | N22: =IF(D22="","",IF(D22="Nije ocijenjen","",IF(D22="Ocijenjen",IF(M22="Član 19. stav 7. Kriterija","",IF(M22>0.5,0,IF(M22>0.4,9,IF(M22>0.3,18,IF(M22>0.15,26,IF(M22<=0.15,35,))))))))) | O22: =IF(D22="","",IF(D22="Nije ocijenjen","",IF(D22="Ocijenjen",IF(E22=0,"",((K22+J22+(L22/2))/(E22)))))) | P22: =IF(D22="","",IF(D22="Nije ocijenjen","",IF(D22="Ocijenjen",IF(O22>0.2,0,IF(O22>0.15,3,IF(O22>0.1,6,IF(O22>0.06,9,IF(O22>0.03,12,IF(O22<=0.03,15,))))))))) | Q22: =IF(D22="","",IF(D22="Nije ocijenjen","",IF(D22="Ocijenjen",IF(M22="Član 19. stav 7. Kriterija",P22,N22+P22))))
A23: 15 | B23: =IF('Tabela II'!B23="","",'Tabela II'!B23) | F23: =SUM(H23:L23) -> 0 | M23: =IF(D23="","",IF(D23="Nije ocijenjen","",IF(D23="Ocijenjen",IF(F23<10,"Član 19. stav 7. Kriterija",(K23+(L23/2))/(F23))))) | N23: =IF(D23="","",IF(D23="Nije ocijenjen","",IF(D23="Ocijenjen",IF(M23="Član 19. stav 7. Kriterija","",IF(M23>0.5,0,IF(M23>0.4,9,IF(M23>0.3,18,IF(M23>0.15,26,IF(M23<=0.15,35,))))))))) | O23: =IF(D23="","",IF(D23="Nije ocijenjen","",IF(D23="Ocijenjen",IF(E23=0,"",((K23+J23+(L23/2))/(E23)))))) | P23: =IF(D23="","",IF(D23="Nije ocijenjen","",IF(D23="Ocijenjen",IF(O23>0.2,0,IF(O23>0.15,3,IF(O23>0.1,6,IF(O23>0.06,9,IF(O23>0.03,12,IF(O23<=0.03,15,))))))))) | Q23: =IF(D23="","",IF(D23="Nije ocijenjen","",IF(D23="Ocijenjen",IF(M23="Član 19. stav 7. Kriterija",P23,N23+P23))))
A24: 16 | B24: =IF('Tabela II'!B24="","",'Tabela II'!B24) | F24: =SUM(H24:L24) -> 0 | M24: =IF(D24="","",IF(D24="Nije ocijenjen","",IF(D24="Ocijenjen",IF(F24<10,"Član 19. stav 7. Kriterija",(K24+(L24/2))/(F24))))) | N24: =IF(D24="","",IF(D24="Nije ocijenjen","",IF(D24="Ocijenjen",IF(M24="Član 19. stav 7. Kriterija","",IF(M24>0.5,0,IF(M24>0.4,9,IF(M24>0.3,18,IF(M24>0.15,26,IF(M24<=0.15,35,))))))))) | O24: =IF(D24="","",IF(D24="Nije ocijenjen","",IF(D24="Ocijenjen",IF(E24=0,"",((K24+J24+(L24/2))/(E24)))))) | P24: =IF(D24="","",IF(D24="Nije ocijenjen","",IF(D24="Ocijenjen",IF(O24>0.2,0,IF(O24>0.15,3,IF(O24>0.1,6,IF(O24>0.06,9,IF(O24>0.03,12,IF(O24<=0.03,15,))))))))) | Q24: =IF(D24="","",IF(D24="Nije ocijenjen","",IF(D24="Ocijenjen",IF(M24="Član 19. stav 7. Kriterija",P24,N24+P24))))
A25: 17 | B25: =IF('Tabela II'!B25="","",'Tabela II'!B25) | F25: =SUM(H25:L25) -> 0 | M25: =IF(D25="","",IF(D25="Nije ocijenjen","",IF(D25="Ocijenjen",IF(F25<10,"Član 19. stav 7. Kriterija",(K25+(L25/2))/(F25))))) | N25: =IF(D25="","",IF(D25="Nije ocijenjen","",IF(D25="Ocijenjen",IF(M25="Član 19. stav 7. Kriterija","",IF(M25>0.5,0,IF(M25>0.4,9,IF(M25>0.3,18,IF(M25>0.15,26,IF(M25<=0.15,35,))))))))) | O25: =IF(D25="","",IF(D25="Nije ocijenjen","",IF(D25="Ocijenjen",IF(E25=0,"",((K25+J25+(L25/2))/(E25)))))) | P25: =IF(D25="","",IF(D25="Nije ocijenjen","",IF(D25="Ocijenjen",IF(O25>0.2,0,IF(O25>0.15,3,IF(O25>0.1,6,IF(O25>0.06,9,IF(O25>0.03,12,IF(O25<=0.03,15,))))))))) | Q25: =IF(D25="","",IF(D25="Nije ocijenjen","",IF(D25="Ocijenjen",IF(M25="Član 19. stav 7. Kriterija",P25,N25+P25))))
A26: 18 | B26: =IF('Tabela II'!B26="","",'Tabela II'!B26) | F26: =SUM(H26:L26) -> 0 | M26: =IF(D26="","",IF(D26="Nije ocijenjen","",IF(D26="Ocijenjen",IF(F26<10,"Član 19. stav 7. Kriterija",(K26+(L26/2))/(F26))))) | N26: =IF(D26="","",IF(D26="Nije ocijenjen","",IF(D26="Ocijenjen",IF(M26="Član 19. stav 7. Kriterija","",IF(M26>0.5,0,IF(M26>0.4,9,IF(M26>0.3,18,IF(M26>0.15,26,IF(M26<=0.15,35,))))))))) | O26: =IF(D26="","",IF(D26="Nije ocijenjen","",IF(D26="Ocijenjen",IF(E26=0,"",((K26+J26+(L26/2))/(E26)))))) | P26: =IF(D26="","",IF(D26="Nije ocijenjen","",IF(D26="Ocijenjen",IF(O26>0.2,0,IF(O26>0.15,3,IF(O26>0.1,6,IF(O26>0.06,9,IF(O26>0.03,12,IF(O26<=0.03,15,))))))))) | Q26: =IF(D26="","",IF(D26="Nije ocijenjen","",IF(D26="Ocijenjen",IF(M26="Član 19. stav 7. Kriterija",P26,N26+P26))))
A27: 19 | B27: =IF('Tabela II'!B27="","",'Tabela II'!B27) | F27: =SUM(H27:L27) -> 0 | M27: =IF(D27="","",IF(D27="Nije ocijenjen","",IF(D27="Ocijenjen",IF(F27<10,"Član 19. stav 7. Kriterija",(K27+(L27/2))/(F27))))) | N27: =IF(D27="","",IF(D27="Nije ocijenjen","",IF(D27="Ocijenjen",IF(M27="Član 19. stav 7. Kriterija","",IF(M27>0.5,0,IF(M27>0.4,9,IF(M27>0.3,18,IF(M27>0.15,26,IF(M27<=0.15,35,))))))))) | O27: =IF(D27="","",IF(D27="Nije ocijenjen","",IF(D27="Ocijenjen",IF(E27=0,"",((K27+J27+(L27/2))/(E27)))))) | P27: =IF(D27="","",IF(D27="Nije ocijenjen","",IF(D27="Ocijenjen",IF(O27>0.2,0,IF(O27>0.15,3,IF(O27>0.1,6,IF(O27>0.06,9,IF(O27>0.03,12,IF(O27<=0.03,15,))))))))) | Q27: =IF(D27="","",IF(D27="Nije ocijenjen","",IF(D27="Ocijenjen",IF(M27="Član 19. stav 7. Kriterija",P27,N27+P27))))
A28: 20 | B28: =IF('Tabela II'!B28="","",'Tabela II'!B28) | F28: =SUM(H28:L28) -> 0 | M28: =IF(D28="","",IF(D28="Nije ocijenjen","",IF(D28="Ocijenjen",IF(F28<10,"Član 19. stav 7. Kriterija",(K28+(L28/2))/(F28))))) | N28: =IF(D28="","",IF(D28="Nije ocijenjen","",IF(D28="Ocijenjen",IF(M28="Član 19. stav 7. Kriterija","",IF(M28>0.5,0,IF(M28>0.4,9,IF(M28>0.3,18,IF(M28>0.15,26,IF(M28<=0.15,35,))))))))) | O28: =IF(D28="","",IF(D28="Nije ocijenjen","",IF(D28="Ocijenjen",IF(E28=0,"",((K28+J28+(L28/2))/(E28)))))) | P28: =IF(D28="","",IF(D28="Nije ocijenjen","",IF(D28="Ocijenjen",IF(O28>0.2,0,IF(O28>0.15,3,IF(O28>0.1,6,IF(O28>0.06,9,IF(O28>0.03,12,IF(O28<=0.03,15,))))))))) | Q28: =IF(D28="","",IF(D28="Nije ocijenjen","",IF(D28="Ocijenjen",IF(M28="Član 19. stav 7. Kriterija",P28,N28+P28))))
A29: 21 | B29: =IF('Tabela II'!B29="","",'Tabela II'!B29) | F29: =SUM(H29:L29) -> 0 | M29: =IF(D29="","",IF(D29="Nije ocijenjen","",IF(D29="Ocijenjen",IF(F29<10,"Član 19. stav 7. Kriterija",(K29+(L29/2))/(F29))))) | N29: =IF(D29="","",IF(D29="Nije ocijenjen","",IF(D29="Ocijenjen",IF(M29="Član 19. stav 7. Kriterija","",IF(M29>0.5,0,IF(M29>0.4,9,IF(M29>0.3,18,IF(M29>0.15,26,IF(M29<=0.15,35,))))))))) | O29: =IF(D29="","",IF(D29="Nije ocijenjen","",IF(D29="Ocijenjen",IF(E29=0,"",((K29+J29+(L29/2))/(E29)))))) | P29: =IF(D29="","",IF(D29="Nije ocijenjen","",IF(D29="Ocijenjen",IF(O29>0.2,0,IF(O29>0.15,3,IF(O29>0.1,6,IF(O29>0.06,9,IF(O29>0.03,12,IF(O29<=0.03,15,))))))))) | Q29: =IF(D29="","",IF(D29="Nije ocijenjen","",IF(D29="Ocijenjen",IF(M29="Član 19. stav 7. Kriterija",P29,N29+P29))))
... A168: 160 | B168: =IF('Tabela II'!B168="","",'Tabela II'!B168) | F168: =SUM(H168:L168) -> 0 | M168: =IF(D168="","",IF(D168="Nije ocijenjen","",IF(D168="Ocijenjen",IF(F168<10,"Član 19. stav 7. Kriterija",(K168+(L168/2))/(F168))))) | N168: =IF(D168="","",IF(D168="Nije ocijenjen","",IF(D168="Ocijenjen",IF(M168="Član 19. stav 7. Kriterija","",IF(M168>0.5,0,IF(M168>0.4,9,IF(M168>0.3,18,IF(M168>0.15,26,IF(M168<=0.15,35,))))))))) | O168: =IF(D168="","",IF(D168="Nije ocijenjen","",IF(D168="Ocijenjen",IF(E168=0,"",((K168+J168+(L168/2))/(E168)))))) | P168: =IF(D168="","",IF(D168="Nije ocijenjen","",IF(D168="Ocijenjen",IF(O168>0.2,0,IF(O168>0.15,3,IF(O168>0.1,6,IF(O168>0.06,9,IF(O168>0.03,12,IF(O168<=0.03,15,))))))))) | Q168: =IF(D168="","",IF(D168="Nije ocijenjen","",IF(D168="Ocijenjen",IF(M168="Član 19. stav 7. Kriterija",P168,N168+P168))))
A169: 161 | F169: =SUM(H169:L169) -> 0 | M169: =IF(D169="","",IF(D169="Nije ocijenjen","",IF(D169="Ocijenjen",IF(F169<10,"Član 19. stav 7. Kriterija",(K169+(L169/2))/(F169))))) | N169: =IF(D169="","",IF(D169="Nije ocijenjen","",IF(D169="Ocijenjen",IF(M169="Član 19. stav 7. Kriterija","",IF(M169>0.5,0,IF(M169>0.4,9,IF(M169>0.3,18,IF(M169>0.15,26,IF(M169<=0.15,35,))))))))) | O169: =IF(D169="","",IF(D169="Nije ocijenjen","",IF(D169="Ocijenjen",IF(E169=0,"",((K169+J169+(L169/2))/(E169)))))) | P169: =IF(D169="","",IF(D169="Nije ocijenjen","",IF(D169="Ocijenjen",IF(O169>0.2,0,IF(O169>0.15,3,IF(O169>0.1,6,IF(O169>0.06,9,IF(O169>0.03,12,IF(O169<=0.03,15,))))))))) | Q169: =IF(D169="","",IF(D169="Nije ocijenjen","",IF(D169="Ocijenjen",IF(M169="Član 19. stav 7. Kriterija",P169,N169+P169))))
A170: 162 | F170: =SUM(H170:L170) -> 0 | M170: =IF(D170="","",IF(D170="Nije ocijenjen","",IF(D170="Ocijenjen",IF(F170<10,"Član 19. stav 7. Kriterija",(K170+(L170/2))/(F170))))) | N170: =IF(D170="","",IF(D170="Nije ocijenjen","",IF(D170="Ocijenjen",IF(M170="Član 19. stav 7. Kriterija","",IF(M170>0.5,0,IF(M170>0.4,9,IF(M170>0.3,18,IF(M170>0.15,26,IF(M170<=0.15,35,))))))))) | O170: =IF(D170="","",IF(D170="Nije ocijenjen","",IF(D170="Ocijenjen",IF(E170=0,"",((K170+J170+(L170/2))/(E170)))))) | P170: =IF(D170="","",IF(D170="Nije ocijenjen","",IF(D170="Ocijenjen",IF(O170>0.2,0,IF(O170>0.15,3,IF(O170>0.1,6,IF(O170>0.06,9,IF(O170>0.03,12,IF(O170<=0.03,15,))))))))) | Q170: =IF(D170="","",IF(D170="Nije ocijenjen","",IF(D170="Ocijenjen",IF(M170="Član 19. stav 7. Kriterija",P170,N170+P170))))
A171: 163 | F171: =SUM(H171:L171) -> 0 | M171: =IF(D171="","",IF(D171="Nije ocijenjen","",IF(D171="Ocijenjen",IF(F171<10,"Član 19. stav 7. Kriterija",(K171+(L171/2))/(F171))))) | N171: =IF(D171="","",IF(D171="Nije ocijenjen","",IF(D171="Ocijenjen",IF(M171="Član 19. stav 7. Kriterija","",IF(M171>0.5,0,IF(M171>0.4,9,IF(M171>0.3,18,IF(M171>0.15,26,IF(M171<=0.15,35,))))))))) | O171: =IF(D171="","",IF(D171="Nije ocijenjen","",IF(D171="Ocijenjen",IF(E171=0,"",((K171+J171+(L171/2))/(E171)))))) | P171: =IF(D171="","",IF(D171="Nije ocijenjen","",IF(D171="Ocijenjen",IF(O171>0.2,0,IF(O171>0.15,3,IF(O171>0.1,6,IF(O171>0.06,9,IF(O171>0.03,12,IF(O171<=0.03,15,))))))))) | Q171: =IF(D171="","",IF(D171="Nije ocijenjen","",IF(D171="Ocijenjen",IF(M171="Član 19. stav 7. Kriterija",P171,N171+P171))))
