Workbook

Sheet Uputstvo
B2: OPĆINSKI SUD U SARAJEVU
B4: Kompletni materijali u vezi procesa izvještavanja i ocjenjivanja rada u sudovima za 2025. godinu dostupni su na linku:
B5: https://vstv.pravosudje.ba/vstvfo/B/141/article/143277
B6: Tabele za popunjavanje podataka o radu sudova nije moguće mijenjati, niti dodavati nove redove ili kolone.
B7: Tabele se isključivo popunjavaju predviđenim redoslijedom, po redoslijedu postavljenih tabela.
B10: Podatke je potrebno upisivati samo u polja osjenčena žutom bojom.
B11: U ostala polja nije moguće upisivati vrijednosti, u ovim poljima vrijednosti će biti izračunate automatski.
B12: Molimo Vas da u Tabeli I i naslovu e-maila (subject) kojim ćete poslati popunjene obrasce navedete naziv Vašeg suda.
B15: Popunjene obrasce poslati na e-mail adresu: vstvstatistika@pravosudje.ba do 02.02.2026. godine.
B17: Za sva eventualna pitanja vezano za popunjavanje obrazaca molimo Vas da kontaktirate Odjel za pravosudnu analitiku i izvještavanje, na telefon: 033 704 616.
B20: Tabele za ocjenjivanje NPF u sudu sadrže detaljnije napomene koje je potrebno imati u vidu prilikom popunjavanja tabela.
B21: Pored napomena datih uz tabele, potrebno je imati u vidu i slijedeće:
... B33: TABELA I – PROTOK PREDMETA U SUDU KOJI NISU EVIDENTIRANI U CMS-U Napomena za prikazivanje podataka o tzv. komunalnim predmetima: Prema pojašnjenju ove kategorije predmeta, koja je Vijeće pružilo u dopisu broj VSTV-08-0027-10012007 od 10.01.2007.godine, pod komunalnim predmetima se smatraju svi predmeti u kojima su povjerilac preduzeća, a odnose se na neplaćene komunalne usluge. Prema tome, u ovu kategoriju predmeta spadaju predmeti koji se odnose na naplatu potraživanja nastalih na osnovu isporuke vode, toplotne energije, odvoza smeća, električne energije, telefonskih usluga, održavanje zajedničkih prostorija, RTV takse i slično.

Sheet Tabela I
A1: Općinski/Osnovni sud: | F1: 2025
A2: Izvještajni period: | C2: 1.1.2025.- 31.12.2025.
A3: Ostvarena kolektivna norma za sud u 2025. godini: | E3: =+'Tabela II'!Q194
A4: Kvalitet rada suda: | C4: ='Tabela III'!J47
A5: Tabela I - Protok predmeta u sudu koji nisu evidentirani u sistemu CMS (pogledati NAPOMENU 1)
A6: Vrsta predmeta | B6: Broj neriješenih predmeta na početku izvještajnog perioda | C6: Broj primljenih predmeta | D6: Ukupan broj svih predmeta u radu | E6: Broj riješenih predmeta | F6: Broj neriješenih predmeta na kraju izvještajnog perioda
B7: I | C7: II | D7: III=I+II | E7: IV | F7: V=III-IV
A8: Predmeti za naplatu komunalnih usluga
A9: Mal | D9: =IF((B9+C9)=0," ",(B9+C9)) | F9: =IF((B9+C9-E9)=0," ",(B9+C9-E9))
A10: Mals | D10: =IF((B10+C10)=0," ",(B10+C10)) | F10: =IF((B10+C10-E10)=0," ",(B10+C10-E10))
A11: I | D11: =IF((B11+C11)=0," ",(B11+C11)) | F11: =IF((B11+C11-E11)=0," ",(B11+C11-E11))
A12: Ip | D12: =IF((B12+C12)=0," ",(B12+C12)) | F12: =IF((B12+C12-E12)=0," ",(B12+C12-E12))
A13: Ukupno | B13: =SUM(B9:B12) -> 0 | C13: =SUM(C9:C12) -> 0 | D13: =SUM(D9:D12) -> 0 | E13: =SUM(E9:E12) -> 0 | F13: =SUM(F9:F12) -> 0
A14: Predmeti registracije
A15: Reg | D15: =IF((B15+C15)=0," ",(B15+C15)) | F15: =IF((B15+C15-E15)=0," ",(B15+C15-E15))
A16: RegZ | D16: =IF((B16+C16)=0," ",(B16+C16)) | F16: =IF((B16+C16-E16)=0," ",(B16+C16-E16))
A17: F1 | D17: =IF((B17+C17)=0," ",(B17+C17)) | F17: =IF((B17+C17-E17)=0," ",(B17+C17-E17))
A18: F2 | D18: =IF((B18+C18)=0," ",(B18+C18)) | F18: =IF((B18+C18-E18)=0," ",(B18+C18-E18))
A19: F3 | D19: =IF((B19+C19)=0," ",(B19+C19)) | F19: =IF((B19+C19-E19)=0," ",(B19+C19-E19))
A20: Ostalo | D20: =IF((B20+C20)=0," ",(B20+C20)) | F20: =IF((B20+C20-E20)=0," ",(B20+C20-E20))
A21: Ukupno | B21: =SUM(B15:B20) -> 0 | C21: =SUM(C15:C20) -> 0 | D21: =SUM(D15:D20) -> 0 | E21: =SUM(E15:E20) -> 0 | F21: =SUM(F15:F20) -> 0
A22: ZK predmeti
A23: Dn | D23: =IF((B23+C23)=0," ",(B23+C23)) | F23: =IF((B23+C23-E23)=0," ",(B23+C23-E23))
A24: Nar | D24: =IF((B24+C24)=0," ",(B24+C24)) | F24: =IF((B24+C24-E24)=0," ",(B24+C24-E24))
A25: Rz | D25: =IF((B25+C25)=0," ",(B25+C25)) | F25: =IF((B25+C25-E25)=0," ",(B25+C25-E25))
A26: Kpu | D26: =IF((B26+C26)=0," ",(B26+C26)) | F26: =IF((B26+C26-E26)=0," ",(B26+C26-E26))
A27: Ostalo | D27: =IF((B27+C27)=0," ",(B27+C27)) | F27: =IF((B27+C27-E27)=0," ",(B27+C27-E27))
A28: Ukupno | B28: =SUM(B23:B27) -> 0 | C28: =SUM(C23:C27) -> 0 | D28: =SUM(D23:D27) -> 0 | E28: =SUM(E23:E27) -> 0 | F28: =SUM(F23:F27) -> 0
A30: Medijacija | D30: =B30+C30 -> 0 | F30: =B30+C30-E30 -> 0
A32: UKUPNO | B32: =B13+B21+B28+B30 -> 0 | C32: =C13+C21+C28+C30 -> 0 | D32: =D13+D21+D28+D30 -> 0 | E32: =E13+E21+E28+E30 -> 0 | F32: =F13+F21+F28+F30 -> 0
A34: Napomena 1: Molimo Vas da obratite pažnju da podaci koji se iskazuju u Tabeli I - Protok predmeta u sudu koji nisu evidentirani u CMS Kolona I – Broj neriješenih predmeta na početku izvještajnog perioda trebaju biti jednaki podacima o broju neriješenih predmeta na kraju izvještajnog perioda koje ste iskazali u Tabeli za izvještavanje o radu suda za 2024. godinu (Tabela I - Protok predmeta u sudu koji nisu evidentirani u CMS Kolona V – Broj neriješenih predmeta na kraju izvještajnog perioda). | D34: Ukoliko, ipak, postoji razlika u broju neriješenih predmeta na početku 2025. godine u odnosu na kraj 2024. godine, molimo da unesete detaljno obrazloženje te razlike. Takođe, ukoliko je tokom godine došlo do značajnog povećanja priliva neke vrste predmeta navedene u ovoj izvještajnoj tabeli, molimo da unesete obrazloženje.
A36: Pomoći radi, na linku iz sheet-a "Uputstvo" nalazi se tabela "4. Pomoćna tabela: Ukupan broj neriješenih predmeta VAN CMS-a na kraju 2024.godine" sa podacima o ukupnom broju neriješenih predmeta koji nisu evidentirani u CMS-u na kraju 2024. godine, koje ste VSTV-u BiH dostavili putem Tabele za izvještavanje o radu suda za 2024. godinu (Tabela I - Protok predmeta u sudu koji nisu evidentirani u CMS Kolona V – Broj neriješenih predmeta na kraju izvještajnog perioda).

Sheet Tabela Ia
A1: Općinski/Osnovni sud: | B1: ='Tabela I'!C1 -> 0
A2: Izvještajni period: | B2: ='Tabela I'!C2 -> 1.1.2025.- 31.12.2025.
A3: Tabela Ia - Protok ZK predmeta
A4: Vrsta predmeta | B4: Broj neriješenih predmeta na početku izvještajnog perioda | C4: Broj primljenih predmeta | D4: Ukupan broj svih predmeta u radu | E4: Broj riješenih predmeta | F4: Broj neriješenih predmeta na kraju izvještajnog perioda
B5: I | C5: II | D5: III=I+II | E5: IV | F5: V=III-IV
A6: ZK predmeti
A7: Zahtjevi za upis | D7: =IF(B7+C7=0," ",(B7+C7)) | F7: =IF((B7+C7-E7)=0," ",(B7+C7-E7))
A8: Zahtjevi za ZK izvadke | D8: =IF(B8+C8=0," ",(B8+C8)) | F8: =IF((B8+C8-E8)=0," ",(B8+C8-E8))
A9: Zahtjevi za uspostavljanje ZK uložaka | D9: =IF(B9+C9=0," ",(B9+C9)) | F9: =IF((B9+C9-E9)=0," ",(B9+C9-E9))
A10: Ostalo (uvjerenja, potvrde i dr.) | D10: =IF(B10+C10=0," ",(B10+C10)) | F10: =IF((B10+C10-E10)=0," ",(B10+C10-E10))
A11: Ukupno | B11: =(B7+B8+B9+B10) -> 0 | C11: =(C7+C8+C9+C10) -> 0 | D11: =SUM(B7:C10) -> 0 | E11: =(E7+E8+E9+E10) -> 0 | F11: =(SUM(B7:C10)-SUM(E7:E10)) -> 0

Sheet Tabela II
A1: ='Tabela I'!A1 -> Općinski/Osnovni sud: | D1: ='Tabela I'!C1 -> 0
A2: Izvještajni period: | C2: 1.1.2025.-31.12.2025.
A3: Tabela IIa – Ostvarena orijentaciona norma - Elektronski obrazac za obračun ostvarene orijentacione norme (pogledati NAPOMENU 4)
A5: Redni broj | B5: Ime i prezime - evidentirani podatak se automatski prenosi u Tabelu IIIa | C5: Ocjenjen u sudu | D5: Uključen u plan rješavanja predmeta | E5: Naziv odjela | F5: Pravosudna funkcija | H5: Procenat orijentacijske norme koju je nosilac pravosudne funkcije dužan ostvariti - Ukoliko procenat orijenatcijske norme nije predviđen u padajućem meniju pogledati NAPOMENU 3 | I5: Period obavljanja pravosudne funkcije u instituciji koja popunjava tabelu Ia | K5: Ukupan broj dana za obračun norme - pogledati NAPOMENU 2 | L5: Broj dana opravdanog odsustva iz člana 15. Kriterija za ocjenjivanje rada sudija i člana 14. Kriterija za ocjenjivanje rada PS (pogledati NAPOMENU 9) | M5: Ostvarena orijentaciona norma iz CMS-a | N5: Ostvarena orijentaciona norma na predmetima van CMS-a - pogledati NAPOMENU 6 | O5: Procenat ostvarene orijentacione norme prema članu 9. Pravilnika o orijentacijskim mjerilima - pogledati NAPOMENU 7 | P5: Procenat ostvarene propisane godišnje orijentacijske norme u 2025. godini | Q5: Ukupno ostvarena orijentacijska norma u 2025. godini | R5: Nedovoljan broj predmeta u radu - pogledati NAPOMENU 5 | W5: Broj ostvarenih bodova | X5: Sudija | Y5: Stručni saradnik | Z5: Predsjednik odjela | AA5: Predsjednik sudskog vijeća vrhovnog suda entiteta | AB5: Član VSTV-a
I6: Datum od | J6: Datum do | R6: broj predmeta u radu | S6: broj riješenih predmeta | T6: broj neriješenih predmeta sa zakonskim i procesnim smetnjama | U6: broj neriješenih predmeta bez zakonskih i procesnih smetnji | V6: procenat riješenih predmeta | Y6: 90 | Z6: 85 | AA6: 70 | AB6: 50
A7: I | B7: II | C7: III | D7: IIIa | E7: IV | F7: V | H7: VI | I7: VII | J7: VIII | K7: IX | L7: X | M7: XI | N7: XII | O7: XIII | P7: XIV | Q7: XV | R7: XVI | S7: XVII | T7: XVIII | U7: XIX | V7: XX | W7: XXI | X7: 1 | Y7: 0.9 | Z7: 0.75 | AA7: 0.7 | AB7: 0.5 | AC7: 0.35 | AD7: 0.25 | AE7: Ne treba raditi na predm.
A8: 1 | F8: Predsjednik suda | K8: 261 | P8: =IF(H8="","",IF(H8="Ne treba raditi na predm.",1+SUM(M8:O8),(SUM(M8:O8)/H8))) | Q8: =IF(L8>0,IF(H8="Ne treba raditi na predm.",P8,P8*(K8/(K8-L8))),P8) | V8: =IF(R8="","",S8/(R8-T8)) | W8: =IF(Q8="","",IF(C8="Ne","",IF(H8="Ne treba raditi na predm.","",IF(D8="Da",IF(Q8>1,10,IF(V8="",IF(Q8>0.9,9,IF(Q8>0.8,8,IF(Q8>0.7,6,IF(Q8>0.6,4,IF(Q8>0.5,2,0))))),IF(V8>0.94,10,IF(V8>0.9,9,IF(V8>0.8,8,IF(V8>0.7,6,IF(V8>0.6,4,IF(V8>0.5,2,0)))))))),IF(Q8>1,15,IF(V8="",IF(Q8>0.9,13,IF(Q8>0.8,11,IF(Q8>0.7,9,IF(Q8>0.6,6,IF(Q8>0.5,3,0))))),IF(V8>0.94,15,IF(V8>0.9,12,IF(V8>0.8,9,IF(V8>0.7,8,IF(V8>0.6,6,IF(V8>0.5,3,0)))))))))))) | X8: 0.7 | Y8: 0.5 | Z8: 0.4 | AA8: 0.3 | AB8: Ne treba raditi na predm.
F9: Predsjednik suda | K9: 261 | P9: =IF(H9="","",IF(H9="Ne treba raditi na predm.",1+SUM(M9:O9),(SUM(M9:O9)/H9))) | Q9: =IF(L9>0,IF(H9="Ne treba raditi na predm.",P9,P9*(K9/(K9-L9))),P9) | V9: =IF(R9="","",S9/(R9-T9)) | W9: =IF(Q9="","",IF(C8="Ne","",IF(H9="Ne treba raditi na predm.","",IF(D8="Da",IF(Q9>1,10,IF(V9="",IF(Q9>0.9,9,IF(Q9>0.8,8,IF(Q9>0.7,6,IF(Q9>0.6,4,IF(Q9>0.5,2,0))))),IF(V9>0.94,10,IF(V9>0.9,9,IF(V9>0.8,8,IF(V9>0.7,6,IF(V9>0.6,4,IF(V9>0.5,2,0)))))))),IF(Q9>1,15,IF(V9="",IF(Q9>0.9,13,IF(Q9>0.8,11,IF(Q9>0.7,9,IF(Q9>0.6,6,IF(Q9>0.5,3,0))))),IF(V9>0.94,15,IF(V9>0.9,12,IF(V9>0.8,9,IF(V9>0.7,8,IF(V9>0.6,6,IF(V9>0.5,3,0))))))))))))
A10: 2 | G10: =IF(F10="Sudija",1,IF(F10="Stručni saradnik",1,"")) | K10: 261 | P10: =IF(H10="","",IF(H10="Ne treba raditi na predm.",1+SUM(M10:O10),(SUM(M10:O10)/H10))) | Q10: =IF(L10>0,IF(H10="Ne treba raditi na predm.",P10,P10*(K10/(K10-L10))),P10) | V10: =IF(R10="","",S10/(R10-T10)) | W10: =IF(Q10="","",IF(C10="Ne","",IF(H10="Ne treba raditi na predm.","",IF(D10="Da",IF(Q10>1,30,IF(V10="",IF(Q10>0.9,25,IF(Q10>0.8,20,IF(Q10>0.7,15,IF(Q10>0.6,10,IF(Q10>0.5,5,0))))),IF(V10>0.94,30,IF(V10>0.9,25,IF(V10>0.8,20,IF(V10>0.7,15,IF(V10>0.6,10,IF(V10>0.5,5,0)))))))),IF(Q10>1,40,IF(V10="",IF(Q10>0.95,35,IF(Q10>0.9,30,IF(Q10>0.8,20,IF(Q10>0.7,15,IF(Q10>0.6,10,IF(Q10>0.5,5,0)))))),IF(V10>0.94,40,IF(V10>0.9,35,IF(V10>0.8,30,IF(V10>0.7,20,IF(V10>0.6,15,IF(V10>0.5,10,0)))))))))))) | X10: Da | Y10: Ne
A11: 3 | G11: =IF(F11="Sudija",1,IF(F11="Stručni saradnik",1,"")) | K11: 261 | P11: =IF(H11="","",IF(H11="Ne treba raditi na predm.",1+SUM(M11:O11),(SUM(M11:O11)/H11))) | Q11: =IF(L11>0,IF(H11="Ne treba raditi na predm.",P11,P11*(K11/(K11-L11))),P11) | V11: =IF(R11="","",S11/(R11-T11)) | W11: =IF(Q11="","",IF(C11="Ne","",IF(H11="Ne treba raditi na predm.","",IF(D11="Da",IF(Q11>1,30,IF(V11="",IF(Q11>0.9,25,IF(Q11>0.8,20,IF(Q11>0.7,15,IF(Q11>0.6,10,IF(Q11>0.5,5,0))))),IF(V11>0.94,30,IF(V11>0.9,25,IF(V11>0.8,20,IF(V11>0.7,15,IF(V11>0.6,10,IF(V11>0.5,5,0)))))))),IF(Q11>1,40,IF(V11="",IF(Q11>0.95,35,IF(Q11>0.9,30,IF(Q11>0.8,20,IF(Q11>0.7,15,IF(Q11>0.6,10,IF(Q11>0.5,5,0)))))),IF(V11>0.94,40,IF(V11>0.9,35,IF(V11>0.8,30,IF(V11>0.7,20,IF(V11>0.6,15,IF(V11>0.5,10,0))))))))))))
A12: 4 | G12: =IF(F12="Sudija",1,IF(F12="Stručni saradnik",1,"")) | K12: 261 | P12: =IF(H12="","",IF(H12="Ne treba raditi na predm.",1+SUM(M12:O12),(SUM(M12:O12)/H12))) | Q12: =IF(L12>0,IF(H12="Ne treba raditi na predm.",P12,P12*(K12/(K12-L12))),P12) | V12: =IF(R12="","",S12/(R12-T12)) | W12: =IF(Q12="","",IF(C12="Ne","",IF(H12="Ne treba raditi na predm.","",IF(D12="Da",IF(Q12>1,30,IF(V12="",IF(Q12>0.9,25,IF(Q12>0.8,20,IF(Q12>0.7,15,IF(Q12>0.6,10,IF(Q12>0.5,5,0))))),IF(V12>0.94,30,IF(V12>0.9,25,IF(V12>0.8,20,IF(V12>0.7,15,IF(V12>0.6,10,IF(V12>0.5,5,0)))))))),IF(Q12>1,40,IF(V12="",IF(Q12>0.95,35,IF(Q12>0.9,30,IF(Q12>0.8,20,IF(Q12>0.7,15,IF(Q12>0.6,10,IF(Q12>0.5,5,0)))))),IF(V12>0.94,40,IF(V12>0.9,35,IF(V12>0.8,30,IF(V12>0.7,20,IF(V12>0.6,15,IF(V12>0.5,10,0))))))))))))
A13: 5 | G13: =IF(F13="Sudija",1,IF(F13="Stručni saradnik",1,"")) | K13: 261 | P13: =IF(H13="","",IF(H13="Ne treba raditi na predm.",1+SUM(M13:O13),(SUM(M13:O13)/H13))) | Q13: =IF(L13>0,IF(H13="Ne treba raditi na predm.",P13,P13*(K13/(K13-L13))),P13) | V13: =IF(R13="","",S13/(R13-T13)) | W13: =IF(Q13="","",IF(C13="Ne","",IF(H13="Ne treba raditi na predm.","",IF(D13="Da",IF(Q13>1,30,IF(V13="",IF(Q13>0.9,25,IF(Q13>0.8,20,IF(Q13>0.7,15,IF(Q13>0.6,10,IF(Q13>0.5,5,0))))),IF(V13>0.94,30,IF(V13>0.9,25,IF(V13>0.8,20,IF(V13>0.7,15,IF(V13>0.6,10,IF(V13>0.5,5,0)))))))),IF(Q13>1,40,IF(V13="",IF(Q13>0.95,35,IF(Q13>0.9,30,IF(Q13>0.8,20,IF(Q13>0.7,15,IF(Q13>0.6,10,IF(Q13>0.5,5,0)))))),IF(V13>0.94,40,IF(V13>0.9,35,IF(V13>0.8,30,IF(V13>0.7,20,IF(V13>0.6,15,IF(V13>0.5,10,0))))))))))))
A14: 6 | G14: =IF(F14="Sudija",1,IF(F14="Stručni saradnik",1,"")) | K14: 261 | P14: =IF(H14="","",IF(H14="Ne treba raditi na predm.",1+SUM(M14:O14),(SUM(M14:O14)/H14))) | Q14: =IF(L14>0,IF(H14="Ne treba raditi na predm.",P14,P14*(K14/(K14-L14))),P14) | V14: =IF(R14="","",S14/(R14-T14)) | W14: =IF(Q14="","",IF(C14="Ne","",IF(H14="Ne treba raditi na predm.","",IF(D14="Da",IF(Q14>1,30,IF(V14="",IF(Q14>0.9,25,IF(Q14>0.8,20,IF(Q14>0.7,15,IF(Q14>0.6,10,IF(Q14>0.5,5,0))))),IF(V14>0.94,30,IF(V14>0.9,25,IF(V14>0.8,20,IF(V14>0.7,15,IF(V14>0.6,10,IF(V14>0.5,5,0)))))))),IF(Q14>1,40,IF(V14="",IF(Q14>0.95,35,IF(Q14>0.9,30,IF(Q14>0.8,20,IF(Q14>0.7,15,IF(Q14>0.6,10,IF(Q14>0.5,5,0)))))),IF(V14>0.94,40,IF(V14>0.9,35,IF(V14>0.8,30,IF(V14>0.7,20,IF(V14>0.6,15,IF(V14>0.5,10,0))))))))))))
A15: 7 | G15: =IF(F15="Sudija",1,IF(F15="Stručni saradnik",1,"")) | K15: 261 | P15: =IF(H15="","",IF(H15="Ne treba raditi na predm.",1+SUM(M15:O15),(SUM(M15:O15)/H15))) | Q15: =IF(L15>0,IF(H15="Ne treba raditi na predm.",P15,P15*(K15/(K15-L15))),P15) | V15: =IF(R15="","",S15/(R15-T15)) | W15: =IF(Q15="","",IF(C15="Ne","",IF(H15="Ne treba raditi na predm.","",IF(D15="Da",IF(Q15>1,30,IF(V15="",IF(Q15>0.9,25,IF(Q15>0.8,20,IF(Q15>0.7,15,IF(Q15>0.6,10,IF(Q15>0.5,5,0))))),IF(V15>0.94,30,IF(V15>0.9,25,IF(V15>0.8,20,IF(V15>0.7,15,IF(V15>0.6,10,IF(V15>0.5,5,0)))))))),IF(Q15>1,40,IF(V15="",IF(Q15>0.95,35,IF(Q15>0.9,30,IF(Q15>0.8,20,IF(Q15>0.7,15,IF(Q15>0.6,10,IF(Q15>0.5,5,0)))))),IF(V15>0.94,40,IF(V15>0.9,35,IF(V15>0.8,30,IF(V15>0.7,20,IF(V15>0.6,15,IF(V15>0.5,10,0))))))))))))
A16: 8 | G16: =IF(F16="Sudija",1,IF(F16="Stručni saradnik",1,"")) | K16: 261 | P16: =IF(H16="","",IF(H16="Ne treba raditi na predm.",1+SUM(M16:O16),(SUM(M16:O16)/H16))) | Q16: =IF(L16>0,IF(H16="Ne treba raditi na predm.",P16,P16*(K16/(K16-L16))),P16) | V16: =IF(R16="","",S16/(R16-T16)) | W16: =IF(Q16="","",IF(C16="Ne","",IF(H16="Ne treba raditi na predm.","",IF(D16="Da",IF(Q16>1,30,IF(V16="",IF(Q16>0.9,25,IF(Q16>0.8,20,IF(Q16>0.7,15,IF(Q16>0.6,10,IF(Q16>0.5,5,0))))),IF(V16>0.94,30,IF(V16>0.9,25,IF(V16>0.8,20,IF(V16>0.7,15,IF(V16>0.6,10,IF(V16>0.5,5,0)))))))),IF(Q16>1,40,IF(V16="",IF(Q16>0.95,35,IF(Q16>0.9,30,IF(Q16>0.8,20,IF(Q16>0.7,15,IF(Q16>0.6,10,IF(Q16>0.5,5,0)))))),IF(V16>0.94,40,IF(V16>0.9,35,IF(V16>0.8,30,IF(V16>0.7,20,IF(V16>0.6,15,IF(V16>0.5,10,0))))))))))))
A17: 9 | G17: =IF(F17="Sudija",1,IF(F17="Stručni saradnik",1,"")) | K17: 261 | P17: =IF(H17="","",IF(H17="Ne treba raditi na predm.",1+SUM(M17:O17),(SUM(M17:O17)/H17))) | Q17: =IF(L17>0,IF(H17="Ne treba raditi na predm.",P17,P17*(K17/(K17-L17))),P17) | V17: =IF(R17="","",S17/(R17-T17)) | W17: =IF(Q17="","",IF(C17="Ne","",IF(H17="Ne treba raditi na predm.","",IF(D17="Da",IF(Q17>1,30,IF(V17="",IF(Q17>0.9,25,IF(Q17>0.8,20,IF(Q17>0.7,15,IF(Q17>0.6,10,IF(Q17>0.5,5,0))))),IF(V17>0.94,30,IF(V17>0.9,25,IF(V17>0.8,20,IF(V17>0.7,15,IF(V17>0.6,10,IF(V17>0.5,5,0)))))))),IF(Q17>1,40,IF(V17="",IF(Q17>0.95,35,IF(Q17>0.9,30,IF(Q17>0.8,20,IF(Q17>0.7,15,IF(Q17>0.6,10,IF(Q17>0.5,5,0)))))),IF(V17>0.94,40,IF(V17>0.9,35,IF(V17>0.8,30,IF(V17>0.7,20,IF(V17>0.6,15,IF(V17>0.5,10,0))))))))))))
A18: 10 | G18: =IF(F18="Sudija",1,IF(F18="Stručni saradnik",1,"")) | K18: 261 | P18: =IF(H18="","",IF(H18="Ne treba raditi na predm.",1+SUM(M18:O18),(SUM(M18:O18)/H18))) | Q18: =IF(L18>0,IF(H18="Ne treba raditi na predm.",P18,P18*(K18/(K18-L18))),P18) | V18: =IF(R18="","",S18/(R18-T18)) | W18: =IF(Q18="","",IF(C18="Ne","",IF(H18="Ne treba raditi na predm.","",IF(D18="Da",IF(Q18>1,30,IF(V18="",IF(Q18>0.9,25,IF(Q18>0.8,20,IF(Q18>0.7,15,IF(Q18>0.6,10,IF(Q18>0.5,5,0))))),IF(V18>0.94,30,IF(V18>0.9,25,IF(V18>0.8,20,IF(V18>0.7,15,IF(V18>0.6,10,IF(V18>0.5,5,0)))))))),IF(Q18>1,40,IF(V18="",IF(Q18>0.95,35,IF(Q18>0.9,30,IF(Q18>0.8,20,IF(Q18>0.7,15,IF(Q18>0.6,10,IF(Q18>0.5,5,0)))))),IF(V18>0.94,40,IF(V18>0.9,35,IF(V18>0.8,30,IF(V18>0.7,20,IF(V18>0.6,15,IF(V18>0.5,10,0))))))))))))
A19: 11 | G19: =IF(F19="Sudija",1,IF(F19="Stručni saradnik",1,"")) | K19: 261 | P19: =IF(H19="","",IF(H19="Ne treba raditi na predm.",1+SUM(M19:O19),(SUM(M19:O19)/H19))) | Q19: =IF(L19>0,IF(H19="Ne treba raditi na predm.",P19,P19*(K19/(K19-L19))),P19) | V19: =IF(R19="","",S19/(R19-T19)) | W19: =IF(Q19="","",IF(C19="Ne","",IF(H19="Ne treba raditi na predm.","",IF(D19="Da",IF(Q19>1,30,IF(V19="",IF(Q19>0.9,25,IF(Q19>0.8,20,IF(Q19>0.7,15,IF(Q19>0.6,10,IF(Q19>0.5,5,0))))),IF(V19>0.94,30,IF(V19>0.9,25,IF(V19>0.8,20,IF(V19>0.7,15,IF(V19>0.6,10,IF(V19>0.5,5,0)))))))),IF(Q19>1,40,IF(V19="",IF(Q19>0.95,35,IF(Q19>0.9,30,IF(Q19>0.8,20,IF(Q19>0.7,15,IF(Q19>0.6,10,IF(Q19>0.5,5,0)))))),IF(V19>0.94,40,IF(V19>0.9,35,IF(V19>0.8,30,IF(V19>0.7,20,IF(V19>0.6,15,IF(V19>0.5,10,0))))))))))))
A20: 12 | G20: =IF(F20="Sudija",1,IF(F20="Stručni saradnik",1,"")) | K20: 261 | P20: =IF(H20="","",IF(H20="Ne treba raditi na predm.",1+SUM(M20:O20),(SUM(M20:O20)/H20))) | Q20: =IF(L20>0,IF(H20="Ne treba raditi na predm.",P20,P20*(K20/(K20-L20))),P20) | V20: =IF(R20="","",S20/(R20-T20)) | W20: =IF(Q20="","",IF(C20="Ne","",IF(H20="Ne treba raditi na predm.","",IF(D20="Da",IF(Q20>1,30,IF(V20="",IF(Q20>0.9,25,IF(Q20>0.8,20,IF(Q20>0.7,15,IF(Q20>0.6,10,IF(Q20>0.5,5,0))))),IF(V20>0.94,30,IF(V20>0.9,25,IF(V20>0.8,20,IF(V20>0.7,15,IF(V20>0.6,10,IF(V20>0.5,5,0)))))))),IF(Q20>1,40,IF(V20="",IF(Q20>0.95,35,IF(Q20>0.9,30,IF(Q20>0.8,20,IF(Q20>0.7,15,IF(Q20>0.6,10,IF(Q20>0.5,5,0)))))),IF(V20>0.94,40,IF(V20>0.9,35,IF(V20>0.8,30,IF(V20>0.7,20,IF(V20>0.6,15,IF(V20>0.5,10,0))))))))))))
A21: 13 | G21: =IF(F21="Sudija",1,IF(F21="Stručni saradnik",1,"")) | K21: 261 | P21: =IF(H21="","",IF(H21="Ne treba raditi na predm.",1+SUM(M21:O21),(SUM(M21:O21)/H21))) | Q21: =IF(L21>0,IF(H21="Ne treba raditi na predm.",P21,P21*(K21/(K21-L21))),P21) | V21: =IF(R21="","",S21/(R21-T21)) | W21: =IF(Q21="","",IF(C21="Ne","",IF(H21="Ne treba raditi na predm.","",IF(D21="Da",IF(Q21>1,30,IF(V21="",IF(Q21>0.9,25,IF(Q21>0.8,20,IF(Q21>0.7,15,IF(Q21>0.6,10,IF(Q21>0.5,5,0))))),IF(V21>0.94,30,IF(V21>0.9,25,IF(V21>0.8,20,IF(V21>0.7,15,IF(V21>0.6,10,IF(V21>0.5,5,0)))))))),IF(Q21>1,40,IF(V21="",IF(Q21>0.95,35,IF(Q21>0.9,30,IF(Q21>0.8,20,IF(Q21>0.7,15,IF(Q21>0.6,10,IF(Q21>0.5,5,0)))))),IF(V21>0.94,40,IF(V21>0.9,35,IF(V21>0.8,30,IF(V21>0.7,20,IF(V21>0.6,15,IF(V21>0.5,10,0))))))))))))
A22: 14 | G22: =IF(F22="Sudija",1,IF(F22="Stručni saradnik",1,"")) | K22: 261 | P22: =IF(H22="","",IF(H22="Ne treba raditi na predm.",1+SUM(M22:O22),(SUM(M22:O22)/H22))) | Q22: =IF(L22>0,IF(H22="Ne treba raditi na predm.",P22,P22*(K22/(K22-L22))),P22) | V22: =IF(R22="","",S22/(R22-T22)) | W22: =IF(Q22="","",IF(C22="Ne","",IF(H22="Ne treba raditi na predm.","",IF(D22="Da",IF(Q22>1,30,IF(V22="",IF(Q22>0.9,25,IF(Q22>0.8,20,IF(Q22>0.7,15,IF(Q22>0.6,10,IF(Q22>0.5,5,0))))),IF(V22>0.94,30,IF(V22>0.9,25,IF(V22>0.8,20,IF(V22>0.7,15,IF(V22>0.6,10,IF(V22>0.5,5,0)))))))),IF(Q22>1,40,IF(V22="",IF(Q22>0.95,35,IF(Q22>0.9,30,IF(Q22>0.8,20,IF(Q22>0.7,15,IF(Q22>0.6,10,IF(Q22>0.5,5,0)))))),IF(V22>0.94,40,IF(V22>0.9,35,IF(V22>0.8,30,IF(V22>0.7,20,IF(V22>0.6,15,IF(V22>0.5,10,0))))))))))))
... A173: 165 | G173: =IF(F173="Sudija",1,IF(F173="Stručni saradnik",1,"")) | K173: 261 | P173: =IF(H173="","",IF(H173="Ne treba raditi na predm.",1+SUM(M173:O173),(SUM(M173:O173)/H173))) | Q173: =IF(L173>0,IF(H173="Ne treba raditi na predm.",P173,P173*(K173/(K173-L173))),P173) | V173: =IF(R173="","",S173/(R173-T173)) | W173: =IF(Q173="","",IF(C173="Ne","",IF(H173="Ne treba raditi na predm.","",IF(D173="Da",IF(Q173>1,30,IF(V173="",IF(Q173>0.9,25,IF(Q173>0.8,20,IF(Q173>0.7,15,IF(Q173>0.6,10,IF(Q173>0.5,5,0))))),IF(V173>0.94,30,IF(V173>0.9,25,IF(V173>0.8,20,IF(V173>0.7,15,IF(V173>0.6,10,IF(V173>0.5,5,0)))))))),IF(Q173>1,40,IF(V173="",IF(Q173>0.95,35,IF(Q173>0.9,30,IF(Q173>0.8,20,IF(Q173>0.7,15,IF(Q173>0.6,10,IF(Q173>0.5,5,0)))))),IF(V173>0.94,40,IF(V173>0.9,35,IF(V173>0.8,30,IF(V173>0.7,20,IF(V173>0.6,15,IF(V173>0.5,10,0))))))))))))
G174: =IF(F174="Sudija",1,IF(F174="Stručni saradnik",1,"")) | K174: 261 | P174: =IF(H174="","",IF(H174="Ne treba raditi na predm.",1+SUM(M174:O174),(SUM(M174:O174)/H174))) | Q174: =IF(L174>0,IF(H174="Ne treba raditi na predm.",P174,P174*(K174/(K174-L174))),P174) | V174: =IF(R174="","",S174/(R174-T174)) | W174: =IF(Q174="","",IF(C174="Ne","",IF(H174="Ne treba raditi na predm.","",IF(D174="Da",IF(Q174>1,30,IF(V174="",IF(Q174>0.9,25,IF(Q174>0.8,20,IF(Q174>0.7,15,IF(Q174>0.6,10,IF(Q174>0.5,5,0))))),IF(V174>0.94,30,IF(V174>0.9,25,IF(V174>0.8,20,IF(V174>0.7,15,IF(V174>0.6,10,IF(V174>0.5,5,0)))))))),IF(Q174>1,40,IF(V174="",IF(Q174>0.95,35,IF(Q174>0.9,30,IF(Q174>0.8,20,IF(Q174>0.7,15,IF(Q174>0.6,10,IF(Q174>0.5,5,0)))))),IF(V174>0.94,40,IF(V174>0.9,35,IF(V174>0.8,30,IF(V174>0.7,20,IF(V174>0.6,15,IF(V174>0.5,10,0))))))))))))
G175: =IF(F175="Sudija",1,IF(F175="Stručni saradnik",1,"")) | K175: 261 | P175: =IF(H175="","",IF(H175="Ne treba raditi na predm.",1+SUM(M175:O175),(SUM(M175:O175)/H175))) | Q175: =IF(L175>0,IF(H175="Ne treba raditi na predm.",P175,P175*(K175/(K175-L175))),P175) | V175: =IF(R175="","",S175/(R175-T175)) | W175: =IF(Q175="","",IF(C175="Ne","",IF(H175="Ne treba raditi na predm.","",IF(D175="Da",IF(Q175>1,30,IF(V175="",IF(Q175>0.9,25,IF(Q175>0.8,20,IF(Q175>0.7,15,IF(Q175>0.6,10,IF(Q175>0.5,5,0))))),IF(V175>0.94,30,IF(V175>0.9,25,IF(V175>0.8,20,IF(V175>0.7,15,IF(V175>0.6,10,IF(V175>0.5,5,0)))))))),IF(Q175>1,40,IF(V175="",IF(Q175>0.95,35,IF(Q175>0.9,30,IF(Q175>0.8,20,IF(Q175>0.7,15,IF(Q175>0.6,10,IF(Q175>0.5,5,0)))))),IF(V175>0.94,40,IF(V175>0.9,35,IF(V175>0.8,30,IF(V175>0.7,20,IF(V175>0.6,15,IF(V175>0.5,10,0))))))))))))
G176: =IF(F176="Sudija",1,IF(F176="Stručni saradnik",1,"")) | K176: 261 | P176: =IF(H176="","",IF(H176="Ne treba raditi na predm.",1+SUM(M176:O176),(SUM(M176:O176)/H176))) | Q176: =IF(L176>0,IF(H176="Ne treba raditi na predm.",P176,P176*(K176/(K176-L176))),P176) | V176: =IF(R176="","",S176/(R176-T176)) | W176: =IF(Q176="","",IF(C176="Ne","",IF(H176="Ne treba raditi na predm.","",IF(D176="Da",IF(Q176>1,30,IF(V176="",IF(Q176>0.9,25,IF(Q176>0.8,20,IF(Q176>0.7,15,IF(Q176>0.6,10,IF(Q176>0.5,5,0))))),IF(V176>0.94,30,IF(V176>0.9,25,IF(V176>0.8,20,IF(V176>0.7,15,IF(V176>0.6,10,IF(V176>0.5,5,0)))))))),IF(Q176>1,40,IF(V176="",IF(Q176>0.95,35,IF(Q176>0.9,30,IF(Q176>0.8,20,IF(Q176>0.7,15,IF(Q176>0.6,10,IF(Q176>0.5,5,0)))))),IF(V176>0.94,40,IF(V176>0.9,35,IF(V176>0.8,30,IF(V176>0.7,20,IF(V176>0.6,15,IF(V176>0.5,10,0))))))))))))
G177: =IF(F177="Sudija",1,IF(F177="Stručni saradnik",1,"")) | K177: 261 | P177: =IF(H177="","",IF(H177="Ne treba raditi na predm.",1+SUM(M177:O177),(SUM(M177:O177)/H177))) | Q177: =IF(L177>0,IF(H177="Ne treba raditi na predm.",P177,P177*(K177/(K177-L177))),P177) | V177: =IF(R177="","",S177/(R177-T177)) | W177: =IF(Q177="","",IF(C177="Ne","",IF(H177="Ne treba raditi na predm.","",IF(D177="Da",IF(Q177>1,30,IF(V177="",IF(Q177>0.9,25,IF(Q177>0.8,20,IF(Q177>0.7,15,IF(Q177>0.6,10,IF(Q177>0.5,5,0))))),IF(V177>0.94,30,IF(V177>0.9,25,IF(V177>0.8,20,IF(V177>0.7,15,IF(V177>0.6,10,IF(V177>0.5,5,0)))))))),IF(Q177>1,40,IF(V177="",IF(Q177>0.95,35,IF(Q177>0.9,30,IF(Q177>0.8,20,IF(Q177>0.7,15,IF(Q177>0.6,10,IF(Q177>0.5,5,0)))))),IF(V177>0.94,40,IF(V177>0.9,35,IF(V177>0.8,30,IF(V177>0.7,20,IF(V177>0.6,15,IF(V177>0.5,10,0))))))))))))
G178: =IF(F178="Sudija",1,IF(F178="Stručni saradnik",1,"")) | K178: 261 | P178: =IF(H178="","",IF(H178="Ne treba raditi na predm.",1+SUM(M178:O178),(SUM(M178:O178)/H178))) | Q178: =IF(L178>0,IF(H178="Ne treba raditi na predm.",P178,P178*(K178/(K178-L178))),P178) | V178: =IF(R178="","",S178/(R178-T178)) | W178: =IF(Q178="","",IF(C178="Ne","",IF(H178="Ne treba raditi na predm.","",IF(D178="Da",IF(Q178>1,30,IF(V178="",IF(Q178>0.9,25,IF(Q178>0.8,20,IF(Q178>0.7,15,IF(Q178>0.6,10,IF(Q178>0.5,5,0))))),IF(V178>0.94,30,IF(V178>0.9,25,IF(V178>0.8,20,IF(V178>0.7,15,IF(V178>0.6,10,IF(V178>0.5,5,0)))))))),IF(Q178>1,40,IF(V178="",IF(Q178>0.95,35,IF(Q178>0.9,30,IF(Q178>0.8,20,IF(Q178>0.7,15,IF(Q178>0.6,10,IF(Q178>0.5,5,0)))))),IF(V178>0.94,40,IF(V178>0.9,35,IF(V178>0.8,30,IF(V178>0.7,20,IF(V178>0.6,15,IF(V178>0.5,10,0))))))))))))
G179: =IF(F179="Sudija",1,IF(F179="Stručni saradnik",1,"")) | K179: 261 | P179: =IF(H179="","",IF(H179="Ne treba raditi na predm.",1+SUM(M179:O179),(SUM(M179:O179)/H179))) | Q179: =IF(L179>0,IF(H179="Ne treba raditi na predm.",P179,P179*(K179/(K179-L179))),P179) | V179: =IF(R179="","",S179/(R179-T179)) | W179: =IF(Q179="","",IF(C179="Ne","",IF(H179="Ne treba raditi na predm.","",IF(D179="Da",IF(Q179>1,30,IF(V179="",IF(Q179>0.9,25,IF(Q179>0.8,20,IF(Q179>0.7,15,IF(Q179>0.6,10,IF(Q179>0.5,5,0))))),IF(V179>0.94,30,IF(V179>0.9,25,IF(V179>0.8,20,IF(V179>0.7,15,IF(V179>0.6,10,IF(V179>0.5,5,0)))))))),IF(Q179>1,40,IF(V179="",IF(Q179>0.95,35,IF(Q179>0.9,30,IF(Q179>0.8,20,IF(Q179>0.7,15,IF(Q179>0.6,10,IF(Q179>0.5,5,0)))))),IF(V179>0.94,40,IF(V179>0.9,35,IF(V179>0.8,30,IF(V179>0.7,20,IF(V179>0.6,15,IF(V179>0.5,10,0))))))))))))
G180: =IF(F180="Sudija",1,IF(F180="Stručni saradnik",1,"")) | K180: 261 | P180: =IF(H180="","",IF(H180="Ne treba raditi na predm.",1+SUM(M180:O180),(SUM(M180:O180)/H180))) | Q180: =IF(L180>0,IF(H180="Ne treba raditi na predm.",P180,P180*(K180/(K180-L180))),P180) | V180: =IF(R180="","",S180/(R180-T180)) | W180: =IF(Q180="","",IF(C180="Ne","",IF(H180="Ne treba raditi na predm.","",IF(D180="Da",IF(Q180>1,30,IF(V180="",IF(Q180>0.9,25,IF(Q180>0.8,20,IF(Q180>0.7,15,IF(Q180>0.6,10,IF(Q180>0.5,5,0))))),IF(V180>0.94,30,IF(V180>0.9,25,IF(V180>0.8,20,IF(V180>0.7,15,IF(V180>0.6,10,IF(V180>0.5,5,0)))))))),IF(Q180>1,40,IF(V180="",IF(Q180>0.95,35,IF(Q180>0.9,30,IF(Q180>0.8,20,IF(Q180>0.7,15,IF(Q180>0.6,10,IF(Q180>0.5,5,0)))))),IF(V180>0.94,40,IF(V180>0.9,35,IF(V180>0.8,30,IF(V180>0.7,20,IF(V180>0.6,15,IF(V180>0.5,10,0))))))))))))
G181: =IF(F181="Sudija",1,IF(F181="Stručni saradnik",1,"")) | K181: 261 | P181: =IF(H181="","",IF(H181="Ne treba raditi na predm.",1+SUM(M181:O181),(SUM(M181:O181)/H181))) | Q181: =IF(L181>0,IF(H181="Ne treba raditi na predm.",P181,P181*(K181/(K181-L181))),P181) | V181: =IF(R181="","",S181/(R181-T181)) | W181: =IF(Q181="","",IF(C181="Ne","",IF(H181="Ne treba raditi na predm.","",IF(D181="Da",IF(Q181>1,30,IF(V181="",IF(Q181>0.9,25,IF(Q181>0.8,20,IF(Q181>0.7,15,IF(Q181>0.6,10,IF(Q181>0.5,5,0))))),IF(V181>0.94,30,IF(V181>0.9,25,IF(V181>0.8,20,IF(V181>0.7,15,IF(V181>0.6,10,IF(V181>0.5,5,0)))))))),IF(Q181>1,40,IF(V181="",IF(Q181>0.95,35,IF(Q181>0.9,30,IF(Q181>0.8,20,IF(Q181>0.7,15,IF(Q181>0.6,10,IF(Q181>0.5,5,0)))))),IF(V181>0.94,40,IF(V181>0.9,35,IF(V181>0.8,30,IF(V181>0.7,20,IF(V181>0.6,15,IF(V181>0.5,10,0))))))))))))
G182: =IF(F182="Sudija",1,IF(F182="Stručni saradnik",1,"")) | K182: 261 | P182: =IF(H182="","",IF(H182="Ne treba raditi na predm.",1+SUM(M182:O182),(SUM(M182:O182)/H182))) | Q182: =IF(L182>0,IF(H182="Ne treba raditi na predm.",P182,P182*(K182/(K182-L182))),P182) | V182: =IF(R182="","",S182/(R182-T182)) | W182: =IF(Q182="","",IF(C182="Ne","",IF(H182="Ne treba raditi na predm.","",IF(D182="Da",IF(Q182>1,30,IF(V182="",IF(Q182>0.9,25,IF(Q182>0.8,20,IF(Q182>0.7,15,IF(Q182>0.6,10,IF(Q182>0.5,5,0))))),IF(V182>0.94,30,IF(V182>0.9,25,IF(V182>0.8,20,IF(V182>0.7,15,IF(V182>0.6,10,IF(V182>0.5,5,0)))))))),IF(Q182>1,40,IF(V182="",IF(Q182>0.95,35,IF(Q182>0.9,30,IF(Q182>0.8,20,IF(Q182>0.7,15,IF(Q182>0.6,10,IF(Q182>0.5,5,0)))))),IF(V182>0.94,40,IF(V182>0.9,35,IF(V182>0.8,30,IF(V182>0.7,20,IF(V182>0.6,15,IF(V182>0.5,10,0))))))))))))
G183: =IF(F183="Sudija",1,IF(F183="Stručni saradnik",1,"")) | K183: 261 | P183: =IF(H183="","",IF(H183="Ne treba raditi na predm.",1+SUM(M183:O183),(SUM(M183:O183)/H183))) | Q183: =IF(L183>0,IF(H183="Ne treba raditi na predm.",P183,P183*(K183/(K183-L183))),P183) | V183: =IF(R183="","",S183/(R183-T183)) | W183: =IF(Q183="","",IF(C183="Ne","",IF(H183="Ne treba raditi na predm.","",IF(D183="Da",IF(Q183>1,30,IF(V183="",IF(Q183>0.9,25,IF(Q183>0.8,20,IF(Q183>0.7,15,IF(Q183>0.6,10,IF(Q183>0.5,5,0))))),IF(V183>0.94,30,IF(V183>0.9,25,IF(V183>0.8,20,IF(V183>0.7,15,IF(V183>0.6,10,IF(V183>0.5,5,0)))))))),IF(Q183>1,40,IF(V183="",IF(Q183>0.95,35,IF(Q183>0.9,30,IF(Q183>0.8,20,IF(Q183>0.7,15,IF(Q183>0.6,10,IF(Q183>0.5,5,0)))))),IF(V183>0.94,40,IF(V183>0.9,35,IF(V183>0.8,30,IF(V183>0.7,20,IF(V183>0.6,15,IF(V183>0.5,10,0))))))))))))
G184: =IF(F184="Sudija",1,IF(F184="Stručni saradnik",1,"")) | K184: 261 | P184: =IF(H184="","",IF(H184="Ne treba raditi na predm.",1+SUM(M184:O184),(SUM(M184:O184)/H184))) | Q184: =IF(L184>0,IF(H184="Ne treba raditi na predm.",P184,P184*(K184/(K184-L184))),P184) | V184: =IF(R184="","",S184/(R184-T184)) | W184: =IF(Q184="","",IF(C184="Ne","",IF(H184="Ne treba raditi na predm.","",IF(D184="Da",IF(Q184>1,30,IF(V184="",IF(Q184>0.9,25,IF(Q184>0.8,20,IF(Q184>0.7,15,IF(Q184>0.6,10,IF(Q184>0.5,5,0))))),IF(V184>0.94,30,IF(V184>0.9,25,IF(V184>0.8,20,IF(V184>0.7,15,IF(V184>0.6,10,IF(V184>0.5,5,0)))))))),IF(Q184>1,40,IF(V184="",IF(Q184>0.95,35,IF(Q184>0.9,30,IF(Q184>0.8,20,IF(Q184>0.7,15,IF(Q184>0.6,10,IF(Q184>0.5,5,0)))))),IF(V184>0.94,40,IF(V184>0.9,35,IF(V184>0.8,30,IF(V184>0.7,20,IF(V184>0.6,15,IF(V184>0.5,10,0))))))))))))
G185: =IF(F185="Sudija",1,IF(F185="Stručni saradnik",1,"")) | K185: 261 | P185: =IF(H185="","",IF(H185="Ne treba raditi na predm.",1+SUM(M185:O185),(SUM(M185:O185)/H185))) | Q185: =IF(L185>0,IF(H185="Ne treba raditi na predm.",P185,P185*(K185/(K185-L185))),P185) | V185: =IF(R185="","",S185/(R185-T185)) | W185: =IF(Q185="","",IF(C185="Ne","",IF(H185="Ne treba raditi na predm.","",IF(D185="Da",IF(Q185>1,30,IF(V185="",IF(Q185>0.9,25,IF(Q185>0.8,20,IF(Q185>0.7,15,IF(Q185>0.6,10,IF(Q185>0.5,5,0))))),IF(V185>0.94,30,IF(V185>0.9,25,IF(V185>0.8,20,IF(V185>0.7,15,IF(V185>0.6,10,IF(V185>0.5,5,0)))))))),IF(Q185>1,40,IF(V185="",IF(Q185>0.95,35,IF(Q185>0.9,30,IF(Q185>0.8,20,IF(Q185>0.7,15,IF(Q185>0.6,10,IF(Q185>0.5,5,0)))))),IF(V185>0.94,40,IF(V185>0.9,35,IF(V185>0.8,30,IF(V185>0.7,20,IF(V185>0.6,15,IF(V185>0.5,10,0))))))))))))
... G193: =IF(F193="Sudija",1,IF(F193="Stručni saradnik",1,"")) | K193: 261 | P193: =IF(H193="","",IF(H193="Ne treba raditi na predm.",1+SUM(M193:O193),(SUM(M193:O193)/H193))) | Q193: =IF(L193>0,IF(H193="Ne treba raditi na predm.",P193,P193*(K193/(K193-L193))),P193) | V193: =IF(R193="","",S193/(R193-T193)) | W193: =IF(Q193="","",IF(C193="Ne","",IF(H193="Ne treba raditi na predm.","",IF(D193="Da",IF(Q193>1,30,IF(V193="",IF(Q193>0.9,25,IF(Q193>0.8,20,IF(Q193>0.7,15,IF(Q193>0.6,10,IF(Q193>0.5,5,0))))),IF(V193>0.94,30,IF(V193>0.9,25,IF(V193>0.8,20,IF(V193>0.7,15,IF(V193>0.6,10,IF(V193>0.5,5,0)))))))),IF(Q193>1,40,IF(V193="",IF(Q193>0.95,35,IF(Q193>0.9,30,IF(Q193>0.8,20,IF(Q193>0.7,15,IF(Q193>0.6,10,IF(Q193>0.5,5,0)))))),IF(V193>0.94,40,IF(V193>0.9,35,IF(V193>0.8,30,IF(V193>0.7,20,IF(V193>0.6,15,IF(V193>0.5,10,0))))))))))))
P194: KOLEKTIVNA NORMA SUDA | Q194: =IF(Q8="",IF(Q9="","",AVERAGEIF(Q8:Q193,">0,2")),AVERAGEIF(Q8:Q193,">0,2")) | R194: =SUM(R8:R193) -> 0 | S194: =SUM(S8:S193) -> 0 | T194: =SUM(T8:T193) -> 0 | U194: =SUM(U8:U193) -> 0 | V194: =IF(R194=0,"",S194/(R194-T194))
P195: BODOVANJE ZA OSTVARENU KOLEKTIVNU NORMU SUDA U SKLADU SA ČLANOM 19. STAV (2) KRITERIJA ZA OCJENJIVANJE RADA PREDSJEDNIKA SUDOVA | Q195: =IF(Q194="","",IF(Q194>1,30,IF(Q194>0.9,25,IF(Q194>0.8,20,IF(Q194>0.7,15,IF(Q194>0.6,10,IF(Q194>0.5,5,0)))))))
B197: Obrazloženje norme NPF-a unesene u plava polja
B198: Primjer - Sudija 1 | C198: 8 mjeseci sudija, 4 mjeseca šef odjela (90% norme sudije) | H198: 0.97
R220: Nedovoljan broj predmeta u radu
A221: NAPOMENA 1: U Tabelu IIa se unose podaci o ostvarenoj orijentacijskoj normi za sve nosioce pravosudnih funkcija, uključujući i one kod kojih je ukupno ostvarenje norme ispod 20%: novoimenovane sudije/stručni saradnici, sudije/stručni saradnici koji su imenovani u drugu instituciju, kao i sudije/stručni saradnici koji su prestali sa radom zbog: penzionisanja, podnošenja ostavke, smrti, gubitka radne sposobnosti, razrješenja od dužnosti, privremenog ili trajnog udaljenja od vršenja dužnosti itd. (član 15. Kriterija za ocjenjivanje rada predsjednika sudova u Bosni i Hercegovini). Ostvarena kolektivna norma suda automatski će se obračunati i predsjedniku suda će se dodijeliti odgovarajući broj bodova u skladu sa članom 19. Kriterija za ocjenjivanje rada predsjednika sudova u Bosni i Hercegovini. Ukoliko sud nije imao dovoljan broj predmeta u radu za ostvarenje orijentacijske norme, potrebno je manuelno unijeti ukupan broj predmeta koji su bili u radu u sudu kao i ukupan broj riješenih predmeta u sudu u periodu izvještavanja, kao i podatke o broju neriješenih predmeta sa zakonskim i procesnim smetnjama i broju neriješenih predmeta bez zakonskih i procesnih smetnji. Procenat riješenih predmeta automatski će se obračunati, te predsjedniku suda dodijeliti odgovarajući broj bodova u skladu sa članom 20. Kriterija za ocjenjivanje rada predsjednika sudova u Bosni i Hercegovini. | R221: broj predmeta u radu | S221: broj riješenih predmeta | T221: broj neriješenih predmeta sa zakonskim i procesnim smetnjama | U221: broj neriješenih predmeta bez zakonskih i procesnih smetnji | V221: procenat riješenih predmeta
V222: =IF(R222="","",S222/(R222-T222))
U223: BODOVANJE ZA BROJ RIJEŠENIH PREDMETA U SUDU U SKLADU SA ČLANOM 20. STAV (1) KRITERIJA ZA OCJENJIVANJE RADA PREDSJEDNIKA SUDOVA | V223: =IF(V222="","",IF(V222>0.94,30,IF(V222>0.9,25,IF(V222>0.8,20,IF(V222>0.7,15,IF(V222>0.6,10,IF(V222>0.5,5,0)))))))
A226: Tabela IIb -Obračun norme za proces ocjenjivanja za nosioce pravosudne funkcije koji su u toku godine prešli iz jednog suda u drugi sud - Obračun prema Instrukciji dio: II POSEBNI SLUČAJEVI OCJENJIVANJA 3) a) (pogledati NAPOMENU 4)
A227: Ime i prezime predsjednika suda | P227: Ukupna ostvarena orijentacijska norma koja se unosi u Obrazac za ocjenjivanje = | Q227: =Q228+Q229 -> 0
A228: Sud 1 | F228: Predsjednik suda | P228: =IF(H228="",0,IF(H228="Ne treba raditi na predm.",1+SUM(M228:O228),(SUM(M228:O228)/H228))) -> 0 | Q228: =IF(L228>0,IF(H228="Ne treba raditi na predm.",P228,P228*(K228/(K228-L228))),P228) -> 0 | V228: =IF(R228="","",(S228+S229)/(R228+R229-T228-T229)) | W228: =IF(Q228="","",IF(C228="Ne","",IF(H228="Ne treba raditi na predm.","",IF(D228="Da",IF((Q228+Q229)>1,10,IF(V228="",IF((Q228+Q229)>0.9,9,IF((Q228+Q229)>0.8,8,IF((Q228+Q229)>0.7,6,IF((Q228+Q229)>0.6,4,IF((Q228+Q229)>0.5,2,0))))),IF((V228+V229)>0.94,10,IF((V228+V229)>0.9,9,IF((V228+V229)>0.8,8,IF((V228+V229)>0.7,6,IF((V228+V229)>0.6,4,IF((V228+V229)>0.5,2,0)))))))),IF((Q228+Q229)>1,15,IF(V228="",IF((Q228+Q229)>0.9,13,IF((Q228+Q229)>0.8,11,IF((Q228+Q229)>0.7,9,IF((Q228+Q229)>0.6,6,IF((Q228+Q229)>0.5,3,0))))),IF((V228+V229)>0.94,15,IF((V228+V229)>0.9,12,IF((V228+V229)>0.8,9,IF((V228+V229)>0.7,8,IF((V228+V229)>0.6,6,IF((V228+V229)>0.5,3,0)))))))))))) -> 0
A229: Sud 2 | G229: =IF(F229="Sudija",1,IF(F229="Stručni saradnik",1,"")) | P229: =IF(H229="",0,IF(H229="Ne treba raditi na predm.",1+SUM(M229:O229),(SUM(M229:O229)/H229))) -> 0 | Q229: =IF(L229>0,IF(H229="Ne treba raditi na predm.",P229,P229*(K229/(K229-L229))),P229) -> 0 | W229: =IF(Q229="","",IF(C229="Ne","",IF(H229="Ne treba raditi na predm.","",IF(D229="Da",IF((Q228+Q229)>1,30,IF((V228+V229)="",IF((Q228+Q229)>0.9,25,IF((Q228+Q229)>0.8,20,IF((Q228+Q229)>0.7,15,IF((Q228+Q229)>0.6,10,IF((Q228+Q229)>0.5,5,0))))),IF((V228+V229)>0.94,30,IF((V228+V229)>0.9,25,IF((V228+V229)>0.8,20,IF((V228+V229)>0.7,15,IF((V228+V229)>0.6,10,IF((V228+V229)>0.5,5,0)))))))),IF((Q228+Q229)>1,40,IF(V229="",IF((Q228+Q229)>0.95,35,IF((Q228+Q229)>0.9,30,IF((Q228+Q229)>0.8,20,IF((Q228+Q229)>0.7,15,IF((Q228+Q229)>0.6,10,IF((Q228+Q229)>0.5,5,0)))))),IF((V228+V229)>0.94,40,IF((V228+V229)>0.9,35,IF((V228+V229)>0.8,30,IF((V228+V229)>0.7,20,IF((V228+V229)>0.6,15,IF((V228+V229)>0.5,10,0)))))))))))) -> 0
A230: Ime i prezime nosioca pravosudne funkcije | P230: Ukupna ostvarena orijentacijska norma koja se unosi u Obrazac za ocjenjivanje = | Q230: =Q231+Q232 -> 0
A231: Sud 1 | G231: =IF(F231="Sudija",1,IF(F231="Stručni saradnik",1,"")) | P231: =IF(H231="",0,IF(H231="Ne treba raditi na predm.",1+SUM(M231:O231),(SUM(M231:O231)/H231))) -> 0 | Q231: =IF(L231>0,IF(H231="Ne treba raditi na predm.",P231,P231*(K231/(K231-L231))),P231) -> 0 | V231: =IF(R231="","",(S231+S232)/(R231+R232-T231-T232)) | W231: =IF(Q231="","",IF(C231="Ne","",IF(H231="Ne treba raditi na predm.","",IF(D231="Da",IF((Q231+Q232)>1,30,IF((V231)="",IF((Q231+Q232)>0.9,25,IF((Q231+Q232)>0.8,20,IF((Q231+Q232)>0.7,15,IF((Q231+Q232)>0.6,10,IF((Q231+Q232)>0.5,5,0))))),IF((V231+V232)>0.94,30,IF((V231+V232)>0.9,25,IF((V231+V232)>0.8,20,IF((V231+V232)>0.7,15,IF((V231+V232)>0.6,10,IF((V231+V232)>0.5,5,0)))))))),IF((Q231+Q232)>1,40,IF(V231="",IF((Q231+Q232)>0.95,35,IF((Q231+Q232)>0.9,30,IF((Q231+Q232)>0.8,20,IF((Q231+Q232)>0.7,15,IF((Q231+Q232)>0.6,10,IF((Q231+Q232)>0.5,5,0)))))),IF((V231+V232)>0.94,40,IF((V231+V232)>0.9,35,IF((V231+V232)>0.8,30,IF((V231+V232)>0.7,20,IF((V231+V232)>0.6,15,IF((V231+V232)>0.5,10,0)))))))))))) -> 0
A232: Sud 2 | G232: =IF(F232="Sudija",1,IF(F232="Stručni saradnik",1,"")) | P232: =IF(H232="",0,IF(H232="Ne treba raditi na predm.",1+SUM(M232:O232),(SUM(M232:O232)/H232))) -> 0 | Q232: =IF(L232>0,IF(H232="Ne treba raditi na predm.",P232,P232*(K232/(K232-L232))),P232) -> 0 | W232: =IF(Q232="","",IF(C232="Ne","",IF(H232="Ne treba raditi na predm.","",IF(D232="Da",IF((Q231+Q232)>1,30,IF((V231)="",IF((Q231+Q232)>0.9,25,IF((Q231+Q232)>0.8,20,IF((Q231+Q232)>0.7,15,IF((Q231+Q232)>0.6,10,IF((Q231+Q232)>0.5,5,0))))),IF((V231+V232)>0.94,30,IF((V231+V232)>0.9,25,IF((V231+V232)>0.8,20,IF((V231+V232)>0.7,15,IF((V231+V232)>0.6,10,IF((V231+V232)>0.5,5,0)))))))),IF((Q231+Q232)>1,40,IF(V232="",IF((Q231+Q232)>0.95,35,IF((Q231+Q232)>0.9,30,IF((Q231+Q232)>0.8,20,IF((Q231+Q232)>0.7,15,IF((Q231+Q232)>0.6,10,IF((Q231+Q232)>0.5,5,0)))))),IF((V231+V232)>0.94,40,IF((V231+V232)>0.9,35,IF((V231+V232)>0.8,30,IF((V231+V232)>0.7,20,IF((V231+V232)>0.6,15,IF((V231+V232)>0.5,10,0)))))))))))) -> 0
A233: Ime i prezime nosioca pravosudne funkcije | P233: Ukupna ostvarena orijentacijska norma koja se unosi u Obrazac za ocjenjivanje = | Q233: =Q234+Q235 -> 0
A234: Sud 1 | G234: =IF(F234="Sudija",1,IF(F234="Stručni saradnik",1,"")) | P234: =IF(H234="",0,IF(H234="Ne treba raditi na predm.",1+SUM(M234:O234),(SUM(M234:O234)/H234))) -> 0 | Q234: =IF(L234>0,IF(H234="Ne treba raditi na predm.",P234,P234*(K234/(K234-L234))),P234) -> 0 | V234: =IF(R234="","",(S234+S235)/(R234+R235-T234-T235)) | W234: =IF(Q234="","",IF(C234="Ne","",IF(H234="Ne treba raditi na predm.","",IF(D234="Da",IF((Q234+Q235)>1,30,IF((V234)="",IF((Q234+Q235)>0.9,25,IF((Q234+Q235)>0.8,20,IF((Q234+Q235)>0.7,15,IF((Q234+Q235)>0.6,10,IF((Q234+Q235)>0.5,5,0))))),IF((V234+V235)>0.94,30,IF((V234+V235)>0.9,25,IF((V234+V235)>0.8,20,IF((V234+V235)>0.7,15,IF((V234+V235)>0.6,10,IF((V234+V235)>0.5,5,0)))))))),IF((Q234+Q235)>1,40,IF(V234="",IF((Q234+Q235)>0.95,35,IF((Q234+Q235)>0.9,30,IF((Q234+Q235)>0.8,20,IF((Q234+Q235)>0.7,15,IF((Q234+Q235)>0.6,10,IF((Q234+Q235)>0.5,5,0)))))),IF((V234+V235)>0.94,40,IF((V234+V235)>0.9,35,IF((V234+V235)>0.8,30,IF((V234+V235)>0.7,20,IF((V234+V235)>0.6,15,IF((V234+V235)>0.5,10,0)))))))))))) -> 0
A235: Sud 2 | G235: =IF(F235="Sudija",1,IF(F235="Stručni saradnik",1,"")) | P235: =IF(H235="",0,IF(H235="Ne treba raditi na predm.",1+SUM(M235:O235),(SUM(M235:O235)/H235))) -> 0 | Q235: =IF(L235>0,IF(H235="Ne treba raditi na predm.",P235,P235*(K235/(K235-L235))),P235) -> 0 | W235: =IF(Q235="","",IF(C235="Ne","",IF(H235="Ne treba raditi na predm.","",IF(D235="Da",IF((Q234+Q235)>1,30,IF((V234)="",IF((Q234+Q235)>0.9,25,IF((Q234+Q235)>0.8,20,IF((Q234+Q235)>0.7,15,IF((Q234+Q235)>0.6,10,IF((Q234+Q235)>0.5,5,0))))),IF((V234+V235)>0.94,30,IF((V234+V235)>0.9,25,IF((V234+V235)>0.8,20,IF((V234+V235)>0.7,15,IF((V234+V235)>0.6,10,IF((V234+V235)>0.5,5,0)))))))),IF((Q234+Q235)>1,40,IF(V235="",IF((Q234+Q235)>0.95,35,IF((Q234+Q235)>0.9,30,IF((Q234+Q235)>0.8,20,IF((Q234+Q235)>0.7,15,IF((Q234+Q235)>0.6,10,IF((Q234+Q235)>0.5,5,0)))))),IF((V234+V235)>0.94,40,IF((V234+V235)>0.9,35,IF((V234+V235)>0.8,30,IF((V234+V235)>0.7,20,IF((V234+V235)>0.6,15,IF((V234+V235)>0.5,10,0)))))))))))) -> 0
A236: Ime i prezime nosioca pravosudne funkcije | P236: Ukupna ostvarena orijentacijska norma koja se unosi u Obrazac za ocjenjivanje = | Q236: =Q237+Q238 -> 0
A237: Sud 1 | G237: =IF(F237="Sudija",1,IF(F237="Stručni saradnik",1,"")) | P237: =IF(H237="",0,IF(H237="Ne treba raditi na predm.",1+SUM(M237:O237),(SUM(M237:O237)/H237))) -> 0 | Q237: =IF(L237>0,IF(H237="Ne treba raditi na predm.",P237,P237*(K237/(K237-L237))),P237) -> 0 | V237: =IF(R237="","",(S237+S238)/(R237+R238-T237-T238)) | W237: =IF(Q237="","",IF(C237="Ne","",IF(H237="Ne treba raditi na predm.","",IF(D237="Da",IF((Q237+Q238)>1,30,IF((V237)="",IF((Q237+Q238)>0.9,25,IF((Q237+Q238)>0.8,20,IF((Q237+Q238)>0.7,15,IF((Q237+Q238)>0.6,10,IF((Q237+Q238)>0.5,5,0))))),IF((V237+V238)>0.94,30,IF((V237+V238)>0.9,25,IF((V237+V238)>0.8,20,IF((V237+V238)>0.7,15,IF((V237+V238)>0.6,10,IF((V237+V238)>0.5,5,0)))))))),IF((Q237+Q238)>1,40,IF(V237="",IF((Q237+Q238)>0.95,35,IF((Q237+Q238)>0.9,30,IF((Q237+Q238)>0.8,20,IF((Q237+Q238)>0.7,15,IF((Q237+Q238)>0.6,10,IF((Q237+Q238)>0.5,5,0)))))),IF((V237+V238)>0.94,40,IF((V237+V238)>0.9,35,IF((V237+V238)>0.8,30,IF((V237+V238)>0.7,20,IF((V237+V238)>0.6,15,IF((V237+V238)>0.5,10,0)))))))))))) -> 0
A238: Sud 2 | G238: =IF(F238="Sudija",1,IF(F238="Stručni saradnik",1,"")) | P238: =IF(H238="",0,IF(H238="Ne treba raditi na predm.",1+SUM(M238:O238),(SUM(M238:O238)/H238))) -> 0 | Q238: =IF(L238>0,IF(H238="Ne treba raditi na predm.",P238,P238*(K238/(K238-L238))),P238) -> 0 | W238: =IF(Q238="","",IF(C238="Ne","",IF(H238="Ne treba raditi na predm.","",IF(D238="Da",IF((Q237+Q238)>1,30,IF((V237)="",IF((Q237+Q238)>0.9,25,IF((Q237+Q238)>0.8,20,IF((Q237+Q238)>0.7,15,IF((Q237+Q238)>0.6,10,IF((Q237+Q238)>0.5,5,0))))),IF((V237+V238)>0.94,30,IF((V237+V238)>0.9,25,IF((V237+V238)>0.8,20,IF((V237+V238)>0.7,15,IF((V237+V238)>0.6,10,IF((V237+V238)>0.5,5,0)))))))),IF((Q237+Q238)>1,40,IF(V238="",IF((Q237+Q238)>0.95,35,IF((Q237+Q238)>0.9,30,IF((Q237+Q238)>0.8,20,IF((Q237+Q238)>0.7,15,IF((Q237+Q238)>0.6,10,IF((Q237+Q238)>0.5,5,0)))))),IF((V237+V238)>0.94,40,IF((V237+V238)>0.9,35,IF((V237+V238)>0.8,30,IF((V237+V238)>0.7,20,IF((V237+V238)>0.6,15,IF((V237+V238)>0.5,10,0)))))))))))) -> 0
A239: Ime i prezime nosioca pravosudne funkcije | P239: Ukupna ostvarena orijentacijska norma koja se unosi u Obrazac za ocjenjivanje = | Q239: =Q240+Q241 -> 0
A240: Sud 1 | G240: =IF(F240="Sudija",1,IF(F240="Stručni saradnik",1,"")) | P240: =IF(H240="",0,IF(H240="Ne treba raditi na predm.",1+SUM(M240:O240),(SUM(M240:O240)/H240))) -> 0 | Q240: =IF(L240>0,IF(H240="Ne treba raditi na predm.",P240,P240*(K240/(K240-L240))),P240) -> 0 | V240: =IF(R240="","",(S240+S241)/(R240+R241-T240-T241)) | W240: =IF(Q240="","",IF(C240="Ne","",IF(H240="Ne treba raditi na predm.","",IF(D240="Da",IF((Q240+Q241)>1,30,IF((V240)="",IF((Q240+Q241)>0.9,25,IF((Q240+Q241)>0.8,20,IF((Q240+Q241)>0.7,15,IF((Q240+Q241)>0.6,10,IF((Q240+Q241)>0.5,5,0))))),IF((V240+V241)>0.94,30,IF((V240+V241)>0.9,25,IF((V240+V241)>0.8,20,IF((V240+V241)>0.7,15,IF((V240+V241)>0.6,10,IF((V240+V241)>0.5,5,0)))))))),IF((Q240+Q241)>1,40,IF(V240="",IF((Q240+Q241)>0.95,35,IF((Q240+Q241)>0.9,30,IF((Q240+Q241)>0.8,20,IF((Q240+Q241)>0.7,15,IF((Q240+Q241)>0.6,10,IF((Q240+Q241)>0.5,5,0)))))),IF((V240+V241)>0.94,40,IF((V240+V241)>0.9,35,IF((V240+V241)>0.8,30,IF((V240+V241)>0.7,20,IF((V240+V241)>0.6,15,IF((V240+V241)>0.5,10,0)))))))))))) -> 0
A241: Sud 2 | G241: =IF(F241="Sudija",1,IF(F241="Stručni saradnik",1,"")) | P241: =IF(H241="",0,IF(H241="Ne treba raditi na predm.",1+SUM(M241:O241),(SUM(M241:O241)/H241))) -> 0 | Q241: =IF(L241>0,IF(H241="Ne treba raditi na predm.",P241,P241*(K241/(K241-L241))),P241) -> 0 | W241: =IF(Q241="","",IF(C241="Ne","",IF(H241="Ne treba raditi na predm.","",IF(D241="Da",IF((Q240+Q241)>1,30,IF((V240)="",IF((Q240+Q241)>0.9,25,IF((Q240+Q241)>0.8,20,IF((Q240+Q241)>0.7,15,IF((Q240+Q241)>0.6,10,IF((Q240+Q241)>0.5,5,0))))),IF((V240+V241)>0.94,30,IF((V240+V241)>0.9,25,IF((V240+V241)>0.8,20,IF((V240+V241)>0.7,15,IF((V240+V241)>0.6,10,IF((V240+V241)>0.5,5,0)))))))),IF((Q240+Q241)>1,40,IF(V241="",IF((Q240+Q241)>0.95,35,IF((Q240+Q241)>0.9,30,IF((Q240+Q241)>0.8,20,IF((Q240+Q241)>0.7,15,IF((Q240+Q241)>0.6,10,IF((Q240+Q241)>0.5,5,0)))))),IF((V240+V241)>0.94,40,IF((V240+V241)>0.9,35,IF((V240+V241)>0.8,30,IF((V240+V241)>0.7,20,IF((V240+V241)>0.6,15,IF((V240+V241)>0.5,10,0)))))))))))) -> 0
A242: Ime i prezime nosioca pravosudne funkcije | P242: Ukupna ostvarena orijentacijska norma koja se unosi u Obrazac za ocjenjivanje = | Q242: =Q243+Q244 -> 0
A243: Sud 1 | G243: =IF(F243="Sudija",1,IF(F243="Stručni saradnik",1,"")) | P243: =IF(H243="",0,IF(H243="Ne treba raditi na predm.",1+SUM(M243:O243),(SUM(M243:O243)/H243))) -> 0 | Q243: =IF(L243>0,IF(H243="Ne treba raditi na predm.",P243,P243*(K243/(K243-L243))),P243) -> 0 | V243: =IF(R243="","",(S243+S244)/(R243+R244-T243-T244)) | W243: =IF(Q243="","",IF(C243="Ne","",IF(H243="Ne treba raditi na predm.","",IF(D243="Da",IF((Q243+Q244)>1,30,IF((V243)="",IF((Q243+Q244)>0.9,25,IF((Q243+Q244)>0.8,20,IF((Q243+Q244)>0.7,15,IF((Q243+Q244)>0.6,10,IF((Q243+Q244)>0.5,5,0))))),IF((V243+V244)>0.94,30,IF((V243+V244)>0.9,25,IF((V243+V244)>0.8,20,IF((V243+V244)>0.7,15,IF((V243+V244)>0.6,10,IF((V243+V244)>0.5,5,0)))))))),IF((Q243+Q244)>1,40,IF(V243="",IF((Q243+Q244)>0.95,35,IF((Q243+Q244)>0.9,30,IF((Q243+Q244)>0.8,20,IF((Q243+Q244)>0.7,15,IF((Q243+Q244)>0.6,10,IF((Q243+Q244)>0.5,5,0)))))),IF((V243+V244)>0.94,40,IF((V243+V244)>0.9,35,IF((V243+V244)>0.8,30,IF((V243+V244)>0.7,20,IF((V243+V244)>0.6,15,IF((V243+V244)>0.5,10,0)))))))))))) -> 0
A244: Sud 2 | G244: =IF(F244="Sudija",1,IF(F244="Stručni saradnik",1,"")) | P244: =IF(H244="",0,IF(H244="Ne treba raditi na predm.",1+SUM(M244:O244),(SUM(M244:O244)/H244))) -> 0 | Q244: =IF(L244>0,IF(H244="Ne treba raditi na predm.",P244,P244*(K244/(K244-L244))),P244) -> 0 | W244: =IF(Q244="","",IF(C244="Ne","",IF(H244="Ne treba raditi na predm.","",IF(D244="Da",IF((Q243+Q244)>1,30,IF((V243)="",IF((Q243+Q244)>0.9,25,IF((Q243+Q244)>0.8,20,IF((Q243+Q244)>0.7,15,IF((Q243+Q244)>0.6,10,IF((Q243+Q244)>0.5,5,0))))),IF((V243+V244)>0.94,30,IF((V243+V244)>0.9,25,IF((V243+V244)>0.8,20,IF((V243+V244)>0.7,15,IF((V243+V244)>0.6,10,IF((V243+V244)>0.5,5,0)))))))),IF((Q243+Q244)>1,40,IF(V244="",IF((Q243+Q244)>0.95,35,IF((Q243+Q244)>0.9,30,IF((Q243+Q244)>0.8,20,IF((Q243+Q244)>0.7,15,IF((Q243+Q244)>0.6,10,IF((Q243+Q244)>0.5,5,0)))))),IF((V243+V244)>0.94,40,IF((V243+V244)>0.9,35,IF((V243+V244)>0.8,30,IF((V243+V244)>0.7,20,IF((V243+V244)>0.6,15,IF((V243+V244)>0.5,10,0)))))))))))) -> 0
A245: Ime i prezime nosioca pravosudne funkcije | P245: Ukupna ostvarena orijentacijska norma koja se unosi u Obrazac za ocjenjivanje = | Q245: =Q246+Q247 -> 0
A246: Sud 1 | G246: =IF(F246="Sudija",1,IF(F246="Stručni saradnik",1,"")) | P246: =IF(H246="",0,IF(H246="Ne treba raditi na predm.",1+SUM(M246:O246),(SUM(M246:O246)/H246))) -> 0 | Q246: =IF(L246>0,IF(H246="Ne treba raditi na predm.",P246,P246*(K246/(K246-L246))),P246) -> 0 | V246: =IF(R246="","",(S246+S247)/(R246+R247-T246-T247)) | W246: =IF(Q246="","",IF(C246="Ne","",IF(H246="Ne treba raditi na predm.","",IF(D246="Da",IF((Q246+Q247)>1,30,IF((V246)="",IF((Q246+Q247)>0.9,25,IF((Q246+Q247)>0.8,20,IF((Q246+Q247)>0.7,15,IF((Q246+Q247)>0.6,10,IF((Q246+Q247)>0.5,5,0))))),IF((V246+V247)>0.94,30,IF((V246+V247)>0.9,25,IF((V246+V247)>0.8,20,IF((V246+V247)>0.7,15,IF((V246+V247)>0.6,10,IF((V246+V247)>0.5,5,0)))))))),IF((Q246+Q247)>1,40,IF(V246="",IF((Q246+Q247)>0.95,35,IF((Q246+Q247)>0.9,30,IF((Q246+Q247)>0.8,20,IF((Q246+Q247)>0.7,15,IF((Q246+Q247)>0.6,10,IF((Q246+Q247)>0.5,5,0)))))),IF((V246+V247)>0.94,40,IF((V246+V247)>0.9,35,IF((V246+V247)>0.8,30,IF((V246+V247)>0.7,20,IF((V246+V247)>0.6,15,IF((V246+V247)>0.5,10,0)))))))))))) -> 0
A247: Sud 2 | G247: =IF(F247="Sudija",1,IF(F247="Stručni saradnik",1,"")) | P247: =IF(H247="",0,IF(H247="Ne treba raditi na predm.",1+SUM(M247:O247),(SUM(M247:O247)/H247))) -> 0 | Q247: =IF(L247>0,IF(H247="Ne treba raditi na predm.",P247,P247*(K247/(K247-L247))),P247) -> 0 | W247: =IF(Q247="","",IF(C247="Ne","",IF(H247="Ne treba raditi na predm.","",IF(D247="Da",IF((Q246+Q247)>1,30,IF((V246)="",IF((Q246+Q247)>0.9,25,IF((Q246+Q247)>0.8,20,IF((Q246+Q247)>0.7,15,IF((Q246+Q247)>0.6,10,IF((Q246+Q247)>0.5,5,0))))),IF((V246+V247)>0.94,30,IF((V246+V247)>0.9,25,IF((V246+V247)>0.8,20,IF((V246+V247)>0.7,15,IF((V246+V247)>0.6,10,IF((V246+V247)>0.5,5,0)))))))),IF((Q246+Q247)>1,40,IF(V247="",IF((Q246+Q247)>0.95,35,IF((Q246+Q247)>0.9,30,IF((Q246+Q247)>0.8,20,IF((Q246+Q247)>0.7,15,IF((Q246+Q247)>0.6,10,IF((Q246+Q247)>0.5,5,0)))))),IF((V246+V247)>0.94,40,IF((V246+V247)>0.9,35,IF((V246+V247)>0.8,30,IF((V246+V247)>0.7,20,IF((V246+V247)>0.6,15,IF((V246+V247)>0.5,10,0)))))))))))) -> 0
A248: Ime i prezime nosioca pravosudne funkcije | P248: Ukupna ostvarena orijentacijska norma koja se unosi u Obrazac za ocjenjivanje = | Q248: =Q249+Q250 -> 0
A249: Sud 1 | G249: =IF(F249="Sudija",1,IF(F249="Stručni saradnik",1,"")) | P249: =IF(H249="",0,IF(H249="Ne treba raditi na predm.",1+SUM(M249:O249),(SUM(M249:O249)/H249))) -> 0 | Q249: =IF(L249>0,IF(H249="Ne treba raditi na predm.",P249,P249*(K249/(K249-L249))),P249) -> 0 | V249: =IF(R249="","",(S249+S250)/(R249+R250-T249-T250)) | W249: =IF(Q249="","",IF(C249="Ne","",IF(H249="Ne treba raditi na predm.","",IF(D249="Da",IF((Q249+Q250)>1,30,IF((V249)="",IF((Q249+Q250)>0.9,25,IF((Q249+Q250)>0.8,20,IF((Q249+Q250)>0.7,15,IF((Q249+Q250)>0.6,10,IF((Q249+Q250)>0.5,5,0))))),IF((V249+V250)>0.94,30,IF((V249+V250)>0.9,25,IF((V249+V250)>0.8,20,IF((V249+V250)>0.7,15,IF((V249+V250)>0.6,10,IF((V249+V250)>0.5,5,0)))))))),IF((Q249+Q250)>1,40,IF(V249="",IF((Q249+Q250)>0.95,35,IF((Q249+Q250)>0.9,30,IF((Q249+Q250)>0.8,20,IF((Q249+Q250)>0.7,15,IF((Q249+Q250)>0.6,10,IF((Q249+Q250)>0.5,5,0)))))),IF((V249+V250)>0.94,40,IF((V249+V250)>0.9,35,IF((V249+V250)>0.8,30,IF((V249+V250)>0.7,20,IF((V249+V250)>0.6,15,IF((V249+V250)>0.5,10,0)))))))))))) -> 0
A250: Sud 2 | G250: =IF(F250="Sudija",1,IF(F250="Stručni saradnik",1,"")) | P250: =IF(H250="",0,IF(H250="Ne treba raditi na predm.",1+SUM(M250:O250),(SUM(M250:O250)/H250))) -> 0 | Q250: =IF(L250>0,IF(H250="Ne treba raditi na predm.",P250,P250*(K250/(K250-L250))),P250) -> 0 | W250: =IF(Q250="","",IF(C250="Ne","",IF(H250="Ne treba raditi na predm.","",IF(D250="Da",IF((Q249+Q250)>1,30,IF((V249)="",IF((Q249+Q250)>0.9,25,IF((Q249+Q250)>0.8,20,IF((Q249+Q250)>0.7,15,IF((Q249+Q250)>0.6,10,IF((Q249+Q250)>0.5,5,0))))),IF((V249+V250)>0.94,30,IF((V249+V250)>0.9,25,IF((V249+V250)>0.8,20,IF((V249+V250)>0.7,15,IF((V249+V250)>0.6,10,IF((V249+V250)>0.5,5,0)))))))),IF((Q249+Q250)>1,40,IF(V250="",IF((Q249+Q250)>0.95,35,IF((Q249+Q250)>0.9,30,IF((Q249+Q250)>0.8,20,IF((Q249+Q250)>0.7,15,IF((Q249+Q250)>0.6,10,IF((Q249+Q250)>0.5,5,0)))))),IF((V249+V250)>0.94,40,IF((V249+V250)>0.9,35,IF((V249+V250)>0.8,30,IF((V249+V250)>0.7,20,IF((V249+V250)>0.6,15,IF((V249+V250)>0.5,10,0)))))))))))) -> 0
A251: Ime i prezime nosioca pravosudne funkcije | P251: Ukupna ostvarena orijentacijska norma koja se unosi u Obrazac za ocjenjivanje = | Q251: =Q252+Q253 -> 0
A252: Sud 1 | G252: =IF(F252="Sudija",1,IF(F252="Stručni saradnik",1,"")) | P252: =IF(H252="",0,IF(H252="Ne treba raditi na predm.",1+SUM(M252:O252),(SUM(M252:O252)/H252))) -> 0 | Q252: =IF(L252>0,IF(H252="Ne treba raditi na predm.",P252,P252*(K252/(K252-L252))),P252) -> 0 | V252: =IF(R252="","",(S252+S253)/(R252+R253-T252-T253)) | W252: =IF(Q252="","",IF(C252="Ne","",IF(H252="Ne treba raditi na predm.","",IF(D252="Da",IF((Q252+Q253)>1,30,IF((V252)="",IF((Q252+Q253)>0.9,25,IF((Q252+Q253)>0.8,20,IF((Q252+Q253)>0.7,15,IF((Q252+Q253)>0.6,10,IF((Q252+Q253)>0.5,5,0))))),IF((V252+V253)>0.94,30,IF((V252+V253)>0.9,25,IF((V252+V253)>0.8,20,IF((V252+V253)>0.7,15,IF((V252+V253)>0.6,10,IF((V252+V253)>0.5,5,0)))))))),IF((Q252+Q253)>1,40,IF(V252="",IF((Q252+Q253)>0.95,35,IF((Q252+Q253)>0.9,30,IF((Q252+Q253)>0.8,20,IF((Q252+Q253)>0.7,15,IF((Q252+Q253)>0.6,10,IF((Q252+Q253)>0.5,5,0)))))),IF((V252+V253)>0.94,40,IF((V252+V253)>0.9,35,IF((V252+V253)>0.8,30,IF((V252+V253)>0.7,20,IF((V252+V253)>0.6,15,IF((V252+V253)>0.5,10,0)))))))))))) -> 0
A253: Sud 2 | G253: =IF(F253="Sudija",1,IF(F253="Stručni saradnik",1,"")) | P253: =IF(H253="",0,IF(H253="Ne treba raditi na predm.",1+SUM(M253:O253),(SUM(M253:O253)/H253))) -> 0 | Q253: =IF(L253>0,IF(H253="Ne treba raditi na predm.",P253,P253*(K253/(K253-L253))),P253) -> 0 | W253: =IF(Q253="","",IF(C253="Ne","",IF(H253="Ne treba raditi na predm.","",IF(D253="Da",IF((Q252+Q253)>1,30,IF((V252)="",IF((Q252+Q253)>0.9,25,IF((Q252+Q253)>0.8,20,IF((Q252+Q253)>0.7,15,IF((Q252+Q253)>0.6,10,IF((Q252+Q253)>0.5,5,0))))),IF((V252+V253)>0.94,30,IF((V252+V253)>0.9,25,IF((V252+V253)>0.8,20,IF((V252+V253)>0.7,15,IF((V252+V253)>0.6,10,IF((V252+V253)>0.5,5,0)))))))),IF((Q252+Q253)>1,40,IF(V253="",IF((Q252+Q253)>0.95,35,IF((Q252+Q253)>0.9,30,IF((Q252+Q253)>0.8,20,IF((Q252+Q253)>0.7,15,IF((Q252+Q253)>0.6,10,IF((Q252+Q253)>0.5,5,0)))))),IF((V252+V253)>0.94,40,IF((V252+V253)>0.9,35,IF((V252+V253)>0.8,30,IF((V252+V253)>0.7,20,IF((V252+V253)>0.6,15,IF((V252+V253)>0.5,10,0)))))))))))) -> 0
A254: Ime i prezime nosioca pravosudne funkcije | P254: Ukupna ostvarena orijentacijska norma koja se unosi u Obrazac za ocjenjivanje = | Q254: =Q255+Q256 -> 0
A255: Sud 1 | G255: =IF(F255="Sudija",1,IF(F255="Stručni saradnik",1,"")) | P255: =IF(H255="",0,IF(H255="Ne treba raditi na predm.",1+SUM(M255:O255),(SUM(M255:O255)/H255))) -> 0 | Q255: =IF(L255>0,IF(H255="Ne treba raditi na predm.",P255,P255*(K255/(K255-L255))),P255) -> 0 | V255: =IF(R255="","",(S255+S256)/(R255+R256-T255-T256)) | W255: =IF(Q255="","",IF(C255="Ne","",IF(H255="Ne treba raditi na predm.","",IF(D255="Da",IF((Q255+Q256)>1,30,IF((V255)="",IF((Q255+Q256)>0.9,25,IF((Q255+Q256)>0.8,20,IF((Q255+Q256)>0.7,15,IF((Q255+Q256)>0.6,10,IF((Q255+Q256)>0.5,5,0))))),IF((V255+V256)>0.94,30,IF((V255+V256)>0.9,25,IF((V255+V256)>0.8,20,IF((V255+V256)>0.7,15,IF((V255+V256)>0.6,10,IF((V255+V256)>0.5,5,0)))))))),IF((Q255+Q256)>1,40,IF(V255="",IF((Q255+Q256)>0.95,35,IF((Q255+Q256)>0.9,30,IF((Q255+Q256)>0.8,20,IF((Q255+Q256)>0.7,15,IF((Q255+Q256)>0.6,10,IF((Q255+Q256)>0.5,5,0)))))),IF((V255+V256)>0.94,40,IF((V255+V256)>0.9,35,IF((V255+V256)>0.8,30,IF((V255+V256)>0.7,20,IF((V255+V256)>0.6,15,IF((V255+V256)>0.5,10,0)))))))))))) -> 0
A256: Sud 2 | G256: =IF(F256="Sudija",1,IF(F256="Stručni saradnik",1,"")) | P256: =IF(H256="",0,IF(H256="Ne treba raditi na predm.",1+SUM(M256:O256),(SUM(M256:O256)/H256))) -> 0 | Q256: =IF(L256>0,IF(H256="Ne treba raditi na predm.",P256,P256*(K256/(K256-L256))),P256) -> 0 | W256: =IF(Q256="","",IF(C256="Ne","",IF(H256="Ne treba raditi na predm.","",IF(D256="Da",IF((Q255+Q256)>1,30,IF((V255)="",IF((Q255+Q256)>0.9,25,IF((Q255+Q256)>0.8,20,IF((Q255+Q256)>0.7,15,IF((Q255+Q256)>0.6,10,IF((Q255+Q256)>0.5,5,0))))),IF((V255+V256)>0.94,30,IF((V255+V256)>0.9,25,IF((V255+V256)>0.8,20,IF((V255+V256)>0.7,15,IF((V255+V256)>0.6,10,IF((V255+V256)>0.5,5,0)))))))),IF((Q255+Q256)>1,40,IF(V256="",IF((Q255+Q256)>0.95,35,IF((Q255+Q256)>0.9,30,IF((Q255+Q256)>0.8,20,IF((Q255+Q256)>0.7,15,IF((Q255+Q256)>0.6,10,IF((Q255+Q256)>0.5,5,0)))))),IF((V255+V256)>0.94,40,IF((V255+V256)>0.9,35,IF((V255+V256)>0.8,30,IF((V255+V256)>0.7,20,IF((V255+V256)>0.6,15,IF((V255+V256)>0.5,10,0)))))))))))) -> 0
A257: Ime i prezime nosioca pravosudne funkcije | P257: Ukupna ostvarena orijentacijska norma koja se unosi u Obrazac za ocjenjivanje = | Q257: =Q258+Q259 -> 0
A258: Sud 1 | G258: =IF(F258="Sudija",1,IF(F258="Stručni saradnik",1,"")) | P258: =IF(H258="",0,IF(H258="Ne treba raditi na predm.",1+SUM(M258:O258),(SUM(M258:O258)/H258))) -> 0 | Q258: =IF(L258>0,IF(H258="Ne treba raditi na predm.",P258,P258*(K258/(K258-L258))),P258) -> 0 | V258: =IF(R258="","",(S258+S259)/(R258+R259-T258-T259)) | W258: =IF(Q258="","",IF(C258="Ne","",IF(H258="Ne treba raditi na predm.","",IF(D258="Da",IF((Q258+Q259)>1,30,IF((V258)="",IF((Q258+Q259)>0.9,25,IF((Q258+Q259)>0.8,20,IF((Q258+Q259)>0.7,15,IF((Q258+Q259)>0.6,10,IF((Q258+Q259)>0.5,5,0))))),IF((V258+V259)>0.94,30,IF((V258+V259)>0.9,25,IF((V258+V259)>0.8,20,IF((V258+V259)>0.7,15,IF((V258+V259)>0.6,10,IF((V258+V259)>0.5,5,0)))))))),IF((Q258+Q259)>1,40,IF(V258="",IF((Q258+Q259)>0.95,35,IF((Q258+Q259)>0.9,30,IF((Q258+Q259)>0.8,20,IF((Q258+Q259)>0.7,15,IF((Q258+Q259)>0.6,10,IF((Q258+Q259)>0.5,5,0)))))),IF((V258+V259)>0.94,40,IF((V258+V259)>0.9,35,IF((V258+V259)>0.8,30,IF((V258+V259)>0.7,20,IF((V258+V259)>0.6,15,IF((V258+V259)>0.5,10,0)))))))))))) -> 0
A259: Sud 2 | G259: =IF(F259="Sudija",1,IF(F259="Stručni saradnik",1,"")) | P259: =IF(H259="",0,IF(H259="Ne treba raditi na predm.",1+SUM(M259:O259),(SUM(M259:O259)/H259))) -> 0 | Q259: =IF(L259>0,IF(H259="Ne treba raditi na predm.",P259,P259*(K259/(K259-L259))),P259) -> 0 | W259: =IF(Q259="","",IF(C259="Ne","",IF(H259="Ne treba raditi na predm.","",IF(D259="Da",IF((Q258+Q259)>1,30,IF((V258)="",IF((Q258+Q259)>0.9,25,IF((Q258+Q259)>0.8,20,IF((Q258+Q259)>0.7,15,IF((Q258+Q259)>0.6,10,IF((Q258+Q259)>0.5,5,0))))),IF((V258+V259)>0.94,30,IF((V258+V259)>0.9,25,IF((V258+V259)>0.8,20,IF((V258+V259)>0.7,15,IF((V258+V259)>0.6,10,IF((V258+V259)>0.5,5,0)))))))),IF((Q258+Q259)>1,40,IF(V259="",IF((Q258+Q259)>0.95,35,IF((Q258+Q259)>0.9,30,IF((Q258+Q259)>0.8,20,IF((Q258+Q259)>0.7,15,IF((Q258+Q259)>0.6,10,IF((Q258+Q259)>0.5,5,0)))))),IF((V258+V259)>0.94,40,IF((V258+V259)>0.9,35,IF((V258+V259)>0.8,30,IF((V258+V259)>0.7,20,IF((V258+V259)>0.6,15,IF((V258+V259)>0.5,10,0)))))))))))) -> 0
A260: Ime i prezime nosioca pravosudne funkcije | P260: Ukupna ostvarena orijentacijska norma koja se unosi u Obrazac za ocjenjivanje = | Q260: =Q261+Q262 -> 0
A261: Sud 1 | G261: =IF(F261="Sudija",1,IF(F261="Stručni saradnik",1,"")) | P261: =IF(H261="",0,IF(H261="Ne treba raditi na predm.",1+SUM(M261:O261),(SUM(M261:O261)/H261))) -> 0 | Q261: =IF(L261>0,IF(H261="Ne treba raditi na predm.",P261,P261*(K261/(K261-L261))),P261) -> 0 | V261: =IF(R261="","",(S261+S262)/(R261+R262-T261-T262)) | W261: =IF(Q261="","",IF(C261="Ne","",IF(H261="Ne treba raditi na predm.","",IF(D261="Da",IF((Q261+Q262)>1,30,IF((V261)="",IF((Q261+Q262)>0.9,25,IF((Q261+Q262)>0.8,20,IF((Q261+Q262)>0.7,15,IF((Q261+Q262)>0.6,10,IF((Q261+Q262)>0.5,5,0))))),IF((V261+V262)>0.94,30,IF((V261+V262)>0.9,25,IF((V261+V262)>0.8,20,IF((V261+V262)>0.7,15,IF((V261+V262)>0.6,10,IF((V261+V262)>0.5,5,0)))))))),IF((Q261+Q262)>1,40,IF(V261="",IF((Q261+Q262)>0.95,35,IF((Q261+Q262)>0.9,30,IF((Q261+Q262)>0.8,20,IF((Q261+Q262)>0.7,15,IF((Q261+Q262)>0.6,10,IF((Q261+Q262)>0.5,5,0)))))),IF((V261+V262)>0.94,40,IF((V261+V262)>0.9,35,IF((V261+V262)>0.8,30,IF((V261+V262)>0.7,20,IF((V261+V262)>0.6,15,IF((V261+V262)>0.5,10,0)))))))))))) -> 0
A262: Sud 2 | G262: =IF(F262="Sudija",1,IF(F262="Stručni saradnik",1,"")) | P262: =IF(H262="",0,IF(H262="Ne treba raditi na predm.",1+SUM(M262:O262),(SUM(M262:O262)/H262))) -> 0 | Q262: =IF(L262>0,IF(H262="Ne treba raditi na predm.",P262,P262*(K262/(K262-L262))),P262) -> 0 | W262: =IF(Q262="","",IF(C262="Ne","",IF(H262="Ne treba raditi na predm.","",IF(D262="Da",IF((Q261+Q262)>1,30,IF((V261)="",IF((Q261+Q262)>0.9,25,IF((Q261+Q262)>0.8,20,IF((Q261+Q262)>0.7,15,IF((Q261+Q262)>0.6,10,IF((Q261+Q262)>0.5,5,0))))),IF((V261+V262)>0.94,30,IF((V261+V262)>0.9,25,IF((V261+V262)>0.8,20,IF((V261+V262)>0.7,15,IF((V261+V262)>0.6,10,IF((V261+V262)>0.5,5,0)))))))),IF((Q261+Q262)>1,40,IF(V262="",IF((Q261+Q262)>0.95,35,IF((Q261+Q262)>0.9,30,IF((Q261+Q262)>0.8,20,IF((Q261+Q262)>0.7,15,IF((Q261+Q262)>0.6,10,IF((Q261+Q262)>0.5,5,0)))))),IF((V261+V262)>0.94,40,IF((V261+V262)>0.9,35,IF((V261+V262)>0.8,30,IF((V261+V262)>0.7,20,IF((V261+V262)>0.6,15,IF((V261+V262)>0.5,10,0)))))))))))) -> 0
A263: Ime i prezime nosioca pravosudne funkcije | P263: Ukupna ostvarena orijentacijska norma koja se unosi u Obrazac za ocjenjivanje = | Q263: =Q264+Q265 -> 0
A264: Sud 1 | G264: =IF(F264="Sudija",1,IF(F264="Stručni saradnik",1,"")) | P264: =IF(H264="",0,IF(H264="Ne treba raditi na predm.",1+SUM(M264:O264),(SUM(M264:O264)/H264))) -> 0 | Q264: =IF(L264>0,IF(H264="Ne treba raditi na predm.",P264,P264*(K264/(K264-L264))),P264) -> 0 | V264: =IF(R264="","",(S264+S265)/(R264+R265-T264-T265)) | W264: =IF(Q264="","",IF(C264="Ne","",IF(H264="Ne treba raditi na predm.","",IF(D264="Da",IF((Q264+Q265)>1,30,IF((V264)="",IF((Q264+Q265)>0.9,25,IF((Q264+Q265)>0.8,20,IF((Q264+Q265)>0.7,15,IF((Q264+Q265)>0.6,10,IF((Q264+Q265)>0.5,5,0))))),IF((V264+V265)>0.94,30,IF((V264+V265)>0.9,25,IF((V264+V265)>0.8,20,IF((V264+V265)>0.7,15,IF((V264+V265)>0.6,10,IF((V264+V265)>0.5,5,0)))))))),IF((Q264+Q265)>1,40,IF(V264="",IF((Q264+Q265)>0.95,35,IF((Q264+Q265)>0.9,30,IF((Q264+Q265)>0.8,20,IF((Q264+Q265)>0.7,15,IF((Q264+Q265)>0.6,10,IF((Q264+Q265)>0.5,5,0)))))),IF((V264+V265)>0.94,40,IF((V264+V265)>0.9,35,IF((V264+V265)>0.8,30,IF((V264+V265)>0.7,20,IF((V264+V265)>0.6,15,IF((V264+V265)>0.5,10,0)))))))))))) -> 0
A265: Sud 2 | G265: =IF(F265="Sudija",1,IF(F265="Stručni saradnik",1,"")) | P265: =IF(H265="",0,IF(H265="Ne treba raditi na predm.",1+SUM(M265:O265),(SUM(M265:O265)/H265))) -> 0 | Q265: =IF(L265>0,IF(H265="Ne treba raditi na predm.",P265,P265*(K265/(K265-L265))),P265) -> 0 | W265: =IF(Q265="","",IF(C265="Ne","",IF(H265="Ne treba raditi na predm.","",IF(D265="Da",IF((Q264+Q265)>1,30,IF((V264)="",IF((Q264+Q265)>0.9,25,IF((Q264+Q265)>0.8,20,IF((Q264+Q265)>0.7,15,IF((Q264+Q265)>0.6,10,IF((Q264+Q265)>0.5,5,0))))),IF((V264+V265)>0.94,30,IF((V264+V265)>0.9,25,IF((V264+V265)>0.8,20,IF((V264+V265)>0.7,15,IF((V264+V265)>0.6,10,IF((V264+V265)>0.5,5,0)))))))),IF((Q264+Q265)>1,40,IF(V265="",IF((Q264+Q265)>0.95,35,IF((Q264+Q265)>0.9,30,IF((Q264+Q265)>0.8,20,IF((Q264+Q265)>0.7,15,IF((Q264+Q265)>0.6,10,IF((Q264+Q265)>0.5,5,0)))))),IF((V264+V265)>0.94,40,IF((V264+V265)>0.9,35,IF((V264+V265)>0.8,30,IF((V264+V265)>0.7,20,IF((V264+V265)>0.6,15,IF((V264+V265)>0.5,10,0)))))))))))) -> 0
A266: Ime i prezime nosioca pravosudne funkcije | P266: Ukupna ostvarena orijentacijska norma koja se unosi u Obrazac za ocjenjivanje = | Q266: =Q267+Q268 -> 0
A267: Sud 1 | G267: =IF(F267="Sudija",1,IF(F267="Stručni saradnik",1,"")) | P267: =IF(H267="",0,IF(H267="Ne treba raditi na predm.",1+SUM(M267:O267),(SUM(M267:O267)/H267))) -> 0 | Q267: =IF(L267>0,IF(H267="Ne treba raditi na predm.",P267,P267*(K267/(K267-L267))),P267) -> 0 | V267: =IF(R267="","",(S267+S268)/(R267+R268-T267-T268)) | W267: =IF(Q267="","",IF(C267="Ne","",IF(H267="Ne treba raditi na predm.","",IF(D267="Da",IF((Q267+Q268)>1,30,IF((V267)="",IF((Q267+Q268)>0.9,25,IF((Q267+Q268)>0.8,20,IF((Q267+Q268)>0.7,15,IF((Q267+Q268)>0.6,10,IF((Q267+Q268)>0.5,5,0))))),IF((V267+V268)>0.94,30,IF((V267+V268)>0.9,25,IF((V267+V268)>0.8,20,IF((V267+V268)>0.7,15,IF((V267+V268)>0.6,10,IF((V267+V268)>0.5,5,0)))))))),IF((Q267+Q268)>1,40,IF(V267="",IF((Q267+Q268)>0.95,35,IF((Q267+Q268)>0.9,30,IF((Q267+Q268)>0.8,20,IF((Q267+Q268)>0.7,15,IF((Q267+Q268)>0.6,10,IF((Q267+Q268)>0.5,5,0)))))),IF((V267+V268)>0.94,40,IF((V267+V268)>0.9,35,IF((V267+V268)>0.8,30,IF((V267+V268)>0.7,20,IF((V267+V268)>0.6,15,IF((V267+V268)>0.5,10,0)))))))))))) -> 0
A268: Sud 2 | G268: =IF(F268="Sudija",1,IF(F268="Stručni saradnik",1,"")) | P268: =IF(H268="",0,IF(H268="Ne treba raditi na predm.",1+SUM(M268:O268),(SUM(M268:O268)/H268))) -> 0 | Q268: =IF(L268>0,IF(H268="Ne treba raditi na predm.",P268,P268*(K268/(K268-L268))),P268) -> 0 | W268: =IF(Q268="","",IF(C268="Ne","",IF(H268="Ne treba raditi na predm.","",IF(D268="Da",IF((Q267+Q268)>1,30,IF((V267)="",IF((Q267+Q268)>0.9,25,IF((Q267+Q268)>0.8,20,IF((Q267+Q268)>0.7,15,IF((Q267+Q268)>0.6,10,IF((Q267+Q268)>0.5,5,0))))),IF((V267+V268)>0.94,30,IF((V267+V268)>0.9,25,IF((V267+V268)>0.8,20,IF((V267+V268)>0.7,15,IF((V267+V268)>0.6,10,IF((V267+V268)>0.5,5,0)))))))),IF((Q267+Q268)>1,40,IF(V268="",IF((Q267+Q268)>0.95,35,IF((Q267+Q268)>0.9,30,IF((Q267+Q268)>0.8,20,IF((Q267+Q268)>0.7,15,IF((Q267+Q268)>0.6,10,IF((Q267+Q268)>0.5,5,0)))))),IF((V267+V268)>0.94,40,IF((V267+V268)>0.9,35,IF((V267+V268)>0.8,30,IF((V267+V268)>0.7,20,IF((V267+V268)>0.6,15,IF((V267+V268)>0.5,10,0)))))))))))) -> 0
A269: Ime i prezime nosioca pravosudne funkcije | P269: Ukupna ostvarena orijentacijska norma koja se unosi u Obrazac za ocjenjivanje = | Q269: =Q270+Q271 -> 0
A270: Sud 1 | G270: =IF(F270="Sudija",1,IF(F270="Stručni saradnik",1,"")) | P270: =IF(H270="",0,IF(H270="Ne treba raditi na predm.",1+SUM(M270:O270),(SUM(M270:O270)/H270))) -> 0 | Q270: =IF(L270>0,IF(H270="Ne treba raditi na predm.",P270,P270*(K270/(K270-L270))),P270) -> 0 | V270: =IF(R270="","",(S270+S271)/(R270+R271-T270-T271)) | W270: =IF(Q270="","",IF(C270="Ne","",IF(H270="Ne treba raditi na predm.","",IF(D270="Da",IF((Q270+Q271)>1,30,IF((V270)="",IF((Q270+Q271)>0.9,25,IF((Q270+Q271)>0.8,20,IF((Q270+Q271)>0.7,15,IF((Q270+Q271)>0.6,10,IF((Q270+Q271)>0.5,5,0))))),IF((V270+V271)>0.94,30,IF((V270+V271)>0.9,25,IF((V270+V271)>0.8,20,IF((V270+V271)>0.7,15,IF((V270+V271)>0.6,10,IF((V270+V271)>0.5,5,0)))))))),IF((Q270+Q271)>1,40,IF(V270="",IF((Q270+Q271)>0.95,35,IF((Q270+Q271)>0.9,30,IF((Q270+Q271)>0.8,20,IF((Q270+Q271)>0.7,15,IF((Q270+Q271)>0.6,10,IF((Q270+Q271)>0.5,5,0)))))),IF((V270+V271)>0.94,40,IF((V270+V271)>0.9,35,IF((V270+V271)>0.8,30,IF((V270+V271)>0.7,20,IF((V270+V271)>0.6,15,IF((V270+V271)>0.5,10,0)))))))))))) -> 0
A271: Sud 2 | G271: =IF(F271="Sudija",1,IF(F271="Stručni saradnik",1,"")) | P271: =IF(H271="",0,IF(H271="Ne treba raditi na predm.",1+SUM(M271:O271),(SUM(M271:O271)/H271))) -> 0 | Q271: =IF(L271>0,IF(H271="Ne treba raditi na predm.",P271,P271*(K271/(K271-L271))),P271) -> 0 | W271: =IF(Q271="","",IF(C271="Ne","",IF(H271="Ne treba raditi na predm.","",IF(D271="Da",IF((Q270+Q271)>1,30,IF((V270)="",IF((Q270+Q271)>0.9,25,IF((Q270+Q271)>0.8,20,IF((Q270+Q271)>0.7,15,IF((Q270+Q271)>0.6,10,IF((Q270+Q271)>0.5,5,0))))),IF((V270+V271)>0.94,30,IF((V270+V271)>0.9,25,IF((V270+V271)>0.8,20,IF((V270+V271)>0.7,15,IF((V270+V271)>0.6,10,IF((V270+V271)>0.5,5,0)))))))),IF((Q270+Q271)>1,40,IF(V271="",IF((Q270+Q271)>0.95,35,IF((Q270+Q271)>0.9,30,IF((Q270+Q271)>0.8,20,IF((Q270+Q271)>0.7,15,IF((Q270+Q271)>0.6,10,IF((Q270+Q271)>0.5,5,0)))))),IF((V270+V271)>0.94,40,IF((V270+V271)>0.9,35,IF((V270+V271)>0.8,30,IF((V270+V271)>0.7,20,IF((V270+V271)>0.6,15,IF((V270+V271)>0.5,10,0)))))))))))) -> 0
A272: Ime i prezime nosioca pravosudne funkcije | P272: Ukupna ostvarena orijentacijska norma koja se unosi u Obrazac za ocjenjivanje = | Q272: =Q273+Q274 -> 0
A273: Sud 1 | G273: =IF(F273="Sudija",1,IF(F273="Stručni saradnik",1,"")) | P273: =IF(H273="",0,IF(H273="Ne treba raditi na predm.",1+SUM(M273:O273),(SUM(M273:O273)/H273))) -> 0 | Q273: =IF(L273>0,IF(H273="Ne treba raditi na predm.",P273,P273*(K273/(K273-L273))),P273) -> 0 | V273: =IF(R273="","",(S273+S274)/(R273+R274-T273-T274)) | W273: =IF(Q273="","",IF(C273="Ne","",IF(H273="Ne treba raditi na predm.","",IF(D273="Da",IF((Q273+Q274)>1,30,IF((V273)="",IF((Q273+Q274)>0.9,25,IF((Q273+Q274)>0.8,20,IF((Q273+Q274)>0.7,15,IF((Q273+Q274)>0.6,10,IF((Q273+Q274)>0.5,5,0))))),IF((V273+V274)>0.94,30,IF((V273+V274)>0.9,25,IF((V273+V274)>0.8,20,IF((V273+V274)>0.7,15,IF((V273+V274)>0.6,10,IF((V273+V274)>0.5,5,0)))))))),IF((Q273+Q274)>1,40,IF(V273="",IF((Q273+Q274)>0.95,35,IF((Q273+Q274)>0.9,30,IF((Q273+Q274)>0.8,20,IF((Q273+Q274)>0.7,15,IF((Q273+Q274)>0.6,10,IF((Q273+Q274)>0.5,5,0)))))),IF((V273+V274)>0.94,40,IF((V273+V274)>0.9,35,IF((V273+V274)>0.8,30,IF((V273+V274)>0.7,20,IF((V273+V274)>0.6,15,IF((V273+V274)>0.5,10,0)))))))))))) -> 0
A274: Sud 2 | G274: =IF(F274="Sudija",1,IF(F274="Stručni saradnik",1,"")) | P274: =IF(H274="",0,IF(H274="Ne treba raditi na predm.",1+SUM(M274:O274),(SUM(M274:O274)/H274))) -> 0 | Q274: =IF(L274>0,IF(H274="Ne treba raditi na predm.",P274,P274*(K274/(K274-L274))),P274) -> 0 | W274: =IF(Q274="","",IF(C274="Ne","",IF(H274="Ne treba raditi na predm.","",IF(D274="Da",IF((Q273+Q274)>1,30,IF((V273)="",IF((Q273+Q274)>0.9,25,IF((Q273+Q274)>0.8,20,IF((Q273+Q274)>0.7,15,IF((Q273+Q274)>0.6,10,IF((Q273+Q274)>0.5,5,0))))),IF((V273+V274)>0.94,30,IF((V273+V274)>0.9,25,IF((V273+V274)>0.8,20,IF((V273+V274)>0.7,15,IF((V273+V274)>0.6,10,IF((V273+V274)>0.5,5,0)))))))),IF((Q273+Q274)>1,40,IF(V274="",IF((Q273+Q274)>0.95,35,IF((Q273+Q274)>0.9,30,IF((Q273+Q274)>0.8,20,IF((Q273+Q274)>0.7,15,IF((Q273+Q274)>0.6,10,IF((Q273+Q274)>0.5,5,0)))))),IF((V273+V274)>0.94,40,IF((V273+V274)>0.9,35,IF((V273+V274)>0.8,30,IF((V273+V274)>0.7,20,IF((V273+V274)>0.6,15,IF((V273+V274)>0.5,10,0)))))))))))) -> 0
A275: Ime i prezime nosioca pravosudne funkcije | P275: Ukupna ostvarena orijentacijska norma koja se unosi u Obrazac za ocjenjivanje = | Q275: =Q276+Q277 -> 0
A276: Sud 1 | G276: =IF(F276="Sudija",1,IF(F276="Stručni saradnik",1,"")) | P276: =IF(H276="",0,IF(H276="Ne treba raditi na predm.",1+SUM(M276:O276),(SUM(M276:O276)/H276))) -> 0 | Q276: =IF(L276>0,IF(H276="Ne treba raditi na predm.",P276,P276*(K276/(K276-L276))),P276) -> 0 | V276: =IF(R276="","",(S276+S277)/(R276+R277-T276-T277)) | W276: =IF(Q276="","",IF(C276="Ne","",IF(H276="Ne treba raditi na predm.","",IF(D276="Da",IF((Q276+Q277)>1,30,IF((V276)="",IF((Q276+Q277)>0.9,25,IF((Q276+Q277)>0.8,20,IF((Q276+Q277)>0.7,15,IF((Q276+Q277)>0.6,10,IF((Q276+Q277)>0.5,5,0))))),IF((V276+V277)>0.94,30,IF((V276+V277)>0.9,25,IF((V276+V277)>0.8,20,IF((V276+V277)>0.7,15,IF((V276+V277)>0.6,10,IF((V276+V277)>0.5,5,0)))))))),IF((Q276+Q277)>1,40,IF(V276="",IF((Q276+Q277)>0.95,35,IF((Q276+Q277)>0.9,30,IF((Q276+Q277)>0.8,20,IF((Q276+Q277)>0.7,15,IF((Q276+Q277)>0.6,10,IF((Q276+Q277)>0.5,5,0)))))),IF((V276+V277)>0.94,40,IF((V276+V277)>0.9,35,IF((V276+V277)>0.8,30,IF((V276+V277)>0.7,20,IF((V276+V277)>0.6,15,IF((V276+V277)>0.5,10,0)))))))))))) -> 0
A277: Sud 2 | G277: =IF(F277="Sudija",1,IF(F277="Stručni saradnik",1,"")) | P277: =IF(H277="",0,IF(H277="Ne treba raditi na predm.",1+SUM(M277:O277),(SUM(M277:O277)/H277))) -> 0 | Q277: =IF(L277>0,IF(H277="Ne treba raditi na predm.",P277,P277*(K277/(K277-L277))),P277) -> 0 | W277: =IF(Q277="","",IF(C277="Ne","",IF(H277="Ne treba raditi na predm.","",IF(D277="Da",IF((Q276+Q277)>1,30,IF((V276)="",IF((Q276+Q277)>0.9,25,IF((Q276+Q277)>0.8,20,IF((Q276+Q277)>0.7,15,IF((Q276+Q277)>0.6,10,IF((Q276+Q277)>0.5,5,0))))),IF((V276+V277)>0.94,30,IF((V276+V277)>0.9,25,IF((V276+V277)>0.8,20,IF((V276+V277)>0.7,15,IF((V276+V277)>0.6,10,IF((V276+V277)>0.5,5,0)))))))),IF((Q276+Q277)>1,40,IF(V277="",IF((Q276+Q277)>0.95,35,IF((Q276+Q277)>0.9,30,IF((Q276+Q277)>0.8,20,IF((Q276+Q277)>0.7,15,IF((Q276+Q277)>0.6,10,IF((Q276+Q277)>0.5,5,0)))))),IF((V276+V277)>0.94,40,IF((V276+V277)>0.9,35,IF((V276+V277)>0.8,30,IF((V276+V277)>0.7,20,IF((V276+V277)>0.6,15,IF((V276+V277)>0.5,10,0)))))))))))) -> 0
A278: Ime i prezime nosioca pravosudne funkcije | P278: Ukupna ostvarena orijentacijska norma koja se unosi u Obrazac za ocjenjivanje = | Q278: =Q279+Q280 -> 0
A279: Sud 1 | G279: =IF(F279="Sudija",1,IF(F279="Stručni saradnik",1,"")) | P279: =IF(H279="",0,IF(H279="Ne treba raditi na predm.",1+SUM(M279:O279),(SUM(M279:O279)/H279))) -> 0 | Q279: =IF(L279>0,IF(H279="Ne treba raditi na predm.",P279,P279*(K279/(K279-L279))),P279) -> 0 | V279: =IF(R279="","",(S279+S280)/(R279+R280-T279-T280)) | W279: =IF(Q279="","",IF(C279="Ne","",IF(H279="Ne treba raditi na predm.","",IF(D279="Da",IF((Q279+Q280)>1,30,IF((V279)="",IF((Q279+Q280)>0.9,25,IF((Q279+Q280)>0.8,20,IF((Q279+Q280)>0.7,15,IF((Q279+Q280)>0.6,10,IF((Q279+Q280)>0.5,5,0))))),IF((V279+V280)>0.94,30,IF((V279+V280)>0.9,25,IF((V279+V280)>0.8,20,IF((V279+V280)>0.7,15,IF((V279+V280)>0.6,10,IF((V279+V280)>0.5,5,0)))))))),IF((Q279+Q280)>1,40,IF(V279="",IF((Q279+Q280)>0.95,35,IF((Q279+Q280)>0.9,30,IF((Q279+Q280)>0.8,20,IF((Q279+Q280)>0.7,15,IF((Q279+Q280)>0.6,10,IF((Q279+Q280)>0.5,5,0)))))),IF((V279+V280)>0.94,40,IF((V279+V280)>0.9,35,IF((V279+V280)>0.8,30,IF((V279+V280)>0.7,20,IF((V279+V280)>0.6,15,IF((V279+V280)>0.5,10,0)))))))))))) -> 0
A280: Sud 2 | G280: =IF(F280="Sudija",1,IF(F280="Stručni saradnik",1,"")) | P280: =IF(H280="",0,IF(H280="Ne treba raditi na predm.",1+SUM(M280:O280),(SUM(M280:O280)/H280))) -> 0 | Q280: =IF(L280>0,IF(H280="Ne treba raditi na predm.",P280,P280*(K280/(K280-L280))),P280) -> 0 | W280: =IF(Q280="","",IF(C280="Ne","",IF(H280="Ne treba raditi na predm.","",IF(D280="Da",IF((Q279+Q280)>1,30,IF((V279)="",IF((Q279+Q280)>0.9,25,IF((Q279+Q280)>0.8,20,IF((Q279+Q280)>0.7,15,IF((Q279+Q280)>0.6,10,IF((Q279+Q280)>0.5,5,0))))),IF((V279+V280)>0.94,30,IF((V279+V280)>0.9,25,IF((V279+V280)>0.8,20,IF((V279+V280)>0.7,15,IF((V279+V280)>0.6,10,IF((V279+V280)>0.5,5,0)))))))),IF((Q279+Q280)>1,40,IF(V280="",IF((Q279+Q280)>0.95,35,IF((Q279+Q280)>0.9,30,IF((Q279+Q280)>0.8,20,IF((Q279+Q280)>0.7,15,IF((Q279+Q280)>0.6,10,IF((Q279+Q280)>0.5,5,0)))))),IF((V279+V280)>0.94,40,IF((V279+V280)>0.9,35,IF((V279+V280)>0.8,30,IF((V279+V280)>0.7,20,IF((V279+V280)>0.6,15,IF((V279+V280)>0.5,10,0)))))))))))) -> 0
A281: Ime i prezime nosioca pravosudne funkcije | P281: Ukupna ostvarena orijentacijska norma koja se unosi u Obrazac za ocjenjivanje = | Q281: =Q282+Q283 -> 0
A282: Sud 1 | G282: =IF(F282="Sudija",1,IF(F282="Stručni saradnik",1,"")) | P282: =IF(H282="",0,IF(H282="Ne treba raditi na predm.",1+SUM(M282:O282),(SUM(M282:O282)/H282))) -> 0 | Q282: =IF(L282>0,IF(H282="Ne treba raditi na predm.",P282,P282*(K282/(K282-L282))),P282) -> 0 | V282: =IF(R282="","",(S282+S283)/(R282+R283-T282-T283)) | W282: =IF(Q282="","",IF(C282="Ne","",IF(H282="Ne treba raditi na predm.","",IF(D282="Da",IF((Q282+Q283)>1,30,IF((V282)="",IF((Q282+Q283)>0.9,25,IF((Q282+Q283)>0.8,20,IF((Q282+Q283)>0.7,15,IF((Q282+Q283)>0.6,10,IF((Q282+Q283)>0.5,5,0))))),IF((V282+V283)>0.94,30,IF((V282+V283)>0.9,25,IF((V282+V283)>0.8,20,IF((V282+V283)>0.7,15,IF((V282+V283)>0.6,10,IF((V282+V283)>0.5,5,0)))))))),IF((Q282+Q283)>1,40,IF(V282="",IF((Q282+Q283)>0.95,35,IF((Q282+Q283)>0.9,30,IF((Q282+Q283)>0.8,20,IF((Q282+Q283)>0.7,15,IF((Q282+Q283)>0.6,10,IF((Q282+Q283)>0.5,5,0)))))),IF((V282+V283)>0.94,40,IF((V282+V283)>0.9,35,IF((V282+V283)>0.8,30,IF((V282+V283)>0.7,20,IF((V282+V283)>0.6,15,IF((V282+V283)>0.5,10,0)))))))))))) -> 0
...

Sheet Tabela III
A1: Općinski/Osnovni sud: | B1: ='Tabela I'!C1 -> 0
A2: Izvještajni period: | B2: ='Tabela I'!C2 -> 1.1.2025.- 31.12.2025.
A3: Tabela III - Kvalitet sudskih odluka po vrstama predmeta
A4: Vrsta predmeta | B4: Broj donesenih odluka na koje se može izjaviti pravni lijek | C4: Ukupan broj ožalbenih odluka | D4: Broj odbačenih pravnih lijekova | E4: Broj potvrđenih odluka | F4: Broj preinačenih odluka | G4: Broj preinačenih odluka donijetih nakon održane glavne rasprave ili pretresa pred drugostepenim sudom | H4: Broj ukinutih odluka | I4: Broj djelimično ukinutih odluka | J4: Kvalitet sudskih odluka | K4: Broj presuda koje su ukinute i predmet vraćen na ponovno suđenje
E5: Odbijen pravni lijek
B6: I | C6: II=IV+V+VI+ VII+VIII) | D6: III | E6: IV | F6: V | G6: VI | H6: VII | I6: VIII | J6: IX1 | K6: X
A7: Parnični referat
A8: P | C8: =E8+F8+G8+H8+I8 -> 0 | J8: =IF(C8=0,"",IF(B8=0,1,0.7*((C8-H8-I8/2)/C8)+0.3*((B8-G8-H8-I8/2)/B8)))
A9: Mal | C9: =E9+F9+G9+H9+I9 -> 0 | J9: =IF(C9=0,"",IF(B9=0,1,0.7*((C9-H9-I9/2)/C9)+0.3*((B9-G9-H9-I9/2)/B9)))
A10: Radni sporovi | C10: =E10+F10+G10+H10+I10 -> 0 | J10: =IF(C10=0,"",IF(B10=0,1,0.7*((C10-H10-I10/2)/C10)+0.3*((B10-G10-H10-I10/2)/B10)))
A11: Pom | C11: =E11+F11+G11+H11+I11 -> 0 | J11: =IF(C11=0,"",IF(B11=0,1,0.7*((C11-H11-I11/2)/C11)+0.3*((B11-G11-H11-I11/2)/B11)))
A12: Ostalo | C12: =E12+F12+G12+H12+I12 -> 0 | J12: =IF(C12=0,"",IF(B12=0,1,0.7*((C12-H12-I12/2)/C12)+0.3*((B12-G12-H12-I12/2)/B12)))
A13: Privredni referat
A14: Ps | C14: =E14+F14+G14+H14+I14 -> 0 | J14: =IF(C14=0,"",IF(B14=0,1,0.7*((C14-H14-I14/2)/C14)+0.3*((B14-G14-H14-I14/2)/B14)))
A15: Mals | C15: =E15+F15+G15+H15+I15 -> 0 | J15: =IF(C15=0,"",IF(B15=0,1,0.7*((C15-H15-I15/2)/C15)+0.3*((B15-G15-H15-I15/2)/B15)))
A16: L | C16: =E16+F16+G16+H16+I16 -> 0 | J16: =IF(C16=0,"",IF(B16=0,1,0.7*((C16-H16-I16/2)/C16)+0.3*((B16-G16-H16-I16/2)/B16)))
A17: Ls | C17: =E17+F17+G17+H17+I17 -> 0 | J17: =IF(C17=0,"",IF(B17=0,1,0.7*((C17-H17-I17/2)/C17)+0.3*((B17-G17-H17-I17/2)/B17)))
A18: St | C18: =E18+F18+G18+H18+I18 -> 0 | J18: =IF(C18=0,"",IF(B18=0,1,0.7*((C18-H18-I18/2)/C18)+0.3*((B18-G18-H18-I18/2)/B18)))
A19: Ostalo | C19: =E19+F19+G19+H19+I19 -> 0 | J19: =IF(C19=0,"",IF(B19=0,1,0.7*((C19-H19-I19/2)/C19)+0.3*((B19-G19-H19-I19/2)/B19)))
A20: Krivični referat
A21: K | C21: =E21+F21+G21+H21+I21 -> 0 | J21: =IF(C21=0,"",IF(B21=0,1,0.7*((C21-H21-I21/2)/C21)+0.3*((B21-G21-H21-I21/2)/B21)))
A22: Kpp | C22: =E22+F22+G22+H22+I22 -> 0 | J22: =IF(C22=0,"",IF(B22=0,1,0.7*((C22-H22-I22/2)/C22)+0.3*((B22-G22-H22-I22/2)/B22)))
A23: Kps | C23: =E23+F23+G23+H23+I23 -> 0 | J23: =IF(C23=0,"",IF(B23=0,1,0.7*((C23-H23-I23/2)/C23)+0.3*((B23-G23-H23-I23/2)/B23)))
A24: Kzs | C24: =E24+F24+G24+H24+I24 -> 0 | J24: =IF(C24=0,"",IF(B24=0,1,0.7*((C24-H24-I24/2)/C24)+0.3*((B24-G24-H24-I24/2)/B24)))
A25: Kbs | C25: =E25+F25+G25+H25+I25 -> 0 | J25: =IF(C25=0,"",IF(B25=0,1,0.7*((C25-H25-I25/2)/C25)+0.3*((B25-G25-H25-I25/2)/B25)))
A26: Km | C26: =E26+F26+G26+H26+I26 -> 0 | J26: =IF(C26=0,"",IF(B26=0,1,0.7*((C26-H26-I26/2)/C26)+0.3*((B26-G26-H26-I26/2)/B26)))
A27: Kv | C27: =E27+F27+G27+H27+I27 -> 0 | J27: =IF(C27=0,"",IF(B27=0,1,0.7*((C27-H27-I27/2)/C27)+0.3*((B27-G27-H27-I27/2)/B27)))
A28: Kvl | C28: =E28+F28+G28+H28+I28 -> 0 | J28: =IF(C28=0,"",IF(B28=0,1,0.7*((C28-H28-I28/2)/C28)+0.3*((B28-G28-H28-I28/2)/B28)))
A29: Kp | C29: =E29+F29+G29+H29+I29 -> 0 | J29: =IF(C29=0,"",IF(B29=0,1,0.7*((C29-H29-I29/2)/C29)+0.3*((B29-G29-H29-I29/2)/B29)))
A30: Iks | C30: =E30+F30+G30+H30+I30 -> 0 | J30: =IF(C30=0,"",IF(B30=0,1,0.7*((C30-H30-I30/2)/C30)+0.3*((B30-G30-H30-I30/2)/B30)))
A31: Pom | C31: =E31+F31+G31+H31+I31 -> 0 | J31: =IF(C31=0,"",IF(B31=0,1,0.7*((C31-H31-I31/2)/C31)+0.3*((B31-G31-H31-I31/2)/B31)))
A32: Ostalo | C32: =E32+F32+G32+H32+I32 -> 0 | J32: =IF(C32=0,"",IF(B32=0,1,0.7*((C32-H32-I32/2)/C32)+0.3*((B32-G32-H32-I32/2)/B32)))
A33: Izvršni referat
A34: I | C34: =E34+F34+G34+H34+I34 -> 0 | J34: =IF(C34=0,"",IF(B34=0,1,0.7*((C34-H34-I34/2)/C34)+0.3*((B34-G34-H34-I34/2)/B34)))
A35: Ip | C35: =E35+F35+G35+H35+I35 -> 0 | J35: =IF(C35=0,"",IF(B35=0,1,0.7*((C35-H35-I35/2)/C35)+0.3*((B35-G35-H35-I35/2)/B35)))
A36: Ostalo | C36: =E36+F36+G36+H36+I36 -> 0 | J36: =IF(C36=0,"",IF(B36=0,1,0.7*((C36-H36-I36/2)/C36)+0.3*((B36-G36-H36-I36/2)/B36)))
A37: Vanparnični referat
A38: V | C38: =E38+F38+G38+H38+I38 -> 0 | J38: =IF(C38=0,"",IF(B38=0,1,0.7*((C38-H38-I38/2)/C38)+0.3*((B38-G38-H38-I38/2)/B38)))
A39: O | C39: =E39+F39+G39+H39+I39 -> 0 | J39: =IF(C39=0,"",IF(B39=0,1,0.7*((C39-H39-I39/2)/C39)+0.3*((B39-G39-H39-I39/2)/B39)))
A40: Ostalo | C40: =E40+F40+G40+H40+I40 -> 0 | J40: =IF(C40=0,"",IF(B40=0,1,0.7*((C40-H40-I40/2)/C40)+0.3*((B40-G40-H40-I40/2)/B40)))
A41: Prekršajno odjeljenje
A42: Pr | C42: =E42+F42+G42+H42+I42 -> 0 | J42: =IF(C42=0,"",IF(B42=0,1,0.7*((C42-H42-I42/2)/C42)+0.3*((B42-G42-H42-I42/2)/B42)))
A43: Ostalo | C43: =E43+F43+G43+H43+I43 -> 0 | J43: =IF(C43=0,"",IF(B43=0,1,0.7*((C43-H43-I43/2)/C43)+0.3*((B43-G43-H43-I43/2)/B43)))
A45: Registracija poslovnih subjekata | C45: =E45+F45+G45+H45+I45 -> 0 | J45: =IF(C45=0,"",IF(B45=0,1,0.7*((C45-H45-I45/2)/C45)+0.3*((B45-G45-H45-I45/2)/B45)))
A47: Ukupno | B47: =SUM(B8:B12)+SUM(B14:B19)+SUM(B21:B32)+SUM(B34:B36)+SUM(B38:B40)+B42+B43+B45 -> 0 | C47: =SUM(C8:C12)+SUM(C14:C19)+SUM(C21:C32)+SUM(C34:C36)+SUM(C38:C40)+C42+C43+C45 -> 0 | D47: =SUM(D8:D12)+SUM(D14:D19)+SUM(D21:D32)+SUM(D34:D36)+SUM(D38:D40)+D42+D43+D45 -> 0 | E47: =SUM(E8:E12)+SUM(E14:E19)+SUM(E21:E32)+SUM(E34:E36)+SUM(E38:E40)+E42+E43+E45 -> 0 | F47: =SUM(F8:F12)+SUM(F14:F19)+SUM(F21:F32)+SUM(F34:F36)+SUM(F38:F40)+F42+F43+F45 -> 0 | G47: =SUM(G8:G12)+SUM(G14:G19)+SUM(G21:G32)+SUM(G34:G36)+SUM(G38:G40)+G42+G43+G45 -> 0 | H47: =SUM(H8:H12)+SUM(H14:H19)+SUM(H21:H32)+SUM(H34:H36)+SUM(H38:H40)+H42+H43+H45 -> 0 | I47: =SUM(I8:I12)+SUM(I14:I19)+SUM(I21:I32)+SUM(I34:I36)+SUM(I38:I40)+I42+I43+I45 -> 0 | J47: =IF(C47=0,"",IF(B47=0,1,0.7*((C47-H47-I47/2)/C47)+0.3*((B47-G47-H47-I47/2)/B47))) | K47: =SUM(K8:K12)+SUM(K14:K19)+SUM(K21:K32)+SUM(K34:K36)+SUM(K38:K40)+K42+K43+K45 -> 0
A49: Ukupno 2024.* | C49: Obrazloženje:
A50: * Unesite podatak o Ukupnom broju donesenih odluka na koje se može izjaviti pravni lijek iz izvještaja koji ste dostavili za 2024. godinu. Ukoliko je razlika u Ukupnom broju donesenih odluka na koje se može izjaviti pravni lijek u periodu 2025/2024 veća od 20% aktiviraće se kontrolnik i potrebno je da obrazložite uzroke za nastanak te razlike.
A57: 1 Kvalitet rada sudskih odluka se automatski obračunava u skladu sa članom 19. Kriterija za ocjenjivanje rada sudija u BiH. Slijedi tekst za pojašnjenje formule za obračun kvaliteta sudskih odluka: (70% * (Ukupan broj ožalbenih odluka - Broj ukinutih odluka - Broj djelimično ukinutih odluka/2) / Ukupan broj ožalbenih odluka) + (30% * (Broj donesenih odluka na koje se može izjaviti pravni lijek - Broj preinačenih odluka donijetih nakon održane glavne raspave ili pretresa pred drugostepenim sudom - Broj ukinutih odluka - Broj djelimično ukinutih odluka/2) / Broj donesenih odluka na koje se može izjaviti pravni lijek).
A59: NAPOMENA: U Tabelu III se unose podaci o kvalitetu odluka za sve nosilace pravosudne funkcije koji su u toku godine obavljali funkciju u sudu, bez obzira na period obavljanja funkcije u sudu. U Tabelu se unose podaci za sve nosioce pravosudne funkcije: koji su obavljali funkciju u sudu cijelu godinu, koji su imenovani u sud u toku godine, koji su prešli u drugi sud u toku godine (bez obzira na nivo suda), kao i podaci za nosioce pravosudne funkcije koji su prestali obavljati funkciju u sudu zbog odlaska u penziju u 2025. godini ili iz drugih razloga (ostavke, razrješenja), a u 2025. godini su donosili odluke na koje se može izjaviti pravni lijek, i/ili sud je nakon prestanka obavljanja funkcije zaprimio žalbene odluke od strane višeg suda po izjavljenom pravnom lijeku na odluke bivšeg nosioca pravosudne funckije. Na taj način se pravilno obračunava kolektivni kvalitet odluka u sudu.
A66: NAPOMENA: U broj donesenih odluka na koje se može izjaviti pravni lijek (Kolona I) i broj ukinutih odluka (Kolona VII) prilikom računanja procenta ukinutih odluka iz člana 19. stav (1) tačka a) i b) Kriterija za ocjenjivanje rada sudija u BiH neće se uzimati u obračun odluke koje su ukinute u sadržajno nebitnom dijelu odnosno ako je odluka ukinuta ili se smatra ukinutom zbog toga što je instancioni sud nakon donošenja ispitivane odluke izmijenio sudsku praksu, u skladu s stavom (3) navedenog člana Kriterija.

Sheet Tabela IIIa
A1: =+'Tabela I'!A1 -> Općinski/Osnovni sud: | D1: =+'Tabela I'!C1 -> 0
A2: Izvještajni period: | D2: =+'Tabela I'!C2 -> 1.1.2025.- 31.12.2025.
A3: Tabela IIIa - Kvalitet sudskih odluka po nosiocima pravosudnih funkcija - Elektronski obrazac za obračun kvaliteta odluka (pogledati NAPOMENU 2 i 3)
A5: Redni broj | B5: Ime i prezime - podatak je automatski prenesen iz Tabele IIa - OBAVEZNO ZADRŽATI REDOSLIJED NPF-a iz Tabele IIa | C5: Pravosudna funkcija | D5: Ocijenjen / Nije ocijenjen u sudu | E5: Ukupan broj donesenih odluka na koje se može izjaviti pravni lijek | F5: Ukupan broj ožalbenih odluka | G5: Broj odbačenih pravnih lijekova*** | H5: Broj potvrđenih odluka | I5: Broj preinačenih odluka | J5: Broj preinačenih odluka donijetih nakon održane glavne rasprave ili pretresa pred drugostepenim sudom | K5: Broj ukinutih odluka | L5: Broj djelimično ukinutih odluka | M5: Kvalitet sudskih odluka prema članu 19. stav 1. tačka a) | N5: Broj ostvarenih bodova za kvalitet prema članu 19. stav 1. tačka a) | O5: Kvalitet sudskih odluka prema članu 19. stav 1. tačka b) | P5: Broj ostvarenih bodova za kvalitet prema članu 19. stav 1. tačka b) | Q5: UKUPAN broj ostvarenih bodova za kvalitet sudskih odluka
H6: Odbijen pravni lijek
A7: I | B7: II | C7: III | D7: IV | E7: V | F7: VI | G7: VII | H7: VIII | I7: IX | J7: X | K7: XI | L7: XII | M7: XIII | N7: XIV | O7: XV | P7: XVI | Q7: XVII
A9: 1 | B9: =IF('Tabela II'!B8="","",'Tabela II'!B8) | C9: Predsjednik suda * | F9: =SUM(H9:L9) -> 0 | M9: =IF(D9="","",IF(D9="Nije ocijenjen ili Ne treba raditi na predmetima","",IF(D9="Ocijenjen",IF(F9<10,"Član 26. stav 7. Kriterija",(K9+(L9/2))/(F9))))) | N9: =IF(D9="","",IF(D9="Nije ocijenjen ili Ne treba raditi na predmetima","",IF(D9="Ocijenjen",IF(M9="Član 26. stav 7. Kriterija","",IF(M9>0.4,0,IF(M9>0.3,2,IF(M9>0.2,3,IF(M9>0.1,4,IF(M9<=0.1,5,))))))))) | O9: =IF(D9="","",IF(D9="Nije ocijenjen ili Ne treba raditi na predmetima","",IF(D9="Ocijenjen",IF(E9=0,"",((K9+J9+(L9/2))/(E9)))))) | P9: =IF(D9="","",IF(D9="Nije ocijenjen ili Ne treba raditi na predmetima","",IF(D9="Ocijenjen",IF(O9>0.2,0,IF(O9>0.15,1,IF(O9>0.1,2,IF(O9>0.06,3,IF(O9>0.03,4,IF(O9<=0.03,5,))))))))) | Q9: =IF(D9="","",IF(D9="Nije ocijenjen ili Ne treba raditi na predmetima","",IF(D9="Ocijenjen",IF(M9="Član 26. stav 7. Kriterija",P9,N9+P9)))) | U9: Ocijenjen
A10: 2 | B10: =IF('Tabela II'!B10="","",'Tabela II'!B10) | F10: =SUM(H10:L10) -> 0 | M10: =IF(D10="","",IF(D10="Nije ocijenjen","",IF(D10="Ocijenjen",IF(F10<10,"Član 19. stav 7. Kriterija",(K10+(L10/2))/(F10))))) | N10: =IF(D10="","",IF(D10="Nije ocijenjen","",IF(D10="Ocijenjen",IF(M10="Član 19. stav 7. Kriterija","",IF(M10>0.5,0,IF(M10>0.4,9,IF(M10>0.3,18,IF(M10>0.15,26,IF(M10<=0.15,35,))))))))) | O10: =IF(D10="","",IF(D10="Nije ocijenjen","",IF(D10="Ocijenjen",IF(E10=0,"",((K10+J10+(L10/2))/(E10)))))) | P10: =IF(D10="","",IF(D10="Nije ocijenjen","",IF(D10="Ocijenjen",IF(O10>0.2,0,IF(O10>0.15,3,IF(O10>0.1,6,IF(O10>0.06,9,IF(O10>0.03,12,IF(O10<=0.03,15,))))))))) | Q10: =IF(D10="","",IF(D10="Nije ocijenjen","",IF(D10="Ocijenjen",IF(M10="Član 19. stav 7. Kriterija",P10,N10+P10)))) | S10: Sudija | U10: Nije ocijenjen
A11: 3 | B11: =IF('Tabela II'!B11="","",'Tabela II'!B11) | F11: =SUM(H11:L11) -> 0 | M11: =IF(D11="","",IF(D11="Nije ocijenjen","",IF(D11="Ocijenjen",IF(F11<10,"Član 19. stav 7. Kriterija",(K11+(L11/2))/(F11))))) | N11: =IF(D11="","",IF(D11="Nije ocijenjen","",IF(D11="Ocijenjen",IF(M11="Član 19. stav 7. Kriterija","",IF(M11>0.5,0,IF(M11>0.4,9,IF(M11>0.3,18,IF(M11>0.15,26,IF(M11<=0.15,35,))))))))) | O11: =IF(D11="","",IF(D11="Nije ocijenjen","",IF(D11="Ocijenjen",IF(E11=0,"",((K11+J11+(L11/2))/(E11)))))) | P11: =IF(D11="","",IF(D11="Nije ocijenjen","",IF(D11="Ocijenjen",IF(O11>0.2,0,IF(O11>0.15,3,IF(O11>0.1,6,IF(O11>0.06,9,IF(O11>0.03,12,IF(O11<=0.03,15,))))))))) | Q11: =IF(D11="","",IF(D11="Nije ocijenjen","",IF(D11="Ocijenjen",IF(M11="Član 19. stav 7. Kriterija",P11,N11+P11)))) | S11: Stručni saradnik
A12: 4 | B12: =IF('Tabela II'!B12="","",'Tabela II'!B12) | F12: =SUM(H12:L12) -> 0 | M12: =IF(D12="","",IF(D12="Nije ocijenjen","",IF(D12="Ocijenjen",IF(F12<10,"Član 19. stav 7. Kriterija",(K12+(L12/2))/(F12))))) | N12: =IF(D12="","",IF(D12="Nije ocijenjen","",IF(D12="Ocijenjen",IF(M12="Član 19. stav 7. Kriterija","",IF(M12>0.5,0,IF(M12>0.4,9,IF(M12>0.3,18,IF(M12>0.15,26,IF(M12<=0.15,35,))))))))) | O12: =IF(D12="","",IF(D12="Nije ocijenjen","",IF(D12="Ocijenjen",IF(E12=0,"",((K12+J12+(L12/2))/(E12)))))) | P12: =IF(D12="","",IF(D12="Nije ocijenjen","",IF(D12="Ocijenjen",IF(O12>0.2,0,IF(O12>0.15,3,IF(O12>0.1,6,IF(O12>0.06,9,IF(O12>0.03,12,IF(O12<=0.03,15,))))))))) | Q12: =IF(D12="","",IF(D12="Nije ocijenjen","",IF(D12="Ocijenjen",IF(M12="Član 19. stav 7. Kriterija",P12,N12+P12)))) | S12: Predsjednik odjela
A13: 5 | B13: =IF('Tabela II'!B13="","",'Tabela II'!B13) | F13: =SUM(H13:L13) -> 0 | M13: =IF(D13="","",IF(D13="Nije ocijenjen","",IF(D13="Ocijenjen",IF(F13<10,"Član 19. stav 7. Kriterija",(K13+(L13/2))/(F13))))) | N13: =IF(D13="","",IF(D13="Nije ocijenjen","",IF(D13="Ocijenjen",IF(M13="Član 19. stav 7. Kriterija","",IF(M13>0.5,0,IF(M13>0.4,9,IF(M13>0.3,18,IF(M13>0.15,26,IF(M13<=0.15,35,))))))))) | O13: =IF(D13="","",IF(D13="Nije ocijenjen","",IF(D13="Ocijenjen",IF(E13=0,"",((K13+J13+(L13/2))/(E13)))))) | P13: =IF(D13="","",IF(D13="Nije ocijenjen","",IF(D13="Ocijenjen",IF(O13>0.2,0,IF(O13>0.15,3,IF(O13>0.1,6,IF(O13>0.06,9,IF(O13>0.03,12,IF(O13<=0.03,15,))))))))) | Q13: =IF(D13="","",IF(D13="Nije ocijenjen","",IF(D13="Ocijenjen",IF(M13="Član 19. stav 7. Kriterija",P13,N13+P13)))) | S13: Predsjednik sudskog vijeća vrhovnog suda entiteta
A14: 6 | B14: =IF('Tabela II'!B14="","",'Tabela II'!B14) | F14: =SUM(H14:L14) -> 0 | M14: =IF(D14="","",IF(D14="Nije ocijenjen","",IF(D14="Ocijenjen",IF(F14<10,"Član 19. stav 7. Kriterija",(K14+(L14/2))/(F14))))) | N14: =IF(D14="","",IF(D14="Nije ocijenjen","",IF(D14="Ocijenjen",IF(M14="Član 19. stav 7. Kriterija","",IF(M14>0.5,0,IF(M14>0.4,9,IF(M14>0.3,18,IF(M14>0.15,26,IF(M14<=0.15,35,))))))))) | O14: =IF(D14="","",IF(D14="Nije ocijenjen","",IF(D14="Ocijenjen",IF(E14=0,"",((K14+J14+(L14/2))/(E14)))))) | P14: =IF(D14="","",IF(D14="Nije ocijenjen","",IF(D14="Ocijenjen",IF(O14>0.2,0,IF(O14>0.15,3,IF(O14>0.1,6,IF(O14>0.06,9,IF(O14>0.03,12,IF(O14<=0.03,15,))))))))) | Q14: =IF(D14="","",IF(D14="Nije ocijenjen","",IF(D14="Ocijenjen",IF(M14="Član 19. stav 7. Kriterija",P14,N14+P14))))
A15: 7 | B15: =IF('Tabela II'!B15="","",'Tabela II'!B15) | F15: =SUM(H15:L15) -> 0 | M15: =IF(D15="","",IF(D15="Nije ocijenjen","",IF(D15="Ocijenjen",IF(F15<10,"Član 19. stav 7. Kriterija",(K15+(L15/2))/(F15))))) | N15: =IF(D15="","",IF(D15="Nije ocijenjen","",IF(D15="Ocijenjen",IF(M15="Član 19. stav 7. Kriterija","",IF(M15>0.5,0,IF(M15>0.4,9,IF(M15>0.3,18,IF(M15>0.15,26,IF(M15<=0.15,35,))))))))) | O15: =IF(D15="","",IF(D15="Nije ocijenjen","",IF(D15="Ocijenjen",IF(E15=0,"",((K15+J15+(L15/2))/(E15)))))) | P15: =IF(D15="","",IF(D15="Nije ocijenjen","",IF(D15="Ocijenjen",IF(O15>0.2,0,IF(O15>0.15,3,IF(O15>0.1,6,IF(O15>0.06,9,IF(O15>0.03,12,IF(O15<=0.03,15,))))))))) | Q15: =IF(D15="","",IF(D15="Nije ocijenjen","",IF(D15="Ocijenjen",IF(M15="Član 19. stav 7. Kriterija",P15,N15+P15))))
A16: 8 | B16: =IF('Tabela II'!B16="","",'Tabela II'!B16) | F16: =SUM(H16:L16) -> 0 | M16: =IF(D16="","",IF(D16="Nije ocijenjen","",IF(D16="Ocijenjen",IF(F16<10,"Član 19. stav 7. Kriterija",(K16+(L16/2))/(F16))))) | N16: =IF(D16="","",IF(D16="Nije ocijenjen","",IF(D16="Ocijenjen",IF(M16="Član 19. stav 7. Kriterija","",IF(M16>0.5,0,IF(M16>0.4,9,IF(M16>0.3,18,IF(M16>0.15,26,IF(M16<=0.15,35,))))))))) | O16: =IF(D16="","",IF(D16="Nije ocijenjen","",IF(D16="Ocijenjen",IF(E16=0,"",((K16+J16+(L16/2))/(E16)))))) | P16: =IF(D16="","",IF(D16="Nije ocijenjen","",IF(D16="Ocijenjen",IF(O16>0.2,0,IF(O16>0.15,3,IF(O16>0.1,6,IF(O16>0.06,9,IF(O16>0.03,12,IF(O16<=0.03,15,))))))))) | Q16: =IF(D16="","",IF(D16="Nije ocijenjen","",IF(D16="Ocijenjen",IF(M16="Član 19. stav 7. Kriterija",P16,N16+P16)))) | U16: Ocijenjen
A17: 9 | B17: =IF('Tabela II'!B17="","",'Tabela II'!B17) | F17: =SUM(H17:L17) -> 0 | M17: =IF(D17="","",IF(D17="Nije ocijenjen","",IF(D17="Ocijenjen",IF(F17<10,"Član 19. stav 7. Kriterija",(K17+(L17/2))/(F17))))) | N17: =IF(D17="","",IF(D17="Nije ocijenjen","",IF(D17="Ocijenjen",IF(M17="Član 19. stav 7. Kriterija","",IF(M17>0.5,0,IF(M17>0.4,9,IF(M17>0.3,18,IF(M17>0.15,26,IF(M17<=0.15,35,))))))))) | O17: =IF(D17="","",IF(D17="Nije ocijenjen","",IF(D17="Ocijenjen",IF(E17=0,"",((K17+J17+(L17/2))/(E17)))))) | P17: =IF(D17="","",IF(D17="Nije ocijenjen","",IF(D17="Ocijenjen",IF(O17>0.2,0,IF(O17>0.15,3,IF(O17>0.1,6,IF(O17>0.06,9,IF(O17>0.03,12,IF(O17<=0.03,15,))))))))) | Q17: =IF(D17="","",IF(D17="Nije ocijenjen","",IF(D17="Ocijenjen",IF(M17="Član 19. stav 7. Kriterija",P17,N17+P17)))) | U17: Nije ocijenjen ili Ne treba raditi na predmetima
A18: 10 | B18: =IF('Tabela II'!B18="","",'Tabela II'!B18) | F18: =SUM(H18:L18) -> 0 | M18: =IF(D18="","",IF(D18="Nije ocijenjen","",IF(D18="Ocijenjen",IF(F18<10,"Član 19. stav 7. Kriterija",(K18+(L18/2))/(F18))))) | N18: =IF(D18="","",IF(D18="Nije ocijenjen","",IF(D18="Ocijenjen",IF(M18="Član 19. stav 7. Kriterija","",IF(M18>0.5,0,IF(M18>0.4,9,IF(M18>0.3,18,IF(M18>0.15,26,IF(M18<=0.15,35,))))))))) | O18: =IF(D18="","",IF(D18="Nije ocijenjen","",IF(D18="Ocijenjen",IF(E18=0,"",((K18+J18+(L18/2))/(E18)))))) | P18: =IF(D18="","",IF(D18="Nije ocijenjen","",IF(D18="Ocijenjen",IF(O18>0.2,0,IF(O18>0.15,3,IF(O18>0.1,6,IF(O18>0.06,9,IF(O18>0.03,12,IF(O18<=0.03,15,))))))))) | Q18: =IF(D18="","",IF(D18="Nije ocijenjen","",IF(D18="Ocijenjen",IF(M18="Član 19. stav 7. Kriterija",P18,N18+P18))))
A19: 11 | B19: =IF('Tabela II'!B19="","",'Tabela II'!B19) | F19: =SUM(H19:L19) -> 0 | M19: =IF(D19="","",IF(D19="Nije ocijenjen","",IF(D19="Ocijenjen",IF(F19<10,"Član 19. stav 7. Kriterija",(K19+(L19/2))/(F19))))) | N19: =IF(D19="","",IF(D19="Nije ocijenjen","",IF(D19="Ocijenjen",IF(M19="Član 19. stav 7. Kriterija","",IF(M19>0.5,0,IF(M19>0.4,9,IF(M19>0.3,18,IF(M19>0.15,26,IF(M19<=0.15,35,))))))))) | O19: =IF(D19="","",IF(D19="Nije ocijenjen","",IF(D19="Ocijenjen",IF(E19=0,"",((K19+J19+(L19/2))/(E19)))))) | P19: =IF(D19="","",IF(D19="Nije ocijenjen","",IF(D19="Ocijenjen",IF(O19>0.2,0,IF(O19>0.15,3,IF(O19>0.1,6,IF(O19>0.06,9,IF(O19>0.03,12,IF(O19<=0.03,15,))))))))) | Q19: =IF(D19="","",IF(D19="Nije ocijenjen","",IF(D19="Ocijenjen",IF(M19="Član 19. stav 7. Kriterija",P19,N19+P19))))
A20: 12 | B20: =IF('Tabela II'!B20="","",'Tabela II'!B20) | F20: =SUM(H20:L20) -> 0 | M20: =IF(D20="","",IF(D20="Nije ocijenjen","",IF(D20="Ocijenjen",IF(F20<10,"Član 19. stav 7. Kriterija",(K20+(L20/2))/(F20))))) | N20: =IF(D20="","",IF(D20="Nije ocijenjen","",IF(D20="Ocijenjen",IF(M20="Član 19. stav 7. Kriterija","",IF(M20>0.5,0,IF(M20>0.4,9,IF(M20>0.3,18,IF(M20>0.15,26,IF(M20<=0.15,35,))))))))) | O20: =IF(D20="","",IF(D20="Nije ocijenjen","",IF(D20="Ocijenjen",IF(E20=0,"",((K20+J20+(L20/2))/(E20)))))) | P20: =IF(D20="","",IF(D20="Nije ocijenjen","",IF(D20="Ocijenjen",IF(O20>0.2,0,IF(O20>0.15,3,IF(O20>0.1,6,IF(O20>0.06,9,IF(O20>0.03,12,IF(O20<=0.03,15,))))))))) | Q20: =IF(D20="","",IF(D20="Nije ocijenjen","",IF(D20="Ocijenjen",IF(M20="Član 19. stav 7. Kriterija",P20,N20+P20))))
A21: 13 | B21: =IF('Tabela II'!B21="","",'Tabela II'!B21) | F21: =SUM(H21:L21) -> 0 | M21: =IF(D21="","",IF(D21="Nije ocijenjen","",IF(D21="Ocijenjen",IF(F21<10,"Član 19. stav 7. Kriterija",(K21+(L21/2))/(F21))))) | N21: =IF(D21="","",IF(D21="Nije ocijenjen","",IF(D21="Ocijenjen",IF(M21="Član 19. stav 7. Kriterija","",IF(M21>0.5,0,IF(M21>0.4,9,IF(M21>0.3,18,IF(M21>0.15,26,IF(M21<=0.15,35,))))))))) | O21: =IF(D21="","",IF(D21="Nije ocijenjen","",IF(D21="Ocijenjen",IF(E21=0,"",((K21+J21+(L21/2))/(E21)))))) | P21: =IF(D21="","",IF(D21="Nije ocijenjen","",IF(D21="Ocijenjen",IF(O21>0.2,0,IF(O21>0.15,3,IF(O21>0.1,6,IF(O21>0.06,9,IF(O21>0.03,12,IF(O21<=0.03,15,))))))))) | Q21: =IF(D21="","",IF(D21="Nije ocijenjen","",IF(D21="Ocijenjen",IF(M21="Član 19. stav 7. Kriterija",P21,N21+P21))))
A22: 14 | B22: =IF('Tabela II'!B22="","",'Tabela II'!B22) | F22: =SUM(H22:L22) -> 0 | M22: =IF(D22="","",IF(D22="Nije ocijenjen","",IF(D22="Ocijenjen",IF(F22<10,"Član 19. stav 7. Kriterija",(K22+(L22/2))/(F22))))) | N22: =IF(D22="","",IF(D22="Nije ocijenjen","",IF(D22="Ocijenjen",IF(M22="Član 19. stav 7. Kriterija","",IF(M22>0.5,0,IF(M22>0.4,9,IF(M22>0.3,18,IF(M22>0.15,26,IF(M22<=0.15,35,))))))))) | O22: =IF(D22="","",IF(D22="Nije ocijenjen","",IF(D22="Ocijenjen",IF(E22=0,"",((K22+J22+(L22/2))/(E22)))))) | P22: =IF(D22="","",IF(D22="Nije ocijenjen","",IF(D22="Ocijenjen",IF(O22>0.2,0,IF(O22>0.15,3,IF(O22>0.1,6,IF(O22>0.06,9,IF(O22>0.03,12,IF(O22<=0.03,15,))))))))) | Q22: =IF(D22="","",IF(D22="Nije ocijenjen","",IF(D22="Ocijenjen",IF(M22="Član 19. stav 7. Kriterija",P22,N22+P22))))
A23: 15 | B23: =IF('Tabela II'!B23="","",'Tabela II'!B23) | F23: =SUM(H23:L23) -> 0 | M23: =IF(D23="","",IF(D23="Nije ocijenjen","",IF(D23="Ocijenjen",IF(F23<10,"Član 19. stav 7. Kriterija",(K23+(L23/2))/(F23))))) | N23: =IF(D23="","",IF(D23="Nije ocijenjen","",IF(D23="Ocijenjen",IF(M23="Član 19. stav 7. Kriterija","",IF(M23>0.5,0,IF(M23>0.4,9,IF(M23>0.3,18,IF(M23>0.15,26,IF(M23<=0.15,35,))))))))) | O23: =IF(D23="","",IF(D23="Nije ocijenjen","",IF(D23="Ocijenjen",IF(E23=0,"",((K23+J23+(L23/2))/(E23)))))) | P23: =IF(D23="","",IF(D23="Nije ocijenjen","",IF(D23="Ocijenjen",IF(O23>0.2,0,IF(O23>0.15,3,IF(O23>0.1,6,IF(O23>0.06,9,IF(O23>0.03,12,IF(O23<=0.03,15,))))))))) | Q23: =IF(D23="","",IF(D23="Nije ocijenjen","",IF(D23="Ocijenjen",IF(M23="Član 19. stav 7. Kriterija",P23,N23+P23))))
A24: 16 | B24: =IF('Tabela II'!B24="","",'Tabela II'!B24) | F24: =SUM(H24:L24) -> 0 | M24: =IF(D24="","",IF(D24="Nije ocijenjen","",IF(D24="Ocijenjen",IF(F24<10,"Član 19. stav 7. Kriterija",(K24+(L24/2))/(F24))))) | N24: =IF(D24="","",IF(D24="Nije ocijenjen","",IF(D24="Ocijenjen",IF(M24="Član 19. stav 7. Kriterija","",IF(M24>0.5,0,IF(M24>0.4,9,IF(M24>0.3,18,IF(M24>0.15,26,IF(M24<=0.15,35,))))))))) | O24: =IF(D24="","",IF(D24="Nije ocijenjen","",IF(D24="Ocijenjen",IF(E24=0,"",((K24+J24+(L24/2))/(E24)))))) | P24: =IF(D24="","",IF(D24="Nije ocijenjen","",IF(D24="Ocijenjen",IF(O24>0.2,0,IF(O24>0.15,3,IF(O24>0.1,6,IF(O24>0.06,9,IF(O24>0.03,12,IF(O24<=0.03,15,))))))))) | Q24: =IF(D24="","",IF(D24="Nije ocijenjen","",IF(D24="Ocijenjen",IF(M24="Član 19. stav 7. Kriterija",P24,N24+P24))))
A25: 17 | B25: =IF('Tabela II'!B25="","",'Tabela II'!B25) | F25: =SUM(H25:L25) -> 0 | M25: =IF(D25="","",IF(D25="Nije ocijenjen","",IF(D25="Ocijenjen",IF(F25<10,"Član 19. stav 7. Kriterija",(K25+(L25/2))/(F25))))) | N25: =IF(D25="","",IF(D25="Nije ocijenjen","",IF(D25="Ocijenjen",IF(M25="Član 19. stav 7. Kriterija","",IF(M25>0.5,0,IF(M25>0.4,9,IF(M25>0.3,18,IF(M25>0.15,26,IF(M25<=0.15,35,))))))))) | O25: =IF(D25="","",IF(D25="Nije ocijenjen","",IF(D25="Ocijenjen",IF(E25=0,"",((K25+J25+(L25/2))/(E25)))))) | P25: =IF(D25="","",IF(D25="Nije ocijenjen","",IF(D25="Ocijenjen",IF(O25>0.2,0,IF(O25>0.15,3,IF(O25>0.1,6,IF(O25>0.06,9,IF(O25>0.03,12,IF(O25<=0.03,15,))))))))) | Q25: =IF(D25="","",IF(D25="Nije ocijenjen","",IF(D25="Ocijenjen",IF(M25="Član 19. stav 7. Kriterija",P25,N25+P25))))
A26: 18 | B26: =IF('Tabela II'!B26="","",'Tabela II'!B26) | F26: =SUM(H26:L26) -> 0 | M26: =IF(D26="","",IF(D26="Nije ocijenjen","",IF(D26="Ocijenjen",IF(F26<10,"Član 19. stav 7. Kriterija",(K26+(L26/2))/(F26))))) | N26: =IF(D26="","",IF(D26="Nije ocijenjen","",IF(D26="Ocijenjen",IF(M26="Član 19. stav 7. Kriterija","",IF(M26>0.5,0,IF(M26>0.4,9,IF(M26>0.3,18,IF(M26>0.15,26,IF(M26<=0.15,35,))))))))) | O26: =IF(D26="","",IF(D26="Nije ocijenjen","",IF(D26="Ocijenjen",IF(E26=0,"",((K26+J26+(L26/2))/(E26)))))) | P26: =IF(D26="","",IF(D26="Nije ocijenjen","",IF(D26="Ocijenjen",IF(O26>0.2,0,IF(O26>0.15,3,IF(O26>0.1,6,IF(O26>0.06,9,IF(O26>0.03,12,IF(O26<=0.03,15,))))))))) | Q26: =IF(D26="","",IF(D26="Nije ocijenjen","",IF(D26="Ocijenjen",IF(M26="Član 19. stav 7. Kriterija",P26,N26+P26))))
A27: 19 | B27: =IF('Tabela II'!B27="","",'Tabela II'!B27) | F27: =SUM(H27:L27) -> 0 | M27: =IF(D27="","",IF(D27="Nije ocijenjen","",IF(D27="Ocijenjen",IF(F27<10,"Član 19. stav 7. Kriterija",(K27+(L27/2))/(F27))))) | N27: =IF(D27="","",IF(D27="Nije ocijenjen","",IF(D27="Ocijenjen",IF(M27="Član 19. stav 7. Kriterija","",IF(M27>0.5,0,IF(M27>0.4,9,IF(M27>0.3,18,IF(M27>0.15,26,IF(M27<=0.15,35,))))))))) | O27: =IF(D27="","",IF(D27="Nije ocijenjen","",IF(D27="Ocijenjen",IF(E27=0,"",((K27+J27+(L27/2))/(E27)))))) | P27: =IF(D27="","",IF(D27="Nije ocijenjen","",IF(D27="Ocijenjen",IF(O27>0.2,0,IF(O27>0.15,3,IF(O27>0.1,6,IF(O27>0.06,9,IF(O27>0.03,12,IF(O27<=0.03,15,))))))))) | Q27: =IF(D27="","",IF(D27="Nije ocijenjen","",IF(D27="Ocijenjen",IF(M27="Član 19. stav 7. Kriterija",P27,N27+P27))))
A28: 20 | B28: =IF('Tabela II'!B28="","",'Tabela II'!B28) | F28: =SUM(H28:L28) -> 0 | M28: =IF(D28="","",IF(D28="Nije ocijenjen","",IF(D28="Ocijenjen",IF(F28<10,"Član 19. stav 7. Kriterija",(K28+(L28/2))/(F28))))) | N28: =IF(D28="","",IF(D28="Nije ocijenjen","",IF(D28="Ocijenjen",IF(M28="Član 19. stav 7. Kriterija","",IF(M28>0.5,0,IF(M28>0.4,9,IF(M28>0.3,18,IF(M28>0.15,26,IF(M28<=0.15,35,))))))))) | O28: =IF(D28="","",IF(D28="Nije ocijenjen","",IF(D28="Ocijenjen",IF(E28=0,"",((K28+J28+(L28/2))/(E28)))))) | P28: =IF(D28="","",IF(D28="Nije ocijenjen","",IF(D28="Ocijenjen",IF(O28>0.2,0,IF(O28>0.15,3,IF(O28>0.1,6,IF(O28>0.06,9,IF(O28>0.03,12,IF(O28<=0.03,15,))))))))) | Q28: =IF(D28="","",IF(D28="Nije ocijenjen","",IF(D28="Ocijenjen",IF(M28="Član 19. stav 7. Kriterija",P28,N28+P28))))
A29: 21 | B29: =IF('Tabela II'!B29="","",'Tabela II'!B29) | F29: =SUM(H29:L29) -> 0 | M29: =IF(D29="","",IF(D29="Nije ocijenjen","",IF(D29="Ocijenjen",IF(F29<10,"Član 19. stav 7. Kriterija",(K29+(L29/2))/(F29))))) | N29: =IF(D29="","",IF(D29="Nije ocijenjen","",IF(D29="Ocijenjen",IF(M29="Član 19. stav 7. Kriterija","",IF(M29>0.5,0,IF(M29>0.4,9,IF(M29>0.3,18,IF(M29>0.15,26,IF(M29<=0.15,35,))))))))) | O29: =IF(D29="","",IF(D29="Nije ocijenjen","",IF(D29="Ocijenjen",IF(E29=0,"",((K29+J29+(L29/2))/(E29)))))) | P29: =IF(D29="","",IF(D29="Nije ocijenjen","",IF(D29="Ocijenjen",IF(O29>0.2,0,IF(O29>0.15,3,IF(O29>0.1,6,IF(O29>0.06,9,IF(O29>0.03,12,IF(O29<=0.03,15,))))))))) | Q29: =IF(D29="","",IF(D29="Nije ocijenjen","",IF(D29="Ocijenjen",IF(M29="Član 19. stav 7. Kriterija",P29,N29+P29))))
... A168: 160 | B168: =IF('Tabela II'!B168="","",'Tabela II'!B168) | F168: =SUM(H168:L168) -> 0 | M168: =IF(D168="","",IF(D168="Nije ocijenjen","",IF(D168="Ocijenjen",IF(F168<10,"Član 19. stav 7. Kriterija",(K168+(L168/2))/(F168))))) | N168: =IF(D168="","",IF(D168="Nije ocijenjen","",IF(D168="Ocijenjen",IF(M168="Član 19. stav 7. Kriterija","",IF(M168>0.5,0,IF(M168>0.4,9,IF(M168>0.3,18,IF(M168>0.15,26,IF(M168<=0.15,35,))))))))) | O168: =IF(D168="","",IF(D168="Nije ocijenjen","",IF(D168="Ocijenjen",IF(E168=0,"",((K168+J168+(L168/2))/(E168)))))) | P168: =IF(D168="","",IF(D168="Nije ocijenjen","",IF(D168="Ocijenjen",IF(O168>0.2,0,IF(O168>0.15,3,IF(O168>0.1,6,IF(O168>0.06,9,IF(O168>0.03,12,IF(O168<=0.03,15,))))))))) | Q168: =IF(D168="","",IF(D168="Nije ocijenjen","",IF(D168="Ocijenjen",IF(M168="Član 19. stav 7. Kriterija",P168,N168+P168))))
A169: 161 | F169: =SUM(H169:L169) -> 0 | M169: =IF(D169="","",IF(D169="Nije ocijenjen","",IF(D169="Ocijenjen",IF(F169<10,"Član 19. stav 7. Kriterija",(K169+(L169/2))/(F169))))) | N169: =IF(D169="","",IF(D169="Nije ocijenjen","",IF(D169="Ocijenjen",IF(M169="Član 19. stav 7. Kriterija","",IF(M169>0.5,0,IF(M169>0.4,9,IF(M169>0.3,18,IF(M169>0.15,26,IF(M169<=0.15,35,))))))))) | O169: =IF(D169="","",IF(D169="Nije ocijenjen","",IF(D169="Ocijenjen",IF(E169=0,"",((K169+J169+(L169/2))/(E169)))))) | P169: =IF(D169="","",IF(D169="Nije ocijenjen","",IF(D169="Ocijenjen",IF(O169>0.2,0,IF(O169>0.15,3,IF(O169>0.1,6,IF(O169>0.06,9,IF(O169>0.03,12,IF(O169<=0.03,15,))))))))) | Q169: =IF(D169="","",IF(D169="Nije ocijenjen","",IF(D169="Ocijenjen",IF(M169="Član 19. stav 7. Kriterija",P169,N169+P169))))
A170: 162 | F170: =SUM(H170:L170) -> 0 | M170: =IF(D170="","",IF(D170="Nije ocijenjen","",IF(D170="Ocijenjen",IF(F170<10,"Član 19. stav 7. Kriterija",(K170+(L170/2))/(F170))))) | N170: =IF(D170="","",IF(D170="Nije ocijenjen","",IF(D170="Ocijenjen",IF(M170="Član 19. stav 7. Kriterija","",IF(M170>0.5,0,IF(M170>0.4,9,IF(M170>0.3,18,IF(M170>0.15,26,IF(M170<=0.15,35,))))))))) | O170: =IF(D170="","",IF(D170="Nije ocijenjen","",IF(D170="Ocijenjen",IF(E170=0,"",((K170+J170+(L170/2))/(E170)))))) | P170: =IF(D170="","",IF(D170="Nije ocijenjen","",IF(D170="Ocijenjen",IF(O170>0.2,0,IF(O170>0.15,3,IF(O170>0.1,6,IF(O170>0.06,9,IF(O170>0.03,12,IF(O170<=0.03,15,))))))))) | Q170: =IF(D170="","",IF(D170="Nije ocijenjen","",IF(D170="Ocijenjen",IF(M170="Član 19. stav 7. Kriterija",P170,N170+P170))))
A171: 163 | F171: =SUM(H171:L171) -> 0 | M171: =IF(D171="","",IF(D171="Nije ocijenjen","",IF(D171="Ocijenjen",IF(F171<10,"Član 19. stav 7. Kriterija",(K171+(L171/2))/(F171))))) | N171: =IF(D171="","",IF(D171="Nije ocijenjen","",IF(D171="Ocijenjen",IF(M171="Član 19. stav 7. Kriterija","",IF(M171>0.5,0,IF(M171>0.4,9,IF(M171>0.3,18,IF(M171>0.15,26,IF(M171<=0.15,35,))))))))) | O171: =IF(D171="","",IF(D171="Nije ocijenjen","",IF(D171="Ocijenjen",IF(E171=0,"",((K171+J171+(L171/2))/(E171)))))) | P171: =IF(D171="","",IF(D171="Nije ocijenjen","",IF(D171="Ocijenjen",IF(O171>0.2,0,IF(O171>0.15,3,IF(O171>0.1,6,IF(O171>0.06,9,IF(O171>0.03,12,IF(O171<=0.03,15,))))))))) | Q171: =IF(D171="","",IF(D171="Nije ocijenjen","",IF(D171="Ocijenjen",IF(M171="Član 19. stav 7. Kriterija",P171,N171+P171))))
A172: 164 | F172: =SUM(H172:L172) -> 0 | M172: =IF(D172="","",IF(D172="Nije ocijenjen","",IF(D172="Ocijenjen",IF(F172<10,"Član 19. stav 7. Kriterija",(K172+(L172/2))/(F172))))) | N172: =IF(D172="","",IF(D172="Nije ocijenjen","",IF(D172="Ocijenjen",IF(M172="Član 19. stav 7. Kriterija","",IF(M172>0.5,0,IF(M172>0.4,9,IF(M172>0.3,18,IF(M172>0.15,26,IF(M172<=0.15,35,))))))))) | O172: =IF(D172="","",IF(D172="Nije ocijenjen","",IF(D172="Ocijenjen",IF(E172=0,"",((K172+J172+(L172/2))/(E172)))))) | P172: =IF(D172="","",IF(D172="Nije ocijenjen","",IF(D172="Ocijenjen",IF(O172>0.2,0,IF(O172>0.15,3,IF(O172>0.1,6,IF(O172>0.06,9,IF(O172>0.03,12,IF(O172<=0.03,15,))))))))) | Q172: =IF(D172="","",IF(D172="Nije ocijenjen","",IF(D172="Ocijenjen",IF(M172="Član 19. stav 7. Kriterija",P172,N172+P172))))
A173: 165 | F173: =SUM(H173:L173) -> 0 | M173: =IF(D173="","",IF(D173="Nije ocijenjen","",IF(D173="Ocijenjen",IF(F173<10,"Član 19. stav 7. Kriterija",(K173+(L173/2))/(F173))))) | N173: =IF(D173="","",IF(D173="Nije ocijenjen","",IF(D173="Ocijenjen",IF(M173="Član 19. stav 7. Kriterija","",IF(M173>0.5,0,IF(M173>0.4,9,IF(M173>0.3,18,IF(M173>0.15,26,IF(M173<=0.15,35,))))))))) | O173: =IF(D173="","",IF(D173="Nije ocijenjen","",IF(D173="Ocijenjen",IF(E173=0,"",((K173+J173+(L173/2))/(E173)))))) | P173: =IF(D173="","",IF(D173="Nije ocijenjen","",IF(D173="Ocijenjen",IF(O173>0.2,0,IF(O173>0.15,3,IF(O173>0.1,6,IF(O173>0.06,9,IF(O173>0.03,12,IF(O173<=0.03,15,))))))))) | Q173: =IF(D173="","",IF(D173="Nije ocijenjen","",IF(D173="Ocijenjen",IF(M173="Član 19. stav 7. Kriterija",P173,N173+P173))))
A174: 166 | F174: =SUM(H174:L174) -> 0 | M174: =IF(D174="","",IF(D174="Nije ocijenjen","",IF(D174="Ocijenjen",IF(F174<10,"Član 19. stav 7. Kriterija",(K174+(L174/2))/(F174))))) | N174: =IF(D174="","",IF(D174="Nije ocijenjen","",IF(D174="Ocijenjen",IF(M174="Član 19. stav 7. Kriterija","",IF(M174>0.5,0,IF(M174>0.4,9,IF(M174>0.3,18,IF(M174>0.15,26,IF(M174<=0.15,35,))))))))) | O174: =IF(D174="","",IF(D174="Nije ocijenjen","",IF(D174="Ocijenjen",IF(E174=0,"",((K174+J174+(L174/2))/(E174)))))) | P174: =IF(D174="","",IF(D174="Nije ocijenjen","",IF(D174="Ocijenjen",IF(O174>0.2,0,IF(O174>0.15,3,IF(O174>0.1,6,IF(O174>0.06,9,IF(O174>0.03,12,IF(O174<=0.03,15,))))))))) | Q174: =IF(D174="","",IF(D174="Nije ocijenjen","",IF(D174="Ocijenjen",IF(M174="Član 19. stav 7. Kriterija",P174,N174+P174))))
A175: 167 | F175: =SUM(H175:L175) -> 0 | M175: =IF(D175="","",IF(D175="Nije ocijenjen","",IF(D175="Ocijenjen",IF(F175<10,"Član 19. stav 7. Kriterija",(K175+(L175/2))/(F175))))) | N175: =IF(D175="","",IF(D175="Nije ocijenjen","",IF(D175="Ocijenjen",IF(M175="Član 19. stav 7. Kriterija","",IF(M175>0.5,0,IF(M175>0.4,9,IF(M175>0.3,18,IF(M175>0.15,26,IF(M175<=0.15,35,))))))))) | O175: =IF(D175="","",IF(D175="Nije ocijenjen","",IF(D175="Ocijenjen",IF(E175=0,"",((K175+J175+(L175/2))/(E175)))))) | P175: =IF(D175="","",IF(D175="Nije ocijenjen","",IF(D175="Ocijenjen",IF(O175>0.2,0,IF(O175>0.15,3,IF(O175>0.1,6,IF(O175>0.06,9,IF(O175>0.03,12,IF(O175<=0.03,15,))))))))) | Q175: =IF(D175="","",IF(D175="Nije ocijenjen","",IF(D175="Ocijenjen",IF(M175="Član 19. stav 7. Kriterija",P175,N175+P175))))
A176: 168 | F176: =SUM(H176:L176) -> 0 | M176: =IF(D176="","",IF(D176="Nije ocijenjen","",IF(D176="Ocijenjen",IF(F176<10,"Član 19. stav 7. Kriterija",(K176+(L176/2))/(F176))))) | N176: =IF(D176="","",IF(D176="Nije ocijenjen","",IF(D176="Ocijenjen",IF(M176="Član 19. stav 7. Kriterija","",IF(M176>0.5,0,IF(M176>0.4,9,IF(M176>0.3,18,IF(M176>0.15,26,IF(M176<=0.15,35,))))))))) | O176: =IF(D176="","",IF(D176="Nije ocijenjen","",IF(D176="Ocijenjen",IF(E176=0,"",((K176+J176+(L176/2))/(E176)))))) | P176: =IF(D176="","",IF(D176="Nije ocijenjen","",IF(D176="Ocijenjen",IF(O176>0.2,0,IF(O176>0.15,3,IF(O176>0.1,6,IF(O176>0.06,9,IF(O176>0.03,12,IF(O176<=0.03,15,))))))))) | Q176: =IF(D176="","",IF(D176="Nije ocijenjen","",IF(D176="Ocijenjen",IF(M176="Član 19. stav 7. Kriterija",P176,N176+P176))))
A177: 169 | F177: =SUM(H177:L177) -> 0 | M177: =IF(D177="","",IF(D177="Nije ocijenjen","",IF(D177="Ocijenjen",IF(F177<10,"Član 19. stav 7. Kriterija",(K177+(L177/2))/(F177))))) | N177: =IF(D177="","",IF(D177="Nije ocijenjen","",IF(D177="Ocijenjen",IF(M177="Član 19. stav 7. Kriterija","",IF(M177>0.5,0,IF(M177>0.4,9,IF(M177>0.3,18,IF(M177>0.15,26,IF(M177<=0.15,35,))))))))) | O177: =IF(D177="","",IF(D177="Nije ocijenjen","",IF(D177="Ocijenjen",IF(E177=0,"",((K177+J177+(L177/2))/(E177)))))) | P177: =IF(D177="","",IF(D177="Nije ocijenjen","",IF(D177="Ocijenjen",IF(O177>0.2,0,IF(O177>0.15,3,IF(O177>0.1,6,IF(O177>0.06,9,IF(O177>0.03,12,IF(O177<=0.03,15,))))))))) | Q177: =IF(D177="","",IF(D177="Nije ocijenjen","",IF(D177="Ocijenjen",IF(M177="Član 19. stav 7. Kriterija",P177,N177+P177))))
A178: 170 | F178: =SUM(H178:L178) -> 0 | M178: =IF(D178="","",IF(D178="Nije ocijenjen","",IF(D178="Ocijenjen",IF(F178<10,"Član 19. stav 7. Kriterija",(K178+(L178/2))/(F178))))) | N178: =IF(D178="","",IF(D178="Nije ocijenjen","",IF(D178="Ocijenjen",IF(M178="Član 19. stav 7. Kriterija","",IF(M178>0.5,0,IF(M178>0.4,9,IF(M178>0.3,18,IF(M178>0.15,26,IF(M178<=0.15,35,))))))))) | O178: =IF(D178="","",IF(D178="Nije ocijenjen","",IF(D178="Ocijenjen",IF(E178=0,"",((K178+J178+(L178/2))/(E178)))))) | P178: =IF(D178="","",IF(D178="Nije ocijenjen","",IF(D178="Ocijenjen",IF(O178>0.2,0,IF(O178>0.15,3,IF(O178>0.1,6,IF(O178>0.06,9,IF(O178>0.03,12,IF(O178<=0.03,15,))))))))) | Q178: =IF(D178="","",IF(D178="Nije ocijenjen","",IF(D178="Ocijenjen",IF(M178="Član 19. stav 7. Kriterija",P178,N178+P178))))
A180: KVALITET SUDSKIH ODLUKA ** | E180: =SUM(E9:E178) -> 0 | F180: =SUM(F9:F178) -> 0 | G180: =SUM(G9:G178) -> 0 | H180: =SUM(H9:H178) -> 0 | I180: =SUM(I9:I178) -> 0 | J180: =SUM(J9:J178) -> 0 | K180: =SUM(K9:K178) -> 0 | L180: =SUM(L9:L178) -> 0 | M180: =IF(F180=0,"",0.7*((F180-K180-(L180/2))/F180)+0.3*((E180-J180-K180-(L180/2))/E180))
A184: Tabela IIIb - Obračun individualnog kvaliteta odluka za proces ocjenjivanja nosilaca pravosudnih funkcija koji su u periodu ocjenjivanja radili u dva suda (pogledati NAPOMENU 2)
A186: Upisati naziv Suda 1
A187: 1 | B187: Ime i prezime | C187: Predsjednik suda | F187: =SUM(H187:L187) -> 0
A188: Upisati naziv Suda 2
A189: =+A187 -> 1 | B189: =+B187 -> Ime i prezime | F189: =SUM(H189:L189) -> 0
A190: Individualni kvalitet NPF-a koji je radio u dva suda u toku perioda ocjenjivanja
A191: =+A187 -> 1 | B191: =+B187 -> Ime i prezime | C191: Predsjednik suda | E191: =+E187+E189 -> 0 | F191: =SUM(H191:L191) -> 0 | G191: =+G187+G189 -> 0 | H191: =+H187+H189 -> 0 | I191: =+I187+I189 -> 0 | J191: =+J187+J189 -> 0 | K191: =+K187+K189 -> 0 | L191: =+L187+L189 -> 0 | M191: =IF(D191="","",IF(D191="Nije ocijenjen ili Ne treba raditi na predmetima","",IF(D191="Ocijenjen",IF(F191<10,"Član 26. stav 7. Kriterija",(K191+(L191/2))/(F191))))) | N191: =IF(D191="","",IF(D191="Nije ocijenjen ili Ne treba raditi na predmetima","",IF(D191="Ocijenjen",IF(M191="Član 26. stav 7. Kriterija","",IF(M191>0.4,0,IF(M191>0.3,2,IF(M191>0.2,3,IF(M191>0.1,4,IF(M191<=0.1,5,))))))))) | O191: =IF(D191="","",IF(D191="Nije ocijenjen ili Ne treba raditi na predmetima","",IF(D191="Ocijenjen",IF(E191=0,"",((K191+J191+(L191/2))/(E191)))))) | P191: =IF(D191="","",IF(D191="Nije ocijenjen ili Ne treba raditi na predmetima","",IF(D191="Ocijenjen",IF(O191>0.2,0,IF(O191>0.15,1,IF(O191>0.1,2,IF(O191>0.06,3,IF(O191>0.03,4,IF(O191<=0.03,5,))))))))) | Q191: =IF(D191="","",IF(D191="Nije ocijenjen ili Ne treba raditi na predmetima","",IF(D191="Ocijenjen",IF(M191="Član 26. stav 7. Kriterija",P191,N191+P191))))
A193: Upisati naziv Suda 1
A194: 2 | B194: Ime i prezime | F194: =SUM(H194:L194) -> 0
A195: Upisati naziv Suda 2
A196: =+A194 -> 2 | B196: =+B194 -> Ime i prezime | F196: =SUM(H196:L196) -> 0
A197: Individualni kvalitet NPF-a koji je radio u dva suda u toku perioda ocjenjivanja
A198: =+A194 -> 2 | B198: =+B194 -> Ime i prezime | E198: =+E194+E196 -> 0 | F198: =SUM(H198:L198) -> 0 | G198: =+G194+G196 -> 0 | H198: =+H194+H196 -> 0 | I198: =+I194+I196 -> 0 | J198: =+J194+J196 -> 0 | K198: =+K194+K196 -> 0 | L198: =+L194+L196 -> 0 | M198: =IF(D198="","",IF(D198="Nije ocijenjen","",IF(D198="Ocijenjen",IF(F198<10,"Član 19. stav 7. Kriterija",(K198+(L198/2))/(F198))))) | N198: =IF(D198="","",IF(D198="Nije ocijenjen","",IF(D198="Ocijenjen",IF(M198="Član 19. stav 7. Kriterija","",IF(M198>0.5,0,IF(M198>0.4,9,IF(M198>0.3,18,IF(M198>0.15,26,IF(M198<=0.15,35,))))))))) | O198: =IF(D198="","",IF(D198="Nije ocijenjen","",IF(D198="Ocijenjen",IF(E198=0,"",((K198+J198+(L198/2))/(E198)))))) | P198: =IF(D198="","",IF(D198="Nije ocijenjen","",IF(D198="Ocijenjen",IF(O198>0.2,0,IF(O198>0.15,3,IF(O198>0.1,6,IF(O198>0.06,9,IF(O198>0.03,12,IF(O198<=0.03,15,))))))))) | Q198: =IF(D198="","",IF(D198="Nije ocijenjen","",IF(D198="Ocijenjen",IF(M198="Član 19. stav 7. Kriterija",P198,N198+P198))))
A200: Upisati naziv Suda 1
A201: 3 | B201: Ime i prezime | F201: =SUM(H201:L201) -> 0
A202: Upisati naziv Suda 2
A203: =+A201 -> 3 | B203: =+B201 -> Ime i prezime | F203: =SUM(H203:L203) -> 0
A204: Individualni kvalitet NPF-a koji je radio u dva suda u toku perioda ocjenjivanja
A205: =+A201 -> 3 | B205: =+B201 -> Ime i prezime | E205: =+E201+E203 -> 0 | F205: =SUM(H205:L205) -> 0 | G205: =+G201+G203 -> 0 | H205: =+H201+H203 -> 0 | I205: =+I201+I203 -> 0 | J205: =+J201+J203 -> 0 | K205: =+K201+K203 -> 0 | L205: =+L201+L203 -> 0 | M205: =IF(D205="","",IF(D205="Nije ocijenjen","",IF(D205="Ocijenjen",IF(F205<10,"Član 19. stav 7. Kriterija",(K205+(L205/2))/(F205))))) | N205: =IF(D205="","",IF(D205="Nije ocijenjen","",IF(D205="Ocijenjen",IF(M205="Član 19. stav 7. Kriterija","",IF(M205>0.5,0,IF(M205>0.4,9,IF(M205>0.3,18,IF(M205>0.15,26,IF(M205<=0.15,35,))))))))) | O205: =IF(D205="","",IF(D205="Nije ocijenjen","",IF(D205="Ocijenjen",IF(E205=0,"",((K205+J205+(L205/2))/(E205)))))) | P205: =IF(D205="","",IF(D205="Nije ocijenjen","",IF(D205="Ocijenjen",IF(O205>0.2,0,IF(O205>0.15,3,IF(O205>0.1,6,IF(O205>0.06,9,IF(O205>0.03,12,IF(O205<=0.03,15,))))))))) | Q205: =IF(D205="","",IF(D205="Nije ocijenjen","",IF(D205="Ocijenjen",IF(M205="Član 19. stav 7. Kriterija",P205,N205+P205))))
A207: Upisati naziv Suda 1
A208: 4 | B208: Ime i prezime | F208: =SUM(H208:L208) -> 0
A209: Upisati naziv Suda 2
A210: =+A208 -> 4 | B210: =+B208 -> Ime i prezime | F210: =SUM(H210:L210) -> 0
A211: Individualni kvalitet NPF-a koji je radio u dva suda u toku perioda ocjenjivanja
A212: =+A208 -> 4 | B212: =+B208 -> Ime i prezime | E212: =+E208+E210 -> 0 | F212: =SUM(H212:L212) -> 0 | G212: =+G208+G210 -> 0 | H212: =+H208+H210 -> 0 | I212: =+I208+I210 -> 0 | J212: =+J208+J210 -> 0 | K212: =+K208+K210 -> 0 | L212: =+L208+L210 -> 0 | M212: =IF(D212="","",IF(D212="Nije ocijenjen","",IF(D212="Ocijenjen",IF(F212<10,"Član 19. stav 7. Kriterija",(K212+(L212/2))/(F212))))) | N212: =IF(D212="","",IF(D212="Nije ocijenjen","",IF(D212="Ocijenjen",IF(M212="Član 19. stav 7. Kriterija","",IF(M212>0.5,0,IF(M212>0.4,9,IF(M212>0.3,18,IF(M212>0.15,26,IF(M212<=0.15,35,))))))))) | O212: =IF(D212="","",IF(D212="Nije ocijenjen","",IF(D212="Ocijenjen",IF(E212=0,"",((K212+J212+(L212/2))/(E212)))))) | P212: =IF(D212="","",IF(D212="Nije ocijenjen","",IF(D212="Ocijenjen",IF(O212>0.2,0,IF(O212>0.15,3,IF(O212>0.1,6,IF(O212>0.06,9,IF(O212>0.03,12,IF(O212<=0.03,15,))))))))) | Q212: =IF(D212="","",IF(D212="Nije ocijenjen","",IF(D212="Ocijenjen",IF(M212="Član 19. stav 7. Kriterija",P212,N212+P212))))
A214: Upisati naziv Suda 1
A215: 5 | B215: Ime i prezime | F215: =SUM(H215:L215) -> 0
A216: Upisati naziv Suda 2
A217: =+A215 -> 5 | B217: =+B215 -> Ime i prezime | F217: =SUM(H217:L217) -> 0
A218: Individualni kvalitet NPF-a koji je radio u dva suda u toku perioda ocjenjivanja
A219: =+A215 -> 5 | B219: =+B215 -> Ime i prezime | E219: =+E215+E217 -> 0 | F219: =SUM(H219:L219) -> 0 | G219: =+G215+G217 -> 0 | H219: =+H215+H217 -> 0 | I219: =+I215+I217 -> 0 | J219: =+J215+J217 -> 0 | K219: =+K215+K217 -> 0 | L219: =+L215+L217 -> 0 | M219: =IF(D219="","",IF(D219="Nije ocijenjen","",IF(D219="Ocijenjen",IF(F219<10,"Član 19. stav 7. Kriterija",(K219+(L219/2))/(F219))))) | N219: =IF(D219="","",IF(D219="Nije ocijenjen","",IF(D219="Ocijenjen",IF(M219="Član 19. stav 7. Kriterija","",IF(M219>0.5,0,IF(M219>0.4,9,IF(M219>0.3,18,IF(M219>0.15,26,IF(M219<=0.15,35,))))))))) | O219: =IF(D219="","",IF(D219="Nije ocijenjen","",IF(D219="Ocijenjen",IF(E219=0,"",((K219+J219+(L219/2))/(E219)))))) | P219: =IF(D219="","",IF(D219="Nije ocijenjen","",IF(D219="Ocijenjen",IF(O219>0.2,0,IF(O219>0.15,3,IF(O219>0.1,6,IF(O219>0.06,9,IF(O219>0.03,12,IF(O219<=0.03,15,))))))))) | Q219: =IF(D219="","",IF(D219="Nije ocijenjen","",IF(D219="Ocijenjen",IF(M219="Član 19. stav 7. Kriterija",P219,N219+P219))))
A221: Upisati naziv Suda 1
A222: 6 | B222: Ime i prezime | F222: =SUM(H222:L222) -> 0
A223: Upisati naziv Suda 2
A224: =+A222 -> 6 | B224: =+B222 -> Ime i prezime | F224: =SUM(H224:L224) -> 0
A225: Individualni kvalitet NPF-a koji je radio u dva suda u toku perioda ocjenjivanja
A226: =+A222 -> 6 | B226: =+B222 -> Ime i prezime | E226: =+E222+E224 -> 0 | F226: =SUM(H226:L226) -> 0 | G226: =+G222+G224 -> 0 | H226: =+H222+H224 -> 0 | I226: =+I222+I224 -> 0 | J226: =+J222+J224 -> 0 | K226: =+K222+K224 -> 0 | L226: =+L222+L224 -> 0 | M226: =IF(D226="","",IF(D226="Nije ocijenjen","",IF(D226="Ocijenjen",IF(F226<10,"Član 19. stav 7. Kriterija",(K226+(L226/2))/(F226))))) | N226: =IF(D226="","",IF(D226="Nije ocijenjen","",IF(D226="Ocijenjen",IF(M226="Član 19. stav 7. Kriterija","",IF(M226>0.5,0,IF(M226>0.4,9,IF(M226>0.3,18,IF(M226>0.15,26,IF(M226<=0.15,35,))))))))) | O226: =IF(D226="","",IF(D226="Nije ocijenjen","",IF(D226="Ocijenjen",IF(E226=0,"",((K226+J226+(L226/2))/(E226)))))) | P226: =IF(D226="","",IF(D226="Nije ocijenjen","",IF(D226="Ocijenjen",IF(O226>0.2,0,IF(O226>0.15,3,IF(O226>0.1,6,IF(O226>0.06,9,IF(O226>0.03,12,IF(O226<=0.03,15,))))))))) | Q226: =IF(D226="","",IF(D226="Nije ocijenjen","",IF(D226="Ocijenjen",IF(M226="Član 19. stav 7. Kriterija",P226,N226+P226))))
A228: Upisati naziv Suda 1
A229: 7 | B229: Ime i prezime | F229: =SUM(H229:L229) -> 0
A230: Upisati naziv Suda 2
A231: =+A229 -> 7 | B231: =+B229 -> Ime i prezime | F231: =SUM(H231:L231) -> 0
A232: Individualni kvalitet NPF-a koji je radio u dva suda u toku perioda ocjenjivanja
A233: =+A229 -> 7 | B233: =+B229 -> Ime i prezime | E233: =+E229+E231 -> 0 | F233: =SUM(H233:L233) -> 0 | G233: =+G229+G231 -> 0 | H233: =+H229+H231 -> 0 | I233: =+I229+I231 -> 0 | J233: =+J229+J231 -> 0 | K233: =+K229+K231 -> 0 | L233: =+L229+L231 -> 0 | M233: =IF(D233="","",IF(D233="Nije ocijenjen","",IF(D233="Ocijenjen",IF(F233<10,"Član 19. stav 7. Kriterija",(K233+(L233/2))/(F233))))) | N233: =IF(D233="","",IF(D233="Nije ocijenjen","",IF(D233="Ocijenjen",IF(M233="Član 19. stav 7. Kriterija","",IF(M233>0.5,0,IF(M233>0.4,9,IF(M233>0.3,18,IF(M233>0.15,26,IF(M233<=0.15,35,))))))))) | O233: =IF(D233="","",IF(D233="Nije ocijenjen","",IF(D233="Ocijenjen",IF(E233=0,"",((K233+J233+(L233/2))/(E233)))))) | P233: =IF(D233="","",IF(D233="Nije ocijenjen","",IF(D233="Ocijenjen",IF(O233>0.2,0,IF(O233>0.15,3,IF(O233>0.1,6,IF(O233>0.06,9,IF(O233>0.03,12,IF(O233<=0.03,15,))))))))) | Q233: =IF(D233="","",IF(D233="Nije ocijenjen","",IF(D233="Ocijenjen",IF(M233="Član 19. stav 7. Kriterija",P233,N233+P233))))
A235: Upisati naziv Suda 1
A236: 8 | B236: Ime i prezime | F236: =SUM(H236:L236) -> 0
A237: Upisati naziv Suda 2
A238: =+A236 -> 8 | B238: =+B236 -> Ime i prezime | F238: =SUM(H238:L238) -> 0
A239: Individualni kvalitet NPF-a koji je radio u dva suda u toku perioda ocjenjivanja
A240: =+A236 -> 8 | B240: =+B236 -> Ime i prezime | E240: =+E236+E238 -> 0 | F240: =SUM(H240:L240) -> 0 | G240: =+G236+G238 -> 0 | H240: =+H236+H238 -> 0 | I240: =+I236+I238 -> 0 | J240: =+J236+J238 -> 0 | K240: =+K236+K238 -> 0 | L240: =+L236+L238 -> 0 | M240: =IF(D240="","",IF(D240="Nije ocijenjen","",IF(D240="Ocijenjen",IF(F240<10,"Član 19. stav 7. Kriterija",(K240+(L240/2))/(F240))))) | N240: =IF(D240="","",IF(D240="Nije ocijenjen","",IF(D240="Ocijenjen",IF(M240="Član 19. stav 7. Kriterija","",IF(M240>0.5,0,IF(M240>0.4,9,IF(M240>0.3,18,IF(M240>0.15,26,IF(M240<=0.15,35,))))))))) | O240: =IF(D240="","",IF(D240="Nije ocijenjen","",IF(D240="Ocijenjen",IF(E240=0,"",((K240+J240+(L240/2))/(E240)))))) | P240: =IF(D240="","",IF(D240="Nije ocijenjen","",IF(D240="Ocijenjen",IF(O240>0.2,0,IF(O240>0.15,3,IF(O240>0.1,6,IF(O240>0.06,9,IF(O240>0.03,12,IF(O240<=0.03,15,))))))))) | Q240: =IF(D240="","",IF(D240="Nije ocijenjen","",IF(D240="Ocijenjen",IF(M240="Član 19. stav 7. Kriterija",P240,N240+P240))))
A242: Upisati naziv Suda 1
A243: 9 | B243: Ime i prezime | F243: =SUM(H243:L243) -> 0
A244: Upisati naziv Suda 2
A245: =+A243 -> 9 | B245: =+B243 -> Ime i prezime | F245: =SUM(H245:L245) -> 0
A246: Individualni kvalitet NPF-a koji je radio u dva suda u toku perioda ocjenjivanja
A247: =+A243 -> 9 | B247: =+B243 -> Ime i prezime | E247: =+E243+E245 -> 0 | F247: =SUM(H247:L247) -> 0 | G247: =+G243+G245 -> 0 | H247: =+H243+H245 -> 0 | I247: =+I243+I245 -> 0 | J247: =+J243+J245 -> 0 | K247: =+K243+K245 -> 0 | L247: =+L243+L245 -> 0 | M247: =IF(D247="","",IF(D247="Nije ocijenjen","",IF(D247="Ocijenjen",IF(F247<10,"Član 19. stav 7. Kriterija",(K247+(L247/2))/(F247))))) | N247: =IF(D247="","",IF(D247="Nije ocijenjen","",IF(D247="Ocijenjen",IF(M247="Član 19. stav 7. Kriterija","",IF(M247>0.5,0,IF(M247>0.4,9,IF(M247>0.3,18,IF(M247>0.15,26,IF(M247<=0.15,35,))))))))) | O247: =IF(D247="","",IF(D247="Nije ocijenjen","",IF(D247="Ocijenjen",IF(E247=0,"",((K247+J247+(L247/2))/(E247)))))) | P247: =IF(D247="","",IF(D247="Nije ocijenjen","",IF(D247="Ocijenjen",IF(O247>0.2,0,IF(O247>0.15,3,IF(O247>0.1,6,IF(O247>0.06,9,IF(O247>0.03,12,IF(O247<=0.03,15,))))))))) | Q247: =IF(D247="","",IF(D247="Nije ocijenjen","",IF(D247="Ocijenjen",IF(M247="Član 19. stav 7. Kriterija",P247,N247+P247))))
A249: Upisati naziv Suda 1
A250: 10 | B250: Ime i prezime | F250: =SUM(H250:L250) -> 0
A251: Upisati naziv Suda 2
A252: =+A250 -> 10 | B252: =+B250 -> Ime i prezime | F252: =SUM(H252:L252) -> 0
A253: Individualni kvalitet NPF-a koji je radio u dva suda u toku perioda ocjenjivanja
A254: =+A250 -> 10 | B254: =+B250 -> Ime i prezime | E254: =+E250+E252 -> 0 | F254: =SUM(H254:L254) -> 0 | G254: =+G250+G252 -> 0 | H254: =+H250+H252 -> 0 | I254: =+I250+I252 -> 0 | J254: =+J250+J252 -> 0 | K254: =+K250+K252 -> 0 | L254: =+L250+L252 -> 0 | M254: =IF(D254="","",IF(D254="Nije ocijenjen","",IF(D254="Ocijenjen",IF(F254<10,"Član 19. stav 7. Kriterija",(K254+(L254/2))/(F254))))) | N254: =IF(D254="","",IF(D254="Nije ocijenjen","",IF(D254="Ocijenjen",IF(M254="Član 19. stav 7. Kriterija","",IF(M254>0.5,0,IF(M254>0.4,9,IF(M254>0.3,18,IF(M254>0.15,26,IF(M254<=0.15,35,))))))))) | O254: =IF(D254="","",IF(D254="Nije ocijenjen","",IF(D254="Ocijenjen",IF(E254=0,"",((K254+J254+(L254/2))/(E254)))))) | P254: =IF(D254="","",IF(D254="Nije ocijenjen","",IF(D254="Ocijenjen",IF(O254>0.2,0,IF(O254>0.15,3,IF(O254>0.1,6,IF(O254>0.06,9,IF(O254>0.03,12,IF(O254<=0.03,15,))))))))) | Q254: =IF(D254="","",IF(D254="Nije ocijenjen","",IF(D254="Ocijenjen",IF(M254="Član 19. stav 7. Kriterija",P254,N254+P254))))
...

Sheet Tabela IV
A1: Općinski/Osnovni sud: | C1: ='Tabela I'!C1 -> 0
A2: Izvještajni period: | C2: ='Tabela I'!C2 -> 1.1.2025.- 31.12.2025.
A3: Tabela IV - Ostali podaci
A5: Godina prijema predmeta | B5: Vrsta predmeta | C5: Broj nezavedenih predmeta | D5: Obrazloženje
A7: I | B7: II | C7: III | D7: IV
A27: U Tabelu IV potrebno je da unesete podatke o broju zaprimljenih predmeta koji nisu zavedeni kroz sudski upisnik (ukoliko imate takvih predmeta), navodeći podatke o godini prijema, vrsti i broju predmeta sa obrazloženjem razloga zbog kojih predmeti nisu zavedeni u sudski upisnik.

Sheet Tabela V
A1: Općinski/Osnovni sud: | H1: ='Tabela I'!C1 -> 0
A2: Izvještajni period: | H2: ='Tabela I'!C2 -> 1.1.2025.- 31.12.2025.
A3: Tabela V - Pregled starosti neriješenih predmeta sa 31.12.2025. godine
A5: Godina iniciranja predmeta | B5: Broj neriješenih predmeta za naplatu komunalnih usluga | F5: Broj neriješenih predmeta na referatu predmeti registracije | L5: Broj neriješenih ZK predmeta
B6: Mal | C6: Mals | D6: I | E6: Ip | F6: Reg | G6: RegZ | H6: F1 | I6: F2 | J6: F3 | K6: Ostalo | L6: Dn | M6: Nar | N6: Rz | O6: Kpu | P6: Ostalo
B7: I | C7: II | D7: III | E7: IV | F7: I | G7: II | H7: III | I7: IV | J7: V | K7: VI | L7: VII | M7: VIII | N7: IX | O7: X | P7: XI
A8: 2025
A9: 2024
A10: 2023
A11: 2022
A12: 2021
A13: 2020
A14: 2019
A15: 2018
A16: 2017
A17: 2016
A18: 2015
A19: 2014
... A23: 2010
A24: =A23-1 -> 2009
A25: =A24-1 -> 2008
A26: =A25-1 -> 2007
A27: =A26-1 -> 2006
A28: =A27-1 -> 2005
A29: =A28-1 -> 2004
A30: =A29-1 -> 2003
A31: =A30-1 -> 2002
A32: =A31-1 -> 2001
A33: =A32-1 -> 2000
A34: Stariji od 2000
A35: UKUPNO | B35: =SUM(B8:B34) -> 0 | C35: =SUM(C8:C34) -> 0 | D35: =SUM(D8:D34) -> 0 | E35: =SUM(E8:E34) -> 0 | F35: =SUM(F8:F34) -> 0 | G35: =SUM(G8:G34) -> 0 | H35: =SUM(H8:H34) -> 0 | I35: =SUM(I8:I34) -> 0 | ... P35: =SUM(P8:P34) -> 0
A36: SVEUKUPNO | B36: =SUM(B35:E35) -> 0 | F36: =SUM(F35:K35) -> 0 | L36: =SUM(L35:P35) -> 0
B37: =+'Tabela I'!F13 -> 0 | F37: ='Tabela I'!F21 -> 0 | L37: ='Tabela I'!F28 -> 0
A39: U Tabelu V potrebno je da razvrstate neriješene predmete za naplatu komunalnih usluga, predmete registracije poslovnih subjekata i ZK predmete, zaključno sa 31.12.2025. godine, prema godini iniciranja pred općinskim, osnovnim ili okružnim privrdenim sudom. Podaci iskazani u ovoj tabeli moraju biti konzistentni sa podacima iskazanim u Tabeli I i Tabeli Ia.

Sheet Tabela VI
A1: Općinski/Osnovni sud: | B1: ='Tabela I'!C1 -> 0
A2: Izvještajni period: | B2: ='Tabela I'!C2 -> 1.1.2025.- 31.12.2025.
A3: Tabela VI - Odluke Ustavnog suda BiH
A4: Tabela VIa - Odluke kojima se ne usvaja apelacija
A5: Broj odluka kojima se odbacuje apelacija | B5: Broj odluka kojima se obustavlja postupak pred Ustavnim sudom BiH | C5: Broj odluka kojima se odbija apelacija | D5: Ukupno
A6: I | B6: II | C6: III | D6: IV=I+II+III
D7: =IF(SUM(A7:C7)=0," ",SUM(A7:C7))
A8: Tabela VIb - Odluke kojima se usvaja apelacija
A9: Pravni osnov | B9: Broj odluka kojima se usvaja apelacija | E9: Ukupno
B10: Broj odluka kojima se preinačuju odluke suda | C10: Broj odluka kojima se ukidaju odluke suda | D10: Broj ostalih odluka kojima se usvaja apelacija
B11: I | C11: II | D11: III | E11: IV=I+II+III
A12: Čl. 13. EK (pravo na djelotvorni pravni lijek) | E12: =IF(SUM(B12:D12)=0," ",SUM(B12:D12))
A13: Čl. 3. P7 (naknada za pogrešnu presudu) | E13: =IF(SUM(B13:D13)=0," ",SUM(B13:D13))
A14: Čl. 6. EK i II/3.e) Ustava BiH (pravo na pravično suđenje) | E14: =IF(SUM(B14:D14)=0," ",SUM(B14:D14))
A15: Čl. 5.EK i II/3d Ustava (pravo na ličnu slobodu) | E15: =IF(SUM(B15:D15)=0," ",SUM(B15:D15))
A16: Čl. 1. P.1. i II/3.k) Ustava BiH (pravo na imovinu) | E16: =IF(SUM(B16:D16)=0," ",SUM(B16:D16))
A17: Čl. 1. P.7. (Proceduralne zaštite u vezi sa protjerivanjem stranaca) | E17: =IF(SUM(B17:D17)=0," ",SUM(B17:D17))
A18: Ostalo | E18: =IF(SUM(B18:D18)=0," ",SUM(B18:D18))
A19: Tabela VIc – Predmeti u kojima se nalaže sudu da okonča predmet bez odlaganja zbog kršenja prava na donošenje odluke u razumnom roku
A20: Pravni osnov | B20: Broj odluka kojima se nalaže sudu da okonča predmet bez odlaganja zbog kršenja prava na donošenje odluke u razumnom roku jer je Ustavni sud BiH zaključio da je odugovlačenju postupka najviše doprinio
B21: prvostepeni sud | C21: drugostepeni sud | D21: sud koji rješava predmet po uloženom vanrednom pravnom lijeku | E21: Ostalo | F21: Ukupno
B22: I | C22: II | D22: III | E22: IV | F22: V=I+II+III+IV
A23: Čl. 6 EK i II/3.e) Ustava BiH (pravo na pravično suđenje) | F23: =IF(SUM(B23:E23)=0," ",SUM(B23:E23))
A24: Tabela VId - Predmeti u kojima je utvrđeno kršenje prava na donošenje odluke u razumnom roku*
A25: Broj predmeta u kojima je određena naknada nematerijalne štete zbog kršenja prava na donošenje odluke u razumnom roku
A26: Ukupan iznos određene naknade
A28: * U Tabelu VId unose se podaci o predmetima u kojima je usvojena apelacija u odnosu na odluke Vašeg suda i određena naknada nematerijalne štete zbog kršenja prava na donošenje odluke u razumnom roku, kao i ukupan iznos naknade koji je utvrdio Ustavni sud BiH.

Sheet tbl1Protok
A1: for_key | B1: godina | C1: idReferata | D1: BrNerPocGod | E1: BrPrimTokGod | F1: BrRijTokGod
A2: ='Tabela I'!$F$2 -> 0 | B2: ='Tabela I'!$F$1 -> 2025 | C2: 127 | D2: ='Tabela I'!B9 -> 0 | E2: ='Tabela I'!C9 -> 0 | F2: ='Tabela I'!E9 -> 0
A3: ='Tabela I'!$F$2 -> 0 | B3: ='Tabela I'!$F$1 -> 2025 | C3: 128 | D3: ='Tabela I'!B10 -> 0 | E3: ='Tabela I'!C10 -> 0 | F3: ='Tabela I'!E10 -> 0
A4: ='Tabela I'!$F$2 -> 0 | B4: ='Tabela I'!$F$1 -> 2025 | C4: 129 | D4: ='Tabela I'!B11 -> 0 | E4: ='Tabela I'!C11 -> 0 | F4: ='Tabela I'!E11 -> 0
A5: ='Tabela I'!$F$2 -> 0 | B5: ='Tabela I'!$F$1 -> 2025 | C5: 131 | D5: ='Tabela I'!B12 -> 0 | E5: ='Tabela I'!C12 -> 0 | F5: ='Tabela I'!E12 -> 0
A6: ='Tabela I'!$F$2 -> 0 | B6: ='Tabela I'!$F$1 -> 2025 | C6: 26 | D6: ='Tabela I'!B15 -> 0 | E6: ='Tabela I'!C15 -> 0 | F6: ='Tabela I'!E15 -> 0
A7: ='Tabela I'!$F$2 -> 0 | B7: ='Tabela I'!$F$1 -> 2025 | C7: 104 | D7: ='Tabela I'!B16 -> 0 | E7: ='Tabela I'!C16 -> 0 | F7: ='Tabela I'!E16 -> 0
A8: ='Tabela I'!$F$2 -> 0 | B8: ='Tabela I'!$F$1 -> 2025 | C8: 99 | D8: ='Tabela I'!B17 -> 0 | E8: ='Tabela I'!C17 -> 0 | F8: ='Tabela I'!E17 -> 0
A9: ='Tabela I'!$F$2 -> 0 | B9: ='Tabela I'!$F$1 -> 2025 | C9: 100 | D9: ='Tabela I'!B18 -> 0 | E9: ='Tabela I'!C18 -> 0 | F9: ='Tabela I'!E18 -> 0
A10: ='Tabela I'!$F$2 -> 0 | B10: ='Tabela I'!$F$1 -> 2025 | C10: 101 | D10: ='Tabela I'!B19 -> 0 | E10: ='Tabela I'!C19 -> 0 | F10: ='Tabela I'!E19 -> 0
A11: ='Tabela I'!$F$2 -> 0 | B11: ='Tabela I'!$F$1 -> 2025 | C11: 123 | D11: ='Tabela I'!B20 -> 0 | E11: ='Tabela I'!C20 -> 0 | F11: ='Tabela I'!E20 -> 0
A12: ='Tabela I'!$F$2 -> 0 | B12: ='Tabela I'!$F$1 -> 2025 | C12: 105 | D12: ='Tabela I'!B23 -> 0 | E12: ='Tabela I'!C23 -> 0 | F12: ='Tabela I'!E23 -> 0
A13: ='Tabela I'!$F$2 -> 0 | B13: ='Tabela I'!$F$1 -> 2025 | C13: 106 | D13: ='Tabela I'!B24 -> 0 | E13: ='Tabela I'!C24 -> 0 | F13: ='Tabela I'!E24 -> 0
A14: ='Tabela I'!$F$2 -> 0 | B14: ='Tabela I'!$F$1 -> 2025 | C14: 107 | D14: ='Tabela I'!B25 -> 0 | E14: ='Tabela I'!C25 -> 0 | F14: ='Tabela I'!E25 -> 0
A15: ='Tabela I'!$F$2 -> 0 | B15: ='Tabela I'!$F$1 -> 2025 | C15: 108 | D15: ='Tabela I'!B26 -> 0 | E15: ='Tabela I'!C26 -> 0 | F15: ='Tabela I'!E26 -> 0
A16: ='Tabela I'!$F$2 -> 0 | B16: ='Tabela I'!$F$1 -> 2025 | C16: 60 | D16: ='Tabela I'!B27 -> 0 | E16: ='Tabela I'!C27 -> 0 | F16: ='Tabela I'!E27 -> 0
A17: ='Tabela I'!$F$2 -> 0 | B17: ='Tabela I'!$F$1 -> 2025 | C17: 65 | D17: ='Tabela I'!B30 -> 0 | E17: ='Tabela I'!C30 -> 0 | F17: ='Tabela I'!E30 -> 0

Sheet tbl1b_zk_opc_osn
A1: for_key | B1: godina | C1: idReferata | D1: BrNerPocGod | E1: BrPrimTokGod | F1: BrRijTokGod
A2: ='Tabela I'!$F$2 -> 0 | B2: ='Tabela I'!$F$1 -> 2025 | C2: 57 | D2: ='Tabela Ia'!B7 -> 0 | E2: ='Tabela Ia'!C7 -> 0 | F2: ='Tabela Ia'!E7 -> 0
A3: ='Tabela I'!$F$2 -> 0 | B3: ='Tabela I'!$F$1 -> 2025 | C3: 58 | D3: ='Tabela Ia'!B8 -> 0 | E3: ='Tabela Ia'!C8 -> 0 | F3: ='Tabela Ia'!E8 -> 0
A4: ='Tabela I'!$F$2 -> 0 | B4: ='Tabela I'!$F$1 -> 2025 | C4: 59 | D4: ='Tabela Ia'!B9 -> 0 | E4: ='Tabela Ia'!C9 -> 0 | F4: ='Tabela Ia'!E9 -> 0
A5: ='Tabela I'!$F$2 -> 0 | B5: ='Tabela I'!$F$1 -> 2025 | C5: 60 | D5: ='Tabela Ia'!B10 -> 0 | E5: ='Tabela Ia'!C10 -> 0 | F5: ='Tabela Ia'!E10 -> 0
D6: =SUM(D2:D5) -> 0 | E6: =SUM(E2:E5) -> 0 | F6: =SUM(F2:F5) -> 0

Sheet tbl2_kvalitet_rada
A1: for_key | B1: godina | C1: lista_referata | D1: DonesOdluke | E1: OdbPrLijek | F1: PotvOdluke | G1: PreinOdluke | H1: PreinOdlukeNakonRasp | I1: UkinOdluke | J1: DjelimUkin | K1: UkinVracPonSud
A2: ='Tabela I'!$F$2 -> 0 | B2: ='Tabela I'!$F$1 -> 2025 | C2: 1 | D2: ='Tabela III'!B8 -> 0 | E2: ='Tabela III'!D8 -> 0 | F2: ='Tabela III'!E8 -> 0 | G2: ='Tabela III'!F8 -> 0 | H2: ='Tabela III'!G8 -> 0 | I2: ='Tabela III'!H8 -> 0 | J2: ='Tabela III'!I8 -> 0 | K2: ='Tabela III'!K8 -> 0
A3: ='Tabela I'!$F$2 -> 0 | B3: ='Tabela I'!$F$1 -> 2025 | C3: 3 | D3: ='Tabela III'!B9 -> 0 | E3: ='Tabela III'!D9 -> 0 | F3: ='Tabela III'!E9 -> 0 | G3: ='Tabela III'!F9 -> 0 | H3: ='Tabela III'!G9 -> 0 | I3: ='Tabela III'!H9 -> 0 | J3: ='Tabela III'!I9 -> 0 | K3: ='Tabela III'!K9 -> 0
A4: ='Tabela I'!$F$2 -> 0 | B4: ='Tabela I'!$F$1 -> 2025 | C4: 2 | D4: ='Tabela III'!B10 -> 0 | E4: ='Tabela III'!D10 -> 0 | F4: ='Tabela III'!E10 -> 0 | G4: ='Tabela III'!F10 -> 0 | H4: ='Tabela III'!G10 -> 0 | I4: ='Tabela III'!H10 -> 0 | J4: ='Tabela III'!I10 -> 0 | K4: ='Tabela III'!K10 -> 0
A5: ='Tabela I'!$F$2 -> 0 | B5: ='Tabela I'!$F$1 -> 2025 | C5: 96 | D5: ='Tabela III'!B11 -> 0 | E5: ='Tabela III'!D11 -> 0 | F5: ='Tabela III'!E11 -> 0 | G5: ='Tabela III'!F11 -> 0 | H5: ='Tabela III'!G11 -> 0 | I5: ='Tabela III'!H11 -> 0 | J5: ='Tabela III'!I11 -> 0 | K5: ='Tabela III'!K11 -> 0
A6: ='Tabela I'!$F$2 -> 0 | B6: ='Tabela I'!$F$1 -> 2025 | C6: 4 | D6: ='Tabela III'!B12 -> 0 | E6: ='Tabela III'!D12 -> 0 | F6: ='Tabela III'!E12 -> 0 | G6: ='Tabela III'!F12 -> 0 | H6: ='Tabela III'!G12 -> 0 | I6: ='Tabela III'!H12 -> 0 | J6: ='Tabela III'!I12 -> 0 | K6: ='Tabela III'!K12 -> 0
A7: ='Tabela I'!$F$2 -> 0 | B7: ='Tabela I'!$F$1 -> 2025 | C7: 5 | D7: ='Tabela III'!B14 -> 0 | E7: ='Tabela III'!D14 -> 0 | F7: ='Tabela III'!E14 -> 0 | G7: ='Tabela III'!F14 -> 0 | H7: ='Tabela III'!G14 -> 0 | I7: ='Tabela III'!H14 -> 0 | J7: ='Tabela III'!I14 -> 0 | K7: ='Tabela III'!K14 -> 0
A8: ='Tabela I'!$F$2 -> 0 | B8: ='Tabela I'!$F$1 -> 2025 | C8: 6 | D8: ='Tabela III'!B15 -> 0 | E8: ='Tabela III'!D15 -> 0 | F8: ='Tabela III'!E15 -> 0 | G8: ='Tabela III'!F15 -> 0 | H8: ='Tabela III'!G15 -> 0 | I8: ='Tabela III'!H15 -> 0 | J8: ='Tabela III'!I15 -> 0 | K8: ='Tabela III'!K15 -> 0
A9: ='Tabela I'!$F$2 -> 0 | B9: ='Tabela I'!$F$1 -> 2025 | C9: 7 | D9: ='Tabela III'!B16 -> 0 | E9: ='Tabela III'!D16 -> 0 | F9: ='Tabela III'!E16 -> 0 | G9: ='Tabela III'!F16 -> 0 | H9: ='Tabela III'!G16 -> 0 | I9: ='Tabela III'!H16 -> 0 | J9: ='Tabela III'!I16 -> 0 | K9: ='Tabela III'!K16 -> 0
A10: ='Tabela I'!$F$2 -> 0 | B10: ='Tabela I'!$F$1 -> 2025 | C10: 97 | D10: ='Tabela III'!B17 -> 0 | E10: ='Tabela III'!D17 -> 0 | F10: ='Tabela III'!E17 -> 0 | G10: ='Tabela III'!F17 -> 0 | H10: ='Tabela III'!G17 -> 0 | I10: ='Tabela III'!H17 -> 0 | J10: ='Tabela III'!I17 -> 0 | K10: ='Tabela III'!K17 -> 0
A11: ='Tabela I'!$F$2 -> 0 | B11: ='Tabela I'!$F$1 -> 2025 | C11: 8 | D11: ='Tabela III'!B18 -> 0 | E11: ='Tabela III'!D18 -> 0 | F11: ='Tabela III'!E18 -> 0 | G11: ='Tabela III'!F18 -> 0 | H11: ='Tabela III'!G18 -> 0 | I11: ='Tabela III'!H18 -> 0 | J11: ='Tabela III'!I18 -> 0 | K11: ='Tabela III'!K18 -> 0
A12: ='Tabela I'!$F$2 -> 0 | B12: ='Tabela I'!$F$1 -> 2025 | C12: 10 | D12: ='Tabela III'!B19 -> 0 | E12: ='Tabela III'!D19 -> 0 | F12: ='Tabela III'!E19 -> 0 | G12: ='Tabela III'!F19 -> 0 | H12: ='Tabela III'!G19 -> 0 | I12: ='Tabela III'!H19 -> 0 | J12: ='Tabela III'!I19 -> 0 | K12: ='Tabela III'!K19 -> 0
A13: ='Tabela I'!$F$2 -> 0 | B13: ='Tabela I'!$F$1 -> 2025 | C13: 11 | D13: ='Tabela III'!B21 -> 0 | E13: ='Tabela III'!D21 -> 0 | F13: ='Tabela III'!E21 -> 0 | G13: ='Tabela III'!F21 -> 0 | H13: ='Tabela III'!G21 -> 0 | I13: ='Tabela III'!H21 -> 0 | J13: ='Tabela III'!I21 -> 0 | K13: ='Tabela III'!K21 -> 0
A14: ='Tabela I'!$F$2 -> 0 | B14: ='Tabela I'!$F$1 -> 2025 | C14: 13 | D14: ='Tabela III'!B22 -> 0 | E14: ='Tabela III'!D22 -> 0 | F14: ='Tabela III'!E22 -> 0 | G14: ='Tabela III'!F22 -> 0 | H14: ='Tabela III'!G22 -> 0 | I14: ='Tabela III'!H22 -> 0 | J14: ='Tabela III'!I22 -> 0 | K14: ='Tabela III'!K22 -> 0
A15: ='Tabela I'!$F$2 -> 0 | B15: ='Tabela I'!$F$1 -> 2025 | C15: 12 | D15: ='Tabela III'!B23 -> 0 | E15: ='Tabela III'!D23 -> 0 | F15: ='Tabela III'!E23 -> 0 | G15: ='Tabela III'!F23 -> 0 | H15: ='Tabela III'!G23 -> 0 | I15: ='Tabela III'!H23 -> 0 | J15: ='Tabela III'!I23 -> 0 | K15: ='Tabela III'!K23 -> 0
A16: ='Tabela I'!$F$2 -> 0 | B16: ='Tabela I'!$F$1 -> 2025 | C16: 92 | D16: ='Tabela III'!B24 -> 0 | E16: ='Tabela III'!D24 -> 0 | F16: ='Tabela III'!E24 -> 0 | G16: ='Tabela III'!F24 -> 0 | H16: ='Tabela III'!G24 -> 0 | I16: ='Tabela III'!H24 -> 0 | J16: ='Tabela III'!I24 -> 0 | K16: ='Tabela III'!K24 -> 0
A17: ='Tabela I'!$F$2 -> 0 | B17: ='Tabela I'!$F$1 -> 2025 | C17: 93 | D17: ='Tabela III'!B25 -> 0 | E17: ='Tabela III'!D25 -> 0 | F17: ='Tabela III'!E25 -> 0 | G17: ='Tabela III'!F25 -> 0 | H17: ='Tabela III'!G25 -> 0 | I17: ='Tabela III'!H25 -> 0 | J17: ='Tabela III'!I25 -> 0 | K17: ='Tabela III'!K25 -> 0
A18: ='Tabela I'!$F$2 -> 0 | B18: ='Tabela I'!$F$1 -> 2025 | C18: 15 | D18: ='Tabela III'!B26 -> 0 | E18: ='Tabela III'!D26 -> 0 | F18: ='Tabela III'!E26 -> 0 | G18: ='Tabela III'!F26 -> 0 | H18: ='Tabela III'!G26 -> 0 | I18: ='Tabela III'!H26 -> 0 | J18: ='Tabela III'!I26 -> 0 | K18: ='Tabela III'!K26 -> 0
A19: ='Tabela I'!$F$2 -> 0 | B19: ='Tabela I'!$F$1 -> 2025 | C19: 16 | D19: ='Tabela III'!B27 -> 0 | E19: ='Tabela III'!D27 -> 0 | F19: ='Tabela III'!E27 -> 0 | G19: ='Tabela III'!F27 -> 0 | H19: ='Tabela III'!G27 -> 0 | I19: ='Tabela III'!H27 -> 0 | J19: ='Tabela III'!I27 -> 0 | K19: ='Tabela III'!K27 -> 0
A20: ='Tabela I'!$F$2 -> 0 | B20: ='Tabela I'!$F$1 -> 2025 | C20: 69 | D20: ='Tabela III'!B28 -> 0 | E20: ='Tabela III'!D28 -> 0 | F20: ='Tabela III'!E28 -> 0 | G20: ='Tabela III'!F28 -> 0 | H20: ='Tabela III'!G28 -> 0 | I20: ='Tabela III'!H28 -> 0 | J20: ='Tabela III'!I28 -> 0 | K20: ='Tabela III'!K28 -> 0
A21: ='Tabela I'!$F$2 -> 0 | B21: ='Tabela I'!$F$1 -> 2025 | C21: 17 | D21: ='Tabela III'!B29 -> 0 | E21: ='Tabela III'!D29 -> 0 | F21: ='Tabela III'!E29 -> 0 | G21: ='Tabela III'!F29 -> 0 | H21: ='Tabela III'!G29 -> 0 | I21: ='Tabela III'!H29 -> 0 | J21: ='Tabela III'!I29 -> 0 | K21: ='Tabela III'!K29 -> 0
A22: ='Tabela I'!$F$2 -> 0 | B22: ='Tabela I'!$F$1 -> 2025 | C22: 18 | D22: ='Tabela III'!B30 -> 0 | E22: ='Tabela III'!D30 -> 0 | F22: ='Tabela III'!E30 -> 0 | G22: ='Tabela III'!F30 -> 0 | H22: ='Tabela III'!G30 -> 0 | I22: ='Tabela III'!H30 -> 0 | J22: ='Tabela III'!I30 -> 0 | K22: ='Tabela III'!K30 -> 0
A23: ='Tabela I'!$F$2 -> 0 | B23: ='Tabela I'!$F$1 -> 2025 | C23: 98 | D23: ='Tabela III'!B31 -> 0 | E23: ='Tabela III'!D31 -> 0 | F23: ='Tabela III'!E31 -> 0 | G23: ='Tabela III'!F31 -> 0 | H23: ='Tabela III'!G31 -> 0 | I23: ='Tabela III'!H31 -> 0 | J23: ='Tabela III'!I31 -> 0 | K23: ='Tabela III'!K31 -> 0
A24: ='Tabela I'!$F$2 -> 0 | B24: ='Tabela I'!$F$1 -> 2025 | C24: 19 | D24: ='Tabela III'!B32 -> 0 | E24: ='Tabela III'!D32 -> 0 | F24: ='Tabela III'!E32 -> 0 | G24: ='Tabela III'!F32 -> 0 | H24: ='Tabela III'!G32 -> 0 | I24: ='Tabela III'!H32 -> 0 | J24: ='Tabela III'!I32 -> 0 | K24: ='Tabela III'!K32 -> 0
A25: ='Tabela I'!$F$2 -> 0 | B25: ='Tabela I'!$F$1 -> 2025 | C25: 20 | D25: ='Tabela III'!B34 -> 0 | E25: ='Tabela III'!D34 -> 0 | F25: ='Tabela III'!E34 -> 0 | G25: ='Tabela III'!F34 -> 0 | H25: ='Tabela III'!G34 -> 0 | I25: ='Tabela III'!H34 -> 0 | J25: ='Tabela III'!I34 -> 0 | K25: ='Tabela III'!K34 -> 0
A26: ='Tabela I'!$F$2 -> 0 | B26: ='Tabela I'!$F$1 -> 2025 | C26: 21 | D26: ='Tabela III'!B35 -> 0 | E26: ='Tabela III'!D35 -> 0 | F26: ='Tabela III'!E35 -> 0 | G26: ='Tabela III'!F35 -> 0 | H26: ='Tabela III'!G35 -> 0 | I26: ='Tabela III'!H35 -> 0 | J26: ='Tabela III'!I35 -> 0 | K26: ='Tabela III'!K35 -> 0
A27: ='Tabela I'!$F$2 -> 0 | B27: ='Tabela I'!$F$1 -> 2025 | C27: 22 | D27: ='Tabela III'!B36 -> 0 | E27: ='Tabela III'!D36 -> 0 | F27: ='Tabela III'!E36 -> 0 | G27: ='Tabela III'!F36 -> 0 | H27: ='Tabela III'!G36 -> 0 | I27: ='Tabela III'!H36 -> 0 | J27: ='Tabela III'!I36 -> 0 | K27: ='Tabela III'!K36 -> 0
A28: ='Tabela I'!$F$2 -> 0 | B28: ='Tabela I'!$F$1 -> 2025 | C28: 23 | D28: ='Tabela III'!B38 -> 0 | E28: ='Tabela III'!D38 -> 0 | F28: ='Tabela III'!E38 -> 0 | G28: ='Tabela III'!F38 -> 0 | H28: ='Tabela III'!G38 -> 0 | I28: ='Tabela III'!H38 -> 0 | J28: ='Tabela III'!I38 -> 0 | K28: ='Tabela III'!K38 -> 0
A29: ='Tabela I'!$F$2 -> 0 | B29: ='Tabela I'!$F$1 -> 2025 | C29: 24 | D29: ='Tabela III'!B39 -> 0 | E29: ='Tabela III'!D39 -> 0 | F29: ='Tabela III'!E39 -> 0 | G29: ='Tabela III'!F39 -> 0 | H29: ='Tabela III'!G39 -> 0 | I29: ='Tabela III'!H39 -> 0 | J29: ='Tabela III'!I39 -> 0 | K29: ='Tabela III'!K39 -> 0
A30: ='Tabela I'!$F$2 -> 0 | B30: ='Tabela I'!$F$1 -> 2025 | C30: 25 | D30: ='Tabela III'!B40 -> 0 | E30: ='Tabela III'!D40 -> 0 | F30: ='Tabela III'!E40 -> 0 | G30: ='Tabela III'!F40 -> 0 | H30: ='Tabela III'!G40 -> 0 | I30: ='Tabela III'!H40 -> 0 | J30: ='Tabela III'!I40 -> 0 | K30: ='Tabela III'!K40 -> 0
A31: ='Tabela I'!$F$2 -> 0 | B31: ='Tabela I'!$F$1 -> 2025 | C31: 28 | D31: ='Tabela III'!B42 -> 0 | E31: ='Tabela III'!D42 -> 0 | F31: ='Tabela III'!E42 -> 0 | G31: ='Tabela III'!F42 -> 0 | H31: ='Tabela III'!G42 -> 0 | I31: ='Tabela III'!H42 -> 0 | J31: ='Tabela III'!I42 -> 0 | K31: ='Tabela III'!K42 -> 0
A32: ='Tabela I'!$F$2 -> 0 | B32: ='Tabela I'!$F$1 -> 2025 | C32: 122 | D32: ='Tabela III'!B43 -> 0 | E32: ='Tabela III'!D43 -> 0 | F32: ='Tabela III'!E43 -> 0 | G32: ='Tabela III'!F43 -> 0 | H32: ='Tabela III'!G43 -> 0 | I32: ='Tabela III'!H43 -> 0 | J32: ='Tabela III'!I43 -> 0 | K32: ='Tabela III'!K43 -> 0
A33: ='Tabela I'!$F$2 -> 0 | B33: ='Tabela I'!$F$1 -> 2025 | C33: 26 | D33: ='Tabela III'!B45 -> 0 | E33: ='Tabela III'!D45 -> 0 | F33: ='Tabela III'!E45 -> 0 | G33: ='Tabela III'!F45 -> 0 | H33: ='Tabela III'!G45 -> 0 | I33: ='Tabela III'!H45 -> 0 | J33: ='Tabela III'!I45 -> 0 | K33: ='Tabela III'!K45 -> 0
D34: =SUM(D2:D33) -> 0 | E34: =SUM(E2:E33) -> 0 | F34: =SUM(F2:F33) -> 0 | G34: =SUM(G2:G33) -> 0 | H34: =SUM(H2:H33) -> 0 | I34: =SUM(I2:I33) -> 0 | J34: =SUM(J2:J33) -> 0 | K34: =SUM(K2:K33) -> 0

Sheet tbl II
A1: Godina | B1: Sud | C1: ImePrezime | D1: Ocjenjen | E1: Plan | F1: Odjel | G1: Funkcija | H1: NormaPravilnik | I1: DatumOd | J1: DatumDo | K1: BroDanaZa Normu | L1: Odsustvo | M1: NormaCMS | N1: NormaVanCMS | O1: VeceVrenovanje | P1: OstvarenaNorma | Q1: PreracunataNorma | R1: BrPredURadu | S1: BrRijPred | T1: BrNerijPredSaZakProcSmet | U1: BrNerijPredBezZakProcSmet | V1: ProcRijePred | W1: BrOStBod
A2: ='Tabela I'!$F$1 -> 2025 | B2: ='Tabela I'!$F$2 -> 0 | C2: ='Tabela II'!B8 -> 0 | D2: ='Tabela II'!C8 -> 0 | E2: ='Tabela II'!D8 -> 0 | F2: ='Tabela II'!E8 -> 0 | G2: ='Tabela II'!F8 -> Predsjednik suda | H2: ='Tabela II'!H8 -> 0 | I2: ='Tabela II'!I8 -> 0 | J2: ='Tabela II'!J8 -> 0 | K2: ='Tabela II'!K8 -> 261 | L2: ='Tabela II'!L8 -> 0 | M2: ='Tabela II'!M8 -> 0 | N2: ='Tabela II'!N8 -> 0 | O2: ='Tabela II'!O8 -> 0 | ... W2: ='Tabela II'!W8
A3: ='Tabela I'!$F$1 -> 2025 | B3: ='Tabela I'!$F$2 -> 0 | C3: ='Tabela II'!B9 -> 0 | D3: ='Tabela II'!C9 -> 0 | E3: ='Tabela II'!D9 -> 0 | F3: ='Tabela II'!E9 -> 0 | G3: ='Tabela II'!F9 -> Predsjednik suda | H3: ='Tabela II'!H9 -> 0 | I3: ='Tabela II'!I9 -> 0 | J3: ='Tabela II'!J9 -> 0 | K3: ='Tabela II'!K9 -> 261 | L3: ='Tabela II'!L9 -> 0 | M3: ='Tabela II'!M9 -> 0 | N3: ='Tabela II'!N9 -> 0 | O3: ='Tabela II'!O9 -> 0 | ... W3: ='Tabela II'!W9
A4: ='Tabela I'!$F$1 -> 2025 | B4: ='Tabela I'!$F$2 -> 0 | C4: ='Tabela II'!B10 -> 0 | D4: ='Tabela II'!C10 -> 0 | E4: ='Tabela II'!D10 -> 0 | F4: ='Tabela II'!E10 -> 0 | G4: ='Tabela II'!F10 -> 0 | H4: ='Tabela II'!H10 -> 0 | I4: ='Tabela II'!I10 -> 0 | J4: ='Tabela II'!J10 -> 0 | K4: ='Tabela II'!K10 -> 261 | L4: ='Tabela II'!L10 -> 0 | M4: ='Tabela II'!M10 -> 0 | N4: ='Tabela II'!N10 -> 0 | O4: ='Tabela II'!O10 -> 0 | ... W4: ='Tabela II'!W10
A5: ='Tabela I'!$F$1 -> 2025 | B5: ='Tabela I'!$F$2 -> 0 | C5: ='Tabela II'!B11 -> 0 | D5: ='Tabela II'!C11 -> 0 | E5: ='Tabela II'!D11 -> 0 | F5: ='Tabela II'!E11 -> 0 | G5: ='Tabela II'!F11 -> 0 | H5: ='Tabela II'!H11 -> 0 | I5: ='Tabela II'!I11 -> 0 | J5: ='Tabela II'!J11 -> 0 | K5: ='Tabela II'!K11 -> 261 | L5: ='Tabela II'!L11 -> 0 | M5: ='Tabela II'!M11 -> 0 | N5: ='Tabela II'!N11 -> 0 | O5: ='Tabela II'!O11 -> 0 | ... W5: ='Tabela II'!W11
A6: ='Tabela I'!$F$1 -> 2025 | B6: ='Tabela I'!$F$2 -> 0 | C6: ='Tabela II'!B12 -> 0 | D6: ='Tabela II'!C12 -> 0 | E6: ='Tabela II'!D12 -> 0 | F6: ='Tabela II'!E12 -> 0 | G6: ='Tabela II'!F12 -> 0 | H6: ='Tabela II'!H12 -> 0 | I6: ='Tabela II'!I12 -> 0 | J6: ='Tabela II'!J12 -> 0 | K6: ='Tabela II'!K12 -> 261 | L6: ='Tabela II'!L12 -> 0 | M6: ='Tabela II'!M12 -> 0 | N6: ='Tabela II'!N12 -> 0 | O6: ='Tabela II'!O12 -> 0 | ... W6: ='Tabela II'!W12
A7: ='Tabela I'!$F$1 -> 2025 | B7: ='Tabela I'!$F$2 -> 0 | C7: ='Tabela II'!B13 -> 0 | D7: ='Tabela II'!C13 -> 0 | E7: ='Tabela II'!D13 -> 0 | F7: ='Tabela II'!E13 -> 0 | G7: ='Tabela II'!F13 -> 0 | H7: ='Tabela II'!H13 -> 0 | I7: ='Tabela II'!I13 -> 0 | J7: ='Tabela II'!J13 -> 0 | K7: ='Tabela II'!K13 -> 261 | L7: ='Tabela II'!L13 -> 0 | M7: ='Tabela II'!M13 -> 0 | N7: ='Tabela II'!N13 -> 0 | O7: ='Tabela II'!O13 -> 0 | ... W7: ='Tabela II'!W13
A8: ='Tabela I'!$F$1 -> 2025 | B8: ='Tabela I'!$F$2 -> 0 | C8: ='Tabela II'!B14 -> 0 | D8: ='Tabela II'!C14 -> 0 | E8: ='Tabela II'!D14 -> 0 | F8: ='Tabela II'!E14 -> 0 | G8: ='Tabela II'!F14 -> 0 | H8: ='Tabela II'!H14 -> 0 | I8: ='Tabela II'!I14 -> 0 | J8: ='Tabela II'!J14 -> 0 | K8: ='Tabela II'!K14 -> 261 | L8: ='Tabela II'!L14 -> 0 | M8: ='Tabela II'!M14 -> 0 | N8: ='Tabela II'!N14 -> 0 | O8: ='Tabela II'!O14 -> 0 | ... W8: ='Tabela II'!W14
A9: ='Tabela I'!$F$1 -> 2025 | B9: ='Tabela I'!$F$2 -> 0 | C9: ='Tabela II'!B15 -> 0 | D9: ='Tabela II'!C15 -> 0 | E9: ='Tabela II'!D15 -> 0 | F9: ='Tabela II'!E15 -> 0 | G9: ='Tabela II'!F15 -> 0 | H9: ='Tabela II'!H15 -> 0 | I9: ='Tabela II'!I15 -> 0 | J9: ='Tabela II'!J15 -> 0 | K9: ='Tabela II'!K15 -> 261 | L9: ='Tabela II'!L15 -> 0 | M9: ='Tabela II'!M15 -> 0 | N9: ='Tabela II'!N15 -> 0 | O9: ='Tabela II'!O15 -> 0 | ... W9: ='Tabela II'!W15
A10: ='Tabela I'!$F$1 -> 2025 | B10: ='Tabela I'!$F$2 -> 0 | C10: ='Tabela II'!B16 -> 0 | D10: ='Tabela II'!C16 -> 0 | E10: ='Tabela II'!D16 -> 0 | F10: ='Tabela II'!E16 -> 0 | G10: ='Tabela II'!F16 -> 0 | H10: ='Tabela II'!H16 -> 0 | I10: ='Tabela II'!I16 -> 0 | J10: ='Tabela II'!J16 -> 0 | K10: ='Tabela II'!K16 -> 261 | L10: ='Tabela II'!L16 -> 0 | M10: ='Tabela II'!M16 -> 0 | N10: ='Tabela II'!N16 -> 0 | O10: ='Tabela II'!O16 -> 0 | ... W10: ='Tabela II'!W16
A11: ='Tabela I'!$F$1 -> 2025 | B11: ='Tabela I'!$F$2 -> 0 | C11: ='Tabela II'!B17 -> 0 | D11: ='Tabela II'!C17 -> 0 | E11: ='Tabela II'!D17 -> 0 | F11: ='Tabela II'!E17 -> 0 | G11: ='Tabela II'!F17 -> 0 | H11: ='Tabela II'!H17 -> 0 | I11: ='Tabela II'!I17 -> 0 | J11: ='Tabela II'!J17 -> 0 | K11: ='Tabela II'!K17 -> 261 | L11: ='Tabela II'!L17 -> 0 | M11: ='Tabela II'!M17 -> 0 | N11: ='Tabela II'!N17 -> 0 | O11: ='Tabela II'!O17 -> 0 | ... W11: ='Tabela II'!W17
A12: ='Tabela I'!$F$1 -> 2025 | B12: ='Tabela I'!$F$2 -> 0 | C12: ='Tabela II'!B18 -> 0 | D12: ='Tabela II'!C18 -> 0 | E12: ='Tabela II'!D18 -> 0 | F12: ='Tabela II'!E18 -> 0 | G12: ='Tabela II'!F18 -> 0 | H12: ='Tabela II'!H18 -> 0 | I12: ='Tabela II'!I18 -> 0 | J12: ='Tabela II'!J18 -> 0 | K12: ='Tabela II'!K18 -> 261 | L12: ='Tabela II'!L18 -> 0 | M12: ='Tabela II'!M18 -> 0 | N12: ='Tabela II'!N18 -> 0 | O12: ='Tabela II'!O18 -> 0 | ... W12: ='Tabela II'!W18
A13: ='Tabela I'!$F$1 -> 2025 | B13: ='Tabela I'!$F$2 -> 0 | C13: ='Tabela II'!B19 -> 0 | D13: ='Tabela II'!C19 -> 0 | E13: ='Tabela II'!D19 -> 0 | F13: ='Tabela II'!E19 -> 0 | G13: ='Tabela II'!F19 -> 0 | H13: ='Tabela II'!H19 -> 0 | I13: ='Tabela II'!I19 -> 0 | J13: ='Tabela II'!J19 -> 0 | K13: ='Tabela II'!K19 -> 261 | L13: ='Tabela II'!L19 -> 0 | M13: ='Tabela II'!M19 -> 0 | N13: ='Tabela II'!N19 -> 0 | O13: ='Tabela II'!O19 -> 0 | ... W13: ='Tabela II'!W19
... A187: ='Tabela I'!$F$1 -> 2025 | B187: ='Tabela I'!$F$2 -> 0 | C187: ='Tabela II'!B193 -> 0 | D187: ='Tabela II'!C193 -> 0 | E187: ='Tabela II'!D193 -> 0 | F187: ='Tabela II'!E193 -> 0 | G187: ='Tabela II'!F193 -> 0 | H187: ='Tabela II'!H193 -> 0 | I187: ='Tabela II'!I193 -> 0 | J187: ='Tabela II'!J193 -> 0 | K187: ='Tabela II'!K193 -> 261 | L187: ='Tabela II'!L193 -> 0 | M187: ='Tabela II'!M193 -> 0 | N187: ='Tabela II'!N193 -> 0 | O187: ='Tabela II'!O193 -> 0 | ... W187: ='Tabela II'!W193
A189: Godina | B189: Sud | C189: ImePrezime | D189: Ocjenjen | E189: Ocjenjen | F189: Odjel | G189: Funkcija | H189: NormaPravilnik | I189: DatumOd | J189: DatumDo | K189: BroDanaZa Normu | L189: Odsustvo | M189: NormaCMS | N189: NormaVanCMS | O189: VeceVrenovanje | P189: OstvarenaNorma | Q189: PreracunataNorma | R189: BrPredURadu | S189: BrRijPred | T189: BrNerijPredSaZakProcSmet | U189: BrNerijPredBezZakProcSmet | V189: ProcRijePred | W189: BrOStBod | X189: Sud
A190: ='Tabela I'!$F$1 -> 2025 | B190: ='Tabela I'!$F$2 -> 0 | C190: ='Tabela II'!E227 -> 0 | D190: ='Tabela II'!C228 -> 0 | E190: ='Tabela II'!D228 -> 0 | F190: ='Tabela II'!E228 -> 0 | G190: ='Tabela II'!F228 -> Predsjednik suda | H190: ='Tabela II'!H228 -> 0 | I190: ='Tabela II'!I228 -> 0 | J190: ='Tabela II'!J228 -> 0 | K190: ='Tabela II'!K228 -> 0 | L190: ='Tabela II'!L228 -> 0 | M190: ='Tabela II'!M228 -> 0 | N190: ='Tabela II'!N228 -> 0 | O190: ='Tabela II'!O228 -> 0 | ... W190: ='Tabela II'!W228 -> 0 | X190: ='Tabela II'!A228 -> Sud 1
A191: ='Tabela I'!$F$1 -> 2025 | B191: ='Tabela I'!$F$2 -> 0 | C191: ='Tabela II'!E227 -> 0 | D191: ='Tabela II'!C229 -> 0 | E191: ='Tabela II'!D229 -> 0 | F191: ='Tabela II'!E229 -> 0 | G191: ='Tabela II'!F229 -> 0 | H191: ='Tabela II'!H229 -> 0 | I191: ='Tabela II'!I229 -> 0 | J191: ='Tabela II'!J229 -> 0 | K191: ='Tabela II'!K229 -> 0 | L191: ='Tabela II'!L229 -> 0 | M191: ='Tabela II'!M229 -> 0 | N191: ='Tabela II'!N229 -> 0 | O191: ='Tabela II'!O229 -> 0 | ... W191: ='Tabela II'!W229 -> 0 | X191: ='Tabela II'!A229 -> Sud 2
A192: ='Tabela I'!$F$1 -> 2025 | B192: ='Tabela I'!$F$2 -> 0 | C192: ='Tabela II'!E230 -> 0 | D192: ='Tabela II'!C231 -> 0 | E192: ='Tabela II'!D231 -> 0 | F192: ='Tabela II'!E231 -> 0 | G192: ='Tabela II'!F231 -> 0 | H192: ='Tabela II'!H231 -> 0 | I192: ='Tabela II'!I231 -> 0 | J192: ='Tabela II'!J231 -> 0 | K192: ='Tabela II'!K231 -> 0 | L192: ='Tabela II'!L231 -> 0 | M192: ='Tabela II'!M231 -> 0 | N192: ='Tabela II'!N231 -> 0 | O192: ='Tabela II'!O231 -> 0 | ... W192: ='Tabela II'!W231 -> 0 | X192: ='Tabela II'!A231 -> Sud 1
A193: ='Tabela I'!$F$1 -> 2025 | B193: ='Tabela I'!$F$2 -> 0 | C193: ='Tabela II'!E230 -> 0 | D193: ='Tabela II'!C232 -> 0 | E193: ='Tabela II'!D232 -> 0 | F193: ='Tabela II'!E232 -> 0 | G193: ='Tabela II'!F232 -> 0 | H193: ='Tabela II'!H232 -> 0 | I193: ='Tabela II'!I232 -> 0 | J193: ='Tabela II'!J232 -> 0 | K193: ='Tabela II'!K232 -> 0 | L193: ='Tabela II'!L232 -> 0 | M193: ='Tabela II'!M232 -> 0 | N193: ='Tabela II'!N232 -> 0 | O193: ='Tabela II'!O232 -> 0 | ... W193: ='Tabela II'!W232 -> 0 | X193: ='Tabela II'!A232 -> Sud 2
A194: ='Tabela I'!$F$1 -> 2025 | B194: ='Tabela I'!$F$2 -> 0 | C194: ='Tabela II'!E233 -> 0 | D194: ='Tabela II'!C234 -> 0 | E194: ='Tabela II'!D234 -> 0 | F194: ='Tabela II'!E234 -> 0 | G194: ='Tabela II'!F234 -> 0 | H194: ='Tabela II'!H234 -> 0 | I194: ='Tabela II'!I234 -> 0 | J194: ='Tabela II'!J234 -> 0 | K194: ='Tabela II'!K234 -> 0 | L194: ='Tabela II'!L234 -> 0 | M194: ='Tabela II'!M234 -> 0 | N194: ='Tabela II'!N234 -> 0 | O194: ='Tabela II'!O234 -> 0 | ... W194: ='Tabela II'!W234 -> 0 | X194: ='Tabela II'!A234 -> Sud 1
A195: ='Tabela I'!$F$1 -> 2025 | B195: ='Tabela I'!$F$2 -> 0 | C195: ='Tabela II'!E233 -> 0 | D195: ='Tabela II'!C235 -> 0 | E195: ='Tabela II'!D235 -> 0 | F195: ='Tabela II'!E235 -> 0 | G195: ='Tabela II'!F235 -> 0 | H195: ='Tabela II'!H235 -> 0 | I195: ='Tabela II'!I235 -> 0 | J195: ='Tabela II'!J235 -> 0 | K195: ='Tabela II'!K235 -> 0 | L195: ='Tabela II'!L235 -> 0 | M195: ='Tabela II'!M235 -> 0 | N195: ='Tabela II'!N235 -> 0 | O195: ='Tabela II'!O235 -> 0 | ... W195: ='Tabela II'!W235 -> 0 | X195: ='Tabela II'!A235 -> Sud 2
A196: ='Tabela I'!$F$1 -> 2025 | B196: ='Tabela I'!$F$2 -> 0 | C196: ='Tabela II'!E236 -> 0 | D196: ='Tabela II'!C237 -> 0 | E196: ='Tabela II'!D237 -> 0 | F196: ='Tabela II'!E237 -> 0 | G196: ='Tabela II'!F237 -> 0 | H196: ='Tabela II'!H237 -> 0 | I196: ='Tabela II'!I237 -> 0 | J196: ='Tabela II'!J237 -> 0 | K196: ='Tabela II'!K237 -> 0 | L196: ='Tabela II'!L237 -> 0 | M196: ='Tabela II'!M237 -> 0 | N196: ='Tabela II'!N237 -> 0 | O196: ='Tabela II'!O237 -> 0 | ... W196: ='Tabela II'!W237 -> 0 | X196: ='Tabela II'!A237 -> Sud 1
A197: ='Tabela I'!$F$1 -> 2025 | B197: ='Tabela I'!$F$2 -> 0 | C197: ='Tabela II'!E236 -> 0 | D197: ='Tabela II'!C238 -> 0 | E197: ='Tabela II'!D238 -> 0 | F197: ='Tabela II'!E238 -> 0 | G197: ='Tabela II'!F238 -> 0 | H197: ='Tabela II'!H238 -> 0 | I197: ='Tabela II'!I238 -> 0 | J197: ='Tabela II'!J238 -> 0 | K197: ='Tabela II'!K238 -> 0 | L197: ='Tabela II'!L238 -> 0 | M197: ='Tabela II'!M238 -> 0 | N197: ='Tabela II'!N238 -> 0 | O197: ='Tabela II'!O238 -> 0 | ... W197: ='Tabela II'!W238 -> 0 | X197: ='Tabela II'!A238 -> Sud 2
A198: ='Tabela I'!$F$1 -> 2025 | B198: ='Tabela I'!$F$2 -> 0 | C198: ='Tabela II'!E239 -> 0 | D198: ='Tabela II'!C240 -> 0 | E198: ='Tabela II'!D240 -> 0 | F198: ='Tabela II'!E240 -> 0 | G198: ='Tabela II'!F240 -> 0 | H198: ='Tabela II'!H240 -> 0 | I198: ='Tabela II'!I240 -> 0 | J198: ='Tabela II'!J240 -> 0 | K198: ='Tabela II'!K240 -> 0 | L198: ='Tabela II'!L240 -> 0 | M198: ='Tabela II'!M240 -> 0 | N198: ='Tabela II'!N240 -> 0 | O198: ='Tabela II'!O240 -> 0 | ... W198: ='Tabela II'!W240 -> 0 | X198: ='Tabela II'!A240 -> Sud 1
A199: ='Tabela I'!$F$1 -> 2025 | B199: ='Tabela I'!$F$2 -> 0 | C199: ='Tabela II'!E239 -> 0 | D199: ='Tabela II'!C241 -> 0 | E199: ='Tabela II'!D241 -> 0 | F199: ='Tabela II'!E241 -> 0 | G199: ='Tabela II'!F241 -> 0 | H199: ='Tabela II'!H241 -> 0 | I199: ='Tabela II'!I241 -> 0 | J199: ='Tabela II'!J241 -> 0 | K199: ='Tabela II'!K241 -> 0 | L199: ='Tabela II'!L241 -> 0 | M199: ='Tabela II'!M241 -> 0 | N199: ='Tabela II'!N241 -> 0 | O199: ='Tabela II'!O241 -> 0 | ... W199: ='Tabela II'!W241 -> 0 | X199: ='Tabela II'!A241 -> Sud 2
A200: ='Tabela I'!$F$1 -> 2025 | B200: ='Tabela I'!$F$2 -> 0 | C200: ='Tabela II'!E242 -> 0 | D200: ='Tabela II'!C243 -> 0 | E200: ='Tabela II'!D243 -> 0 | F200: ='Tabela II'!E243 -> 0 | G200: ='Tabela II'!F243 -> 0 | H200: ='Tabela II'!H243 -> 0 | I200: ='Tabela II'!I243 -> 0 | J200: ='Tabela II'!J243 -> 0 | K200: ='Tabela II'!K243 -> 0 | L200: ='Tabela II'!L243 -> 0 | M200: ='Tabela II'!M243 -> 0 | N200: ='Tabela II'!N243 -> 0 | O200: ='Tabela II'!O243 -> 0 | ... W200: ='Tabela II'!W243 -> 0 | X200: ='Tabela II'!A243 -> Sud 1
A201: ='Tabela I'!$F$1 -> 2025 | B201: ='Tabela I'!$F$2 -> 0 | C201: ='Tabela II'!E242 -> 0 | D201: ='Tabela II'!C244 -> 0 | E201: ='Tabela II'!D244 -> 0 | F201: ='Tabela II'!E244 -> 0 | G201: ='Tabela II'!F244 -> 0 | H201: ='Tabela II'!H244 -> 0 | I201: ='Tabela II'!I244 -> 0 | J201: ='Tabela II'!J244 -> 0 | K201: ='Tabela II'!K244 -> 0 | L201: ='Tabela II'!L244 -> 0 | M201: ='Tabela II'!M244 -> 0 | N201: ='Tabela II'!N244 -> 0 | O201: ='Tabela II'!O244 -> 0 | ... W201: ='Tabela II'!W244 -> 0 | X201: ='Tabela II'!A244 -> Sud 2
A202: ='Tabela I'!$F$1 -> 2025 | B202: ='Tabela I'!$F$2 -> 0 | C202: ='Tabela II'!E245 -> 0 | D202: ='Tabela II'!C246 -> 0 | E202: ='Tabela II'!D246 -> 0 | F202: ='Tabela II'!E246 -> 0 | G202: ='Tabela II'!F246 -> 0 | H202: ='Tabela II'!H246 -> 0 | I202: ='Tabela II'!I246 -> 0 | J202: ='Tabela II'!J246 -> 0 | K202: ='Tabela II'!K246 -> 0 | L202: ='Tabela II'!L246 -> 0 | M202: ='Tabela II'!M246 -> 0 | N202: ='Tabela II'!N246 -> 0 | O202: ='Tabela II'!O246 -> 0 | ... W202: ='Tabela II'!W246 -> 0 | X202: ='Tabela II'!A246 -> Sud 1
A203: ='Tabela I'!$F$1 -> 2025 | B203: ='Tabela I'!$F$2 -> 0 | C203: ='Tabela II'!E245 -> 0 | D203: ='Tabela II'!C247 -> 0 | E203: ='Tabela II'!D247 -> 0 | F203: ='Tabela II'!E247 -> 0 | G203: ='Tabela II'!F247 -> 0 | H203: ='Tabela II'!H247 -> 0 | I203: ='Tabela II'!I247 -> 0 | J203: ='Tabela II'!J247 -> 0 | K203: ='Tabela II'!K247 -> 0 | L203: ='Tabela II'!L247 -> 0 | M203: ='Tabela II'!M247 -> 0 | N203: ='Tabela II'!N247 -> 0 | O203: ='Tabela II'!O247 -> 0 | ... W203: ='Tabela II'!W247 -> 0 | X203: ='Tabela II'!A247 -> Sud 2
A204: ='Tabela I'!$F$1 -> 2025 | B204: ='Tabela I'!$F$2 -> 0 | C204: ='Tabela II'!E248 -> 0 | D204: ='Tabela II'!C249 -> 0 | E204: ='Tabela II'!D249 -> 0 | F204: ='Tabela II'!E249 -> 0 | G204: ='Tabela II'!F249 -> 0 | H204: ='Tabela II'!H249 -> 0 | I204: ='Tabela II'!I249 -> 0 | J204: ='Tabela II'!J249 -> 0 | K204: ='Tabela II'!K249 -> 0 | L204: ='Tabela II'!L249 -> 0 | M204: ='Tabela II'!M249 -> 0 | N204: ='Tabela II'!N249 -> 0 | O204: ='Tabela II'!O249 -> 0 | ... W204: ='Tabela II'!W249 -> 0 | X204: ='Tabela II'!A249 -> Sud 1
A205: ='Tabela I'!$F$1 -> 2025 | B205: ='Tabela I'!$F$2 -> 0 | C205: ='Tabela II'!E248 -> 0 | D205: ='Tabela II'!C250 -> 0 | E205: ='Tabela II'!D250 -> 0 | F205: ='Tabela II'!E250 -> 0 | G205: ='Tabela II'!F250 -> 0 | H205: ='Tabela II'!H250 -> 0 | I205: ='Tabela II'!I250 -> 0 | J205: ='Tabela II'!J250 -> 0 | K205: ='Tabela II'!K250 -> 0 | L205: ='Tabela II'!L250 -> 0 | M205: ='Tabela II'!M250 -> 0 | N205: ='Tabela II'!N250 -> 0 | O205: ='Tabela II'!O250 -> 0 | ... W205: ='Tabela II'!W250 -> 0 | X205: ='Tabela II'!A250 -> Sud 2
A206: ='Tabela I'!$F$1 -> 2025 | B206: ='Tabela I'!$F$2 -> 0 | C206: ='Tabela II'!E251 -> 0 | D206: ='Tabela II'!C252 -> 0 | E206: ='Tabela II'!D252 -> 0 | F206: ='Tabela II'!E252 -> 0 | G206: ='Tabela II'!F252 -> 0 | H206: ='Tabela II'!H252 -> 0 | I206: ='Tabela II'!I252 -> 0 | J206: ='Tabela II'!J252 -> 0 | K206: ='Tabela II'!K252 -> 0 | L206: ='Tabela II'!L252 -> 0 | M206: ='Tabela II'!M252 -> 0 | N206: ='Tabela II'!N252 -> 0 | O206: ='Tabela II'!O252 -> 0 | ... W206: ='Tabela II'!W252 -> 0 | X206: ='Tabela II'!A252 -> Sud 1
A207: ='Tabela I'!$F$1 -> 2025 | B207: ='Tabela I'!$F$2 -> 0 | C207: ='Tabela II'!E251 -> 0 | D207: ='Tabela II'!C253 -> 0 | E207: ='Tabela II'!D253 -> 0 | F207: ='Tabela II'!E253 -> 0 | G207: ='Tabela II'!F253 -> 0 | H207: ='Tabela II'!H253 -> 0 | I207: ='Tabela II'!I253 -> 0 | J207: ='Tabela II'!J253 -> 0 | K207: ='Tabela II'!K253 -> 0 | L207: ='Tabela II'!L253 -> 0 | M207: ='Tabela II'!M253 -> 0 | N207: ='Tabela II'!N253 -> 0 | O207: ='Tabela II'!O253 -> 0 | ... W207: ='Tabela II'!W253 -> 0 | X207: ='Tabela II'!A253 -> Sud 2
A208: ='Tabela I'!$F$1 -> 2025 | B208: ='Tabela I'!$F$2 -> 0 | C208: ='Tabela II'!E254 -> 0 | D208: ='Tabela II'!C255 -> 0 | E208: ='Tabela II'!D255 -> 0 | F208: ='Tabela II'!E255 -> 0 | G208: ='Tabela II'!F255 -> 0 | H208: ='Tabela II'!H255 -> 0 | I208: ='Tabela II'!I255 -> 0 | J208: ='Tabela II'!J255 -> 0 | K208: ='Tabela II'!K255 -> 0 | L208: ='Tabela II'!L255 -> 0 | M208: ='Tabela II'!M255 -> 0 | N208: ='Tabela II'!N255 -> 0 | O208: ='Tabela II'!O255 -> 0 | ... W208: ='Tabela II'!W255 -> 0 | X208: ='Tabela II'!A255 -> Sud 1
A209: ='Tabela I'!$F$1 -> 2025 | B209: ='Tabela I'!$F$2 -> 0 | C209: ='Tabela II'!E254 -> 0 | D209: ='Tabela II'!C256 -> 0 | E209: ='Tabela II'!D256 -> 0 | F209: ='Tabela II'!E256 -> 0 | G209: ='Tabela II'!F256 -> 0 | H209: ='Tabela II'!H256 -> 0 | I209: ='Tabela II'!I256 -> 0 | J209: ='Tabela II'!J256 -> 0 | K209: ='Tabela II'!K256 -> 0 | L209: ='Tabela II'!L256 -> 0 | M209: ='Tabela II'!M256 -> 0 | N209: ='Tabela II'!N256 -> 0 | O209: ='Tabela II'!O256 -> 0 | ... W209: ='Tabela II'!W256 -> 0 | X209: ='Tabela II'!A256 -> Sud 2

Sheet tblIIIa
A1: Sud | B1: Godina | C1: ImePrezime | D1: Funkcija | E1: Ocij/NijeOcij | F1: UkBrDonOdlnsmiPrLijek | G1: UkBrOzOdl | H1: BrOdbPravLijekova | I1: BrPotOdl | J1: BrPreinOdl | K1: BrPreOdlNakOdGlRas/PretPredDrugSud | L1: BrUkOdl | M1: BrDjelUkOdl | N1: KvaSudOdlČl16/1/a | O1: BrOstBodZaKvalČl16/1/a | P1: KvalSudOdlČl16/1/b | Q1: BrOstBodZaKvalČl16/1/b | R1: UkBrOstBodZaKval | S1: KvalSudOdlČl16/1/b
A2: ='Tabela I'!$F$2 -> 0 | B2: ='Tabela I'!$F$1 -> 2025 | C2: =+'Tabela IIIa'!B9 | D2: =+'Tabela IIIa'!C9 -> Predsjednik suda * | E2: =+'Tabela IIIa'!D9 -> 0 | F2: =+'Tabela IIIa'!E9 -> 0 | G2: =+'Tabela IIIa'!F9 -> 0 | H2: =+'Tabela IIIa'!G9 -> 0 | I2: =+'Tabela IIIa'!H9 -> 0 | J2: =+'Tabela IIIa'!I9 -> 0 | ... R2: =+'Tabela IIIa'!Q9 | V2: Ocijenjen
A3: ='Tabela I'!$F$2 -> 0 | B3: ='Tabela I'!$F$1 -> 2025 | C3: ='Tabela IIIa'!B10 | D3: =+'Tabela IIIa'!C10 -> 0 | E3: =+'Tabela IIIa'!D10 -> 0 | F3: =+'Tabela IIIa'!E10 -> 0 | G3: =+'Tabela IIIa'!F10 -> 0 | H3: =+'Tabela IIIa'!G10 -> 0 | I3: =+'Tabela IIIa'!H10 -> 0 | J3: =+'Tabela IIIa'!I10 -> 0 | K3: =+'Tabela IIIa'!J10 -> 0 | ... R3: =+'Tabela IIIa'!Q10 | T3: Sudija | V3: Nije ocijenjen
A4: ='Tabela I'!$F$2 -> 0 | B4: ='Tabela I'!$F$1 -> 2025 | C4: =+'Tabela IIIa'!B11 | D4: =+'Tabela IIIa'!C11 -> 0 | E4: =+'Tabela IIIa'!D11 -> 0 | F4: =+'Tabela IIIa'!E11 -> 0 | G4: =+'Tabela IIIa'!F11 -> 0 | H4: =+'Tabela IIIa'!G11 -> 0 | I4: =+'Tabela IIIa'!H11 -> 0 | J4: =+'Tabela IIIa'!I11 -> 0 | ... R4: =+'Tabela IIIa'!Q11 | T4: Stručni saradnik
A5: ='Tabela I'!$F$2 -> 0 | B5: ='Tabela I'!$F$1 -> 2025 | C5: =+'Tabela IIIa'!B12 | D5: =+'Tabela IIIa'!C12 -> 0 | E5: =+'Tabela IIIa'!D12 -> 0 | F5: =+'Tabela IIIa'!E12 -> 0 | G5: =+'Tabela IIIa'!F12 -> 0 | H5: =+'Tabela IIIa'!G12 -> 0 | I5: =+'Tabela IIIa'!H12 -> 0 | J5: =+'Tabela IIIa'!I12 -> 0 | ... R5: =+'Tabela IIIa'!Q12
A6: ='Tabela I'!$F$2 -> 0 | B6: ='Tabela I'!$F$1 -> 2025 | C6: =+'Tabela IIIa'!B13 | D6: =+'Tabela IIIa'!C13 -> 0 | E6: =+'Tabela IIIa'!D13 -> 0 | F6: =+'Tabela IIIa'!E13 -> 0 | G6: =+'Tabela IIIa'!F13 -> 0 | H6: =+'Tabela IIIa'!G13 -> 0 | I6: =+'Tabela IIIa'!H13 -> 0 | J6: =+'Tabela IIIa'!I13 -> 0 | ... R6: =+'Tabela IIIa'!Q13
A7: ='Tabela I'!$F$2 -> 0 | B7: ='Tabela I'!$F$1 -> 2025 | C7: =+'Tabela IIIa'!B14 | D7: =+'Tabela IIIa'!C14 -> 0 | E7: =+'Tabela IIIa'!D14 -> 0 | F7: =+'Tabela IIIa'!E14 -> 0 | G7: =+'Tabela IIIa'!F14 -> 0 | H7: =+'Tabela IIIa'!G14 -> 0 | I7: =+'Tabela IIIa'!H14 -> 0 | J7: =+'Tabela IIIa'!I14 -> 0 | ... R7: =+'Tabela IIIa'!Q14
A8: ='Tabela I'!$F$2 -> 0 | B8: ='Tabela I'!$F$1 -> 2025 | C8: =+'Tabela IIIa'!B15 | D8: =+'Tabela IIIa'!C15 -> 0 | E8: =+'Tabela IIIa'!D15 -> 0 | F8: =+'Tabela IIIa'!E15 -> 0 | G8: =+'Tabela IIIa'!F15 -> 0 | H8: =+'Tabela IIIa'!G15 -> 0 | I8: =+'Tabela IIIa'!H15 -> 0 | J8: =+'Tabela IIIa'!I15 -> 0 | ... R8: =+'Tabela IIIa'!Q15
A9: ='Tabela I'!$F$2 -> 0 | B9: ='Tabela I'!$F$1 -> 2025 | C9: =+'Tabela IIIa'!B16 | D9: =+'Tabela IIIa'!C16 -> 0 | E9: =+'Tabela IIIa'!D16 -> 0 | F9: =+'Tabela IIIa'!E16 -> 0 | G9: =+'Tabela IIIa'!F16 -> 0 | H9: =+'Tabela IIIa'!G16 -> 0 | I9: =+'Tabela IIIa'!H16 -> 0 | J9: =+'Tabela IIIa'!I16 -> 0 | ... R9: =+'Tabela IIIa'!Q16
A10: ='Tabela I'!$F$2 -> 0 | B10: ='Tabela I'!$F$1 -> 2025 | C10: =+'Tabela IIIa'!B17 | D10: =+'Tabela IIIa'!C17 -> 0 | E10: =+'Tabela IIIa'!D17 -> 0 | F10: =+'Tabela IIIa'!E17 -> 0 | G10: =+'Tabela IIIa'!F17 -> 0 | H10: =+'Tabela IIIa'!G17 -> 0 | I10: =+'Tabela IIIa'!H17 -> 0 | J10: =+'Tabela IIIa'!I17 -> 0 | ... R10: =+'Tabela IIIa'!Q17
A11: ='Tabela I'!$F$2 -> 0 | B11: ='Tabela I'!$F$1 -> 2025 | C11: =+'Tabela IIIa'!B18 | D11: =+'Tabela IIIa'!C18 -> 0 | E11: =+'Tabela IIIa'!D18 -> 0 | F11: =+'Tabela IIIa'!E18 -> 0 | G11: =+'Tabela IIIa'!F18 -> 0 | H11: =+'Tabela IIIa'!G18 -> 0 | I11: =+'Tabela IIIa'!H18 -> 0 | J11: =+'Tabela IIIa'!I18 -> 0 | ... R11: =+'Tabela IIIa'!Q18
A12: ='Tabela I'!$F$2 -> 0 | B12: ='Tabela I'!$F$1 -> 2025 | C12: =+'Tabela IIIa'!B19 | D12: =+'Tabela IIIa'!C19 -> 0 | E12: =+'Tabela IIIa'!D19 -> 0 | F12: =+'Tabela IIIa'!E19 -> 0 | G12: =+'Tabela IIIa'!F19 -> 0 | H12: =+'Tabela IIIa'!G19 -> 0 | I12: =+'Tabela IIIa'!H19 -> 0 | J12: =+'Tabela IIIa'!I19 -> 0 | ... R12: =+'Tabela IIIa'!Q19
A13: ='Tabela I'!$F$2 -> 0 | B13: ='Tabela I'!$F$1 -> 2025 | C13: =+'Tabela IIIa'!B20 | D13: =+'Tabela IIIa'!C20 -> 0 | E13: =+'Tabela IIIa'!D20 -> 0 | F13: =+'Tabela IIIa'!E20 -> 0 | G13: =+'Tabela IIIa'!F20 -> 0 | H13: =+'Tabela IIIa'!G20 -> 0 | I13: =+'Tabela IIIa'!H20 -> 0 | J13: =+'Tabela IIIa'!I20 -> 0 | ... R13: =+'Tabela IIIa'!Q20
A14: ='Tabela I'!$F$2 -> 0 | B14: ='Tabela I'!$F$1 -> 2025 | C14: =+'Tabela IIIa'!B21 | D14: =+'Tabela IIIa'!C21 -> 0 | E14: =+'Tabela IIIa'!D21 -> 0 | F14: =+'Tabela IIIa'!E21 -> 0 | G14: =+'Tabela IIIa'!F21 -> 0 | H14: =+'Tabela IIIa'!G21 -> 0 | I14: =+'Tabela IIIa'!H21 -> 0 | J14: =+'Tabela IIIa'!I21 -> 0 | ... R14: =+'Tabela IIIa'!Q21
A15: ='Tabela I'!$F$2 -> 0 | B15: ='Tabela I'!$F$1 -> 2025 | C15: =+'Tabela IIIa'!B22 | D15: =+'Tabela IIIa'!C22 -> 0 | E15: =+'Tabela IIIa'!D22 -> 0 | F15: =+'Tabela IIIa'!E22 -> 0 | G15: =+'Tabela IIIa'!F22 -> 0 | H15: =+'Tabela IIIa'!G22 -> 0 | I15: =+'Tabela IIIa'!H22 -> 0 | J15: =+'Tabela IIIa'!I22 -> 0 | ... R15: =+'Tabela IIIa'!Q22
A16: ='Tabela I'!$F$2 -> 0 | B16: ='Tabela I'!$F$1 -> 2025 | C16: =+'Tabela IIIa'!B23 | D16: =+'Tabela IIIa'!C23 -> 0 | E16: =+'Tabela IIIa'!D23 -> 0 | F16: =+'Tabela IIIa'!E23 -> 0 | G16: =+'Tabela IIIa'!F23 -> 0 | H16: =+'Tabela IIIa'!G23 -> 0 | I16: =+'Tabela IIIa'!H23 -> 0 | J16: =+'Tabela IIIa'!I23 -> 0 | ... R16: =+'Tabela IIIa'!Q23
... A40: ='Tabela I'!$F$2 -> 0 | B40: ='Tabela I'!$F$1 -> 2025 | C40: =+'Tabela IIIa'!B47 | D40: =+'Tabela IIIa'!C47 -> 0 | E40: =+'Tabela IIIa'!D47 -> 0 | F40: =+'Tabela IIIa'!E47 -> 0 | G40: =+'Tabela IIIa'!F47 -> 0 | H40: =+'Tabela IIIa'!G47 -> 0 | I40: =+'Tabela IIIa'!H47 -> 0 | J40: =+'Tabela IIIa'!I47 -> 0 | ... R40: =+'Tabela IIIa'!Q47
A41: ='Tabela I'!$F$2 -> 0 | B41: ='Tabela I'!$F$1 -> 2025 | C41: =+'Tabela IIIa'!B111 | D41: =+'Tabela IIIa'!C111 -> 0 | E41: =+'Tabela IIIa'!D111 -> 0 | F41: =+'Tabela IIIa'!E111 -> 0 | G41: =+'Tabela IIIa'!F111 -> 0 | H41: =+'Tabela IIIa'!G111 -> 0 | I41: =+'Tabela IIIa'!H111 -> 0 | J41: =+'Tabela IIIa'!I111 -> 0 | ... R41: =+'Tabela IIIa'!Q111
A42: ='Tabela I'!$F$2 -> 0 | B42: ='Tabela I'!$F$1 -> 2025 | C42: =+'Tabela IIIa'!B112 | D42: =+'Tabela IIIa'!C112 -> 0 | E42: =+'Tabela IIIa'!D112 -> 0 | F42: =+'Tabela IIIa'!E112 -> 0 | G42: =+'Tabela IIIa'!F112 -> 0 | H42: =+'Tabela IIIa'!G112 -> 0 | I42: =+'Tabela IIIa'!H112 -> 0 | J42: =+'Tabela IIIa'!I112 -> 0 | ... R42: =+'Tabela IIIa'!Q112
A43: ='Tabela I'!$F$2 -> 0 | B43: ='Tabela I'!$F$1 -> 2025 | C43: =+'Tabela IIIa'!B113 | D43: =+'Tabela IIIa'!C113 -> 0 | E43: =+'Tabela IIIa'!D113 -> 0 | F43: =+'Tabela IIIa'!E113 -> 0 | G43: =+'Tabela IIIa'!F113 -> 0 | H43: =+'Tabela IIIa'!G113 -> 0 | I43: =+'Tabela IIIa'!H113 -> 0 | J43: =+'Tabela IIIa'!I113 -> 0 | ... R43: =+'Tabela IIIa'!Q113
A44: ='Tabela I'!$F$2 -> 0 | B44: ='Tabela I'!$F$1 -> 2025 | C44: =+'Tabela IIIa'!B114 | D44: =+'Tabela IIIa'!C114 -> 0 | E44: =+'Tabela IIIa'!D114 -> 0 | F44: =+'Tabela IIIa'!E114 -> 0 | G44: =+'Tabela IIIa'!F114 -> 0 | H44: =+'Tabela IIIa'!G114 -> 0 | I44: =+'Tabela IIIa'!H114 -> 0 | J44: =+'Tabela IIIa'!I114 -> 0 | ... R44: =+'Tabela IIIa'!Q114
A45: ='Tabela I'!$F$2 -> 0 | B45: ='Tabela I'!$F$1 -> 2025 | C45: =+'Tabela IIIa'!B160 | D45: =+'Tabela IIIa'!C160 -> 0 | E45: =+'Tabela IIIa'!D160 -> 0 | F45: =+'Tabela IIIa'!E160 -> 0 | G45: =+'Tabela IIIa'!F160 -> 0 | H45: =+'Tabela IIIa'!G160 -> 0 | I45: =+'Tabela IIIa'!H160 -> 0 | J45: =+'Tabela IIIa'!I160 -> 0 | ... R45: =+'Tabela IIIa'!Q160
A46: ='Tabela I'!$F$2 -> 0 | B46: ='Tabela I'!$F$1 -> 2025 | C46: =+'Tabela IIIa'!B161 | D46: =+'Tabela IIIa'!C161 -> 0 | E46: =+'Tabela IIIa'!D161 -> 0 | F46: =+'Tabela IIIa'!E161 -> 0 | G46: =+'Tabela IIIa'!F161 -> 0 | H46: =+'Tabela IIIa'!G161 -> 0 | I46: =+'Tabela IIIa'!H161 -> 0 | J46: =+'Tabela IIIa'!I161 -> 0 | ... R46: =+'Tabela IIIa'!Q161
A47: ='Tabela I'!$F$2 -> 0 | B47: ='Tabela I'!$F$1 -> 2025 | C47: =+'Tabela IIIa'!B162 | D47: =+'Tabela IIIa'!C162 -> 0 | E47: =+'Tabela IIIa'!D162 -> 0 | F47: =+'Tabela IIIa'!E162 -> 0 | G47: =+'Tabela IIIa'!F162 -> 0 | H47: =+'Tabela IIIa'!G162 -> 0 | I47: =+'Tabela IIIa'!H162 -> 0 | J47: =+'Tabela IIIa'!I162 -> 0 | ... R47: =+'Tabela IIIa'!Q162
A48: ='Tabela I'!$F$2 -> 0 | B48: ='Tabela I'!$F$1 -> 2025 | C48: =+'Tabela IIIa'!B163 | D48: =+'Tabela IIIa'!C163 -> 0 | E48: =+'Tabela IIIa'!D163 -> 0 | F48: =+'Tabela IIIa'!E163 -> 0 | G48: =+'Tabela IIIa'!F163 -> 0 | H48: =+'Tabela IIIa'!G163 -> 0 | I48: =+'Tabela IIIa'!H163 -> 0 | J48: =+'Tabela IIIa'!I163 -> 0 | ... R48: =+'Tabela IIIa'!Q163
A49: ='Tabela I'!$F$2 -> 0 | B49: ='Tabela I'!$F$1 -> 2025 | C49: =+'Tabela IIIa'!B164 | D49: =+'Tabela IIIa'!C164 -> 0 | E49: =+'Tabela IIIa'!D164 -> 0 | F49: =+'Tabela IIIa'!E164 -> 0 | G49: =+'Tabela IIIa'!F164 -> 0 | H49: =+'Tabela IIIa'!G164 -> 0 | I49: =+'Tabela IIIa'!H164 -> 0 | J49: =+'Tabela IIIa'!I164 -> 0 | ... R49: =+'Tabela IIIa'!Q164
A50: ='Tabela I'!$F$2 -> 0 | B50: ='Tabela I'!$F$1 -> 2025 | C50: =+'Tabela IIIa'!B165 | D50: =+'Tabela IIIa'!C165 -> 0 | E50: =+'Tabela IIIa'!D165 -> 0 | F50: =+'Tabela IIIa'!E165 -> 0 | G50: =+'Tabela IIIa'!F165 -> 0 | H50: =+'Tabela IIIa'!G165 -> 0 | I50: =+'Tabela IIIa'!H165 -> 0 | J50: =+'Tabela IIIa'!I165 -> 0 | ... R50: =+'Tabela IIIa'!Q165
A51: ='Tabela I'!$F$2 -> 0 | B51: ='Tabela I'!$F$1 -> 2025 | C51: =+'Tabela IIIa'!B166 | D51: =+'Tabela IIIa'!C166 -> 0 | E51: =+'Tabela IIIa'!D166 -> 0 | F51: =+'Tabela IIIa'!E166 -> 0 | G51: =+'Tabela IIIa'!F166 -> 0 | H51: =+'Tabela IIIa'!G166 -> 0 | I51: =+'Tabela IIIa'!H166 -> 0 | J51: =+'Tabela IIIa'!I166 -> 0 | ... R51: =+'Tabela IIIa'!Q166
A52: ='Tabela I'!$F$2 -> 0 | B52: ='Tabela I'!$F$1 -> 2025 | C52: =+'Tabela IIIa'!B167 | D52: =+'Tabela IIIa'!C167 -> 0 | E52: =+'Tabela IIIa'!D167 -> 0 | F52: =+'Tabela IIIa'!E167 -> 0 | G52: =+'Tabela IIIa'!F167 -> 0 | H52: =+'Tabela IIIa'!G167 -> 0 | I52: =+'Tabela IIIa'!H167 -> 0 | J52: =+'Tabela IIIa'!I167 -> 0 | ... R52: =+'Tabela IIIa'!Q167
A53: ='Tabela I'!$F$2 -> 0 | B53: ='Tabela I'!$F$1 -> 2025 | C53: =+'Tabela IIIa'!B168 | D53: =+'Tabela IIIa'!C168 -> 0 | E53: =+'Tabela IIIa'!D168 -> 0 | F53: =+'Tabela IIIa'!E168 -> 0 | G53: =+'Tabela IIIa'!F168 -> 0 | H53: =+'Tabela IIIa'!G168 -> 0 | I53: =+'Tabela IIIa'!H168 -> 0 | J53: =+'Tabela IIIa'!I168 -> 0 | ... R53: =+'Tabela IIIa'!Q168
A54: ='Tabela I'!$F$2 -> 0 | B54: ='Tabela I'!$F$1 -> 2025 | C54: =+'Tabela IIIa'!B169 -> 0 | D54: =+'Tabela IIIa'!C169 -> 0 | E54: =+'Tabela IIIa'!D169 -> 0 | F54: =+'Tabela IIIa'!E169 -> 0 | G54: =+'Tabela IIIa'!F169 -> 0 | H54: =+'Tabela IIIa'!G169 -> 0 | I54: =+'Tabela IIIa'!H169 -> 0 | J54: =+'Tabela IIIa'!I169 -> 0 | ... R54: =+'Tabela IIIa'!Q169
A55: ='Tabela I'!$F$2 -> 0 | B55: ='Tabela I'!$F$1 -> 2025 | C55: =+'Tabela IIIa'!B170 -> 0 | D55: =+'Tabela IIIa'!C170 -> 0 | E55: =+'Tabela IIIa'!D170 -> 0 | F55: =+'Tabela IIIa'!E170 -> 0 | G55: =+'Tabela IIIa'!F170 -> 0 | H55: =+'Tabela IIIa'!G170 -> 0 | I55: =+'Tabela IIIa'!H170 -> 0 | J55: =+'Tabela IIIa'!I170 -> 0 | ... R55: =+'Tabela IIIa'!Q170
A56: ='Tabela I'!$F$2 -> 0 | B56: ='Tabela I'!$F$1 -> 2025 | C56: =+'Tabela IIIa'!B171 -> 0 | D56: =+'Tabela IIIa'!C171 -> 0 | E56: =+'Tabela IIIa'!D171 -> 0 | F56: =+'Tabela IIIa'!E171 -> 0 | G56: =+'Tabela IIIa'!F171 -> 0 | H56: =+'Tabela IIIa'!G171 -> 0 | I56: =+'Tabela IIIa'!H171 -> 0 | J56: =+'Tabela IIIa'!I171 -> 0 | ... R56: =+'Tabela IIIa'!Q171
... A58: ='Tabela I'!$F$2 -> 0 | B58: ='Tabela I'!$F$1 -> 2025 | C58: =+'Tabela IIIa'!B173 -> 0 | D58: =+'Tabela IIIa'!C173 -> 0 | E58: =+'Tabela IIIa'!D173 -> 0 | F58: =+'Tabela IIIa'!E173 -> 0 | G58: =+'Tabela IIIa'!F173 -> 0 | H58: =+'Tabela IIIa'!G173 -> 0 | I58: =+'Tabela IIIa'!H173 -> 0 | J58: =+'Tabela IIIa'!I173 -> 0 | ... R58: =+'Tabela IIIa'!Q173
A59: ='Tabela I'!$F$2 -> 0 | B59: ='Tabela I'!$F$1 -> 2025 | C59: =+'Tabela IIIa'!#REF! -> #REF! | D59: =+'Tabela IIIa'!#REF! -> #REF! | E59: =+'Tabela IIIa'!#REF! -> #REF! | F59: =+'Tabela IIIa'!#REF! -> #REF! | G59: =+'Tabela IIIa'!#REF! -> #REF! | H59: =+'Tabela IIIa'!#REF! -> #REF! | I59: =+'Tabela IIIa'!#REF! -> #REF! | J59: =+'Tabela IIIa'!#REF! -> #REF! | ... R59: =+'Tabela IIIa'!#REF! -> #REF!
A60: ='Tabela I'!$F$2 -> 0 | B60: ='Tabela I'!$F$1 -> 2025 | C60: =+'Tabela IIIa'!#REF! -> #REF! | D60: =+'Tabela IIIa'!#REF! -> #REF! | E60: =+'Tabela IIIa'!#REF! -> #REF! | F60: =+'Tabela IIIa'!#REF! -> #REF! | G60: =+'Tabela IIIa'!#REF! -> #REF! | H60: =+'Tabela IIIa'!#REF! -> #REF! | I60: =+'Tabela IIIa'!#REF! -> #REF! | J60: =+'Tabela IIIa'!#REF! -> #REF! | ... R60: =+'Tabela IIIa'!#REF! -> #REF!
A61: ='Tabela I'!$F$2 -> 0 | B61: ='Tabela I'!$F$1 -> 2025 | C61: =+'Tabela IIIa'!#REF! -> #REF! | D61: =+'Tabela IIIa'!#REF! -> #REF! | E61: =+'Tabela IIIa'!#REF! -> #REF! | F61: =+'Tabela IIIa'!#REF! -> #REF! | G61: =+'Tabela IIIa'!#REF! -> #REF! | H61: =+'Tabela IIIa'!#REF! -> #REF! | I61: =+'Tabela IIIa'!#REF! -> #REF! | J61: =+'Tabela IIIa'!#REF! -> #REF! | ... R61: =+'Tabela IIIa'!#REF! -> #REF!
A62: ='Tabela I'!$F$2 -> 0 | B62: ='Tabela I'!$F$1 -> 2025 | C62: =+'Tabela IIIa'!B174 -> 0 | D62: =+'Tabela IIIa'!C174 -> 0 | E62: =+'Tabela IIIa'!D174 -> 0 | F62: =+'Tabela IIIa'!E174 -> 0 | G62: =+'Tabela IIIa'!F174 -> 0 | H62: =+'Tabela IIIa'!G174 -> 0 | I62: =+'Tabela IIIa'!H174 -> 0 | J62: =+'Tabela IIIa'!I174 -> 0 | ... R62: =+'Tabela IIIa'!Q174
A63: ='Tabela I'!$F$2 -> 0 | B63: ='Tabela I'!$F$1 -> 2025 | C63: =+'Tabela IIIa'!B175 -> 0 | D63: =+'Tabela IIIa'!C175 -> 0 | E63: =+'Tabela IIIa'!D175 -> 0 | F63: =+'Tabela IIIa'!E175 -> 0 | G63: =+'Tabela IIIa'!F175 -> 0 | H63: =+'Tabela IIIa'!G175 -> 0 | I63: =+'Tabela IIIa'!H175 -> 0 | J63: =+'Tabela IIIa'!I175 -> 0 | ... R63: =+'Tabela IIIa'!Q175
A64: ='Tabela I'!$F$2 -> 0 | B64: ='Tabela I'!$F$1 -> 2025 | C64: =+'Tabela IIIa'!B176 -> 0 | D64: =+'Tabela IIIa'!C176 -> 0 | E64: =+'Tabela IIIa'!D176 -> 0 | F64: =+'Tabela IIIa'!E176 -> 0 | G64: =+'Tabela IIIa'!F176 -> 0 | H64: =+'Tabela IIIa'!G176 -> 0 | I64: =+'Tabela IIIa'!H176 -> 0 | J64: =+'Tabela IIIa'!I176 -> 0 | ... R64: =+'Tabela IIIa'!Q176
A65: ='Tabela I'!$F$2 -> 0 | B65: ='Tabela I'!$F$1 -> 2025 | C65: =+'Tabela IIIa'!B177 -> 0 | D65: =+'Tabela IIIa'!C177 -> 0 | E65: =+'Tabela IIIa'!D177 -> 0 | F65: =+'Tabela IIIa'!E177 -> 0 | G65: =+'Tabela IIIa'!F177 -> 0 | H65: =+'Tabela IIIa'!G177 -> 0 | I65: =+'Tabela IIIa'!H177 -> 0 | J65: =+'Tabela IIIa'!I177 -> 0 | ... R65: =+'Tabela IIIa'!Q177
A66: ='Tabela I'!$F$2 -> 0 | B66: ='Tabela I'!$F$1 -> 2025 | C66: =+'Tabela IIIa'!B178 -> 0 | D66: =+'Tabela IIIa'!C178 -> 0 | E66: =+'Tabela IIIa'!D178 -> 0 | F66: =+'Tabela IIIa'!E178 -> 0 | G66: =+'Tabela IIIa'!F178 -> 0 | H66: =+'Tabela IIIa'!G178 -> 0 | I66: =+'Tabela IIIa'!H178 -> 0 | J66: =+'Tabela IIIa'!I178 -> 0 | ... R66: =+'Tabela IIIa'!Q178
A69: Tabela IIIb
A71: ='Tabela I'!$F$2 -> 0 | B71: ='Tabela I'!$F$1 -> 2025 | C71: =+'Tabela IIIa'!B191 -> Ime i prezime | D71: =+'Tabela IIIa'!C191 -> Predsjednik suda | E71: =+'Tabela IIIa'!D191 -> 0 | F71: =+'Tabela IIIa'!E191 -> 0 | G71: =+'Tabela IIIa'!F191 -> 0 | H71: =+'Tabela IIIa'!G191 -> 0 | I71: =+'Tabela IIIa'!H191 -> 0 | J71: =+'Tabela IIIa'!I191 -> 0 | ... R71: =+'Tabela IIIa'!Q191
A72: ='Tabela I'!$F$2 -> 0 | B72: ='Tabela I'!$F$1 -> 2025 | C72: =+'Tabela IIIa'!B198 -> Ime i prezime | D72: =+'Tabela IIIa'!C198 -> 0 | E72: =+'Tabela IIIa'!D198 -> 0 | F72: =+'Tabela IIIa'!E198 -> 0 | G72: =+'Tabela IIIa'!F198 -> 0 | H72: =+'Tabela IIIa'!G198 -> 0 | I72: =+'Tabela IIIa'!H198 -> 0 | J72: =+'Tabela IIIa'!I198 -> 0 | ... R72: =+'Tabela IIIa'!Q198
A73: ='Tabela I'!$F$2 -> 0 | B73: ='Tabela I'!$F$1 -> 2025 | C73: =+'Tabela IIIa'!B205 -> Ime i prezime | D73: =+'Tabela IIIa'!C205 -> 0 | E73: =+'Tabela IIIa'!D205 -> 0 | F73: =+'Tabela IIIa'!E205 -> 0 | G73: =+'Tabela IIIa'!F205 -> 0 | H73: =+'Tabela IIIa'!G205 -> 0 | I73: =+'Tabela IIIa'!H205 -> 0 | J73: =+'Tabela IIIa'!I205 -> 0 | ... R73: =+'Tabela IIIa'!Q205
A74: ='Tabela I'!$F$2 -> 0 | B74: ='Tabela I'!$F$1 -> 2025 | C74: =+'Tabela IIIa'!B212 -> Ime i prezime | D74: =+'Tabela IIIa'!C212 -> 0 | E74: =+'Tabela IIIa'!D212 -> 0 | F74: =+'Tabela IIIa'!E212 -> 0 | G74: =+'Tabela IIIa'!F212 -> 0 | H74: =+'Tabela IIIa'!G212 -> 0 | I74: =+'Tabela IIIa'!H212 -> 0 | J74: =+'Tabela IIIa'!I212 -> 0 | ... R74: =+'Tabela IIIa'!Q212
A75: ='Tabela I'!$F$2 -> 0 | B75: ='Tabela I'!$F$1 -> 2025 | C75: =+'Tabela IIIa'!B219 -> Ime i prezime | D75: =+'Tabela IIIa'!C219 -> 0 | E75: =+'Tabela IIIa'!D219 -> 0 | F75: =+'Tabela IIIa'!E219 -> 0 | G75: =+'Tabela IIIa'!F219 -> 0 | H75: =+'Tabela IIIa'!G219 -> 0 | I75: =+'Tabela IIIa'!H219 -> 0 | J75: =+'Tabela IIIa'!I219 -> 0 | ... R75: =+'Tabela IIIa'!Q219
A76: ='Tabela I'!$F$2 -> 0 | B76: ='Tabela I'!$F$1 -> 2025 | C76: =+'Tabela IIIa'!B226 -> Ime i prezime | D76: =+'Tabela IIIa'!C226 -> 0 | E76: =+'Tabela IIIa'!D226 -> 0 | F76: =+'Tabela IIIa'!E226 -> 0 | G76: =+'Tabela IIIa'!F226 -> 0 | H76: =+'Tabela IIIa'!G226 -> 0 | I76: =+'Tabela IIIa'!H226 -> 0 | J76: =+'Tabela IIIa'!I226 -> 0 | ... R76: =+'Tabela IIIa'!Q226
A77: ='Tabela I'!$F$2 -> 0 | B77: ='Tabela I'!$F$1 -> 2025 | C77: =+'Tabela IIIa'!B233 -> Ime i prezime | D77: =+'Tabela IIIa'!C233 -> 0 | E77: =+'Tabela IIIa'!D233 -> 0 | F77: =+'Tabela IIIa'!E233 -> 0 | G77: =+'Tabela IIIa'!F233 -> 0 | H77: =+'Tabela IIIa'!G233 -> 0 | I77: =+'Tabela IIIa'!H233 -> 0 | J77: =+'Tabela IIIa'!I233 -> 0 | ... R77: =+'Tabela IIIa'!Q233
A78: ='Tabela I'!$F$2 -> 0 | B78: ='Tabela I'!$F$1 -> 2025 | C78: =+'Tabela IIIa'!B240 -> Ime i prezime | D78: =+'Tabela IIIa'!C240 -> 0 | E78: =+'Tabela IIIa'!D240 -> 0 | F78: =+'Tabela IIIa'!E240 -> 0 | G78: =+'Tabela IIIa'!F240 -> 0 | H78: =+'Tabela IIIa'!G240 -> 0 | I78: =+'Tabela IIIa'!H240 -> 0 | J78: =+'Tabela IIIa'!I240 -> 0 | ... R78: =+'Tabela IIIa'!Q240
A79: ='Tabela I'!$F$2 -> 0 | B79: ='Tabela I'!$F$1 -> 2025 | C79: =+'Tabela IIIa'!B247 -> Ime i prezime | D79: =+'Tabela IIIa'!C247 -> 0 | E79: =+'Tabela IIIa'!D247 -> 0 | F79: =+'Tabela IIIa'!E247 -> 0 | G79: =+'Tabela IIIa'!F247 -> 0 | H79: =+'Tabela IIIa'!G247 -> 0 | I79: =+'Tabela IIIa'!H247 -> 0 | J79: =+'Tabela IIIa'!I247 -> 0 | ... R79: =+'Tabela IIIa'!Q247
A80: ='Tabela I'!$F$2 -> 0 | B80: ='Tabela I'!$F$1 -> 2025 | C80: =+'Tabela IIIa'!B254 -> Ime i prezime | D80: =+'Tabela IIIa'!C254 -> 0 | E80: =+'Tabela IIIa'!D254 -> 0 | F80: =+'Tabela IIIa'!E254 -> 0 | G80: =+'Tabela IIIa'!F254 -> 0 | H80: =+'Tabela IIIa'!G254 -> 0 | I80: =+'Tabela IIIa'!H254 -> 0 | J80: =+'Tabela IIIa'!I254 -> 0 | ... R80: =+'Tabela IIIa'!Q254

Sheet tbl4InicAkt
A1: for_key | B1: godina | C1: idReferata | D1: Zalba | E1: 2025 | F1: 2024 | G1: 2023 | H1: 2022 | I1: 2021 | J1: 2020 | K1: 2019 | L1: 2018 | M1: 2017 | N1: 2016 | O1: 2015 | P1: 2014 | Q1: 2013 | R1: 2012 | S1: 2011 | T1: 2010 | U1: 2009 | V1: 2008 | W1: 2007 | X1: 2006 | Y1: 2005 | Z1: 2004 | AA1: 2003 | AB1: 2002 | AC1: 2001 | AD1: 2000 | AE1: Stariji od 2000
A2: ='Tabela I'!$F$2 -> 0 | B2: ='Tabela I'!$F$1 -> 2025 | C2: 26 | D2: 0 | E2: ='Tabela V'!$F$8 -> 0 | F2: ='Tabela V'!$F$9 -> 0 | G2: ='Tabela V'!$F$10 -> 0 | H2: ='Tabela V'!$F$11 -> 0 | I2: ='Tabela V'!$F$12 -> 0 | J2: ='Tabela V'!$F$13 -> 0 | K2: ='Tabela V'!$F$14 -> 0 | L2: ='Tabela V'!$F$15 -> 0 | M2: ='Tabela V'!$F$16 -> 0 | N2: ='Tabela V'!$F$17 -> 0 | O2: ='Tabela V'!$F$18 -> 0 | P2: ='Tabela V'!$F$19 -> 0 | Q2: ='Tabela V'!$F$20 -> 0 | R2: ='Tabela V'!$F$21 -> 0 | S2: ='Tabela V'!$F$22 -> 0 | T2: ='Tabela V'!$F$23 -> 0 | U2: ='Tabela V'!$F$24 -> 0 | V2: ='Tabela V'!$F$25 -> 0 | W2: ='Tabela V'!$F$26 -> 0 | X2: ='Tabela V'!$F$27 -> 0 | Y2: ='Tabela V'!$F$28 -> 0 | Z2: ='Tabela V'!$F$29 -> 0 | AA2: ='Tabela V'!$F$30 -> 0 | AB2: ='Tabela V'!$F$31 -> 0 | AC2: ='Tabela V'!$F$32 -> 0 | AD2: ='Tabela V'!$F$33 -> 0 | AE2: ='Tabela V'!$F$34 -> 0
A3: ='Tabela I'!$F$2 -> 0 | B3: ='Tabela I'!$F$1 -> 2025 | C3: 104 | D3: 0 | E3: ='Tabela V'!$G$8 -> 0 | F3: ='Tabela V'!$G$9 -> 0 | G3: ='Tabela V'!$G$10 -> 0 | H3: ='Tabela V'!$G$11 -> 0 | I3: ='Tabela V'!$G$12 -> 0 | J3: ='Tabela V'!$G$13 -> 0 | K3: ='Tabela V'!$G$14 -> 0 | L3: ='Tabela V'!$G$15 -> 0 | M3: ='Tabela V'!$G$16 -> 0 | N3: ='Tabela V'!$G$17 -> 0 | O3: ='Tabela V'!$G$18 -> 0 | P3: ='Tabela V'!$G$19 -> 0 | Q3: ='Tabela V'!$G$20 -> 0 | R3: ='Tabela V'!$G$21 -> 0 | S3: ='Tabela V'!$G$22 -> 0 | T3: ='Tabela V'!$G$23 -> 0 | U3: ='Tabela V'!$G$24 -> 0 | V3: ='Tabela V'!$G$25 -> 0 | W3: ='Tabela V'!$G$26 -> 0 | X3: ='Tabela V'!$G$27 -> 0 | Y3: ='Tabela V'!$G$28 -> 0 | Z3: ='Tabela V'!$G$29 -> 0 | AA3: ='Tabela V'!$G$30 -> 0 | AB3: ='Tabela V'!$G$31 -> 0 | AC3: ='Tabela V'!$G$32 -> 0 | AD3: ='Tabela V'!$G$33 -> 0 | AE3: ='Tabela V'!$G$34 -> 0
A4: ='Tabela I'!$F$2 -> 0 | B4: ='Tabela I'!$F$1 -> 2025 | C4: 99 | D4: 0 | E4: ='Tabela V'!$H$8 -> 0 | F4: ='Tabela V'!$H$9 -> 0 | G4: ='Tabela V'!$H$10 -> 0 | H4: ='Tabela V'!$H$11 -> 0 | I4: ='Tabela V'!$H$12 -> 0 | J4: ='Tabela V'!$H$13 -> 0 | K4: ='Tabela V'!$H$14 -> 0 | L4: ='Tabela V'!$H$15 -> 0 | M4: ='Tabela V'!$H$16 -> 0 | N4: ='Tabela V'!$H$17 -> 0 | O4: ='Tabela V'!$H$18 -> 0 | P4: ='Tabela V'!$H$19 -> 0 | Q4: ='Tabela V'!$H$20 -> 0 | R4: ='Tabela V'!$H$21 -> 0 | S4: ='Tabela V'!$H$22 -> 0 | T4: ='Tabela V'!$H$23 -> 0 | U4: ='Tabela V'!$H$24 -> 0 | V4: ='Tabela V'!$H$25 -> 0 | W4: ='Tabela V'!$H$26 -> 0 | X4: ='Tabela V'!$H$27 -> 0 | Y4: ='Tabela V'!$H$28 -> 0 | Z4: ='Tabela V'!$H$29 -> 0 | AA4: ='Tabela V'!$H$30 -> 0 | AB4: ='Tabela V'!$H$31 -> 0 | AC4: ='Tabela V'!$H$32 -> 0 | AD4: ='Tabela V'!$H$33 -> 0 | AE4: ='Tabela V'!$H$34 -> 0
A5: ='Tabela I'!$F$2 -> 0 | B5: ='Tabela I'!$F$1 -> 2025 | C5: 100 | D5: 0 | E5: ='Tabela V'!$I$8 -> 0 | F5: ='Tabela V'!$I$9 -> 0 | G5: ='Tabela V'!$I$10 -> 0 | H5: ='Tabela V'!$I$11 -> 0 | I5: ='Tabela V'!$I$12 -> 0 | J5: ='Tabela V'!$I$13 -> 0 | K5: ='Tabela V'!$I$14 -> 0 | L5: ='Tabela V'!$I$15 -> 0 | M5: ='Tabela V'!$I$16 -> 0 | N5: ='Tabela V'!$I$17 -> 0 | O5: ='Tabela V'!$I$18 -> 0 | P5: ='Tabela V'!$I$19 -> 0 | Q5: ='Tabela V'!$I$20 -> 0 | R5: ='Tabela V'!$I$21 -> 0 | S5: ='Tabela V'!$I$22 -> 0 | T5: ='Tabela V'!$I$23 -> 0 | U5: ='Tabela V'!$I$24 -> 0 | V5: ='Tabela V'!$I$25 -> 0 | W5: ='Tabela V'!$I$26 -> 0 | X5: ='Tabela V'!$I$27 -> 0 | Y5: ='Tabela V'!$I$28 -> 0 | Z5: ='Tabela V'!$I$29 -> 0 | AA5: ='Tabela V'!$I$30 -> 0 | AB5: ='Tabela V'!$I$31 -> 0 | AC5: ='Tabela V'!$I$32 -> 0 | AD5: ='Tabela V'!$I$33 -> 0 | AE5: ='Tabela V'!$I$34 -> 0
A6: ='Tabela I'!$F$2 -> 0 | B6: ='Tabela I'!$F$1 -> 2025 | C6: 101 | D6: 0 | E6: ='Tabela V'!$J$8 -> 0 | F6: ='Tabela V'!$J$9 -> 0 | G6: ='Tabela V'!$J$10 -> 0 | H6: ='Tabela V'!$J$11 -> 0 | I6: ='Tabela V'!$J$12 -> 0 | J6: ='Tabela V'!$J$13 -> 0 | K6: ='Tabela V'!$J$14 -> 0 | L6: ='Tabela V'!$J$15 -> 0 | M6: ='Tabela V'!$J$16 -> 0 | N6: ='Tabela V'!$J$17 -> 0 | O6: ='Tabela V'!$J$18 -> 0 | P6: ='Tabela V'!$J$19 -> 0 | Q6: ='Tabela V'!$J$20 -> 0 | R6: ='Tabela V'!$J$21 -> 0 | S6: ='Tabela V'!$J$22 -> 0 | T6: ='Tabela V'!$J$23 -> 0 | U6: ='Tabela V'!$J$24 -> 0 | V6: ='Tabela V'!$J$25 -> 0 | W6: ='Tabela V'!$J$26 -> 0 | X6: ='Tabela V'!$J$27 -> 0 | Y6: ='Tabela V'!$J$28 -> 0 | Z6: ='Tabela V'!$J$29 -> 0 | AA6: ='Tabela V'!$J$30 -> 0 | AB6: ='Tabela V'!$J$31 -> 0 | AC6: ='Tabela V'!$J$32 -> 0 | AD6: ='Tabela V'!$J$33 -> 0 | AE6: ='Tabela V'!$J$34 -> 0
A7: ='Tabela I'!$F$2 -> 0 | B7: ='Tabela I'!$F$1 -> 2025 | C7: 123 | D7: 0 | E7: ='Tabela V'!$K$8 -> 0 | F7: ='Tabela V'!$K$9 -> 0 | G7: ='Tabela V'!$K$10 -> 0 | H7: ='Tabela V'!$K$11 -> 0 | I7: ='Tabela V'!$K$12 -> 0 | J7: ='Tabela V'!$K$13 -> 0 | K7: ='Tabela V'!$K$14 -> 0 | L7: ='Tabela V'!$K$15 -> 0 | M7: ='Tabela V'!$K$16 -> 0 | N7: ='Tabela V'!$K$17 -> 0 | O7: ='Tabela V'!$K$18 -> 0 | P7: ='Tabela V'!$K$19 -> 0 | Q7: ='Tabela V'!$K$20 -> 0 | R7: ='Tabela V'!$K$21 -> 0 | S7: ='Tabela V'!$K$22 -> 0 | T7: ='Tabela V'!$K$23 -> 0 | U7: ='Tabela V'!$K$24 -> 0 | V7: ='Tabela V'!$K$25 -> 0 | W7: ='Tabela V'!$K$26 -> 0 | X7: ='Tabela V'!$K$27 -> 0 | Y7: ='Tabela V'!$K$28 -> 0 | Z7: ='Tabela V'!$K$29 -> 0 | AA7: ='Tabela V'!$K$30 -> 0 | AB7: ='Tabela V'!$K$31 -> 0 | AC7: ='Tabela V'!$K$32 -> 0 | AD7: ='Tabela V'!$K$33 -> 0 | AE7: ='Tabela V'!$K$34 -> 0
A8: ='Tabela I'!$F$2 -> 0 | B8: ='Tabela I'!$F$1 -> 2025 | C8: 105 | D8: 0 | E8: ='Tabela V'!$L$8 -> 0 | F8: ='Tabela V'!$L$9 -> 0 | G8: ='Tabela V'!$L$10 -> 0 | H8: ='Tabela V'!$L$11 -> 0 | I8: ='Tabela V'!$L$12 -> 0 | J8: ='Tabela V'!$L$13 -> 0 | K8: ='Tabela V'!$L$14 -> 0 | L8: ='Tabela V'!$L$15 -> 0 | M8: ='Tabela V'!$L$16 -> 0 | N8: ='Tabela V'!$L$17 -> 0 | O8: ='Tabela V'!$L$18 -> 0 | P8: ='Tabela V'!$L$19 -> 0 | Q8: ='Tabela V'!$L$20 -> 0 | R8: ='Tabela V'!$L$21 -> 0 | S8: ='Tabela V'!$L$22 -> 0 | T8: ='Tabela V'!$L$23 -> 0 | U8: ='Tabela V'!$L$24 -> 0 | V8: ='Tabela V'!$L$25 -> 0 | W8: ='Tabela V'!$L$26 -> 0 | X8: ='Tabela V'!$L$27 -> 0 | Y8: ='Tabela V'!$L$28 -> 0 | Z8: ='Tabela V'!$L$29 -> 0 | AA8: ='Tabela V'!$L$30 -> 0 | AB8: ='Tabela V'!$L$31 -> 0 | AC8: ='Tabela V'!$L$32 -> 0 | AD8: ='Tabela V'!$L$33 -> 0 | AE8: ='Tabela V'!$L$34 -> 0
A9: ='Tabela I'!$F$2 -> 0 | B9: ='Tabela I'!$F$1 -> 2025 | C9: 106 | D9: 0 | E9: ='Tabela V'!$M$8 -> 0 | F9: ='Tabela V'!$M$9 -> 0 | G9: ='Tabela V'!$M$10 -> 0 | H9: ='Tabela V'!$M$11 -> 0 | I9: ='Tabela V'!$M$12 -> 0 | J9: ='Tabela V'!$M$13 -> 0 | K9: ='Tabela V'!$M$14 -> 0 | L9: ='Tabela V'!$M$15 -> 0 | M9: ='Tabela V'!$M$16 -> 0 | N9: ='Tabela V'!$M$17 -> 0 | O9: ='Tabela V'!$M$18 -> 0 | P9: ='Tabela V'!$M$19 -> 0 | Q9: ='Tabela V'!$M$20 -> 0 | R9: ='Tabela V'!$M$21 -> 0 | S9: ='Tabela V'!$M$22 -> 0 | T9: ='Tabela V'!$M$23 -> 0 | U9: ='Tabela V'!$M$24 -> 0 | V9: ='Tabela V'!$M$25 -> 0 | W9: ='Tabela V'!$M$26 -> 0 | X9: ='Tabela V'!$M$27 -> 0 | Y9: ='Tabela V'!$M$28 -> 0 | Z9: ='Tabela V'!$M$29 -> 0 | AA9: ='Tabela V'!$M$30 -> 0 | AB9: ='Tabela V'!$M$31 -> 0 | AC9: ='Tabela V'!$M$32 -> 0 | AD9: ='Tabela V'!$M$33 -> 0 | AE9: ='Tabela V'!$M$34 -> 0
A10: ='Tabela I'!$F$2 -> 0 | B10: ='Tabela I'!$F$1 -> 2025 | C10: 107 | D10: 0 | E10: ='Tabela V'!$N$8 -> 0 | F10: ='Tabela V'!$N$9 -> 0 | G10: ='Tabela V'!$N$10 -> 0 | H10: ='Tabela V'!$N$11 -> 0 | I10: ='Tabela V'!$N$12 -> 0 | J10: ='Tabela V'!$N$13 -> 0 | K10: ='Tabela V'!$N$14 -> 0 | L10: ='Tabela V'!$N$15 -> 0 | M10: ='Tabela V'!$N$16 -> 0 | N10: ='Tabela V'!$N$17 -> 0 | O10: ='Tabela V'!$N$18 -> 0 | P10: ='Tabela V'!$N$19 -> 0 | Q10: ='Tabela V'!$N$20 -> 0 | R10: ='Tabela V'!$N$21 -> 0 | S10: ='Tabela V'!$N$22 -> 0 | T10: ='Tabela V'!$N$23 -> 0 | U10: ='Tabela V'!$N$24 -> 0 | V10: ='Tabela V'!$N$25 -> 0 | W10: ='Tabela V'!$N$26 -> 0 | X10: ='Tabela V'!$N$27 -> 0 | Y10: ='Tabela V'!$N$28 -> 0 | Z10: ='Tabela V'!$N$29 -> 0 | AA10: ='Tabela V'!$N$30 -> 0 | AB10: ='Tabela V'!$N$31 -> 0 | AC10: ='Tabela V'!$N$32 -> 0 | AD10: ='Tabela V'!$N$33 -> 0 | AE10: ='Tabela V'!$N$34 -> 0
A11: ='Tabela I'!$F$2 -> 0 | B11: ='Tabela I'!$F$1 -> 2025 | C11: 108 | D11: 0 | E11: ='Tabela V'!$O$8 -> 0 | F11: ='Tabela V'!$O$9 -> 0 | G11: ='Tabela V'!$O$10 -> 0 | H11: ='Tabela V'!$O$11 -> 0 | I11: ='Tabela V'!$O$12 -> 0 | J11: ='Tabela V'!$O$13 -> 0 | K11: ='Tabela V'!$O$14 -> 0 | L11: ='Tabela V'!$O$15 -> 0 | M11: ='Tabela V'!$O$16 -> 0 | N11: ='Tabela V'!$O$17 -> 0 | O11: ='Tabela V'!$O$18 -> 0 | P11: ='Tabela V'!$O$19 -> 0 | Q11: ='Tabela V'!$O$20 -> 0 | R11: ='Tabela V'!$O$21 -> 0 | S11: ='Tabela V'!$O$22 -> 0 | T11: ='Tabela V'!$O$23 -> 0 | U11: ='Tabela V'!$O$24 -> 0 | V11: ='Tabela V'!$O$25 -> 0 | W11: ='Tabela V'!$O$26 -> 0 | X11: ='Tabela V'!$O$27 -> 0 | Y11: ='Tabela V'!$O$28 -> 0 | Z11: ='Tabela V'!$O$29 -> 0 | AA11: ='Tabela V'!$O$30 -> 0 | AB11: ='Tabela V'!$O$31 -> 0 | AC11: ='Tabela V'!$O$32 -> 0 | AD11: ='Tabela V'!$O$33 -> 0 | AE11: ='Tabela V'!$O$34 -> 0
A12: ='Tabela I'!$F$2 -> 0 | B12: ='Tabela I'!$F$1 -> 2025 | C12: 60 | D12: 0 | E12: ='Tabela V'!$P$8 -> 0 | F12: ='Tabela V'!$P$9 -> 0 | G12: ='Tabela V'!$P$10 -> 0 | H12: ='Tabela V'!$P$11 -> 0 | I12: ='Tabela V'!$P$12 -> 0 | J12: ='Tabela V'!$P$13 -> 0 | K12: ='Tabela V'!$P$14 -> 0 | L12: ='Tabela V'!$P$15 -> 0 | M12: ='Tabela V'!$P$16 -> 0 | N12: ='Tabela V'!$P$17 -> 0 | O12: ='Tabela V'!$P$18 -> 0 | P12: ='Tabela V'!$P$19 -> 0 | Q12: ='Tabela V'!$P$20 -> 0 | R12: ='Tabela V'!$P$21 -> 0 | S12: ='Tabela V'!$P$22 -> 0 | T12: ='Tabela V'!$P$23 -> 0 | U12: ='Tabela V'!$P$24 -> 0 | V12: ='Tabela V'!$P$25 -> 0 | W12: ='Tabela V'!$P$26 -> 0 | X12: ='Tabela V'!$P$27 -> 0 | Y12: ='Tabela V'!$P$28 -> 0 | Z12: ='Tabela V'!$P$29 -> 0 | AA12: ='Tabela V'!$P$30 -> 0 | AB12: ='Tabela V'!$P$31 -> 0 | AC12: ='Tabela V'!$P$32 -> 0 | AD12: ='Tabela V'!$P$33 -> 0 | AE12: ='Tabela V'!$P$34 -> 0
A13: ='Tabela I'!$F$2 -> 0 | B13: ='Tabela I'!$F$1 -> 2025 | C13: 127 | D13: 0 | E13: ='Tabela V'!$B$8 -> 0 | F13: ='Tabela V'!$B$9 -> 0 | G13: ='Tabela V'!$B$10 -> 0 | H13: ='Tabela V'!$B$11 -> 0 | I13: ='Tabela V'!$B$12 -> 0 | J13: ='Tabela V'!$B$13 -> 0 | K13: ='Tabela V'!$B$14 -> 0 | L13: ='Tabela V'!$B$15 -> 0 | M13: ='Tabela V'!$B$16 -> 0 | N13: ='Tabela V'!$B$17 -> 0 | O13: ='Tabela V'!$B$18 -> 0 | P13: ='Tabela V'!$B$19 -> 0 | Q13: ='Tabela V'!$B$20 -> 0 | R13: ='Tabela V'!$B$21 -> 0 | S13: ='Tabela V'!$B$22 -> 0 | T13: ='Tabela V'!$B$23 -> 0 | U13: ='Tabela V'!$B$24 -> 0 | V13: ='Tabela V'!$B$25 -> 0 | W13: ='Tabela V'!$B$26 -> 0 | X13: ='Tabela V'!$B$27 -> 0 | Y13: ='Tabela V'!$B$28 -> 0 | Z13: ='Tabela V'!$B$29 -> 0 | AA13: ='Tabela V'!$B$30 -> 0 | AB13: ='Tabela V'!$B$31 -> 0 | AC13: ='Tabela V'!$B$32 -> 0 | AD13: ='Tabela V'!$B$33 -> 0 | AE13: ='Tabela V'!$B$34 -> 0
A14: ='Tabela I'!$F$2 -> 0 | B14: ='Tabela I'!$F$1 -> 2025 | C14: 128 | D14: 0 | E14: ='Tabela V'!$C$8 -> 0 | F14: ='Tabela V'!$C$9 -> 0 | G14: ='Tabela V'!$C$10 -> 0 | H14: ='Tabela V'!$C$11 -> 0 | I14: ='Tabela V'!$C$12 -> 0 | J14: ='Tabela V'!$C$13 -> 0 | K14: ='Tabela V'!$C$14 -> 0 | L14: ='Tabela V'!$C$15 -> 0 | M14: ='Tabela V'!$C$16 -> 0 | N14: ='Tabela V'!$C$17 -> 0 | O14: ='Tabela V'!$C$18 -> 0 | P14: ='Tabela V'!$C$19 -> 0 | Q14: ='Tabela V'!$C$20 -> 0 | R14: ='Tabela V'!$C$21 -> 0 | S14: ='Tabela V'!$C$22 -> 0 | T14: ='Tabela V'!$C$23 -> 0 | U14: ='Tabela V'!$C$24 -> 0 | V14: ='Tabela V'!$C$25 -> 0 | W14: ='Tabela V'!$C$26 -> 0 | X14: ='Tabela V'!$C$27 -> 0 | Y14: ='Tabela V'!$C$28 -> 0 | Z14: ='Tabela V'!$C$29 -> 0 | AA14: ='Tabela V'!$C$30 -> 0 | AB14: ='Tabela V'!$C$31 -> 0 | AC14: ='Tabela V'!$C$32 -> 0 | AD14: ='Tabela V'!$C$33 -> 0 | AE14: ='Tabela V'!$C$34 -> 0
A15: ='Tabela I'!$F$2 -> 0 | B15: ='Tabela I'!$F$1 -> 2025 | C15: 129 | D15: 0 | E15: ='Tabela V'!$D$8 -> 0 | F15: ='Tabela V'!$D$9 -> 0 | G15: ='Tabela V'!$D$10 -> 0 | H15: ='Tabela V'!$D$11 -> 0 | I15: ='Tabela V'!$D$12 -> 0 | J15: ='Tabela V'!$D$13 -> 0 | K15: ='Tabela V'!$D$14 -> 0 | L15: ='Tabela V'!$D$15 -> 0 | M15: ='Tabela V'!$D$16 -> 0 | N15: ='Tabela V'!$D$17 -> 0 | O15: ='Tabela V'!$D$18 -> 0 | P15: ='Tabela V'!$D$19 -> 0 | Q15: ='Tabela V'!$D$20 -> 0 | R15: ='Tabela V'!$D$21 -> 0 | S15: ='Tabela V'!$D$22 -> 0 | T15: ='Tabela V'!$D$23 -> 0 | U15: ='Tabela V'!$D$24 -> 0 | V15: ='Tabela V'!$D$25 -> 0 | W15: ='Tabela V'!$D$26 -> 0 | X15: ='Tabela V'!$D$27 -> 0 | Y15: ='Tabela V'!$D$28 -> 0 | Z15: ='Tabela V'!$D$29 -> 0 | AA15: ='Tabela V'!$D$30 -> 0 | AB15: ='Tabela V'!$D$31 -> 0 | AC15: ='Tabela V'!$D$32 -> 0 | AD15: ='Tabela V'!$D$33 -> 0 | AE15: ='Tabela V'!$D$34 -> 0
A16: ='Tabela I'!$F$2 -> 0 | B16: ='Tabela I'!$F$1 -> 2025 | C16: 131 | D16: 0 | E16: ='Tabela V'!$E$8 -> 0 | F16: ='Tabela V'!$E$9 -> 0 | G16: ='Tabela V'!$E$10 -> 0 | H16: ='Tabela V'!$E$11 -> 0 | I16: ='Tabela V'!$E$12 -> 0 | J16: ='Tabela V'!$E$13 -> 0 | K16: ='Tabela V'!$E$14 -> 0 | L16: ='Tabela V'!$E$15 -> 0 | M16: ='Tabela V'!$E$16 -> 0 | N16: ='Tabela V'!$E$17 -> 0 | O16: ='Tabela V'!$E$18 -> 0 | P16: ='Tabela V'!$E$19 -> 0 | Q16: ='Tabela V'!$E$20 -> 0 | R16: ='Tabela V'!$E$21 -> 0 | S16: ='Tabela V'!$E$22 -> 0 | T16: ='Tabela V'!$E$23 -> 0 | U16: ='Tabela V'!$E$24 -> 0 | V16: ='Tabela V'!$E$25 -> 0 | W16: ='Tabela V'!$E$26 -> 0 | X16: ='Tabela V'!$E$27 -> 0 | Y16: ='Tabela V'!$E$28 -> 0 | Z16: ='Tabela V'!$E$29 -> 0 | AA16: ='Tabela V'!$E$30 -> 0 | AB16: ='Tabela V'!$E$31 -> 0 | AC16: ='Tabela V'!$E$32 -> 0 | AD16: ='Tabela V'!$E$33 -> 0 | AE16: ='Tabela V'!$E$34 -> 0
E17: =SUM(E2:E16) -> 0 | F17: =SUM(F2:F16) -> 0 | G17: =SUM(G2:G16) -> 0 | H17: =SUM(H2:H16) -> 0 | I17: =SUM(I2:I16) -> 0 | J17: =SUM(J2:J16) -> 0 | K17: =SUM(K2:K16) -> 0 | L17: =SUM(L2:L16) -> 0 | ... AE17: =SUM(AE2:AE16) -> 0

Sheet tbl10_ust_sud
A1: for_key | B1: godina | C1: BrOdbacApel | D1: BrObustPost | E1: BrOdbijApel
A2: ='Tabela I'!$F$2 -> 0 | B2: ='Tabela I'!$F$1 -> 2025 | C2: ='Tabela VI'!A7 -> 0 | D2: ='Tabela VI'!B7 -> 0 | E2: ='Tabela VI'!C7 -> 0
A5: for_key | B5: godina | C5: Pravni osnov | D5: BrPreinOdl | E5: BrUkidOdl | F5: BrUsvApel
A6: ='Tabela I'!$F$2 -> 0 | B6: ='Tabela I'!$F$1 -> 2025 | C6: 1 | D6: ='Tabela VI'!B12 -> 0 | E6: ='Tabela VI'!C12 -> 0 | F6: ='Tabela VI'!D12 -> 0
A7: ='Tabela I'!$F$2 -> 0 | B7: ='Tabela I'!$F$1 -> 2025 | C7: 2 | D7: ='Tabela VI'!B13 -> 0 | E7: ='Tabela VI'!C13 -> 0 | F7: ='Tabela VI'!D13 -> 0
A8: ='Tabela I'!$F$2 -> 0 | B8: ='Tabela I'!$F$1 -> 2025 | C8: 3 | D8: ='Tabela VI'!B14 -> 0 | E8: ='Tabela VI'!C14 -> 0 | F8: ='Tabela VI'!D14 -> 0
A9: ='Tabela I'!$F$2 -> 0 | B9: ='Tabela I'!$F$1 -> 2025 | C9: 4 | D9: ='Tabela VI'!B15 -> 0 | E9: ='Tabela VI'!C15 -> 0 | F9: ='Tabela VI'!D15 -> 0
A10: ='Tabela I'!$F$2 -> 0 | B10: ='Tabela I'!$F$1 -> 2025 | C10: 5 | D10: ='Tabela VI'!B16 -> 0 | E10: ='Tabela VI'!C16 -> 0 | F10: ='Tabela VI'!D16 -> 0
A11: ='Tabela I'!$F$2 -> 0 | B11: ='Tabela I'!$F$1 -> 2025 | C11: 6 | D11: ='Tabela VI'!B17 -> 0 | E11: ='Tabela VI'!C17 -> 0 | F11: ='Tabela VI'!D17 -> 0
A12: ='Tabela I'!$F$2 -> 0 | B12: ='Tabela I'!$F$1 -> 2025 | C12: 7 | D12: ='Tabela VI'!B18 -> 0 | E12: ='Tabela VI'!C18 -> 0 | F12: ='Tabela VI'!D18 -> 0
A15: for_key | B15: godina | C15: Pravni osnov | D15: PrvostSud | E15: DrugostSud | F15: SudPoUlPrLij | G15: Ostalo
A16: ='Tabela I'!$F$2 -> 0 | B16: ='Tabela I'!$F$1 -> 2025 | C16: 3 | D16: ='Tabela VI'!B23 -> 0 | E16: ='Tabela VI'!C23 -> 0 | F16: ='Tabela VI'!D23 -> 0 | G16: ='Tabela VI'!E23 -> 0
A19: for_key | B19: godina | C19: BrNaknNematStete | D19: UkIznosNaknade
A20: ='Tabela I'!$F$2 -> 0 | B20: ='Tabela I'!$F$1 -> 2025 | C20: ='Tabela VI'!B25 -> 0 | D20: ='Tabela VI'!B26 -> 0
