Workbook

Sheet Uputstvo
B2: TUŽILAŠTVA - po predmetima
B3: Napomene:
B5: Kompletni materijali u vezi procesa izvještavanja i ocjenjivanja rada u tužilaštvima za 2025. godinu dostupni su na linku:
B6: https://vstv.pravosudje.ba/vstvfo/B/141/article/143275
B7: Tabele za popunjavanje podataka o radu tužilaštava nije moguće mijenjati, niti dodavati nove redove ili kolone.
B8: Tabele se isključivo popunjavaju predviđenim redoslijedom, po redoslijedu postavljenih tabela.
B11: Podatke je potrebno upisivati samo u polja osjenčena žutom bojom.
B12: U ostala polja nije moguće upisivati vrijednosti, u ovim poljima vrijednosti će biti izračunate automatski.
B13: Molimo Vas da u Tabeli I i naslovu e-maila (subject) kojim ćete poslati popunjene obrasce navedete naziv Vašeg tužilaštva.
B16: Popunjene obrasce poslati na e-mail adresu: vstvstatistika@pravosudje.ba do 02.02.2026. godine.
B18: Za sva eventualna pitanja vezano za popunjavanje obrazaca molimo Vas da kontaktirate Odjel za pravosudnu analitiku i izvještavanje, na telefon: 033 704 616.
B21: Tabele za ocjenjivanje NPF u tužilaštvu sadrže detaljnije napomene koje je potrebno imati u vidu prilikom popunjavanja tabela.
... B40: TABELA III - PODACI O KTA, KTARZ, KTN I KTNRZ PREDMETIMA U tabeli III potrebno je navesti podatke o protoku Kta, Ktarz, Ktn i Ktnrz predmeta u tužilaštvu u 2018. godini. U tabelu se unose zbirni podaci o predmetima koji su evidentirani u TCMS-u kao i predmetima koji su evidentirani u manuelnim upisnicima tužilaštva. Automatski se preračunavaju podaci u kolonama: III i VIII. Podatak o broju neriješenih Kta, Ktarz, Ktn i Ktnrz predmeta u tužilaštvu na dan 31.12.2018. godine (kolona IX) će se dobiti automatskim oduzimanjem ukupnog broja riješenih predmeta (kolona VIII) od ukupnog broja predmeta u radu (kolona III). TABELA IIIa - PODACI O NERIJEŠENIM KTA, KTARZ, KTN I KTNRZ PREDMETIMA KOJI NISU UVEDENI U TCMS NA DAN 31.12.2018. GODINE Glavni tužilac je dužan osigurati da se u Tabelu IIIa unesu podaci o broju neriješenih predmeta koji nisu bili uvedeni u TCMS na dan 31.12.2018. godine kako slijedi: Kta, Ktarz, Ktn i Ktnrz. Ukoliko su svi neriješeni predmeti Kta, Ktarz, Ktn i Ktnrz u tužilaštvu na 31.12.2018. godine bili uvedeni u TCMS, dužni ste unijeti u Tabelu IIIa vrijednost 0 u sva polja označena žutom bojom. Automatski se preračunava podatak u posljednjem polju kolone I. Vrijednost podatka u posljednjem polju kolone I u Tabeli IIIa ne može biti veća od vrijednosti podatka u posljednjem polju kolone IX u Tabeli III. Ukoliko navedeni podatak nije u skladu sa navedenim logičkim pravilom, ovo polje će biti obojeno crvenom bojom. Nakon što podaci budu korigovani, na način da su u skladu sa logičkim pravilom, polje će biti obojeno bijelom bojom. TABELA IV - PODACI O KTA I KTN PREDMETIMA U KOJIMA JE NASTUPILA ZASTARA U tabeli IV potrebno je navesti podatke o broju Kta i Ktn predmeta u tužilaštvu u 2018. godini u kojima je donijeta naredba o iskazivanju predmeta završenim zbog nastupanja relativne ili apsolutne zastarjelosti krivičnog gonjenja. U ovu tabelu se unose podaci o svim Kta i Ktn predmetima u tužilaštvu bez obzira na to da li su predmeti uvedeni u TCMS. Automatski se preračunava podatak u koloni III.

Sheet TABELA I
A1: Naziv tužilaštva | D1: Republičko javno tužilaštvo Republike Srpske - Posebni odjel | K1: 2025
A2: Izvještajni period: | G2: 1.1.2025. - 31.12.2025.
A4: Ostvarena kolektivna norma tužilaštva u 2025. godini: | G4: =+P88
A6: Kolektivni kvalitet tužilačkih odluka u 2025. godini: | G6: Optužnice | H6: =+'TABELA II'!F33 | K6: Naredbe o nesprovođenju i obustavljanju istraga | N6: =+'TABELA II'!J33
A7: Tabela Ia: Ostvarena orjentaciona norma - Elektronski obrazac za obračun ostvarene orijentacione norme (pogledati NAPOMENU 4)
A9: Redni broj | B9: Ime i prezime - evidentirani podatak se automatski prenosi u Tabelu IIa | C9: Ocjenjen u tužilaštvu | D9: Naziv odjela - evidentirani podatak se automatski prenosi u Tabelu IIa | E9: Pravosudna funkcija | G9: Procenat orijentacijske norme koju je nosilac pravosudne funkcije dužan ostvariti - Ukoliko procenat orijentacijske norme nije predviđen u padajućem meniju, pogledati NAPOMENU 3 | H9: Period obavljanja pravosudne funkcije u instituciji koja popunjava tabelu Ia | J9: Ukupan broj dana za obračun norme - pogledati NAPOMENU 2 | K9: Broj dana opravdanog odsustva iz član 24. Pravilnika o orijentacijskim mjerilima | L9: Ostvarena orijentacijska norma iz TCMS-a | M9: Ostvarena orijentacijska norma na predmetima van TCMS-a - pogledati NAPOMENU 8 | N9: Procenat ostvarene orijentacijske norme prema čl 7, 8.,10 i 11. Pravilnika o orijentacijskim mjerilima - pogledati NAPOMENU 9 | O9: Procenat ostvarene orijentacijske norme u 2025. godini | P9: Ukupno ostvarena orijentacijska norma u 2025. godini | Q9: Nedovoljan broj predmeta u radu - pogledati NAPOMENU 5 | T9: Broj ostvarenih bodova | U9: Da | V9: Ne
H10: Datum od | I10: Datum do | Q10: broj predmeta u radu | R10: broj riješenih predmeta | S10: procenat riješenih predmeta | U10: Zamjenik glavnog tužioca | V10: Šef odjela | W10: Tužilac
A11: I | B11: II | C11: III | D11: IV | E11: V | F11: Column1 | G11: VI | H11: VII | I11: VIII | J11: IX | K11: X | L11: XI | M11: XII | N11: XIII | O11: XIV | P11: XV | Q11: XVI | R11: XVII | S11: XVIII | T11: XIX | U11: 1 | V11: 0.9 | W11: 0.8 | X11: 0.7 | Y11: 0.6 | Z11: 0.5 | AA11: 0.4
A12: 1 | E12: Zamjenik glavnog tužioca - specijalni tužilac | J12: 261 | O12: =IF(G12="","",IF(G12="Ne treba rješavati predmete",1+(L12/J12*261)+M12+N12,(L12/J12*261+M12+N12)/G12)) | P12: =IF(G12="Ne treba rješavati predmete",O12,IF(K12>0,O12*(J12/(J12-K12)),O12)) | S12: =IF(Q12="","",R12/Q12) | T12: =IF(P12="","",IF(C12="Ne","",IF(G12="Ne treba rješavati predmete","",IF(P12>1,12,IF(S12="",IF(P12>0.9,10,IF(P12>0.8,8,IF(P12>0.7,6,IF(P12>0.6,4,IF(P12>0.5,2,0))))),IF(S12>0.94,12,IF(S12>0.9,10,IF(S12>0.8,8,IF(S12>0.7,6,IF(S12>0.6,4,IF(S12>0.5,2,0))))))))))) | W12: 0.2 | X12: Ne treba rješavati predmete | AC12: =I12-H12
J13: 261 | O13: =IF(G13="","",IF(G13="Ne treba rješavati predmete",1+(L13/J13*261)+M13+N13,(L13/J13*261+M13+N13)/G13)) | P13: =IF(K13>0,O13*(J13/(J13-K13)),O13) | S13: =IF(Q13="","",R13/Q13) | T13: =IF(P13="","",IF(C12="Ne","",IF(G13="Ne treba rješavati predmete","",IF(P13>1,12,IF(S13="",IF(P13>0.9,10,IF(P13>0.8,8,IF(P13>0.7,6,IF(P13>0.6,4,IF(P13>0.5,2,0))))),IF(S13>0.94,12,IF(S13>0.9,10,IF(S13>0.8,8,IF(S13>0.7,6,IF(S13>0.6,4,IF(S13>0.5,2,0))))))))))) | AC13: =I13-H13
A14: 2 | F14: =IF(E14="Tužilac",1,IF(E14="Zamjenik glavnog tužioca",2,IF(E14="Šef odjela",3,IF(E14="Član VSTV-a",4,)))) -> 0 | J14: 261 | O14: =IF(G14="","",IF(G14="Ne treba rješavati predmete",1+(L14/J14*261)+M14+N14,(L14/J14*261+M14+N14)/G14)) | P14: =IF(K14>0,O14*(J14/(J14-K14)),O14) | S14: =IF(Q14="","",R14/Q14) | T14: =IF(C14="Ne","",IF(E14="",IF(G14="",""),IF(C14="Ne","",IF(E14="Tužilac",IF(P14>1,30,IF(S14="",IF(P14>0.9,25,IF(P14>0.8,20,IF(P14>0.7,15,IF(P14>0.6,10,IF(P14>0.5,5,0))))),IF(S14>0.94,30,IF(S14>0.9,25,IF(S14>0.8,20,IF(S14>0.7,15,IF(S14>0.6,10,IF(S14>0.5,5,0)))))))),IF(P14>1,15,IF(S14="",IF(P14>0.9,13,IF(P14>0.8,11,IF(P14>0.7,9,IF(P14>0.6,7,IF(P14>0.5,3,0))))),IF(S14>0.94,15,IF(S14>0.9,12,IF(S14>0.8,9,IF(S14>0.7,6,IF(S14>0.6,4,IF(S14>0.5,2,0)))))))))))) | AC14: =I14-H14 -> 0
A15: 3 | F15: =IF(E15="Tužilac",1,IF(E15="Zamjenik glavnog tužioca",2,IF(E15="Šef odjela",3,IF(E15="Član VSTV-a",4,)))) -> 0 | J15: 261 | O15: =IF(G15="","",IF(G15="Ne treba rješavati predmete",1+(L15/J15*261)+M15+N15,(L15/J15*261+M15+N15)/G15)) | P15: =IF(K15>0,O15*(J15/(J15-K15)),O15) | S15: =IF(Q15="","",R15/Q15) | T15: =IF(C15="Ne","",IF(E15="",IF(G15="",""),IF(C15="Ne","",IF(E15="Tužilac",IF(P15>1,30,IF(S15="",IF(P15>0.9,25,IF(P15>0.8,20,IF(P15>0.7,15,IF(P15>0.6,10,IF(P15>0.5,5,0))))),IF(S15>0.94,30,IF(S15>0.9,25,IF(S15>0.8,20,IF(S15>0.7,15,IF(S15>0.6,10,IF(S15>0.5,5,0)))))))),IF(P15>1,15,IF(S15="",IF(P15>0.9,13,IF(P15>0.8,11,IF(P15>0.7,9,IF(P15>0.6,7,IF(P15>0.5,3,0))))),IF(S15>0.94,15,IF(S15>0.9,12,IF(S15>0.8,9,IF(S15>0.7,6,IF(S15>0.6,4,IF(S15>0.5,2,0)))))))))))) | AC15: =I15-H15 -> 0
A16: 4 | F16: =IF(E16="Tužilac",1,IF(E16="Zamjenik glavnog tužioca",2,IF(E16="Šef odjela",3,IF(E16="Član VSTV-a",4,)))) -> 0 | J16: 261 | O16: =IF(G16="","",IF(G16="Ne treba rješavati predmete",1+(L16/J16*261)+M16+N16,(L16/J16*261+M16+N16)/G16)) | P16: =IF(K16>0,O16*(J16/(J16-K16)),O16) | S16: =IF(Q16="","",R16/Q16) | T16: =IF(C16="Ne","",IF(E16="",IF(G16="",""),IF(C16="Ne","",IF(E16="Tužilac",IF(P16>1,30,IF(S16="",IF(P16>0.9,25,IF(P16>0.8,20,IF(P16>0.7,15,IF(P16>0.6,10,IF(P16>0.5,5,0))))),IF(S16>0.94,30,IF(S16>0.9,25,IF(S16>0.8,20,IF(S16>0.7,15,IF(S16>0.6,10,IF(S16>0.5,5,0)))))))),IF(P16>1,15,IF(S16="",IF(P16>0.9,13,IF(P16>0.8,11,IF(P16>0.7,9,IF(P16>0.6,7,IF(P16>0.5,3,0))))),IF(S16>0.94,15,IF(S16>0.9,12,IF(S16>0.8,9,IF(S16>0.7,6,IF(S16>0.6,4,IF(S16>0.5,2,0)))))))))))) | AC16: =I16-H16 -> 0
A17: 5 | F17: =IF(E17="Tužilac",1,IF(E17="Zamjenik glavnog tužioca",2,IF(E17="Šef odjela",3,IF(E17="Član VSTV-a",4,)))) -> 0 | J17: 261 | O17: =IF(G17="","",IF(G17="Ne treba rješavati predmete",1+(L17/J17*261)+M17+N17,(L17/J17*261+M17+N17)/G17)) | P17: =IF(K17>0,O17*(J17/(J17-K17)),O17) | S17: =IF(Q17="","",R17/Q17) | T17: =IF(C17="Ne","",IF(E17="",IF(G17="",""),IF(C17="Ne","",IF(E17="Tužilac",IF(P17>1,30,IF(S17="",IF(P17>0.9,25,IF(P17>0.8,20,IF(P17>0.7,15,IF(P17>0.6,10,IF(P17>0.5,5,0))))),IF(S17>0.94,30,IF(S17>0.9,25,IF(S17>0.8,20,IF(S17>0.7,15,IF(S17>0.6,10,IF(S17>0.5,5,0)))))))),IF(P17>1,15,IF(S17="",IF(P17>0.9,13,IF(P17>0.8,11,IF(P17>0.7,9,IF(P17>0.6,7,IF(P17>0.5,3,0))))),IF(S17>0.94,15,IF(S17>0.9,12,IF(S17>0.8,9,IF(S17>0.7,6,IF(S17>0.6,4,IF(S17>0.5,2,0)))))))))))) | AC17: =I17-H17 -> 0
A18: 6 | F18: =IF(E18="Tužilac",1,IF(E18="Zamjenik glavnog tužioca",2,IF(E18="Šef odjela",3,IF(E18="Član VSTV-a",4,)))) -> 0 | J18: 261 | O18: =IF(G18="","",IF(G18="Ne treba rješavati predmete",1+(L18/J18*261)+M18+N18,(L18/J18*261+M18+N18)/G18)) | P18: =IF(K18>0,O18*(J18/(J18-K18)),O18) | S18: =IF(Q18="","",R18/Q18) | T18: =IF(C18="Ne","",IF(E18="",IF(G18="",""),IF(C18="Ne","",IF(E18="Tužilac",IF(P18>1,30,IF(S18="",IF(P18>0.9,25,IF(P18>0.8,20,IF(P18>0.7,15,IF(P18>0.6,10,IF(P18>0.5,5,0))))),IF(S18>0.94,30,IF(S18>0.9,25,IF(S18>0.8,20,IF(S18>0.7,15,IF(S18>0.6,10,IF(S18>0.5,5,0)))))))),IF(P18>1,15,IF(S18="",IF(P18>0.9,13,IF(P18>0.8,11,IF(P18>0.7,9,IF(P18>0.6,7,IF(P18>0.5,3,0))))),IF(S18>0.94,15,IF(S18>0.9,12,IF(S18>0.8,9,IF(S18>0.7,6,IF(S18>0.6,4,IF(S18>0.5,2,0)))))))))))) | AC18: =I18-H18 -> 0
A19: 7 | F19: =IF(E19="Tužilac",1,IF(E19="Zamjenik glavnog tužioca",2,IF(E19="Šef odjela",3,IF(E19="Član VSTV-a",4,)))) -> 0 | J19: 261 | O19: =IF(G19="","",IF(G19="Ne treba rješavati predmete",1+(L19/J19*261)+M19+N19,(L19/J19*261+M19+N19)/G19)) | P19: =IF(K19>0,O19*(J19/(J19-K19)),O19) | S19: =IF(Q19="","",R19/Q19) | T19: =IF(C19="Ne","",IF(E19="",IF(G19="",""),IF(C19="Ne","",IF(E19="Tužilac",IF(P19>1,30,IF(S19="",IF(P19>0.9,25,IF(P19>0.8,20,IF(P19>0.7,15,IF(P19>0.6,10,IF(P19>0.5,5,0))))),IF(S19>0.94,30,IF(S19>0.9,25,IF(S19>0.8,20,IF(S19>0.7,15,IF(S19>0.6,10,IF(S19>0.5,5,0)))))))),IF(P19>1,15,IF(S19="",IF(P19>0.9,13,IF(P19>0.8,11,IF(P19>0.7,9,IF(P19>0.6,7,IF(P19>0.5,3,0))))),IF(S19>0.94,15,IF(S19>0.9,12,IF(S19>0.8,9,IF(S19>0.7,6,IF(S19>0.6,4,IF(S19>0.5,2,0)))))))))))) | AC19: =I19-H19 -> 0
A20: 8 | F20: =IF(E20="Tužilac",1,IF(E20="Zamjenik glavnog tužioca",2,IF(E20="Šef odjela",3,IF(E20="Član VSTV-a",4,)))) -> 0 | J20: 261 | O20: =IF(G20="","",IF(G20="Ne treba rješavati predmete",1+(L20/J20*261)+M20+N20,(L20/J20*261+M20+N20)/G20)) | P20: =IF(K20>0,O20*(J20/(J20-K20)),O20) | S20: =IF(Q20="","",R20/Q20) | T20: =IF(C20="Ne","",IF(E20="",IF(G20="",""),IF(C20="Ne","",IF(E20="Tužilac",IF(P20>1,30,IF(S20="",IF(P20>0.9,25,IF(P20>0.8,20,IF(P20>0.7,15,IF(P20>0.6,10,IF(P20>0.5,5,0))))),IF(S20>0.94,30,IF(S20>0.9,25,IF(S20>0.8,20,IF(S20>0.7,15,IF(S20>0.6,10,IF(S20>0.5,5,0)))))))),IF(P20>1,15,IF(S20="",IF(P20>0.9,13,IF(P20>0.8,11,IF(P20>0.7,9,IF(P20>0.6,7,IF(P20>0.5,3,0))))),IF(S20>0.94,15,IF(S20>0.9,12,IF(S20>0.8,9,IF(S20>0.7,6,IF(S20>0.6,4,IF(S20>0.5,2,0)))))))))))) | AC20: =I20-H20 -> 0
A21: 9 | F21: =IF(E21="Tužilac",1,IF(E21="Zamjenik glavnog tužioca",2,IF(E21="Šef odjela",3,IF(E21="Član VSTV-a",4,)))) -> 0 | J21: 261 | O21: =IF(G21="","",IF(G21="Ne treba rješavati predmete",1+(L21/J21*261)+M21+N21,(L21/J21*261+M21+N21)/G21)) | P21: =IF(K21>0,O21*(J21/(J21-K21)),O21) | S21: =IF(Q21="","",R21/Q21) | T21: =IF(C21="Ne","",IF(E21="",IF(G21="",""),IF(C21="Ne","",IF(E21="Tužilac",IF(P21>1,30,IF(S21="",IF(P21>0.9,25,IF(P21>0.8,20,IF(P21>0.7,15,IF(P21>0.6,10,IF(P21>0.5,5,0))))),IF(S21>0.94,30,IF(S21>0.9,25,IF(S21>0.8,20,IF(S21>0.7,15,IF(S21>0.6,10,IF(S21>0.5,5,0)))))))),IF(P21>1,15,IF(S21="",IF(P21>0.9,13,IF(P21>0.8,11,IF(P21>0.7,9,IF(P21>0.6,7,IF(P21>0.5,3,0))))),IF(S21>0.94,15,IF(S21>0.9,12,IF(S21>0.8,9,IF(S21>0.7,6,IF(S21>0.6,4,IF(S21>0.5,2,0))))))))))))
A22: 10 | F22: =IF(E22="Tužilac",1,IF(E22="Zamjenik glavnog tužioca",2,IF(E22="Šef odjela",3,IF(E22="Član VSTV-a",4,)))) -> 0 | J22: 261 | O22: =IF(G22="","",IF(G22="Ne treba rješavati predmete",1+(L22/J22*261)+M22+N22,(L22/J22*261+M22+N22)/G22)) | P22: =IF(K22>0,O22*(J22/(J22-K22)),O22) | S22: =IF(Q22="","",R22/Q22) | T22: =IF(C22="Ne","",IF(E22="",IF(G22="",""),IF(C22="Ne","",IF(E22="Tužilac",IF(P22>1,30,IF(S22="",IF(P22>0.9,25,IF(P22>0.8,20,IF(P22>0.7,15,IF(P22>0.6,10,IF(P22>0.5,5,0))))),IF(S22>0.94,30,IF(S22>0.9,25,IF(S22>0.8,20,IF(S22>0.7,15,IF(S22>0.6,10,IF(S22>0.5,5,0)))))))),IF(P22>1,15,IF(S22="",IF(P22>0.9,13,IF(P22>0.8,11,IF(P22>0.7,9,IF(P22>0.6,7,IF(P22>0.5,3,0))))),IF(S22>0.94,15,IF(S22>0.9,12,IF(S22>0.8,9,IF(S22>0.7,6,IF(S22>0.6,4,IF(S22>0.5,2,0))))))))))))
A23: 11 | F23: =IF(E23="Tužilac",1,IF(E23="Zamjenik glavnog tužioca",2,IF(E23="Šef odjela",3,IF(E23="Član VSTV-a",4,)))) -> 0 | J23: 261 | O23: =IF(G23="","",IF(G23="Ne treba rješavati predmete",1+(L23/J23*261)+M23+N23,(L23/J23*261+M23+N23)/G23)) | P23: =IF(K23>0,O23*(J23/(J23-K23)),O23) | S23: =IF(Q23="","",R23/Q23) | T23: =IF(C23="Ne","",IF(E23="",IF(G23="",""),IF(C23="Ne","",IF(E23="Tužilac",IF(P23>1,30,IF(S23="",IF(P23>0.9,25,IF(P23>0.8,20,IF(P23>0.7,15,IF(P23>0.6,10,IF(P23>0.5,5,0))))),IF(S23>0.94,30,IF(S23>0.9,25,IF(S23>0.8,20,IF(S23>0.7,15,IF(S23>0.6,10,IF(S23>0.5,5,0)))))))),IF(P23>1,15,IF(S23="",IF(P23>0.9,13,IF(P23>0.8,11,IF(P23>0.7,9,IF(P23>0.6,7,IF(P23>0.5,3,0))))),IF(S23>0.94,15,IF(S23>0.9,12,IF(S23>0.8,9,IF(S23>0.7,6,IF(S23>0.6,4,IF(S23>0.5,2,0))))))))))))
A24: 12 | F24: =IF(E24="Tužilac",1,IF(E24="Zamjenik glavnog tužioca",2,IF(E24="Šef odjela",3,IF(E24="Član VSTV-a",4,)))) -> 0 | J24: 261 | O24: =IF(G24="","",IF(G24="Ne treba rješavati predmete",1+(L24/J24*261)+M24+N24,(L24/J24*261+M24+N24)/G24)) | P24: =IF(K24>0,O24*(J24/(J24-K24)),O24) | S24: =IF(Q24="","",R24/Q24) | T24: =IF(C24="Ne","",IF(E24="",IF(G24="",""),IF(C24="Ne","",IF(E24="Tužilac",IF(P24>1,30,IF(S24="",IF(P24>0.9,25,IF(P24>0.8,20,IF(P24>0.7,15,IF(P24>0.6,10,IF(P24>0.5,5,0))))),IF(S24>0.94,30,IF(S24>0.9,25,IF(S24>0.8,20,IF(S24>0.7,15,IF(S24>0.6,10,IF(S24>0.5,5,0)))))))),IF(P24>1,15,IF(S24="",IF(P24>0.9,13,IF(P24>0.8,11,IF(P24>0.7,9,IF(P24>0.6,7,IF(P24>0.5,3,0))))),IF(S24>0.94,15,IF(S24>0.9,12,IF(S24>0.8,9,IF(S24>0.7,6,IF(S24>0.6,4,IF(S24>0.5,2,0))))))))))))
A25: 13 | F25: =IF(E25="Tužilac",1,IF(E25="Zamjenik glavnog tužioca",2,IF(E25="Šef odjela",3,IF(E25="Član VSTV-a",4,)))) -> 0 | J25: 261 | O25: =IF(G25="","",IF(G25="Ne treba rješavati predmete",1+(L25/J25*261)+M25+N25,(L25/J25*261+M25+N25)/G25)) | P25: =IF(K25>0,O25*(J25/(J25-K25)),O25) | S25: =IF(Q25="","",R25/Q25) | T25: =IF(C25="Ne","",IF(E25="",IF(G25="",""),IF(C25="Ne","",IF(E25="Tužilac",IF(P25>1,30,IF(S25="",IF(P25>0.9,25,IF(P25>0.8,20,IF(P25>0.7,15,IF(P25>0.6,10,IF(P25>0.5,5,0))))),IF(S25>0.94,30,IF(S25>0.9,25,IF(S25>0.8,20,IF(S25>0.7,15,IF(S25>0.6,10,IF(S25>0.5,5,0)))))))),IF(P25>1,15,IF(S25="",IF(P25>0.9,13,IF(P25>0.8,11,IF(P25>0.7,9,IF(P25>0.6,7,IF(P25>0.5,3,0))))),IF(S25>0.94,15,IF(S25>0.9,12,IF(S25>0.8,9,IF(S25>0.7,6,IF(S25>0.6,4,IF(S25>0.5,2,0))))))))))))
A26: 14 | F26: =IF(E26="Tužilac",1,IF(E26="Zamjenik glavnog tužioca",2,IF(E26="Šef odjela",3,IF(E26="Član VSTV-a",4,)))) -> 0 | J26: 261 | O26: =IF(G26="","",IF(G26="Ne treba rješavati predmete",1+(L26/J26*261)+M26+N26,(L26/J26*261+M26+N26)/G26)) | P26: =IF(K26>0,O26*(J26/(J26-K26)),O26) | S26: =IF(Q26="","",R26/Q26) | T26: =IF(C26="Ne","",IF(E26="",IF(G26="",""),IF(C26="Ne","",IF(E26="Tužilac",IF(P26>1,30,IF(S26="",IF(P26>0.9,25,IF(P26>0.8,20,IF(P26>0.7,15,IF(P26>0.6,10,IF(P26>0.5,5,0))))),IF(S26>0.94,30,IF(S26>0.9,25,IF(S26>0.8,20,IF(S26>0.7,15,IF(S26>0.6,10,IF(S26>0.5,5,0)))))))),IF(P26>1,15,IF(S26="",IF(P26>0.9,13,IF(P26>0.8,11,IF(P26>0.7,9,IF(P26>0.6,7,IF(P26>0.5,3,0))))),IF(S26>0.94,15,IF(S26>0.9,12,IF(S26>0.8,9,IF(S26>0.7,6,IF(S26>0.6,4,IF(S26>0.5,2,0))))))))))))
A27: 15 | F27: =IF(E27="Tužilac",1,IF(E27="Zamjenik glavnog tužioca",2,IF(E27="Šef odjela",3,IF(E27="Član VSTV-a",4,)))) -> 0 | J27: 261 | O27: =IF(G27="","",IF(G27="Ne treba rješavati predmete",1+(L27/J27*261)+M27+N27,(L27/J27*261+M27+N27)/G27)) | P27: =IF(K27>0,O27*(J27/(J27-K27)),O27) | S27: =IF(Q27="","",R27/Q27) | T27: =IF(C27="Ne","",IF(E27="",IF(G27="",""),IF(C27="Ne","",IF(E27="Tužilac",IF(P27>1,30,IF(S27="",IF(P27>0.9,25,IF(P27>0.8,20,IF(P27>0.7,15,IF(P27>0.6,10,IF(P27>0.5,5,0))))),IF(S27>0.94,30,IF(S27>0.9,25,IF(S27>0.8,20,IF(S27>0.7,15,IF(S27>0.6,10,IF(S27>0.5,5,0)))))))),IF(P27>1,15,IF(S27="",IF(P27>0.9,13,IF(P27>0.8,11,IF(P27>0.7,9,IF(P27>0.6,7,IF(P27>0.5,3,0))))),IF(S27>0.94,15,IF(S27>0.9,12,IF(S27>0.8,9,IF(S27>0.7,6,IF(S27>0.6,4,IF(S27>0.5,2,0))))))))))))
A28: 16 | F28: =IF(E28="Tužilac",1,IF(E28="Zamjenik glavnog tužioca",2,IF(E28="Šef odjela",3,IF(E28="Član VSTV-a",4,)))) -> 0 | J28: 261 | O28: =IF(G28="","",IF(G28="Ne treba rješavati predmete",1+(L28/J28*261)+M28+N28,(L28/J28*261+M28+N28)/G28)) | P28: =IF(K28>0,O28*(J28/(J28-K28)),O28) | S28: =IF(Q28="","",R28/Q28) | T28: =IF(C28="Ne","",IF(E28="",IF(G28="",""),IF(C28="Ne","",IF(E28="Tužilac",IF(P28>1,30,IF(S28="",IF(P28>0.9,25,IF(P28>0.8,20,IF(P28>0.7,15,IF(P28>0.6,10,IF(P28>0.5,5,0))))),IF(S28>0.94,30,IF(S28>0.9,25,IF(S28>0.8,20,IF(S28>0.7,15,IF(S28>0.6,10,IF(S28>0.5,5,0)))))))),IF(P28>1,15,IF(S28="",IF(P28>0.9,13,IF(P28>0.8,11,IF(P28>0.7,9,IF(P28>0.6,7,IF(P28>0.5,3,0))))),IF(S28>0.94,15,IF(S28>0.9,12,IF(S28>0.8,9,IF(S28>0.7,6,IF(S28>0.6,4,IF(S28>0.5,2,0))))))))))))
A29: 17 | F29: =IF(E29="Tužilac",1,IF(E29="Zamjenik glavnog tužioca",2,IF(E29="Šef odjela",3,IF(E29="Član VSTV-a",4,)))) -> 0 | J29: 261 | O29: =IF(G29="","",IF(G29="Ne treba rješavati predmete",1+(L29/J29*261)+M29+N29,(L29/J29*261+M29+N29)/G29)) | P29: =IF(K29>0,O29*(J29/(J29-K29)),O29) | S29: =IF(Q29="","",R29/Q29) | T29: =IF(C29="Ne","",IF(E29="",IF(G29="",""),IF(C29="Ne","",IF(E29="Tužilac",IF(P29>1,30,IF(S29="",IF(P29>0.9,25,IF(P29>0.8,20,IF(P29>0.7,15,IF(P29>0.6,10,IF(P29>0.5,5,0))))),IF(S29>0.94,30,IF(S29>0.9,25,IF(S29>0.8,20,IF(S29>0.7,15,IF(S29>0.6,10,IF(S29>0.5,5,0)))))))),IF(P29>1,15,IF(S29="",IF(P29>0.9,13,IF(P29>0.8,11,IF(P29>0.7,9,IF(P29>0.6,7,IF(P29>0.5,3,0))))),IF(S29>0.94,15,IF(S29>0.9,12,IF(S29>0.8,9,IF(S29>0.7,6,IF(S29>0.6,4,IF(S29>0.5,2,0))))))))))))
A30: 18 | F30: =IF(E30="Tužilac",1,IF(E30="Zamjenik glavnog tužioca",2,IF(E30="Šef odjela",3,IF(E30="Član VSTV-a",4,)))) -> 0 | J30: 261 | O30: =IF(G30="","",IF(G30="Ne treba rješavati predmete",1+(L30/J30*261)+M30+N30,(L30/J30*261+M30+N30)/G30)) | P30: =IF(K30>0,O30*(J30/(J30-K30)),O30) | S30: =IF(Q30="","",R30/Q30) | T30: =IF(C30="Ne","",IF(E30="",IF(G30="",""),IF(C30="Ne","",IF(E30="Tužilac",IF(P30>1,30,IF(S30="",IF(P30>0.9,25,IF(P30>0.8,20,IF(P30>0.7,15,IF(P30>0.6,10,IF(P30>0.5,5,0))))),IF(S30>0.94,30,IF(S30>0.9,25,IF(S30>0.8,20,IF(S30>0.7,15,IF(S30>0.6,10,IF(S30>0.5,5,0)))))))),IF(P30>1,15,IF(S30="",IF(P30>0.9,13,IF(P30>0.8,11,IF(P30>0.7,9,IF(P30>0.6,7,IF(P30>0.5,3,0))))),IF(S30>0.94,15,IF(S30>0.9,12,IF(S30>0.8,9,IF(S30>0.7,6,IF(S30>0.6,4,IF(S30>0.5,2,0))))))))))))
A31: 19 | F31: =IF(E31="Tužilac",1,IF(E31="Zamjenik glavnog tužioca",2,IF(E31="Šef odjela",3,IF(E31="Član VSTV-a",4,)))) -> 0 | J31: 261 | O31: =IF(G31="","",IF(G31="Ne treba rješavati predmete",1+(L31/J31*261)+M31+N31,(L31/J31*261+M31+N31)/G31)) | P31: =IF(K31>0,O31*(J31/(J31-K31)),O31) | S31: =IF(Q31="","",R31/Q31) | T31: =IF(C31="Ne","",IF(E31="",IF(G31="",""),IF(C31="Ne","",IF(E31="Tužilac",IF(P31>1,30,IF(S31="",IF(P31>0.9,25,IF(P31>0.8,20,IF(P31>0.7,15,IF(P31>0.6,10,IF(P31>0.5,5,0))))),IF(S31>0.94,30,IF(S31>0.9,25,IF(S31>0.8,20,IF(S31>0.7,15,IF(S31>0.6,10,IF(S31>0.5,5,0)))))))),IF(P31>1,15,IF(S31="",IF(P31>0.9,13,IF(P31>0.8,11,IF(P31>0.7,9,IF(P31>0.6,7,IF(P31>0.5,3,0))))),IF(S31>0.94,15,IF(S31>0.9,12,IF(S31>0.8,9,IF(S31>0.7,6,IF(S31>0.6,4,IF(S31>0.5,2,0))))))))))))
A32: 20 | F32: =IF(E32="Tužilac",1,IF(E32="Zamjenik glavnog tužioca",2,IF(E32="Šef odjela",3,IF(E32="Član VSTV-a",4,)))) -> 0 | J32: 261 | O32: =IF(G32="","",IF(G32="Ne treba rješavati predmete",1+(L32/J32*261)+M32+N32,(L32/J32*261+M32+N32)/G32)) | P32: =IF(K32>0,O32*(J32/(J32-K32)),O32) | S32: =IF(Q32="","",R32/Q32) | T32: =IF(C32="Ne","",IF(E32="",IF(G32="",""),IF(C32="Ne","",IF(E32="Tužilac",IF(P32>1,30,IF(S32="",IF(P32>0.9,25,IF(P32>0.8,20,IF(P32>0.7,15,IF(P32>0.6,10,IF(P32>0.5,5,0))))),IF(S32>0.94,30,IF(S32>0.9,25,IF(S32>0.8,20,IF(S32>0.7,15,IF(S32>0.6,10,IF(S32>0.5,5,0)))))))),IF(P32>1,15,IF(S32="",IF(P32>0.9,13,IF(P32>0.8,11,IF(P32>0.7,9,IF(P32>0.6,7,IF(P32>0.5,3,0))))),IF(S32>0.94,15,IF(S32>0.9,12,IF(S32>0.8,9,IF(S32>0.7,6,IF(S32>0.6,4,IF(S32>0.5,2,0))))))))))))
... A77: 65 | F77: =IF(E77="Tužilac",1,IF(E77="Zamjenik glavnog tužioca",2,IF(E77="Šef odjela",3,IF(E77="Član VSTV-a",4,)))) -> 0 | J77: 261 | O77: =IF(G77="","",IF(G77="Ne treba rješavati predmete",1+(L77/J77*261)+M77+N77,(L77/J77*261+M77+N77)/G77)) | P77: =IF(K77>0,O77*(J77/(J77-K77)),O77) | S77: =IF(Q77="","",R77/Q77) | T77: =IF(C77="Ne","",IF(E77="",IF(G77="",""),IF(C77="Ne","",IF(E77="Tužilac",IF(P77>1,30,IF(S77="",IF(P77>0.9,25,IF(P77>0.8,20,IF(P77>0.7,15,IF(P77>0.6,10,IF(P77>0.5,5,0))))),IF(S77>0.94,30,IF(S77>0.9,25,IF(S77>0.8,20,IF(S77>0.7,15,IF(S77>0.6,10,IF(S77>0.5,5,0)))))))),IF(P77>1,15,IF(S77="",IF(P77>0.9,13,IF(P77>0.8,11,IF(P77>0.7,9,IF(P77>0.6,7,IF(P77>0.5,3,0))))),IF(S77>0.94,15,IF(S77>0.9,12,IF(S77>0.8,9,IF(S77>0.7,6,IF(S77>0.6,4,IF(S77>0.5,2,0))))))))))))
F78: =IF(E78="Tužilac",1,IF(E78="Zamjenik glavnog tužioca",2,IF(E78="Šef odjela",3,IF(E78="Član VSTV-a",4,)))) -> 0 | J78: 261 | O78: =IF(G78="","",IF(G78="Ne treba rješavati predmete",1+(L78/J78*261)+M78+N78,(L78/J78*261+M78+N78)/G78)) | P78: =IF(K78>0,O78*(J78/(J78-K78)),O78) | S78: =IF(Q78="","",R78/Q78) | T78: =IF(C78="Ne","",IF(E78="",IF(G78="",""),IF(C78="Ne","",IF(E78="Tužilac",IF(P78>1,30,IF(S78="",IF(P78>0.9,25,IF(P78>0.8,20,IF(P78>0.7,15,IF(P78>0.6,10,IF(P78>0.5,5,0))))),IF(S78>0.94,30,IF(S78>0.9,25,IF(S78>0.8,20,IF(S78>0.7,15,IF(S78>0.6,10,IF(S78>0.5,5,0)))))))),IF(P78>1,15,IF(S78="",IF(P78>0.9,13,IF(P78>0.8,11,IF(P78>0.7,9,IF(P78>0.6,7,IF(P78>0.5,3,0))))),IF(S78>0.94,15,IF(S78>0.9,12,IF(S78>0.8,9,IF(S78>0.7,6,IF(S78>0.6,4,IF(S78>0.5,2,0))))))))))))
F79: =IF(E79="Tužilac",1,IF(E79="Zamjenik glavnog tužioca",2,IF(E79="Šef odjela",3,IF(E79="Član VSTV-a",4,)))) -> 0 | J79: 261 | O79: =IF(G79="","",IF(G79="Ne treba rješavati predmete",1+(L79/J79*261)+M79+N79,(L79/J79*261+M79+N79)/G79)) | P79: =IF(K79>0,O79*(J79/(J79-K79)),O79) | S79: =IF(Q79="","",R79/Q79) | T79: =IF(C79="Ne","",IF(E79="",IF(G79="",""),IF(C79="Ne","",IF(E79="Tužilac",IF(P79>1,30,IF(S79="",IF(P79>0.9,25,IF(P79>0.8,20,IF(P79>0.7,15,IF(P79>0.6,10,IF(P79>0.5,5,0))))),IF(S79>0.94,30,IF(S79>0.9,25,IF(S79>0.8,20,IF(S79>0.7,15,IF(S79>0.6,10,IF(S79>0.5,5,0)))))))),IF(P79>1,15,IF(S79="",IF(P79>0.9,13,IF(P79>0.8,11,IF(P79>0.7,9,IF(P79>0.6,7,IF(P79>0.5,3,0))))),IF(S79>0.94,15,IF(S79>0.9,12,IF(S79>0.8,9,IF(S79>0.7,6,IF(S79>0.6,4,IF(S79>0.5,2,0))))))))))))
F80: =IF(E80="Tužilac",1,IF(E80="Zamjenik glavnog tužioca",2,IF(E80="Šef odjela",3,IF(E80="Član VSTV-a",4,)))) -> 0 | J80: 261 | O80: =IF(G80="","",IF(G80="Ne treba rješavati predmete",1+(L80/J80*261)+M80+N80,(L80/J80*261+M80+N80)/G80)) | P80: =IF(K80>0,O80*(J80/(J80-K80)),O80) | S80: =IF(Q80="","",R80/Q80) | T80: =IF(C80="Ne","",IF(E80="",IF(G80="",""),IF(C80="Ne","",IF(E80="Tužilac",IF(P80>1,30,IF(S80="",IF(P80>0.9,25,IF(P80>0.8,20,IF(P80>0.7,15,IF(P80>0.6,10,IF(P80>0.5,5,0))))),IF(S80>0.94,30,IF(S80>0.9,25,IF(S80>0.8,20,IF(S80>0.7,15,IF(S80>0.6,10,IF(S80>0.5,5,0)))))))),IF(P80>1,15,IF(S80="",IF(P80>0.9,13,IF(P80>0.8,11,IF(P80>0.7,9,IF(P80>0.6,7,IF(P80>0.5,3,0))))),IF(S80>0.94,15,IF(S80>0.9,12,IF(S80>0.8,9,IF(S80>0.7,6,IF(S80>0.6,4,IF(S80>0.5,2,0))))))))))))
F81: =IF(E81="Tužilac",1,IF(E81="Zamjenik glavnog tužioca",2,IF(E81="Šef odjela",3,IF(E81="Član VSTV-a",4,)))) -> 0 | J81: 261 | O81: =IF(G81="","",IF(G81="Ne treba rješavati predmete",1+(L81/J81*261)+M81+N81,(L81/J81*261+M81+N81)/G81)) | P81: =IF(K81>0,O81*(J81/(J81-K81)),O81) | S81: =IF(Q81="","",R81/Q81) | T81: =IF(C81="Ne","",IF(E81="",IF(G81="",""),IF(C81="Ne","",IF(E81="Tužilac",IF(P81>1,30,IF(S81="",IF(P81>0.9,25,IF(P81>0.8,20,IF(P81>0.7,15,IF(P81>0.6,10,IF(P81>0.5,5,0))))),IF(S81>0.94,30,IF(S81>0.9,25,IF(S81>0.8,20,IF(S81>0.7,15,IF(S81>0.6,10,IF(S81>0.5,5,0)))))))),IF(P81>1,15,IF(S81="",IF(P81>0.9,13,IF(P81>0.8,11,IF(P81>0.7,9,IF(P81>0.6,7,IF(P81>0.5,3,0))))),IF(S81>0.94,15,IF(S81>0.9,12,IF(S81>0.8,9,IF(S81>0.7,6,IF(S81>0.6,4,IF(S81>0.5,2,0))))))))))))
F82: =IF(E82="Tužilac",1,IF(E82="Zamjenik glavnog tužioca",2,IF(E82="Šef odjela",3,IF(E82="Član VSTV-a",4,)))) -> 0 | J82: 261 | O82: =IF(G82="","",IF(G82="Ne treba rješavati predmete",1+(L82/J82*261)+M82+N82,(L82/J82*261+M82+N82)/G82)) | P82: =IF(K82>0,O82*(J82/(J82-K82)),O82) | S82: =IF(Q82="","",R82/Q82) | T82: =IF(C82="Ne","",IF(E82="",IF(G82="",""),IF(C82="Ne","",IF(E82="Tužilac",IF(P82>1,30,IF(S82="",IF(P82>0.9,25,IF(P82>0.8,20,IF(P82>0.7,15,IF(P82>0.6,10,IF(P82>0.5,5,0))))),IF(S82>0.94,30,IF(S82>0.9,25,IF(S82>0.8,20,IF(S82>0.7,15,IF(S82>0.6,10,IF(S82>0.5,5,0)))))))),IF(P82>1,15,IF(S82="",IF(P82>0.9,13,IF(P82>0.8,11,IF(P82>0.7,9,IF(P82>0.6,7,IF(P82>0.5,3,0))))),IF(S82>0.94,15,IF(S82>0.9,12,IF(S82>0.8,9,IF(S82>0.7,6,IF(S82>0.6,4,IF(S82>0.5,2,0))))))))))))
F83: =IF(E83="Tužilac",1,IF(E83="Zamjenik glavnog tužioca",2,IF(E83="Šef odjela",3,IF(E83="Član VSTV-a",4,)))) -> 0 | J83: 261 | O83: =IF(G83="","",IF(G83="Ne treba rješavati predmete",1+(L83/J83*261)+M83+N83,(L83/J83*261+M83+N83)/G83)) | P83: =IF(K83>0,O83*(J83/(J83-K83)),O83) | S83: =IF(Q83="","",R83/Q83) | T83: =IF(C83="Ne","",IF(E83="",IF(G83="",""),IF(C83="Ne","",IF(E83="Tužilac",IF(P83>1,30,IF(S83="",IF(P83>0.9,25,IF(P83>0.8,20,IF(P83>0.7,15,IF(P83>0.6,10,IF(P83>0.5,5,0))))),IF(S83>0.94,30,IF(S83>0.9,25,IF(S83>0.8,20,IF(S83>0.7,15,IF(S83>0.6,10,IF(S83>0.5,5,0)))))))),IF(P83>1,15,IF(S83="",IF(P83>0.9,13,IF(P83>0.8,11,IF(P83>0.7,9,IF(P83>0.6,7,IF(P83>0.5,3,0))))),IF(S83>0.94,15,IF(S83>0.9,12,IF(S83>0.8,9,IF(S83>0.7,6,IF(S83>0.6,4,IF(S83>0.5,2,0))))))))))))
F84: =IF(E84="Tužilac",1,IF(E84="Zamjenik glavnog tužioca",2,IF(E84="Šef odjela",3,IF(E84="Član VSTV-a",4,)))) -> 0 | J84: 261 | O84: =IF(G84="","",IF(G84="Ne treba rješavati predmete",1+(L84/J84*261)+M84+N84,(L84/J84*261+M84+N84)/G84)) | P84: =IF(K84>0,O84*(J84/(J84-K84)),O84) | S84: =IF(Q84="","",R84/Q84) | T84: =IF(C84="Ne","",IF(E84="",IF(G84="",""),IF(C84="Ne","",IF(E84="Tužilac",IF(P84>1,30,IF(S84="",IF(P84>0.9,25,IF(P84>0.8,20,IF(P84>0.7,15,IF(P84>0.6,10,IF(P84>0.5,5,0))))),IF(S84>0.94,30,IF(S84>0.9,25,IF(S84>0.8,20,IF(S84>0.7,15,IF(S84>0.6,10,IF(S84>0.5,5,0)))))))),IF(P84>1,15,IF(S84="",IF(P84>0.9,13,IF(P84>0.8,11,IF(P84>0.7,9,IF(P84>0.6,7,IF(P84>0.5,3,0))))),IF(S84>0.94,15,IF(S84>0.9,12,IF(S84>0.8,9,IF(S84>0.7,6,IF(S84>0.6,4,IF(S84>0.5,2,0))))))))))))
F85: =IF(E85="Tužilac",1,IF(E85="Zamjenik glavnog tužioca",2,IF(E85="Šef odjela",3,IF(E85="Član VSTV-a",4,)))) -> 0 | J85: 261 | O85: =IF(G85="","",IF(G85="Ne treba rješavati predmete",1+(L85/J85*261)+M85+N85,(L85/J85*261+M85+N85)/G85)) | P85: =IF(K85>0,O85*(J85/(J85-K85)),O85) | S85: =IF(Q85="","",R85/Q85) | T85: =IF(C85="Ne","",IF(E85="",IF(G85="",""),IF(C85="Ne","",IF(E85="Tužilac",IF(P85>1,30,IF(S85="",IF(P85>0.9,25,IF(P85>0.8,20,IF(P85>0.7,15,IF(P85>0.6,10,IF(P85>0.5,5,0))))),IF(S85>0.94,30,IF(S85>0.9,25,IF(S85>0.8,20,IF(S85>0.7,15,IF(S85>0.6,10,IF(S85>0.5,5,0)))))))),IF(P85>1,15,IF(S85="",IF(P85>0.9,13,IF(P85>0.8,11,IF(P85>0.7,9,IF(P85>0.6,7,IF(P85>0.5,3,0))))),IF(S85>0.94,15,IF(S85>0.9,12,IF(S85>0.8,9,IF(S85>0.7,6,IF(S85>0.6,4,IF(S85>0.5,2,0))))))))))))
F86: =IF(E86="Tužilac",1,IF(E86="Zamjenik glavnog tužioca",2,IF(E86="Šef odjela",3,IF(E86="Član VSTV-a",4,)))) -> 0 | J86: 261 | O86: =IF(G86="","",IF(G86="Ne treba rješavati predmete",1+(L86/J86*261)+M86+N86,(L86/J86*261+M86+N86)/G86)) | P86: =IF(K86>0,O86*(J86/(J86-K86)),O86) | S86: =IF(Q86="","",R86/Q86) | T86: =IF(C86="Ne","",IF(E86="",IF(G86="",""),IF(C86="Ne","",IF(E86="Tužilac",IF(P86>1,30,IF(S86="",IF(P86>0.9,25,IF(P86>0.8,20,IF(P86>0.7,15,IF(P86>0.6,10,IF(P86>0.5,5,0))))),IF(S86>0.94,30,IF(S86>0.9,25,IF(S86>0.8,20,IF(S86>0.7,15,IF(S86>0.6,10,IF(S86>0.5,5,0)))))))),IF(P86>1,15,IF(S86="",IF(P86>0.9,13,IF(P86>0.8,11,IF(P86>0.7,9,IF(P86>0.6,7,IF(P86>0.5,3,0))))),IF(S86>0.94,15,IF(S86>0.9,12,IF(S86>0.8,9,IF(S86>0.7,6,IF(S86>0.6,4,IF(S86>0.5,2,0))))))))))))
F87: =IF(E87="Tužilac",1,IF(E87="Zamjenik glavnog tužioca",2,IF(E87="Šef odjela",3,IF(E87="Član VSTV-a",4,)))) -> 0 | J87: 261 | O87: =IF(G87="","",IF(G87="Ne treba rješavati predmete",1+(L87/J87*261)+M87+N87,(L87/J87*261+M87+N87)/G87)) | P87: =IF(K87>0,O87*(J87/(J87-K87)),O87) | S87: =IF(Q87="","",R87/Q87) | T87: =IF(C87="Ne","",IF(E87="",IF(G87="",""),IF(C87="Ne","",IF(E87="Tužilac",IF(P87>1,30,IF(S87="",IF(P87>0.9,25,IF(P87>0.8,20,IF(P87>0.7,15,IF(P87>0.6,10,IF(P87>0.5,5,0))))),IF(S87>0.94,30,IF(S87>0.9,25,IF(S87>0.8,20,IF(S87>0.7,15,IF(S87>0.6,10,IF(S87>0.5,5,0)))))))),IF(P87>1,15,IF(S87="",IF(P87>0.9,13,IF(P87>0.8,11,IF(P87>0.7,9,IF(P87>0.6,7,IF(P87>0.5,3,0))))),IF(S87>0.94,15,IF(S87>0.9,12,IF(S87>0.8,9,IF(S87>0.7,6,IF(S87>0.6,4,IF(S87>0.5,2,0))))))))))))
...

Sheet TABELA II
A1: =+'TABELA I'!A1 -> Naziv tužilaštva | D1: =+'TABELA I'!D1 -> Republičko javno tužilaštvo Republike Srpske - Posebni odjel | J1: 2016
A2: Izvještajni period: | D2: =+'TABELA I'!G2 -> 1.1.2025. - 31.12.2025.
A3: Tabela II: Kvalitet tužilačkih odluka (predmeti)
A4: Vrsta predmeta | B4: O P T U Ž N I C E | G4: I S T R A G E | K4: Ukupan kvalitet
B5: Broj podignutih optužnica | C5: Broj podnesenih prijedloga za izricanje vaspitnih mjera i maloljetničkog zatvora | D5: Broj pravosnažnih rješenja o odbijanju optužnice | E5: Broj pravosnažnih odluka o neprihvaćanju prijedloga za izricanje vaspitnih mjera i maloljetničkog zatvora | F5: Kvalitet optužnica | G5: Broj naredbi o nesprovođenju istrage | H5: Broj naredbi o obustavljanju istrage | I5: Ukupan broj rješenja glavnog tužioca o usvajanju pritužbi na naredbe o nesprovođenju, odnosno obustavljanu istrage | J5: Kvalitet istraga
A7: I | B7: II | C7: III | D7: IV | E7: V | F7: VI | G7: VII | H7: VIII | I7: IX | J7: X | K7: XV=(X+XIV)/2
A9: KTM | F9: =IF(B9+C9=0,"",(B9+C9-D9-E9)/(B9+C9)) | J9: =IF(G9+H9=0,"",(G9+H9-I9)/(G9+H9)) | K9: =IF(F9="",(IF(J9="","",J9/2)),IF(J9="",F9/2,(F9+J9)/2))
A10: KT | F10: =IF(B10+C10=0,"",(B10+C10-D10-E10)/(B10+C10)) | J10: =IF(G10+H10=0,"",(G10+H10-I10)/(G10+H10)) | K10: =IF(F10+J10=0,"",(F10+J10)/2) -> #VALUE!
A11: KTA | F11: =IF(B11+C11=0,"",(B11+C11-D11-E11)/(B11+C11)) | J11: =IF(G11+H11=0,"",(G11+H11-I11)/(G11+H11)) | K11: =IF(F11="",(IF(J11="","",J11/2)),IF(J11="",F11/2,(F11+J11)/2))
A12: KTN | F12: =IF(B12+C12=0,"",(B12+C12-D12-E12)/(B12+C12)) | K12: =IF(F12="",(IF(J12="","",J12/2)),IF(J12="",F12/2,(F12+J12)/2))
A13: KTK*** | F13: =IF(B13+C13=0,"",(B13+C13-D13-E13)/(B13+C13)) | J13: =IF(G13+H13=0,"",(G13+H13-I13/2)/(G13+H13)) | K13: =IF(F13="",(IF(J13="","",J13/2)),IF(J13="",F13/2,(F13+J13)/2))
A14: KTAK | F14: =IF(B14+C14=0,"",(B14+C14-D14-E14)/(B14+C14)) | J14: =IF(G14+H14=0,"",(G14+H14-I14/2)/(G14+H14)) | K14: =IF(F14="",(IF(J14="","",J14/2)),IF(J14="",F14/2,(F14+J14)/2))
A15: KTNK | F15: =IF(B15+C15=0,"",(B15+C15-D15-E15)/(B15+C15)) | J15: =IF(G15+H15=0,"",(G15+H15-I15/2)/(G15+H15)) | K15: =IF(F15="",(IF(J15="","",J15/2)),IF(J15="",F15/2,(F15+J15)/2))
A16: KTT | F16: =IF(B16+C16=0,"",(B16+C16-D16-E16)/(B16+C16)) | J16: =IF(G16+H16=0,"",(G16+H16-I16)/(G16+H16)) | K16: =IF(F16="",(IF(J16="","",J16/2)),IF(J16="",F16/2,(F16+J16)/2))
A17: KTAT | F17: =IF(B17+C17=0,"",(B17+C17-D17-E17)/(B17+C17)) | J17: =IF(G17+H17=0,"",(G17+H17-I17)/(G17+H17)) | K17: =IF(F17="",(IF(J17="","",J17/2)),IF(J17="",F17/2,(F17+J17)/2))
A18: KTNT | F18: =IF(B18+C18=0,"",(B18+C18-D18-E18)/(B18+C18)) | J18: =IF(G18+H18=0,"",(G18+H18-I18)/(G18+H18)) | K18: =IF(F18="",(IF(J18="","",J18/2)),IF(J18="",F18/2,(F18+J18)/2))
A19: KTKK | F19: =IF(B19+C19=0,"",(B19+C19-D19-E19)/(B19+C19)) | J19: =IF(G19+H19=0,"",(G19+H19-I19)/(G19+H19))
A20: KTAKK | F20: =IF(B20+C20=0,"",(B20+C20-D20-E20)/(B20+C20)) | J20: =IF(G20+H20=0,"",(G20+H20-I20)/(G20+H20))
A21: KTNKK | F21: =IF(B21+C21=0,"",(B21+C21-D21-E21)/(B21+C21)) | J21: =IF(G21+H21=0,"",(G21+H21-I21)/(G21+H21))
A22: KTD | F22: =IF(B22+C22=0,"",(B22+C22-D22-E22)/(B22+C22)) | J22: =IF(G22+H22=0,"",(G22+H22-I22)/(G22+H22))
A23: KTRZ | F23: =IF(B23+C23=0,"",(B23+C23-D23-E23)/(B23+C23)) | J23: =IF(G23+H23=0,"",(G23+H23-I23/2)/(G23+H23)) | K23: =IF(F23="",(IF(J23="","",J23/2)),IF(J23="",F23/2,(F23+J23)/2))
A24: KTARZ | F24: =IF(B24+C24=0,"",(B24+C24-D24-E24)/(B24+C24)) | J24: =IF(G24+H24=0,"",(G24+H24-I24/2)/(G24+H24)) | K24: =IF(F24="",(IF(J24="","",J24/2)),IF(J24="",F24/2,(F24+J24)/2))
A25: KTNRZ | F25: =IF(B25+C25=0,"",(B25+C25-D25-E25)/(B25+C25)) | J25: =IF(G25+H25=0,"",(G25+H25-I25/2)/(G25+H25)) | K25: =IF(F25="",(IF(J25="","",J25/2)),IF(J25="",F25/2,(F25+J25)/2))
A26: KTPO | F26: =IF(B26+C26=0,"",(B26+C26-D26-E26)/(B26+C26)) | J26: =IF(G26+H26=0,"",(G26+H26-I26/2)/(G26+H26)) | K26: =IF(F26="",(IF(J26="","",J26/2)),IF(J26="",F26/2,(F26+J26)/2))
A27: KTAPO | F27: =IF(B27+C27=0,"",(B27+C27-D27-E27)/(B27+C27)) | J27: =IF(G27+H27=0,"",(G27+H27-I27/2)/(G27+H27)) | K27: =IF(F27="",(IF(J27="","",J27/2)),IF(J27="",F27/2,(F27+J27)/2))
A28: KTNPO | F28: =IF(B28+C28=0,"",(B28+C28-D28-E28)/(B28+C28)) | J28: =IF(G28+H28=0,"",(G28+H28-I28/2)/(G28+H28)) | K28: =IF(F28="",(IF(J28="","",J28/2)),IF(J28="",F28/2,(F28+J28)/2))
A29: KTO**** | F29: =IF(B29+C29=0,"",(B29+C29-D29-E29)/(B29+C29)) | J29: =IF(G29+H29=0,"",(G29+H29-I29/2)/(G29+H29)) | K29: =IF(F29="",(IF(J29="","",J29/2)),IF(J29="",F29/2,(F29+J29)/2))
A30: KTAO | F30: =IF(B30+C30=0,"",(B30+C30-D30-E30)/(B30+C30)) | J30: =IF(G30+H30=0,"",(G30+H30-I30/2)/(G30+H30)) | K30: =IF(F30="",(IF(J30="","",J30/2)),IF(J30="",F30/2,(F30+J30)/2))
A31: KTNO | F31: =IF(B31+C31=0,"",(B31+C31-D31-E31)/(B31+C31)) | J31: =IF(G31+H31=0,"",(G31+H31-I31/2)/(G31+H31)) | K31: =IF(F31="",(IF(J31="","",J31/2)),IF(J31="",F31/2,(F31+J31)/2))
A33: Ukupno | B33: =SUM(B9:B31) -> 0 | C33: =SUM(C9:C31) -> 0 | D33: =SUM(D9:D31) -> 0 | E33: =SUM(E9:E31) -> 0 | F33: =IF(B33+C33=0,"",(B33+C33-D33-E33)/(B33+C33)) | G33: =SUM(G9:G31) -> 0 | H33: =SUM(H9:H31) -> 0 | I33: =SUM(I9:I31) -> 0 | J33: =IF(G33+H33=0,"",((G33+H33-(I9+I10+I11+I12+I16+I17+I18+I19+I20+I21+I22+((I13+I14+I15+I23+I24+I25+I26+I27+I28+I29+I30+I31)/2))))/(G33+H33)) | K33: =AVERAGE(K9:K31) -> #VALUE!
A35: Dužni ste unijeti vrijednosti u sva polja kolona II - V (ukoliko u izvještajnom periodu nije bilo odgovarajuće vrste odluke unesite 0). Ukoliko u bilo koje polje u koloni IV ne unesete podatak (0 ili drugu vrijednost) ovo polje će biti obojeno crvenom bojom.
A37: * | B37: Naredbe o neprovođenju i obustavi istrage u KTN predmetima iz oblasti opšteg kriminala ne ubrajaju se u ukupan broj naredbi o neprovođenju i obustavi istrage.
A39: ** | B39: U KTK vrstu predmeta evidentirati i KTKV predmete.
A41: *** | B41: U KTO vrstu predmeta evidentirati i KTOV predmete.

Sheet TABELA IIa
B1: =+'TABELA II'!A1 -> Naziv tužilaštva | E1: =+'TABELA I'!D1 -> Republičko javno tužilaštvo Republike Srpske - Posebni odjel
B2: Izvještajni period: | E2: =+'TABELA I'!G2 -> 1.1.2025. - 31.12.2025.
B3: Tabela IIa: Obračun ostvarenog kvaliteta optužnica i naredbi o nesprovođenju i obustavi istraga - Elektronski obrazac za obračun ostvarenog kvaliteta odluka (pogledati NAPOMENU 5 i 6)
B5: Redni broj | C5: Ime i prezime - podatak je automatski prenesen iz Tabele I - OBAVEZNO ZADRŽATI REDOSLIJED NPF-a iz Tabele I | D5: Pravosudna funkcija | E5: Naziv odjela - podatak je automatski prenesen iz Tabele I | F5: Ocijenjen u tužilaštvu | G5: Vrsta predmeta* | H5: Broj podignutih optužnica | I5: Broj podnesenih prijedloga za izricanje vaspitnih mjera i maloljetničkog zatvora | J5: Broj pravosnažnih rješenja o odbijanju optužnice | K5: Broj pravosnažnih odluka o neprihvaćanju prijedloga za izricanje vaspitnih mjera i maloljetničkog zatvora | L5: Kvalitet optužnica za godišnji izvještaj | M5: Kvalitet optužnica prema članu 28. Kriterija | N5: Ostvareni broj bodova za kvalitet optužnica prema članu 28. Kriterija | O5: Broj naredbi o nesprovođenju istrage | P5: Broj naredbi o obustavi istrage | Q5: Ukupan broj rješenja glavnog tužioca o usvajanju pritužbi na naredbe o nesprovođenju i obustavi istrage | R5: Kvalitet naredbi o nesprovođenju i obustavi istrage***** | S5: Kvalitet naredbi o nesprovođenju i obustavi istrage prema članu 29. Kriterija | T5: Ostvareni broj bodova za kvalitet naredbi o nesprovođenju i obustavi istraga prema članu 29. Kriterija | U5: Ostvareni broj bodova za kvalitet naredbi o nesprovođenju i obustavi istraga prema članu 29. Kriterija | V5: UKUPAN BROJ BODOVA ZA KVALITET OPTUŽNICA I KVALITET NAREDBI O NESPROVOĐENJU I OBUSTAVI ISTRAGA
B9: I | C9: II | D9: III | E9: IV | F9: V | G9: VI | H9: VII | I9: VIII | J9: IX | K9: X | L9: XI | M9: XII | N9: XIII | O9: XIV | P9: XV | Q9: XVI | R9: XVII | S9: XVIII | T9: XIX | U9: XX | V9: XXI
X10: Ocijenjen
B11: 1 | C11: =IF('TABELA I'!B12="","",'TABELA I'!B12) | D11: Zamjenik glavnog tužioca - specijalni tužilac | F11: Nije ocijenjen ili Nema obavezu neposredno raditi na predmetima | G11: KT i KTM | L11: =IF((H11+I11)=0,"",(H11+I11-J11-K11)/(H11+I11)) | M11: =IF((H11+I11)=0,"",(J11+K11)/(H11+I11)) | N11: =IF(F11="Nije ocijenjen ili Nema obavezu neposredno raditi na predmetima","",IF(F11="Ocijenjen",IF(H11+I11=0,"",IF(M11<0.0001,14,IF(M11<0.0301,11,IF(M11<0.0601,7,IF(M11<=0.1,4,IF(M11>1,0,)))))))) | R11: =IF(O11+P11=0,"",(O11+P11-Q11)/(O11+P11)) | S11: =IF(O11+P11=0,"",(Q11)/(O11+P11)) | T11: =IF(F11="Nije ocijenjen ili Nema obavezu neposredno raditi na predmetima","",IF(F11="Ocijenjen",IF(O11+P11=0,"",IF(S11<0.0251,14,IF(S11<0.0501,11,IF(S11<0.0751,7,IF(S11<=0.1,4,IF(SL11>1,0,)))))))) | U11: =IF(F11="Nije ocijenjen ili Nema obavezu neposredno raditi na predmetima","",IF(F11="Ocijenjen",IF(O12+P12=0,T11,IF(O11+P11=0,T12,(T11+T12)/2)))) | V11: =IF(F11="Nije ocijenjen ili Nema obavezu neposredno raditi na predmetima","",IF(F11="Ocijenjen",IF(U11="",N11,IF(N11="",U11,((N11+U11)/2))))) | X11: Nije ocijenjen ili Nema obavezu neposredno raditi na predmetima
G12: KTRZ, KTPO, KTO, KTK | R12: =IF(O12+P12=0,"",(O12+P12-Q12)/(O12+P12)) | S12: =IF(O12+P12=0,"",(Q12)/(O12+P12)) | T12: =IF(F11="Nije ocijenjen ili Nema obavezu neposredno raditi na predmetima","",IF(F11="Ocijenjen",IF(O12+P12=0,"",IF(S12<0.0301,14,IF(S12<0.0601,11,IF(S12<0.101,7,IF(S12<=0.2,4,IF(SL12>2,0,)))))))) | U12: =+(T9+U10)/2 -> #VALUE!
B13: 2 | C13: =IF('TABELA I'!B14="","",'TABELA I'!B14) | E13: =IF('TABELA I'!D14="","",'TABELA I'!D14) | F13: Nije ocijenjen | G13: KT i KTM | L13: =IF((H13+I13)=0,"",(H13+I13-J13-K13)/(H13+I13)) | M13: =IF((H13+I13)=0,"",(J13+K13)/(H13+I13)) | N13: =IF(F13="Nije ocijenjen","",IF(F13="Ocijenjen",IF(H13+I13=0,"",IF(D13="Tužilac",IF(M13<0.0001,50,IF(M13<0.0301,40,IF(M13<0.0601,25,IF(M13<=0.1,15,IF(M13>0.1,0,))))),IF(M13<0.0001,20,IF(M13<0.0301,15,IF(M13<0.0601,10,IF(M13<=0.1,5,IF(M13>0.1,0,))))))))) | R13: =IF(O13+P13=0,"",(O13+P13-Q13)/(O13+P13)) | S13: =IF(O13+P13=0,"",(Q13)/(O13+P13)) | T13: =IF(F13="Nije ocijenjen","",IF(F13="Ocijenjen",IF(O13+P13=0,"",IF(D13="Tužilac",IF(S13<0.0251,50,IF(S13<0.0501,40,IF(S13<0.0751,25,IF(S13<=0.1,15,IF(S13>0.1,0,))))),IF(S13<0.0251,20,IF(S13<0.0501,15,IF(S13<0.0751,10,IF(S13<=0.1,5,IF(S13>0.1,0,))))))))) | U13: =IF(F13="Nije ocijenjen","",IF(F13="Ocijenjen",IF(O14+P14=0,T13,IF(O13+P13=0,T14,(T13+T14)/2)))) | V13: =IF(F13="Nije ocijenjen","",IF(F13="Ocijenjen",IF(U13="",N13,IF(N13="",U13,((N13+U13)/2))))) | X13: Zamjenik glavnog tužioca
G14: KTRZ, KTPO, KTO, KTK | N14: =IF(#REF!="Nije ocijenjen","",IF(#REF!="Ocijenjen",IF(B14+C14=0,"",IF(#REF!="Tužilac",IF(M14<0.031,40,IF(M14<0.061,30,IF(M14<0.101,20,IF(M14<=0.2,10,IF(M14<=1,0,))))),IF(M14<0.031,20,IF(M14<0.061,15,IF(M14<0.101,10,IF(M14<=0.2,5,IF(M14<=1,0,))))))))) -> #REF! | R14: =IF(O14+P14=0,"",(O14+P14-Q14)/(O14+P14)) | S14: =IF(O14+P14=0,"",(Q14)/(O14+P14)) | T14: =IF(F13="Nije ocijenjen","",IF(F13="Ocijenjen",IF(O14+P14=0,"",IF(D13="Tužilac",IF(S14<0.0301,50,IF(S14<0.0601,40,IF(S14<0.1001,25,IF(S14<=0.2,15,IF(S14>0.2,0,))))),IF(S14<0.0301,20,IF(S14<0.0601,15,IF(S14<0.1001,10,IF(S14<=0.2,5,IF(S14>0.2,0,))))))))) | U14: =+(T11+U12)/2 -> #VALUE! | X14: Šef odjela
B15: 3 | C15: =IF('TABELA I'!B15="","",'TABELA I'!B15) | E15: =IF('TABELA I'!D15="","",'TABELA I'!D15) | F15: Nije ocijenjen | G15: KT i KTM | L15: =IF((H15+I15)=0,"",(H15+I15-J15-K15)/(H15+I15)) | M15: =IF((H15+I15)=0,"",(J15+K15)/(H15+I15)) | N15: =IF(F15="Nije ocijenjen","",IF(F15="Ocijenjen",IF(H15+I15=0,"",IF(D15="Tužilac",IF(M15<0.0001,50,IF(M15<0.0301,40,IF(M15<0.0601,25,IF(M15<=0.1,15,IF(M15>0.1,0,))))),IF(M15<0.0001,20,IF(M15<0.0301,15,IF(M15<0.0601,10,IF(M15<=0.1,5,IF(M15>0.1,0,))))))))) | R15: =IF(O15+P15=0,"",(O15+P15-Q15)/(O15+P15)) | S15: =IF(O15+P15=0,"",(Q15)/(O15+P15)) | T15: =IF(F15="Nije ocijenjen","",IF(F15="Ocijenjen",IF(O15+P15=0,"",IF(D15="Tužilac",IF(S15<0.0251,50,IF(S15<0.0501,40,IF(S15<0.0751,25,IF(S15<=0.1,15,IF(S15>0.1,0,))))),IF(S15<0.0251,20,IF(S15<0.0501,15,IF(S15<0.0751,10,IF(S15<=0.1,5,IF(S15>0.1,0,))))))))) | U15: =IF(F15="Nije ocijenjen","",IF(F15="Ocijenjen",IF(O16+P16=0,T15,IF(O15+P15=0,T16,(T15+T16)/2)))) | V15: =IF(F15="Nije ocijenjen","",IF(F15="Ocijenjen",IF(U15="",N15,IF(N15="",U15,((N15+U15)/2))))) | X15: Tužilac
G16: KTRZ, KTPO, KTO, KTK | N16: =IF(#REF!="Nije ocijenjen","",IF(#REF!="Ocijenjen",IF(B16+C16=0,"",IF(#REF!="Tužilac",IF(M16<0.031,40,IF(M16<0.061,30,IF(M16<0.101,20,IF(M16<=0.2,10,IF(M16<=1,0,))))),IF(M16<0.031,20,IF(M16<0.061,15,IF(M16<0.101,10,IF(M16<=0.2,5,IF(M16<=1,0,))))))))) -> #REF! | R16: =IF(O16+P16=0,"",(O16+P16-Q16)/(O16+P16)) | S16: =IF(O16+P16=0,"",(Q16)/(O16+P16)) | T16: =IF(F15="Nije ocijenjen","",IF(F15="Ocijenjen",IF(O16+P16=0,"",IF(D15="Tužilac",IF(S16<0.0301,50,IF(S16<0.0601,40,IF(S16<0.1001,25,IF(S16<=0.2,15,IF(S16>0.2,0,))))),IF(S16<0.0301,20,IF(S16<0.0601,15,IF(S16<0.1001,10,IF(S16<=0.2,5,IF(S16>0.2,0,))))))))) | U16: =+(T13+U14)/2 -> #VALUE!
B17: 4 | C17: =IF('TABELA I'!B16="","",'TABELA I'!B16) | E17: =IF('TABELA I'!D16="","",'TABELA I'!D16) | F17: Nije ocijenjen | G17: KT i KTM | L17: =IF((H17+I17)=0,"",(H17+I17-J17-K17)/(H17+I17)) | M17: =IF((H17+I17)=0,"",(J17+K17)/(H17+I17)) | N17: =IF(F17="Nije ocijenjen","",IF(F17="Ocijenjen",IF(H17+I17=0,"",IF(D17="Tužilac",IF(M17<0.0001,50,IF(M17<0.0301,40,IF(M17<0.0601,25,IF(M17<=0.1,15,IF(M17>0.1,0,))))),IF(M17<0.0001,20,IF(M17<0.0301,15,IF(M17<0.0601,10,IF(M17<=0.1,5,IF(M17>0.1,0,))))))))) | R17: =IF(O17+P17=0,"",(O17+P17-Q17)/(O17+P17)) | S17: =IF(O17+P17=0,"",(Q17)/(O17+P17)) | T17: =IF(F17="Nije ocijenjen","",IF(F17="Ocijenjen",IF(O17+P17=0,"",IF(D17="Tužilac",IF(S17<0.0251,50,IF(S17<0.0501,40,IF(S17<0.0751,25,IF(S17<=0.1,15,IF(S17>0.1,0,))))),IF(S17<0.0251,20,IF(S17<0.0501,15,IF(S17<0.0751,10,IF(S17<=0.1,5,IF(S17>0.1,0,))))))))) | U17: =IF(F17="Nije ocijenjen","",IF(F17="Ocijenjen",IF(O18+P18=0,T17,IF(O17+P17=0,T18,(T17+T18)/2)))) | V17: =IF(F17="Nije ocijenjen","",IF(F17="Ocijenjen",IF(U17="",N17,IF(N17="",U17,((N17+U17)/2)))))
G18: KTRZ, KTPO, KTO, KTK | N18: =IF(#REF!="Nije ocijenjen","",IF(#REF!="Ocijenjen",IF(B18+C18=0,"",IF(#REF!="Tužilac",IF(M18<0.031,40,IF(M18<0.061,30,IF(M18<0.101,20,IF(M18<=0.2,10,IF(M18<=1,0,))))),IF(M18<0.031,20,IF(M18<0.061,15,IF(M18<0.101,10,IF(M18<=0.2,5,IF(M18<=1,0,))))))))) -> #REF! | R18: =IF(O18+P18=0,"",(O18+P18-Q18)/(O18+P18)) | S18: =IF(O18+P18=0,"",(Q18)/(O18+P18)) | T18: =IF(F17="Nije ocijenjen","",IF(F17="Ocijenjen",IF(O18+P18=0,"",IF(D17="Tužilac",IF(S18<0.0301,50,IF(S18<0.0601,40,IF(S18<0.1001,25,IF(S18<=0.2,15,IF(S18>0.2,0,))))),IF(S18<0.0301,20,IF(S18<0.0601,15,IF(S18<0.1001,10,IF(S18<=0.2,5,IF(S18>0.2,0,))))))))) | U18: =+(T15+U16)/2 -> #VALUE! | X18: Ocijenjen
B19: 5 | C19: =IF('TABELA I'!B17="","",'TABELA I'!B17) | E19: =IF('TABELA I'!D17="","",'TABELA I'!D17) | F19: Nije ocijenjen | G19: KT i KTM | L19: =IF((H19+I19)=0,"",(H19+I19-J19-K19)/(H19+I19)) | M19: =IF((H19+I19)=0,"",(J19+K19)/(H19+I19)) | N19: =IF(F19="Nije ocijenjen","",IF(F19="Ocijenjen",IF(H19+I19=0,"",IF(D19="Tužilac",IF(M19<0.0001,50,IF(M19<0.0301,40,IF(M19<0.0601,25,IF(M19<=0.1,15,IF(M19>0.1,0,))))),IF(M19<0.0001,20,IF(M19<0.0301,15,IF(M19<0.0601,10,IF(M19<=0.1,5,IF(M19>0.1,0,))))))))) | R19: =IF(O19+P19=0,"",(O19+P19-Q19)/(O19+P19)) | S19: =IF(O19+P19=0,"",(Q19)/(O19+P19)) | T19: =IF(F19="Nije ocijenjen","",IF(F19="Ocijenjen",IF(O19+P19=0,"",IF(D19="Tužilac",IF(S19<0.0251,50,IF(S19<0.0501,40,IF(S19<0.0751,25,IF(S19<=0.1,15,IF(S19>0.1,0,))))),IF(S19<0.0251,20,IF(S19<0.0501,15,IF(S19<0.0751,10,IF(S19<=0.1,5,IF(S19>0.1,0,))))))))) | U19: =IF(F19="Nije ocijenjen","",IF(F19="Ocijenjen",IF(O20+P20=0,T19,IF(O19+P19=0,T20,(T19+T20)/2)))) | V19: =IF(F19="Nije ocijenjen","",IF(F19="Ocijenjen",IF(U19="",N19,IF(N19="",U19,((N19+U19)/2))))) | X19: Nije ocijenjen
G20: KTRZ, KTPO, KTO, KTK | N20: =IF(#REF!="Nije ocijenjen","",IF(#REF!="Ocijenjen",IF(B20+C20=0,"",IF(#REF!="Tužilac",IF(M20<0.031,40,IF(M20<0.061,30,IF(M20<0.101,20,IF(M20<=0.2,10,IF(M20<=1,0,))))),IF(M20<0.031,20,IF(M20<0.061,15,IF(M20<0.101,10,IF(M20<=0.2,5,IF(M20<=1,0,))))))))) -> #REF! | R20: =IF(O20+P20=0,"",(O20+P20-Q20)/(O20+P20)) | S20: =IF(O20+P20=0,"",(Q20)/(O20+P20)) | T20: =IF(F19="Nije ocijenjen","",IF(F19="Ocijenjen",IF(O20+P20=0,"",IF(D19="Tužilac",IF(S20<0.0301,50,IF(S20<0.0601,40,IF(S20<0.1001,25,IF(S20<=0.2,15,IF(S20>0.2,0,))))),IF(S20<0.0301,20,IF(S20<0.0601,15,IF(S20<0.1001,10,IF(S20<=0.2,5,IF(S20>0.2,0,))))))))) | U20: =+(T17+U18)/2 -> #VALUE!
B21: 6 | C21: =IF('TABELA I'!B18="","",'TABELA I'!B18) | E21: =IF('TABELA I'!D18="","",'TABELA I'!D18) | F21: Nije ocijenjen | G21: KT i KTM | L21: =IF((H21+I21)=0,"",(H21+I21-J21-K21)/(H21+I21)) | M21: =IF((H21+I21)=0,"",(J21+K21)/(H21+I21)) | N21: =IF(F21="Nije ocijenjen","",IF(F21="Ocijenjen",IF(H21+I21=0,"",IF(D21="Tužilac",IF(M21<0.0001,50,IF(M21<0.0301,40,IF(M21<0.0601,25,IF(M21<=0.1,15,IF(M21>0.1,0,))))),IF(M21<0.0001,20,IF(M21<0.0301,15,IF(M21<0.0601,10,IF(M21<=0.1,5,IF(M21>0.1,0,))))))))) | R21: =IF(O21+P21=0,"",(O21+P21-Q21)/(O21+P21)) | S21: =IF(O21+P21=0,"",(Q21)/(O21+P21)) | T21: =IF(F21="Nije ocijenjen","",IF(F21="Ocijenjen",IF(O21+P21=0,"",IF(D21="Tužilac",IF(S21<0.0251,50,IF(S21<0.0501,40,IF(S21<0.0751,25,IF(S21<=0.1,15,IF(S21>0.1,0,))))),IF(S21<0.0251,20,IF(S21<0.0501,15,IF(S21<0.0751,10,IF(S21<=0.1,5,IF(S21>0.1,0,))))))))) | U21: =IF(F21="Nije ocijenjen","",IF(F21="Ocijenjen",IF(O22+P22=0,T21,IF(O21+P21=0,T22,(T21+T22)/2)))) | V21: =IF(F21="Nije ocijenjen","",IF(F21="Ocijenjen",IF(U21="",N21,IF(N21="",U21,((N21+U21)/2)))))
G22: KTRZ, KTPO, KTO, KTK | N22: =IF(#REF!="Nije ocijenjen","",IF(#REF!="Ocijenjen",IF(B22+C22=0,"",IF(#REF!="Tužilac",IF(M22<0.031,40,IF(M22<0.061,30,IF(M22<0.101,20,IF(M22<=0.2,10,IF(M22<=1,0,))))),IF(M22<0.031,20,IF(M22<0.061,15,IF(M22<0.101,10,IF(M22<=0.2,5,IF(M22<=1,0,))))))))) -> #REF! | R22: =IF(O22+P22=0,"",(O22+P22-Q22)/(O22+P22)) | S22: =IF(O22+P22=0,"",(Q22)/(O22+P22)) | T22: =IF(F21="Nije ocijenjen","",IF(F21="Ocijenjen",IF(O22+P22=0,"",IF(D21="Tužilac",IF(S22<0.0301,50,IF(S22<0.0601,40,IF(S22<0.1001,25,IF(S22<=0.2,15,IF(S22>0.2,0,))))),IF(S22<0.0301,20,IF(S22<0.0601,15,IF(S22<0.1001,10,IF(S22<=0.2,5,IF(S22>0.2,0,))))))))) | U22: =+(T19+U20)/2 -> #VALUE! | X22: Nije ocijenjen
B23: 7 | C23: =IF('TABELA I'!B19="","",'TABELA I'!B19) | E23: =IF('TABELA I'!D19="","",'TABELA I'!D19) | F23: Nije ocijenjen | G23: KT i KTM | L23: =IF((H23+I23)=0,"",(H23+I23-J23-K23)/(H23+I23)) | M23: =IF((H23+I23)=0,"",(J23+K23)/(H23+I23)) | N23: =IF(F23="Nije ocijenjen","",IF(F23="Ocijenjen",IF(H23+I23=0,"",IF(D23="Tužilac",IF(M23<0.0001,50,IF(M23<0.0301,40,IF(M23<0.0601,25,IF(M23<=0.1,15,IF(M23>0.1,0,))))),IF(M23<0.0001,20,IF(M23<0.0301,15,IF(M23<0.0601,10,IF(M23<=0.1,5,IF(M23>0.1,0,))))))))) | R23: =IF(O23+P23=0,"",(O23+P23-Q23)/(O23+P23)) | S23: =IF(O23+P23=0,"",(Q23)/(O23+P23)) | T23: =IF(F23="Nije ocijenjen","",IF(F23="Ocijenjen",IF(O23+P23=0,"",IF(D23="Tužilac",IF(S23<0.0251,50,IF(S23<0.0501,40,IF(S23<0.0751,25,IF(S23<=0.1,15,IF(S23>0.1,0,))))),IF(S23<0.0251,20,IF(S23<0.0501,15,IF(S23<0.0751,10,IF(S23<=0.1,5,IF(S23>0.1,0,))))))))) | U23: =IF(F23="Nije ocijenjen","",IF(F23="Ocijenjen",IF(O24+P24=0,T23,IF(O23+P23=0,T24,(T23+T24)/2)))) | V23: =IF(F23="Nije ocijenjen","",IF(F23="Ocijenjen",IF(U23="",N23,IF(N23="",U23,((N23+U23)/2))))) | X23: Ocijenjen prema članu 20. stav 4. Kriterija
G24: KTRZ, KTPO, KTO, KTK | N24: =IF(#REF!="Nije ocijenjen","",IF(#REF!="Ocijenjen",IF(B24+C24=0,"",IF(#REF!="Tužilac",IF(M24<0.031,40,IF(M24<0.061,30,IF(M24<0.101,20,IF(M24<=0.2,10,IF(M24<=1,0,))))),IF(M24<0.031,20,IF(M24<0.061,15,IF(M24<0.101,10,IF(M24<=0.2,5,IF(M24<=1,0,))))))))) -> #REF! | R24: =IF(O24+P24=0,"",(O24+P24-Q24)/(O24+P24)) | S24: =IF(O24+P24=0,"",(Q24)/(O24+P24)) | T24: =IF(F23="Nije ocijenjen","",IF(F23="Ocijenjen",IF(O24+P24=0,"",IF(D23="Tužilac",IF(S24<0.0301,50,IF(S24<0.0601,40,IF(S24<0.1001,25,IF(S24<=0.2,15,IF(S24>0.2,0,))))),IF(S24<0.0301,20,IF(S24<0.0601,15,IF(S24<0.1001,10,IF(S24<=0.2,5,IF(S24>0.2,0,))))))))) | U24: =+(T21+U22)/2 -> #VALUE!
B25: 8 | C25: =IF('TABELA I'!B20="","",'TABELA I'!B20) | E25: =IF('TABELA I'!D20="","",'TABELA I'!D20) | F25: Nije ocijenjen | G25: KT i KTM | L25: =IF((H25+I25)=0,"",(H25+I25-J25-K25)/(H25+I25)) | M25: =IF((H25+I25)=0,"",(J25+K25)/(H25+I25)) | N25: =IF(F25="Nije ocijenjen","",IF(F25="Ocijenjen",IF(H25+I25=0,"",IF(D25="Tužilac",IF(M25<0.0001,50,IF(M25<0.0301,40,IF(M25<0.0601,25,IF(M25<=0.1,15,IF(M25>0.1,0,))))),IF(M25<0.0001,20,IF(M25<0.0301,15,IF(M25<0.0601,10,IF(M25<=0.1,5,IF(M25>0.1,0,))))))))) | R25: =IF(O25+P25=0,"",(O25+P25-Q25)/(O25+P25)) | S25: =IF(O25+P25=0,"",(Q25)/(O25+P25)) | T25: =IF(F25="Nije ocijenjen","",IF(F25="Ocijenjen",IF(O25+P25=0,"",IF(D25="Tužilac",IF(S25<0.0251,50,IF(S25<0.0501,40,IF(S25<0.0751,25,IF(S25<=0.1,15,IF(S25>0.1,0,))))),IF(S25<0.0251,20,IF(S25<0.0501,15,IF(S25<0.0751,10,IF(S25<=0.1,5,IF(S25>0.1,0,))))))))) | U25: =IF(F25="Nije ocijenjen","",IF(F25="Ocijenjen",IF(O26+P26=0,T25,IF(O25+P25=0,T26,(T25+T26)/2)))) | V25: =IF(F25="Nije ocijenjen","",IF(F25="Ocijenjen",IF(U25="",N25,IF(N25="",U25,((N25+U25)/2)))))
G26: KTRZ, KTPO, KTO, KTK | N26: =IF(#REF!="Nije ocijenjen","",IF(#REF!="Ocijenjen",IF(B26+C26=0,"",IF(#REF!="Tužilac",IF(M26<0.031,40,IF(M26<0.061,30,IF(M26<0.101,20,IF(M26<=0.2,10,IF(M26<=1,0,))))),IF(M26<0.031,20,IF(M26<0.061,15,IF(M26<0.101,10,IF(M26<=0.2,5,IF(M26<=1,0,))))))))) -> #REF! | R26: =IF(O26+P26=0,"",(O26+P26-Q26)/(O26+P26)) | S26: =IF(O26+P26=0,"",(Q26)/(O26+P26)) | T26: =IF(F25="Nije ocijenjen","",IF(F25="Ocijenjen",IF(O26+P26=0,"",IF(D25="Tužilac",IF(S26<0.0301,50,IF(S26<0.0601,40,IF(S26<0.1001,25,IF(S26<=0.2,15,IF(S26>0.2,0,))))),IF(S26<0.0301,20,IF(S26<0.0601,15,IF(S26<0.1001,10,IF(S26<=0.2,5,IF(S26>0.2,0,))))))))) | U26: =+(T23+U24)/2 -> #VALUE! | X26: Nije ocijenjen
B27: 9 | C27: =IF('TABELA I'!B21="","",'TABELA I'!B21) | E27: =IF('TABELA I'!D21="","",'TABELA I'!D21) | F27: Nije ocijenjen | G27: KT i KTM | L27: =IF((H27+I27)=0,"",(H27+I27-J27-K27)/(H27+I27)) | M27: =IF((H27+I27)=0,"",(J27+K27)/(H27+I27)) | N27: =IF(F27="Nije ocijenjen","",IF(F27="Ocijenjen",IF(H27+I27=0,"",IF(D27="Tužilac",IF(M27<0.0001,50,IF(M27<0.0301,40,IF(M27<0.0601,25,IF(M27<=0.1,15,IF(M27>0.1,0,))))),IF(M27<0.0001,20,IF(M27<0.0301,15,IF(M27<0.0601,10,IF(M27<=0.1,5,IF(M27>0.1,0,))))))))) | R27: =IF(O27+P27=0,"",(O27+P27-Q27)/(O27+P27)) | S27: =IF(O27+P27=0,"",(Q27)/(O27+P27)) | T27: =IF(F27="Nije ocijenjen","",IF(F27="Ocijenjen",IF(O27+P27=0,"",IF(D27="Tužilac",IF(S27<0.0251,50,IF(S27<0.0501,40,IF(S27<0.0751,25,IF(S27<=0.1,15,IF(S27>0.1,0,))))),IF(S27<0.0251,20,IF(S27<0.0501,15,IF(S27<0.0751,10,IF(S27<=0.1,5,IF(S27>0.1,0,))))))))) | U27: =IF(F27="Nije ocijenjen","",IF(F27="Ocijenjen",IF(O28+P28=0,T27,IF(O27+P27=0,T28,(T27+T28)/2)))) | V27: =IF(F27="Nije ocijenjen","",IF(F27="Ocijenjen",IF(U27="",N27,IF(N27="",U27,((N27+U27)/2))))) | X27: Ocijenjen prema članu 20. stav 6. Kriterija
G28: KTRZ, KTPO, KTO, KTK | N28: =IF(#REF!="Nije ocijenjen","",IF(#REF!="Ocijenjen",IF(B28+C28=0,"",IF(#REF!="Tužilac",IF(M28<0.031,40,IF(M28<0.061,30,IF(M28<0.101,20,IF(M28<=0.2,10,IF(M28<=1,0,))))),IF(M28<0.031,20,IF(M28<0.061,15,IF(M28<0.101,10,IF(M28<=0.2,5,IF(M28<=1,0,))))))))) -> #REF! | R28: =IF(O28+P28=0,"",(O28+P28-Q28)/(O28+P28)) | S28: =IF(O28+P28=0,"",(Q28)/(O28+P28)) | T28: =IF(F27="Nije ocijenjen","",IF(F27="Ocijenjen",IF(O28+P28=0,"",IF(D27="Tužilac",IF(S28<0.0301,50,IF(S28<0.0601,40,IF(S28<0.1001,25,IF(S28<=0.2,15,IF(S28>0.2,0,))))),IF(S28<0.0301,20,IF(S28<0.0601,15,IF(S28<0.1001,10,IF(S28<=0.2,5,IF(S28>0.2,0,))))))))) | U28: =+(T25+U26)/2 -> #VALUE!
B29: 10 | C29: =IF('TABELA I'!B22="","",'TABELA I'!B22) | E29: =IF('TABELA I'!D22="","",'TABELA I'!D22) | F29: Nije ocijenjen | G29: KT i KTM | L29: =IF((H29+I29)=0,"",(H29+I29-J29-K29)/(H29+I29)) | M29: =IF((H29+I29)=0,"",(J29+K29)/(H29+I29)) | N29: =IF(F29="Nije ocijenjen","",IF(F29="Ocijenjen",IF(H29+I29=0,"",IF(D29="Tužilac",IF(M29<0.0001,50,IF(M29<0.0301,40,IF(M29<0.0601,25,IF(M29<=0.1,15,IF(M29>0.1,0,))))),IF(M29<0.0001,20,IF(M29<0.0301,15,IF(M29<0.0601,10,IF(M29<=0.1,5,IF(M29>0.1,0,))))))))) | R29: =IF(O29+P29=0,"",(O29+P29-Q29)/(O29+P29)) | S29: =IF(O29+P29=0,"",(Q29)/(O29+P29)) | T29: =IF(F29="Nije ocijenjen","",IF(F29="Ocijenjen",IF(O29+P29=0,"",IF(D29="Tužilac",IF(S29<0.0251,50,IF(S29<0.0501,40,IF(S29<0.0751,25,IF(S29<=0.1,15,IF(S29>0.1,0,))))),IF(S29<0.0251,20,IF(S29<0.0501,15,IF(S29<0.0751,10,IF(S29<=0.1,5,IF(S29>0.1,0,))))))))) | U29: =IF(F29="Nije ocijenjen","",IF(F29="Ocijenjen",IF(O30+P30=0,T29,IF(O29+P29=0,T30,(T29+T30)/2)))) | V29: =IF(F29="Nije ocijenjen","",IF(F29="Ocijenjen",IF(U29="",N29,IF(N29="",U29,((N29+U29)/2)))))
G30: KTRZ, KTPO, KTO, KTK | N30: =IF(#REF!="Nije ocijenjen","",IF(#REF!="Ocijenjen",IF(B30+C30=0,"",IF(#REF!="Tužilac",IF(M30<0.031,40,IF(M30<0.061,30,IF(M30<0.101,20,IF(M30<=0.2,10,IF(M30<=1,0,))))),IF(M30<0.031,20,IF(M30<0.061,15,IF(M30<0.101,10,IF(M30<=0.2,5,IF(M30<=1,0,))))))))) -> #REF! | R30: =IF(O30+P30=0,"",(O30+P30-Q30)/(O30+P30)) | S30: =IF(O30+P30=0,"",(Q30)/(O30+P30)) | T30: =IF(F29="Nije ocijenjen","",IF(F29="Ocijenjen",IF(O30+P30=0,"",IF(D29="Tužilac",IF(S30<0.0301,50,IF(S30<0.0601,40,IF(S30<0.1001,25,IF(S30<=0.2,15,IF(S30>0.2,0,))))),IF(S30<0.0301,20,IF(S30<0.0601,15,IF(S30<0.1001,10,IF(S30<=0.2,5,IF(S30>0.2,0,))))))))) | U30: =+(T27+U28)/2 -> #VALUE!
B31: 11 | C31: =IF('TABELA I'!B23="","",'TABELA I'!B23) | E31: =IF('TABELA I'!D23="","",'TABELA I'!D23) | F31: Nije ocijenjen | G31: KT i KTM | L31: =IF((H31+I31)=0,"",(H31+I31-J31-K31)/(H31+I31)) | M31: =IF((H31+I31)=0,"",(J31+K31)/(H31+I31)) | N31: =IF(F31="Nije ocijenjen","",IF(F31="Ocijenjen",IF(H31+I31=0,"",IF(D31="Tužilac",IF(M31<0.0001,50,IF(M31<0.0301,40,IF(M31<0.0601,25,IF(M31<=0.1,15,IF(M31>0.1,0,))))),IF(M31<0.0001,20,IF(M31<0.0301,15,IF(M31<0.0601,10,IF(M31<=0.1,5,IF(M31>0.1,0,))))))))) | R31: =IF(O31+P31=0,"",(O31+P31-Q31)/(O31+P31)) | S31: =IF(O31+P31=0,"",(Q31)/(O31+P31)) | T31: =IF(F31="Nije ocijenjen","",IF(F31="Ocijenjen",IF(O31+P31=0,"",IF(D31="Tužilac",IF(S31<0.0251,50,IF(S31<0.0501,40,IF(S31<0.0751,25,IF(S31<=0.1,15,IF(S31>0.1,0,))))),IF(S31<0.0251,20,IF(S31<0.0501,15,IF(S31<0.0751,10,IF(S31<=0.1,5,IF(S31>0.1,0,))))))))) | U31: =IF(F31="Nije ocijenjen","",IF(F31="Ocijenjen",IF(O32+P32=0,T31,IF(O31+P31=0,T32,(T31+T32)/2)))) | V31: =IF(F31="Nije ocijenjen","",IF(F31="Ocijenjen",IF(U31="",N31,IF(N31="",U31,((N31+U31)/2)))))
G32: KTRZ, KTPO, KTO, KTK | N32: =IF(#REF!="Nije ocijenjen","",IF(#REF!="Ocijenjen",IF(B32+C32=0,"",IF(#REF!="Tužilac",IF(M32<0.031,40,IF(M32<0.061,30,IF(M32<0.101,20,IF(M32<=0.2,10,IF(M32<=1,0,))))),IF(M32<0.031,20,IF(M32<0.061,15,IF(M32<0.101,10,IF(M32<=0.2,5,IF(M32<=1,0,))))))))) -> #REF! | R32: =IF(O32+P32=0,"",(O32+P32-Q32)/(O32+P32)) | S32: =IF(O32+P32=0,"",(Q32)/(O32+P32)) | T32: =IF(F31="Nije ocijenjen","",IF(F31="Ocijenjen",IF(O32+P32=0,"",IF(D31="Tužilac",IF(S32<0.0301,50,IF(S32<0.0601,40,IF(S32<0.1001,25,IF(S32<=0.2,15,IF(S32>0.2,0,))))),IF(S32<0.0301,20,IF(S32<0.0601,15,IF(S32<0.1001,10,IF(S32<=0.2,5,IF(S32>0.2,0,))))))))) | U32: =+(T29+U30)/2 -> #VALUE!
B33: 12 | C33: =IF('TABELA I'!B24="","",'TABELA I'!B24) | E33: =IF('TABELA I'!D24="","",'TABELA I'!D24) | F33: Nije ocijenjen | G33: KT i KTM | L33: =IF((H33+I33)=0,"",(H33+I33-J33-K33)/(H33+I33)) | M33: =IF((H33+I33)=0,"",(J33+K33)/(H33+I33)) | N33: =IF(F33="Nije ocijenjen","",IF(F33="Ocijenjen",IF(H33+I33=0,"",IF(D33="Tužilac",IF(M33<0.0001,50,IF(M33<0.0301,40,IF(M33<0.0601,25,IF(M33<=0.1,15,IF(M33>0.1,0,))))),IF(M33<0.0001,20,IF(M33<0.0301,15,IF(M33<0.0601,10,IF(M33<=0.1,5,IF(M33>0.1,0,))))))))) | R33: =IF(O33+P33=0,"",(O33+P33-Q33)/(O33+P33)) | S33: =IF(O33+P33=0,"",(Q33)/(O33+P33)) | T33: =IF(F33="Nije ocijenjen","",IF(F33="Ocijenjen",IF(O33+P33=0,"",IF(D33="Tužilac",IF(S33<0.0251,50,IF(S33<0.0501,40,IF(S33<0.0751,25,IF(S33<=0.1,15,IF(S33>0.1,0,))))),IF(S33<0.0251,20,IF(S33<0.0501,15,IF(S33<0.0751,10,IF(S33<=0.1,5,IF(S33>0.1,0,))))))))) | U33: =IF(F33="Nije ocijenjen","",IF(F33="Ocijenjen",IF(O34+P34=0,T33,IF(O33+P33=0,T34,(T33+T34)/2)))) | V33: =IF(F33="Nije ocijenjen","",IF(F33="Ocijenjen",IF(U33="",N33,IF(N33="",U33,((N33+U33)/2)))))
G34: KTRZ, KTPO, KTO, KTK | N34: =IF(#REF!="Nije ocijenjen","",IF(#REF!="Ocijenjen",IF(B34+C34=0,"",IF(#REF!="Tužilac",IF(M34<0.031,40,IF(M34<0.061,30,IF(M34<0.101,20,IF(M34<=0.2,10,IF(M34<=1,0,))))),IF(M34<0.031,20,IF(M34<0.061,15,IF(M34<0.101,10,IF(M34<=0.2,5,IF(M34<=1,0,))))))))) -> #REF! | R34: =IF(O34+P34=0,"",(O34+P34-Q34)/(O34+P34)) | S34: =IF(O34+P34=0,"",(Q34)/(O34+P34)) | T34: =IF(F33="Nije ocijenjen","",IF(F33="Ocijenjen",IF(O34+P34=0,"",IF(D33="Tužilac",IF(S34<0.0301,50,IF(S34<0.0601,40,IF(S34<0.1001,25,IF(S34<=0.2,15,IF(S34>0.2,0,))))),IF(S34<0.0301,20,IF(S34<0.0601,15,IF(S34<0.1001,10,IF(S34<=0.2,5,IF(S34>0.2,0,))))))))) | U34: =+(T31+U32)/2 -> #VALUE!
B35: 13 | C35: =IF('TABELA I'!B25="","",'TABELA I'!B25) | E35: =IF('TABELA I'!D25="","",'TABELA I'!D25) | F35: Nije ocijenjen | G35: KT i KTM | L35: =IF((H35+I35)=0,"",(H35+I35-J35-K35)/(H35+I35)) | M35: =IF((H35+I35)=0,"",(J35+K35)/(H35+I35)) | N35: =IF(F35="Nije ocijenjen","",IF(F35="Ocijenjen",IF(H35+I35=0,"",IF(D35="Tužilac",IF(M35<0.0001,50,IF(M35<0.0301,40,IF(M35<0.0601,25,IF(M35<=0.1,15,IF(M35>0.1,0,))))),IF(M35<0.0001,20,IF(M35<0.0301,15,IF(M35<0.0601,10,IF(M35<=0.1,5,IF(M35>0.1,0,))))))))) | R35: =IF(O35+P35=0,"",(O35+P35-Q35)/(O35+P35)) | S35: =IF(O35+P35=0,"",(Q35)/(O35+P35)) | T35: =IF(F35="Nije ocijenjen","",IF(F35="Ocijenjen",IF(O35+P35=0,"",IF(D35="Tužilac",IF(S35<0.0251,50,IF(S35<0.0501,40,IF(S35<0.0751,25,IF(S35<=0.1,15,IF(S35>0.1,0,))))),IF(S35<0.0251,20,IF(S35<0.0501,15,IF(S35<0.0751,10,IF(S35<=0.1,5,IF(S35>0.1,0,))))))))) | U35: =IF(F35="Nije ocijenjen","",IF(F35="Ocijenjen",IF(O36+P36=0,T35,IF(O35+P35=0,T36,(T35+T36)/2)))) | V35: =IF(F35="Nije ocijenjen","",IF(F35="Ocijenjen",IF(U35="",N35,IF(N35="",U35,((N35+U35)/2)))))
