Workbook

Sheet Uputstvo
B2: TUŽILAŠTVA - po predmetima
B3: Napomene:
B5: Kompletni materijali u vezi procesa izvještavanja i ocjenjivanja rada u tužilaštvima za 2025. godinu dostupni su na linku:
B6: https://vstv.pravosudje.ba/vstvfo/B/141/article/143275
B7: Tabele za popunjavanje podataka o radu tužilaštava nije moguće mijenjati, niti dodavati nove redove ili kolone.
B8: Tabele se isključivo popunjavaju predviđenim redoslijedom, po redoslijedu postavljenih tabela.
B11: Podatke je potrebno upisivati samo u polja osjenčena žutom bojom.
B12: U ostala polja nije moguće upisivati vrijednosti, u ovim poljima vrijednosti će biti izračunate automatski.
B13: Molimo Vas da u Tabeli I i naslovu e-maila (subject) kojim ćete poslati popunjene obrasce navedete naziv Vašeg tužilaštva.
B16: Popunjene obrasce poslati na e-mail adresu: vstvstatistika@pravosudje.ba do 02.02.2026. godine.
B18: Za sva eventualna pitanja vezano za popunjavanje obrazaca molimo Vas da kontaktirate Odjel za pravosudnu analitiku i izvještavanje, na telefon: 033 704 616.
B21: Tabele za ocjenjivanje NPF u tužilaštvu sadrže detaljnije napomene koje je potrebno imati u vidu prilikom popunjavanja tabela.
... B40: TABELA III - PODACI O KTA, KTARZ, KTN I KTNRZ PREDMETIMA U tabeli III potrebno je navesti podatke o protoku Kta, Ktarz, Ktn i Ktnrz predmeta u tužilaštvu u 2018. godini. U tabelu se unose zbirni podaci o predmetima koji su evidentirani u TCMS-u kao i predmetima koji su evidentirani u manuelnim upisnicima tužilaštva. Automatski se preračunavaju podaci u kolonama: III i VIII. Podatak o broju neriješenih Kta, Ktarz, Ktn i Ktnrz predmeta u tužilaštvu na dan 31.12.2018. godine (kolona IX) će se dobiti automatskim oduzimanjem ukupnog broja riješenih predmeta (kolona VIII) od ukupnog broja predmeta u radu (kolona III). TABELA IIIa - PODACI O NERIJEŠENIM KTA, KTARZ, KTN I KTNRZ PREDMETIMA KOJI NISU UVEDENI U TCMS NA DAN 31.12.2018. GODINE Glavni tužilac je dužan osigurati da se u Tabelu IIIa unesu podaci o broju neriješenih predmeta koji nisu bili uvedeni u TCMS na dan 31.12.2018. godine kako slijedi: Kta, Ktarz, Ktn i Ktnrz. Ukoliko su svi neriješeni predmeti Kta, Ktarz, Ktn i Ktnrz u tužilaštvu na 31.12.2018. godine bili uvedeni u TCMS, dužni ste unijeti u Tabelu IIIa vrijednost 0 u sva polja označena žutom bojom. Automatski se preračunava podatak u posljednjem polju kolone I. Vrijednost podatka u posljednjem polju kolone I u Tabeli IIIa ne može biti veća od vrijednosti podatka u posljednjem polju kolone IX u Tabeli III. Ukoliko navedeni podatak nije u skladu sa navedenim logičkim pravilom, ovo polje će biti obojeno crvenom bojom. Nakon što podaci budu korigovani, na način da su u skladu sa logičkim pravilom, polje će biti obojeno bijelom bojom. TABELA IV - PODACI O KTA I KTN PREDMETIMA U KOJIMA JE NASTUPILA ZASTARA U tabeli IV potrebno je navesti podatke o broju Kta i Ktn predmeta u tužilaštvu u 2018. godini u kojima je donijeta naredba o iskazivanju predmeta završenim zbog nastupanja relativne ili apsolutne zastarjelosti krivičnog gonjenja. U ovu tabelu se unose podaci o svim Kta i Ktn predmetima u tužilaštvu bez obzira na to da li su predmeti uvedeni u TCMS. Automatski se preračunava podatak u koloni III.

Sheet TABELA I
A1: Naziv tužilaštva | D1: Republičko javno tužilaštvo Republike Srpske - Posebni odjel | K1: 2025
A2: Izvještajni period: | G2: 1.1.2025. - 31.12.2025.
A4: Ostvarena kolektivna norma tužilaštva u 2025. godini: | G4: =+P88
A6: Kolektivni kvalitet tužilačkih odluka u 2025. godini: | G6: Optužnice | H6: =+'TABELA II'!F33 | K6: Naredbe o nesprovođenju i obustavljanju istraga | N6: =+'TABELA II'!J33
A7: Tabela Ia: Ostvarena orjentaciona norma - Elektronski obrazac za obračun ostvarene orijentacione norme (pogledati NAPOMENU 4)
A9: Redni broj | B9: Ime i prezime - evidentirani podatak se automatski prenosi u Tabelu IIa | C9: Ocjenjen u tužilaštvu | D9: Naziv odjela - evidentirani podatak se automatski prenosi u Tabelu IIa | E9: Pravosudna funkcija | G9: Procenat orijentacijske norme koju je nosilac pravosudne funkcije dužan ostvariti - Ukoliko procenat orijentacijske norme nije predviđen u padajućem meniju, pogledati NAPOMENU 3 | H9: Period obavljanja pravosudne funkcije u instituciji koja popunjava tabelu Ia | J9: Ukupan broj dana za obračun norme - pogledati NAPOMENU 2 | K9: Broj dana opravdanog odsustva iz član 24. Pravilnika o orijentacijskim mjerilima | L9: Ostvarena orijentacijska norma iz TCMS-a | M9: Ostvarena orijentacijska norma na predmetima van TCMS-a - pogledati NAPOMENU 8 | N9: Procenat ostvarene orijentacijske norme prema čl 7, 8.,10 i 11. Pravilnika o orijentacijskim mjerilima - pogledati NAPOMENU 9 | O9: Procenat ostvarene orijentacijske norme u 2025. godini | P9: Ukupno ostvarena orijentacijska norma u 2025. godini | Q9: Nedovoljan broj predmeta u radu - pogledati NAPOMENU 5 | T9: Broj ostvarenih bodova | U9: Da | V9: Ne
H10: Datum od | I10: Datum do | Q10: broj predmeta u radu | R10: broj riješenih predmeta | S10: procenat riješenih predmeta | U10: Zamjenik glavnog tužioca | V10: Šef odjela | W10: Tužilac
A11: I | B11: II | C11: III | D11: IV | E11: V | F11: Column1 | G11: VI | H11: VII | I11: VIII | J11: IX | K11: X | L11: XI | M11: XII | N11: XIII | O11: XIV | P11: XV | Q11: XVI | R11: XVII | S11: XVIII | T11: XIX | U11: 1 | V11: 0.9 | W11: 0.8 | X11: 0.7 | Y11: 0.6 | Z11: 0.5 | AA11: 0.4
A12: 1 | E12: Zamjenik glavnog tužioca - specijalni tužilac | J12: 261 | O12: =IF(G12="","",IF(G12="Ne treba rješavati predmete",1+(L12/J12*261)+M12+N12,(L12/J12*261+M12+N12)/G12)) | P12: =IF(G12="Ne treba rješavati predmete",O12,IF(K12>0,O12*(J12/(J12-K12)),O12)) | S12: =IF(Q12="","",R12/Q12) | T12: =IF(P12="","",IF(C12="Ne","",IF(G12="Ne treba rješavati predmete","",IF(P12>1,12,IF(S12="",IF(P12>0.9,10,IF(P12>0.8,8,IF(P12>0.7,6,IF(P12>0.6,4,IF(P12>0.5,2,0))))),IF(S12>0.94,12,IF(S12>0.9,10,IF(S12>0.8,8,IF(S12>0.7,6,IF(S12>0.6,4,IF(S12>0.5,2,0))))))))))) | W12: 0.2 | X12: Ne treba rješavati predmete | AC12: =I12-H12
J13: 261 | O13: =IF(G13="","",IF(G13="Ne treba rješavati predmete",1+(L13/J13*261)+M13+N13,(L13/J13*261+M13+N13)/G13)) | P13: =IF(K13>0,O13*(J13/(J13-K13)),O13) | S13: =IF(Q13="","",R13/Q13) | T13: =IF(P13="","",IF(C12="Ne","",IF(G13="Ne treba rješavati predmete","",IF(P13>1,12,IF(S13="",IF(P13>0.9,10,IF(P13>0.8,8,IF(P13>0.7,6,IF(P13>0.6,4,IF(P13>0.5,2,0))))),IF(S13>0.94,12,IF(S13>0.9,10,IF(S13>0.8,8,IF(S13>0.7,6,IF(S13>0.6,4,IF(S13>0.5,2,0))))))))))) | AC13: =I13-H13
A14: 2 | F14: =IF(E14="Tužilac",1,IF(E14="Zamjenik glavnog tužioca",2,IF(E14="Šef odjela",3,IF(E14="Član VSTV-a",4,)))) -> 0 | J14: 261 | O14: =IF(G14="","",IF(G14="Ne treba rješavati predmete",1+(L14/J14*261)+M14+N14,(L14/J14*261+M14+N14)/G14)) | P14: =IF(K14>0,O14*(J14/(J14-K14)),O14) | S14: =IF(Q14="","",R14/Q14) | T14: =IF(C14="Ne","",IF(E14="",IF(G14="",""),IF(C14="Ne","",IF(E14="Tužilac",IF(P14>1,30,IF(S14="",IF(P14>0.9,25,IF(P14>0.8,20,IF(P14>0.7,15,IF(P14>0.6,10,IF(P14>0.5,5,0))))),IF(S14>0.94,30,IF(S14>0.9,25,IF(S14>0.8,20,IF(S14>0.7,15,IF(S14>0.6,10,IF(S14>0.5,5,0)))))))),IF(P14>1,15,IF(S14="",IF(P14>0.9,13,IF(P14>0.8,11,IF(P14>0.7,9,IF(P14>0.6,7,IF(P14>0.5,3,0))))),IF(S14>0.94,15,IF(S14>0.9,12,IF(S14>0.8,9,IF(S14>0.7,6,IF(S14>0.6,4,IF(S14>0.5,2,0)))))))))))) | AC14: =I14-H14 -> 0
A15: 3 | F15: =IF(E15="Tužilac",1,IF(E15="Zamjenik glavnog tužioca",2,IF(E15="Šef odjela",3,IF(E15="Član VSTV-a",4,)))) -> 0 | J15: 261 | O15: =IF(G15="","",IF(G15="Ne treba rješavati predmete",1+(L15/J15*261)+M15+N15,(L15/J15*261+M15+N15)/G15)) | P15: =IF(K15>0,O15*(J15/(J15-K15)),O15) | S15: =IF(Q15="","",R15/Q15) | T15: =IF(C15="Ne","",IF(E15="",IF(G15="",""),IF(C15="Ne","",IF(E15="Tužilac",IF(P15>1,30,IF(S15="",IF(P15>0.9,25,IF(P15>0.8,20,IF(P15>0.7,15,IF(P15>0.6,10,IF(P15>0.5,5,0))))),IF(S15>0.94,30,IF(S15>0.9,25,IF(S15>0.8,20,IF(S15>0.7,15,IF(S15>0.6,10,IF(S15>0.5,5,0)))))))),IF(P15>1,15,IF(S15="",IF(P15>0.9,13,IF(P15>0.8,11,IF(P15>0.7,9,IF(P15>0.6,7,IF(P15>0.5,3,0))))),IF(S15>0.94,15,IF(S15>0.9,12,IF(S15>0.8,9,IF(S15>0.7,6,IF(S15>0.6,4,IF(S15>0.5,2,0)))))))))))) | AC15: =I15-H15 -> 0
A16: 4 | F16: =IF(E16="Tužilac",1,IF(E16="Zamjenik glavnog tužioca",2,IF(E16="Šef odjela",3,IF(E16="Član VSTV-a",4,)))) -> 0 | J16: 261 | O16: =IF(G16="","",IF(G16="Ne treba rješavati predmete",1+(L16/J16*261)+M16+N16,(L16/J16*261+M16+N16)/G16)) | P16: =IF(K16>0,O16*(J16/(J16-K16)),O16) | S16: =IF(Q16="","",R16/Q16) | T16: =IF(C16="Ne","",IF(E16="",IF(G16="",""),IF(C16="Ne","",IF(E16="Tužilac",IF(P16>1,30,IF(S16="",IF(P16>0.9,25,IF(P16>0.8,20,IF(P16>0.7,15,IF(P16>0.6,10,IF(P16>0.5,5,0))))),IF(S16>0.94,30,IF(S16>0.9,25,IF(S16>0.8,20,IF(S16>0.7,15,IF(S16>0.6,10,IF(S16>0.5,5,0)))))))),IF(P16>1,15,IF(S16="",IF(P16>0.9,13,IF(P16>0.8,11,IF(P16>0.7,9,IF(P16>0.6,7,IF(P16>0.5,3,0))))),IF(S16>0.94,15,IF(S16>0.9,12,IF(S16>0.8,9,IF(S16>0.7,6,IF(S16>0.6,4,IF(S16>0.5,2,0)))))))))))) | AC16: =I16-H16 -> 0
A17: 5 | F17: =IF(E17="Tužilac",1,IF(E17="Zamjenik glavnog tužioca",2,IF(E17="Šef odjela",3,IF(E17="Član VSTV-a",4,)))) -> 0 | J17: 261 | O17: =IF(G17="","",IF(G17="Ne treba rješavati predmete",1+(L17/J17*261)+M17+N17,(L17/J17*261+M17+N17)/G17)) | P17: =IF(K17>0,O17*(J17/(J17-K17)),O17) | S17: =IF(Q17="","",R17/Q17) | T17: =IF(C17="Ne","",IF(E17="",IF(G17="",""),IF(C17="Ne","",IF(E17="Tužilac",IF(P17>1,30,IF(S17="",IF(P17>0.9,25,IF(P17>0.8,20,IF(P17>0.7,15,IF(P17>0.6,10,IF(P17>0.5,5,0))))),IF(S17>0.94,30,IF(S17>0.9,25,IF(S17>0.8,20,IF(S17>0.7,15,IF(S17>0.6,10,IF(S17>0.5,5,0)))))))),IF(P17>1,15,IF(S17="",IF(P17>0.9,13,IF(P17>0.8,11,IF(P17>0.7,9,IF(P17>0.6,7,IF(P17>0.5,3,0))))),IF(S17>0.94,15,IF(S17>0.9,12,IF(S17>0.8,9,IF(S17>0.7,6,IF(S17>0.6,4,IF(S17>0.5,2,0)))))))))))) | AC17: =I17-H17 -> 0
A18: 6 | F18: =IF(E18="Tužilac",1,IF(E18="Zamjenik glavnog tužioca",2,IF(E18="Šef odjela",3,IF(E18="Član VSTV-a",4,)))) -> 0 | J18: 261 | O18: =IF(G18="","",IF(G18="Ne treba rješavati predmete",1+(L18/J18*261)+M18+N18,(L18/J18*261+M18+N18)/G18)) | P18: =IF(K18>0,O18*(J18/(J18-K18)),O18) | S18: =IF(Q18="","",R18/Q18) | T18: =IF(C18="Ne","",IF(E18="",IF(G18="",""),IF(C18="Ne","",IF(E18="Tužilac",IF(P18>1,30,IF(S18="",IF(P18>0.9,25,IF(P18>0.8,20,IF(P18>0.7,15,IF(P18>0.6,10,IF(P18>0.5,5,0))))),IF(S18>0.94,30,IF(S18>0.9,25,IF(S18>0.8,20,IF(S18>0.7,15,IF(S18>0.6,10,IF(S18>0.5,5,0)))))))),IF(P18>1,15,IF(S18="",IF(P18>0.9,13,IF(P18>0.8,11,IF(P18>0.7,9,IF(P18>0.6,7,IF(P18>0.5,3,0))))),IF(S18>0.94,15,IF(S18>0.9,12,IF(S18>0.8,9,IF(S18>0.7,6,IF(S18>0.6,4,IF(S18>0.5,2,0)))))))))))) | AC18: =I18-H18 -> 0
A19: 7 | F19: =IF(E19="Tužilac",1,IF(E19="Zamjenik glavnog tužioca",2,IF(E19="Šef odjela",3,IF(E19="Član VSTV-a",4,)))) -> 0 | J19: 261 | O19: =IF(G19="","",IF(G19="Ne treba rješavati predmete",1+(L19/J19*261)+M19+N19,(L19/J19*261+M19+N19)/G19)) | P19: =IF(K19>0,O19*(J19/(J19-K19)),O19) | S19: =IF(Q19="","",R19/Q19) | T19: =IF(C19="Ne","",IF(E19="",IF(G19="",""),IF(C19="Ne","",IF(E19="Tužilac",IF(P19>1,30,IF(S19="",IF(P19>0.9,25,IF(P19>0.8,20,IF(P19>0.7,15,IF(P19>0.6,10,IF(P19>0.5,5,0))))),IF(S19>0.94,30,IF(S19>0.9,25,IF(S19>0.8,20,IF(S19>0.7,15,IF(S19>0.6,10,IF(S19>0.5,5,0)))))))),IF(P19>1,15,IF(S19="",IF(P19>0.9,13,IF(P19>0.8,11,IF(P19>0.7,9,IF(P19>0.6,7,IF(P19>0.5,3,0))))),IF(S19>0.94,15,IF(S19>0.9,12,IF(S19>0.8,9,IF(S19>0.7,6,IF(S19>0.6,4,IF(S19>0.5,2,0)))))))))))) | AC19: =I19-H19 -> 0
A20: 8 | F20: =IF(E20="Tužilac",1,IF(E20="Zamjenik glavnog tužioca",2,IF(E20="Šef odjela",3,IF(E20="Član VSTV-a",4,)))) -> 0 | J20: 261 | O20: =IF(G20="","",IF(G20="Ne treba rješavati predmete",1+(L20/J20*261)+M20+N20,(L20/J20*261+M20+N20)/G20)) | P20: =IF(K20>0,O20*(J20/(J20-K20)),O20) | S20: =IF(Q20="","",R20/Q20) | T20: =IF(C20="Ne","",IF(E20="",IF(G20="",""),IF(C20="Ne","",IF(E20="Tužilac",IF(P20>1,30,IF(S20="",IF(P20>0.9,25,IF(P20>0.8,20,IF(P20>0.7,15,IF(P20>0.6,10,IF(P20>0.5,5,0))))),IF(S20>0.94,30,IF(S20>0.9,25,IF(S20>0.8,20,IF(S20>0.7,15,IF(S20>0.6,10,IF(S20>0.5,5,0)))))))),IF(P20>1,15,IF(S20="",IF(P20>0.9,13,IF(P20>0.8,11,IF(P20>0.7,9,IF(P20>0.6,7,IF(P20>0.5,3,0))))),IF(S20>0.94,15,IF(S20>0.9,12,IF(S20>0.8,9,IF(S20>0.7,6,IF(S20>0.6,4,IF(S20>0.5,2,0)))))))))))) | AC20: =I20-H20 -> 0
A21: 9 | F21: =IF(E21="Tužilac",1,IF(E21="Zamjenik glavnog tužioca",2,IF(E21="Šef odjela",3,IF(E21="Član VSTV-a",4,)))) -> 0 | J21: 261 | O21: =IF(G21="","",IF(G21="Ne treba rješavati predmete",1+(L21/J21*261)+M21+N21,(L21/J21*261+M21+N21)/G21)) | P21: =IF(K21>0,O21*(J21/(J21-K21)),O21) | S21: =IF(Q21="","",R21/Q21) | T21: =IF(C21="Ne","",IF(E21="",IF(G21="",""),IF(C21="Ne","",IF(E21="Tužilac",IF(P21>1,30,IF(S21="",IF(P21>0.9,25,IF(P21>0.8,20,IF(P21>0.7,15,IF(P21>0.6,10,IF(P21>0.5,5,0))))),IF(S21>0.94,30,IF(S21>0.9,25,IF(S21>0.8,20,IF(S21>0.7,15,IF(S21>0.6,10,IF(S21>0.5,5,0)))))))),IF(P21>1,15,IF(S21="",IF(P21>0.9,13,IF(P21>0.8,11,IF(P21>0.7,9,IF(P21>0.6,7,IF(P21>0.5,3,0))))),IF(S21>0.94,15,IF(S21>0.9,12,IF(S21>0.8,9,IF(S21>0.7,6,IF(S21>0.6,4,IF(S21>0.5,2,0))))))))))))
A22: 10 | F22: =IF(E22="Tužilac",1,IF(E22="Zamjenik glavnog tužioca",2,IF(E22="Šef odjela",3,IF(E22="Član VSTV-a",4,)))) -> 0 | J22: 261 | O22: =IF(G22="","",IF(G22="Ne treba rješavati predmete",1+(L22/J22*261)+M22+N22,(L22/J22*261+M22+N22)/G22)) | P22: =IF(K22>0,O22*(J22/(J22-K22)),O22) | S22: =IF(Q22="","",R22/Q22) | T22: =IF(C22="Ne","",IF(E22="",IF(G22="",""),IF(C22="Ne","",IF(E22="Tužilac",IF(P22>1,30,IF(S22="",IF(P22>0.9,25,IF(P22>0.8,20,IF(P22>0.7,15,IF(P22>0.6,10,IF(P22>0.5,5,0))))),IF(S22>0.94,30,IF(S22>0.9,25,IF(S22>0.8,20,IF(S22>0.7,15,IF(S22>0.6,10,IF(S22>0.5,5,0)))))))),IF(P22>1,15,IF(S22="",IF(P22>0.9,13,IF(P22>0.8,11,IF(P22>0.7,9,IF(P22>0.6,7,IF(P22>0.5,3,0))))),IF(S22>0.94,15,IF(S22>0.9,12,IF(S22>0.8,9,IF(S22>0.7,6,IF(S22>0.6,4,IF(S22>0.5,2,0))))))))))))
A23: 11 | F23: =IF(E23="Tužilac",1,IF(E23="Zamjenik glavnog tužioca",2,IF(E23="Šef odjela",3,IF(E23="Član VSTV-a",4,)))) -> 0 | J23: 261 | O23: =IF(G23="","",IF(G23="Ne treba rješavati predmete",1+(L23/J23*261)+M23+N23,(L23/J23*261+M23+N23)/G23)) | P23: =IF(K23>0,O23*(J23/(J23-K23)),O23) | S23: =IF(Q23="","",R23/Q23) | T23: =IF(C23="Ne","",IF(E23="",IF(G23="",""),IF(C23="Ne","",IF(E23="Tužilac",IF(P23>1,30,IF(S23="",IF(P23>0.9,25,IF(P23>0.8,20,IF(P23>0.7,15,IF(P23>0.6,10,IF(P23>0.5,5,0))))),IF(S23>0.94,30,IF(S23>0.9,25,IF(S23>0.8,20,IF(S23>0.7,15,IF(S23>0.6,10,IF(S23>0.5,5,0)))))))),IF(P23>1,15,IF(S23="",IF(P23>0.9,13,IF(P23>0.8,11,IF(P23>0.7,9,IF(P23>0.6,7,IF(P23>0.5,3,0))))),IF(S23>0.94,15,IF(S23>0.9,12,IF(S23>0.8,9,IF(S23>0.7,6,IF(S23>0.6,4,IF(S23>0.5,2,0))))))))))))
A24: 12 | F24: =IF(E24="Tužilac",1,IF(E24="Zamjenik glavnog tužioca",2,IF(E24="Šef odjela",3,IF(E24="Član VSTV-a",4,)))) -> 0 | J24: 261 | O24: =IF(G24="","",IF(G24="Ne treba rješavati predmete",1+(L24/J24*261)+M24+N24,(L24/J24*261+M24+N24)/G24)) | P24: =IF(K24>0,O24*(J24/(J24-K24)),O24) | S24: =IF(Q24="","",R24/Q24) | T24: =IF(C24="Ne","",IF(E24="",IF(G24="",""),IF(C24="Ne","",IF(E24="Tužilac",IF(P24>1,30,IF(S24="",IF(P24>0.9,25,IF(P24>0.8,20,IF(P24>0.7,15,IF(P24>0.6,10,IF(P24>0.5,5,0))))),IF(S24>0.94,30,IF(S24>0.9,25,IF(S24>0.8,20,IF(S24>0.7,15,IF(S24>0.6,10,IF(S24>0.5,5,0)))))))),IF(P24>1,15,IF(S24="",IF(P24>0.9,13,IF(P24>0.8,11,IF(P24>0.7,9,IF(P24>0.6,7,IF(P24>0.5,3,0))))),IF(S24>0.94,15,IF(S24>0.9,12,IF(S24>0.8,9,IF(S24>0.7,6,IF(S24>0.6,4,IF(S24>0.5,2,0))))))))))))
A25: 13 | F25: =IF(E25="Tužilac",1,IF(E25="Zamjenik glavnog tužioca",2,IF(E25="Šef odjela",3,IF(E25="Član VSTV-a",4,)))) -> 0 | J25: 261 | O25: =IF(G25="","",IF(G25="Ne treba rješavati predmete",1+(L25/J25*261)+M25+N25,(L25/J25*261+M25+N25)/G25)) | P25: =IF(K25>0,O25*(J25/(J25-K25)),O25) | S25: =IF(Q25="","",R25/Q25) | T25: =IF(C25="Ne","",IF(E25="",IF(G25="",""),IF(C25="Ne","",IF(E25="Tužilac",IF(P25>1,30,IF(S25="",IF(P25>0.9,25,IF(P25>0.8,20,IF(P25>0.7,15,IF(P25>0.6,10,IF(P25>0.5,5,0))))),IF(S25>0.94,30,IF(S25>0.9,25,IF(S25>0.8,20,IF(S25>0.7,15,IF(S25>0.6,10,IF(S25>0.5,5,0)))))))),IF(P25>1,15,IF(S25="",IF(P25>0.9,13,IF(P25>0.8,11,IF(P25>0.7,9,IF(P25>0.6,7,IF(P25>0.5,3,0))))),IF(S25>0.94,15,IF(S25>0.9,12,IF(S25>0.8,9,IF(S25>0.7,6,IF(S25>0.6,4,IF(S25>0.5,2,0))))))))))))
A26: 14 | F26: =IF(E26="Tužilac",1,IF(E26="Zamjenik glavnog tužioca",2,IF(E26="Šef odjela",3,IF(E26="Član VSTV-a",4,)))) -> 0 | J26: 261 | O26: =IF(G26="","",IF(G26="Ne treba rješavati predmete",1+(L26/J26*261)+M26+N26,(L26/J26*261+M26+N26)/G26)) | P26: =IF(K26>0,O26*(J26/(J26-K26)),O26) | S26: =IF(Q26="","",R26/Q26) | T26: =IF(C26="Ne","",IF(E26="",IF(G26="",""),IF(C26="Ne","",IF(E26="Tužilac",IF(P26>1,30,IF(S26="",IF(P26>0.9,25,IF(P26>0.8,20,IF(P26>0.7,15,IF(P26>0.6,10,IF(P26>0.5,5,0))))),IF(S26>0.94,30,IF(S26>0.9,25,IF(S26>0.8,20,IF(S26>0.7,15,IF(S26>0.6,10,IF(S26>0.5,5,0)))))))),IF(P26>1,15,IF(S26="",IF(P26>0.9,13,IF(P26>0.8,11,IF(P26>0.7,9,IF(P26>0.6,7,IF(P26>0.5,3,0))))),IF(S26>0.94,15,IF(S26>0.9,12,IF(S26>0.8,9,IF(S26>0.7,6,IF(S26>0.6,4,IF(S26>0.5,2,0))))))))))))
A27: 15 | F27: =IF(E27="Tužilac",1,IF(E27="Zamjenik glavnog tužioca",2,IF(E27="Šef odjela",3,IF(E27="Član VSTV-a",4,)))) -> 0 | J27: 261 | O27: =IF(G27="","",IF(G27="Ne treba rješavati predmete",1+(L27/J27*261)+M27+N27,(L27/J27*261+M27+N27)/G27)) | P27: =IF(K27>0,O27*(J27/(J27-K27)),O27) | S27: =IF(Q27="","",R27/Q27) | T27: =IF(C27="Ne","",IF(E27="",IF(G27="",""),IF(C27="Ne","",IF(E27="Tužilac",IF(P27>1,30,IF(S27="",IF(P27>0.9,25,IF(P27>0.8,20,IF(P27>0.7,15,IF(P27>0.6,10,IF(P27>0.5,5,0))))),IF(S27>0.94,30,IF(S27>0.9,25,IF(S27>0.8,20,IF(S27>0.7,15,IF(S27>0.6,10,IF(S27>0.5,5,0)))))))),IF(P27>1,15,IF(S27="",IF(P27>0.9,13,IF(P27>0.8,11,IF(P27>0.7,9,IF(P27>0.6,7,IF(P27>0.5,3,0))))),IF(S27>0.94,15,IF(S27>0.9,12,IF(S27>0.8,9,IF(S27>0.7,6,IF(S27>0.6,4,IF(S27>0.5,2,0))))))))))))
A28: 16 | F28: =IF(E28="Tužilac",1,IF(E28="Zamjenik glavnog tužioca",2,IF(E28="Šef odjela",3,IF(E28="Član VSTV-a",4,)))) -> 0 | J28: 261 | O28: =IF(G28="","",IF(G28="Ne treba rješavati predmete",1+(L28/J28*261)+M28+N28,(L28/J28*261+M28+N28)/G28)) | P28: =IF(K28>0,O28*(J28/(J28-K28)),O28) | S28: =IF(Q28="","",R28/Q28) | T28: =IF(C28="Ne","",IF(E28="",IF(G28="",""),IF(C28="Ne","",IF(E28="Tužilac",IF(P28>1,30,IF(S28="",IF(P28>0.9,25,IF(P28>0.8,20,IF(P28>0.7,15,IF(P28>0.6,10,IF(P28>0.5,5,0))))),IF(S28>0.94,30,IF(S28>0.9,25,IF(S28>0.8,20,IF(S28>0.7,15,IF(S28>0.6,10,IF(S28>0.5,5,0)))))))),IF(P28>1,15,IF(S28="",IF(P28>0.9,13,IF(P28>0.8,11,IF(P28>0.7,9,IF(P28>0.6,7,IF(P28>0.5,3,0))))),IF(S28>0.94,15,IF(S28>0.9,12,IF(S28>0.8,9,IF(S28>0.7,6,IF(S28>0.6,4,IF(S28>0.5,2,0))))))))))))
A29: 17 | F29: =IF(E29="Tužilac",1,IF(E29="Zamjenik glavnog tužioca",2,IF(E29="Šef odjela",3,IF(E29="Član VSTV-a",4,)))) -> 0 | J29: 261 | O29: =IF(G29="","",IF(G29="Ne treba rješavati predmete",1+(L29/J29*261)+M29+N29,(L29/J29*261+M29+N29)/G29)) | P29: =IF(K29>0,O29*(J29/(J29-K29)),O29) | S29: =IF(Q29="","",R29/Q29) | T29: =IF(C29="Ne","",IF(E29="",IF(G29="",""),IF(C29="Ne","",IF(E29="Tužilac",IF(P29>1,30,IF(S29="",IF(P29>0.9,25,IF(P29>0.8,20,IF(P29>0.7,15,IF(P29>0.6,10,IF(P29>0.5,5,0))))),IF(S29>0.94,30,IF(S29>0.9,25,IF(S29>0.8,20,IF(S29>0.7,15,IF(S29>0.6,10,IF(S29>0.5,5,0)))))))),IF(P29>1,15,IF(S29="",IF(P29>0.9,13,IF(P29>0.8,11,IF(P29>0.7,9,IF(P29>0.6,7,IF(P29>0.5,3,0))))),IF(S29>0.94,15,IF(S29>0.9,12,IF(S29>0.8,9,IF(S29>0.7,6,IF(S29>0.6,4,IF(S29>0.5,2,0))))))))))))
A30: 18 | F30: =IF(E30="Tužilac",1,IF(E30="Zamjenik glavnog tužioca",2,IF(E30="Šef odjela",3,IF(E30="Član VSTV-a",4,)))) -> 0 | J30: 261 | O30: =IF(G30="","",IF(G30="Ne treba rješavati predmete",1+(L30/J30*261)+M30+N30,(L30/J30*261+M30+N30)/G30)) | P30: =IF(K30>0,O30*(J30/(J30-K30)),O30) | S30: =IF(Q30="","",R30/Q30) | T30: =IF(C30="Ne","",IF(E30="",IF(G30="",""),IF(C30="Ne","",IF(E30="Tužilac",IF(P30>1,30,IF(S30="",IF(P30>0.9,25,IF(P30>0.8,20,IF(P30>0.7,15,IF(P30>0.6,10,IF(P30>0.5,5,0))))),IF(S30>0.94,30,IF(S30>0.9,25,IF(S30>0.8,20,IF(S30>0.7,15,IF(S30>0.6,10,IF(S30>0.5,5,0)))))))),IF(P30>1,15,IF(S30="",IF(P30>0.9,13,IF(P30>0.8,11,IF(P30>0.7,9,IF(P30>0.6,7,IF(P30>0.5,3,0))))),IF(S30>0.94,15,IF(S30>0.9,12,IF(S30>0.8,9,IF(S30>0.7,6,IF(S30>0.6,4,IF(S30>0.5,2,0))))))))))))
A31: 19 | F31: =IF(E31="Tužilac",1,IF(E31="Zamjenik glavnog tužioca",2,IF(E31="Šef odjela",3,IF(E31="Član VSTV-a",4,)))) -> 0 | J31: 261 | O31: =IF(G31="","",IF(G31="Ne treba rješavati predmete",1+(L31/J31*261)+M31+N31,(L31/J31*261+M31+N31)/G31)) | P31: =IF(K31>0,O31*(J31/(J31-K31)),O31) | S31: =IF(Q31="","",R31/Q31) | T31: =IF(C31="Ne","",IF(E31="",IF(G31="",""),IF(C31="Ne","",IF(E31="Tužilac",IF(P31>1,30,IF(S31="",IF(P31>0.9,25,IF(P31>0.8,20,IF(P31>0.7,15,IF(P31>0.6,10,IF(P31>0.5,5,0))))),IF(S31>0.94,30,IF(S31>0.9,25,IF(S31>0.8,20,IF(S31>0.7,15,IF(S31>0.6,10,IF(S31>0.5,5,0)))))))),IF(P31>1,15,IF(S31="",IF(P31>0.9,13,IF(P31>0.8,11,IF(P31>0.7,9,IF(P31>0.6,7,IF(P31>0.5,3,0))))),IF(S31>0.94,15,IF(S31>0.9,12,IF(S31>0.8,9,IF(S31>0.7,6,IF(S31>0.6,4,IF(S31>0.5,2,0))))))))))))
A32: 20 | F32: =IF(E32="Tužilac",1,IF(E32="Zamjenik glavnog tužioca",2,IF(E32="Šef odjela",3,IF(E32="Član VSTV-a",4,)))) -> 0 | J32: 261 | O32: =IF(G32="","",IF(G32="Ne treba rješavati predmete",1+(L32/J32*261)+M32+N32,(L32/J32*261+M32+N32)/G32)) | P32: =IF(K32>0,O32*(J32/(J32-K32)),O32) | S32: =IF(Q32="","",R32/Q32) | T32: =IF(C32="Ne","",IF(E32="",IF(G32="",""),IF(C32="Ne","",IF(E32="Tužilac",IF(P32>1,30,IF(S32="",IF(P32>0.9,25,IF(P32>0.8,20,IF(P32>0.7,15,IF(P32>0.6,10,IF(P32>0.5,5,0))))),IF(S32>0.94,30,IF(S32>0.9,25,IF(S32>0.8,20,IF(S32>0.7,15,IF(S32>0.6,10,IF(S32>0.5,5,0)))))))),IF(P32>1,15,IF(S32="",IF(P32>0.9,13,IF(P32>0.8,11,IF(P32>0.7,9,IF(P32>0.6,7,IF(P32>0.5,3,0))))),IF(S32>0.94,15,IF(S32>0.9,12,IF(S32>0.8,9,IF(S32>0.7,6,IF(S32>0.6,4,IF(S32>0.5,2,0))))))))))))
... A77: 65 | F77: =IF(E77="Tužilac",1,IF(E77="Zamjenik glavnog tužioca",2,IF(E77="Šef odjela",3,IF(E77="Član VSTV-a",4,)))) -> 0 | J77: 261 | O77: =IF(G77="","",IF(G77="Ne treba rješavati predmete",1+(L77/J77*261)+M77+N77,(L77/J77*261+M77+N77)/G77)) | P77: =IF(K77>0,O77*(J77/(J77-K77)),O77) | S77: =IF(Q77="","",R77/Q77) | T77: =IF(C77="Ne","",IF(E77="",IF(G77="",""),IF(C77="Ne","",IF(E77="Tužilac",IF(P77>1,30,IF(S77="",IF(P77>0.9,25,IF(P77>0.8,20,IF(P77>0.7,15,IF(P77>0.6,10,IF(P77>0.5,5,0))))),IF(S77>0.94,30,IF(S77>0.9,25,IF(S77>0.8,20,IF(S77>0.7,15,IF(S77>0.6,10,IF(S77>0.5,5,0)))))))),IF(P77>1,15,IF(S77="",IF(P77>0.9,13,IF(P77>0.8,11,IF(P77>0.7,9,IF(P77>0.6,7,IF(P77>0.5,3,0))))),IF(S77>0.94,15,IF(S77>0.9,12,IF(S77>0.8,9,IF(S77>0.7,6,IF(S77>0.6,4,IF(S77>0.5,2,0))))))))))))
F78: =IF(E78="Tužilac",1,IF(E78="Zamjenik glavnog tužioca",2,IF(E78="Šef odjela",3,IF(E78="Član VSTV-a",4,)))) -> 0 | J78: 261 | O78: =IF(G78="","",IF(G78="Ne treba rješavati predmete",1+(L78/J78*261)+M78+N78,(L78/J78*261+M78+N78)/G78)) | P78: =IF(K78>0,O78*(J78/(J78-K78)),O78) | S78: =IF(Q78="","",R78/Q78) | T78: =IF(C78="Ne","",IF(E78="",IF(G78="",""),IF(C78="Ne","",IF(E78="Tužilac",IF(P78>1,30,IF(S78="",IF(P78>0.9,25,IF(P78>0.8,20,IF(P78>0.7,15,IF(P78>0.6,10,IF(P78>0.5,5,0))))),IF(S78>0.94,30,IF(S78>0.9,25,IF(S78>0.8,20,IF(S78>0.7,15,IF(S78>0.6,10,IF(S78>0.5,5,0)))))))),IF(P78>1,15,IF(S78="",IF(P78>0.9,13,IF(P78>0.8,11,IF(P78>0.7,9,IF(P78>0.6,7,IF(P78>0.5,3,0))))),IF(S78>0.94,15,IF(S78>0.9,12,IF(S78>0.8,9,IF(S78>0.7,6,IF(S78>0.6,4,IF(S78>0.5,2,0))))))))))))
F79: =IF(E79="Tužilac",1,IF(E79="Zamjenik glavnog tužioca",2,IF(E79="Šef odjela",3,IF(E79="Član VSTV-a",4,)))) -> 0 | J79: 261 | O79: =IF(G79="","",IF(G79="Ne treba rješavati predmete",1+(L79/J79*261)+M79+N79,(L79/J79*261+M79+N79)/G79)) | P79: =IF(K79>0,O79*(J79/(J79-K79)),O79) | S79: =IF(Q79="","",R79/Q79) | T79: =IF(C79="Ne","",IF(E79="",IF(G79="",""),IF(C79="Ne","",IF(E79="Tužilac",IF(P79>1,30,IF(S79="",IF(P79>0.9,25,IF(P79>0.8,20,IF(P79>0.7,15,IF(P79>0.6,10,IF(P79>0.5,5,0))))),IF(S79>0.94,30,IF(S79>0.9,25,IF(S79>0.8,20,IF(S79>0.7,15,IF(S79>0.6,10,IF(S79>0.5,5,0)))))))),IF(P79>1,15,IF(S79="",IF(P79>0.9,13,IF(P79>0.8,11,IF(P79>0.7,9,IF(P79>0.6,7,IF(P79>0.5,3,0))))),IF(S79>0.94,15,IF(S79>0.9,12,IF(S79>0.8,9,IF(S79>0.7,6,IF(S79>0.6,4,IF(S79>0.5,2,0))))))))))))
F80: =IF(E80="Tužilac",1,IF(E80="Zamjenik glavnog tužioca",2,IF(E80="Šef odjela",3,IF(E80="Član VSTV-a",4,)))) -> 0 | J80: 261 | O80: =IF(G80="","",IF(G80="Ne treba rješavati predmete",1+(L80/J80*261)+M80+N80,(L80/J80*261+M80+N80)/G80)) | P80: =IF(K80>0,O80*(J80/(J80-K80)),O80) | S80: =IF(Q80="","",R80/Q80) | T80: =IF(C80="Ne","",IF(E80="",IF(G80="",""),IF(C80="Ne","",IF(E80="Tužilac",IF(P80>1,30,IF(S80="",IF(P80>0.9,25,IF(P80>0.8,20,IF(P80>0.7,15,IF(P80>0.6,10,IF(P80>0.5,5,0))))),IF(S80>0.94,30,IF(S80>0.9,25,IF(S80>0.8,20,IF(S80>0.7,15,IF(S80>0.6,10,IF(S80>0.5,5,0)))))))),IF(P80>1,15,IF(S80="",IF(P80>0.9,13,IF(P80>0.8,11,IF(P80>0.7,9,IF(P80>0.6,7,IF(P80>0.5,3,0))))),IF(S80>0.94,15,IF(S80>0.9,12,IF(S80>0.8,9,IF(S80>0.7,6,IF(S80>0.6,4,IF(S80>0.5,2,0))))))))))))
F81: =IF(E81="Tužilac",1,IF(E81="Zamjenik glavnog tužioca",2,IF(E81="Šef odjela",3,IF(E81="Član VSTV-a",4,)))) -> 0 | J81: 261 | O81: =IF(G81="","",IF(G81="Ne treba rješavati predmete",1+(L81/J81*261)+M81+N81,(L81/J81*261+M81+N81)/G81)) | P81: =IF(K81>0,O81*(J81/(J81-K81)),O81) | S81: =IF(Q81="","",R81/Q81) | T81: =IF(C81="Ne","",IF(E81="",IF(G81="",""),IF(C81="Ne","",IF(E81="Tužilac",IF(P81>1,30,IF(S81="",IF(P81>0.9,25,IF(P81>0.8,20,IF(P81>0.7,15,IF(P81>0.6,10,IF(P81>0.5,5,0))))),IF(S81>0.94,30,IF(S81>0.9,25,IF(S81>0.8,20,IF(S81>0.7,15,IF(S81>0.6,10,IF(S81>0.5,5,0)))))))),IF(P81>1,15,IF(S81="",IF(P81>0.9,13,IF(P81>0.8,11,IF(P81>0.7,9,IF(P81>0.6,7,IF(P81>0.5,3,0))))),IF(S81>0.94,15,IF(S81>0.9,12,IF(S81>0.8,9,IF(S81>0.7,6,IF(S81>0.6,4,IF(S81>0.5,2,0))))))))))))
F82: =IF(E82="Tužilac",1,IF(E82="Zamjenik glavnog tužioca",2,IF(E82="Šef odjela",3,IF(E82="Član VSTV-a",4,)))) -> 0 | J82: 261 | O82: =IF(G82="","",IF(G82="Ne treba rješavati predmete",1+(L82/J82*261)+M82+N82,(L82/J82*261+M82+N82)/G82)) | P82: =IF(K82>0,O82*(J82/(J82-K82)),O82) | S82: =IF(Q82="","",R82/Q82) | T82: =IF(C82="Ne","",IF(E82="",IF(G82="",""),IF(C82="Ne","",IF(E82="Tužilac",IF(P82>1,30,IF(S82="",IF(P82>0.9,25,IF(P82>0.8,20,IF(P82>0.7,15,IF(P82>0.6,10,IF(P82>0.5,5,0))))),IF(S82>0.94,30,IF(S82>0.9,25,IF(S82>0.8,20,IF(S82>0.7,15,IF(S82>0.6,10,IF(S82>0.5,5,0)))))))),IF(P82>1,15,IF(S82="",IF(P82>0.9,13,IF(P82>0.8,11,IF(P82>0.7,9,IF(P82>0.6,7,IF(P82>0.5,3,0))))),IF(S82>0.94,15,IF(S82>0.9,12,IF(S82>0.8,9,IF(S82>0.7,6,IF(S82>0.6,4,IF(S82>0.5,2,0))))))))))))
F83: =IF(E83="Tužilac",1,IF(E83="Zamjenik glavnog tužioca",2,IF(E83="Šef odjela",3,IF(E83="Član VSTV-a",4,)))) -> 0 | J83: 261 | O83: =IF(G83="","",IF(G83="Ne treba rješavati predmete",1+(L83/J83*261)+M83+N83,(L83/J83*261+M83+N83)/G83)) | P83: =IF(K83>0,O83*(J83/(J83-K83)),O83) | S83: =IF(Q83="","",R83/Q83) | T83: =IF(C83="Ne","",IF(E83="",IF(G83="",""),IF(C83="Ne","",IF(E83="Tužilac",IF(P83>1,30,IF(S83="",IF(P83>0.9,25,IF(P83>0.8,20,IF(P83>0.7,15,IF(P83>0.6,10,IF(P83>0.5,5,0))))),IF(S83>0.94,30,IF(S83>0.9,25,IF(S83>0.8,20,IF(S83>0.7,15,IF(S83>0.6,10,IF(S83>0.5,5,0)))))))),IF(P83>1,15,IF(S83="",IF(P83>0.9,13,IF(P83>0.8,11,IF(P83>0.7,9,IF(P83>0.6,7,IF(P83>0.5,3,0))))),IF(S83>0.94,15,IF(S83>0.9,12,IF(S83>0.8,9,IF(S83>0.7,6,IF(S83>0.6,4,IF(S83>0.5,2,0))))))))))))
F84: =IF(E84="Tužilac",1,IF(E84="Zamjenik glavnog tužioca",2,IF(E84="Šef odjela",3,IF(E84="Član VSTV-a",4,)))) -> 0 | J84: 261 | O84: =IF(G84="","",IF(G84="Ne treba rješavati predmete",1+(L84/J84*261)+M84+N84,(L84/J84*261+M84+N84)/G84)) | P84: =IF(K84>0,O84*(J84/(J84-K84)),O84) | S84: =IF(Q84="","",R84/Q84) | T84: =IF(C84="Ne","",IF(E84="",IF(G84="",""),IF(C84="Ne","",IF(E84="Tužilac",IF(P84>1,30,IF(S84="",IF(P84>0.9,25,IF(P84>0.8,20,IF(P84>0.7,15,IF(P84>0.6,10,IF(P84>0.5,5,0))))),IF(S84>0.94,30,IF(S84>0.9,25,IF(S84>0.8,20,IF(S84>0.7,15,IF(S84>0.6,10,IF(S84>0.5,5,0)))))))),IF(P84>1,15,IF(S84="",IF(P84>0.9,13,IF(P84>0.8,11,IF(P84>0.7,9,IF(P84>0.6,7,IF(P84>0.5,3,0))))),IF(S84>0.94,15,IF(S84>0.9,12,IF(S84>0.8,9,IF(S84>0.7,6,IF(S84>0.6,4,IF(S84>0.5,2,0))))))))))))
F85: =IF(E85="Tužilac",1,IF(E85="Zamjenik glavnog tužioca",2,IF(E85="Šef odjela",3,IF(E85="Član VSTV-a",4,)))) -> 0 | J85: 261 | O85: =IF(G85="","",IF(G85="Ne treba rješavati predmete",1+(L85/J85*261)+M85+N85,(L85/J85*261+M85+N85)/G85)) | P85: =IF(K85>0,O85*(J85/(J85-K85)),O85) | S85: =IF(Q85="","",R85/Q85) | T85: =IF(C85="Ne","",IF(E85="",IF(G85="",""),IF(C85="Ne","",IF(E85="Tužilac",IF(P85>1,30,IF(S85="",IF(P85>0.9,25,IF(P85>0.8,20,IF(P85>0.7,15,IF(P85>0.6,10,IF(P85>0.5,5,0))))),IF(S85>0.94,30,IF(S85>0.9,25,IF(S85>0.8,20,IF(S85>0.7,15,IF(S85>0.6,10,IF(S85>0.5,5,0)))))))),IF(P85>1,15,IF(S85="",IF(P85>0.9,13,IF(P85>0.8,11,IF(P85>0.7,9,IF(P85>0.6,7,IF(P85>0.5,3,0))))),IF(S85>0.94,15,IF(S85>0.9,12,IF(S85>0.8,9,IF(S85>0.7,6,IF(S85>0.6,4,IF(S85>0.5,2,0))))))))))))
F86: =IF(E86="Tužilac",1,IF(E86="Zamjenik glavnog tužioca",2,IF(E86="Šef odjela",3,IF(E86="Član VSTV-a",4,)))) -> 0 | J86: 261 | O86: =IF(G86="","",IF(G86="Ne treba rješavati predmete",1+(L86/J86*261)+M86+N86,(L86/J86*261+M86+N86)/G86)) | P86: =IF(K86>0,O86*(J86/(J86-K86)),O86) | S86: =IF(Q86="","",R86/Q86) | T86: =IF(C86="Ne","",IF(E86="",IF(G86="",""),IF(C86="Ne","",IF(E86="Tužilac",IF(P86>1,30,IF(S86="",IF(P86>0.9,25,IF(P86>0.8,20,IF(P86>0.7,15,IF(P86>0.6,10,IF(P86>0.5,5,0))))),IF(S86>0.94,30,IF(S86>0.9,25,IF(S86>0.8,20,IF(S86>0.7,15,IF(S86>0.6,10,IF(S86>0.5,5,0)))))))),IF(P86>1,15,IF(S86="",IF(P86>0.9,13,IF(P86>0.8,11,IF(P86>0.7,9,IF(P86>0.6,7,IF(P86>0.5,3,0))))),IF(S86>0.94,15,IF(S86>0.9,12,IF(S86>0.8,9,IF(S86>0.7,6,IF(S86>0.6,4,IF(S86>0.5,2,0))))))))))))
F87: =IF(E87="Tužilac",1,IF(E87="Zamjenik glavnog tužioca",2,IF(E87="Šef odjela",3,IF(E87="Član VSTV-a",4,)))) -> 0 | J87: 261 | O87: =IF(G87="","",IF(G87="Ne treba rješavati predmete",1+(L87/J87*261)+M87+N87,(L87/J87*261+M87+N87)/G87)) | P87: =IF(K87>0,O87*(J87/(J87-K87)),O87) | S87: =IF(Q87="","",R87/Q87) | T87: =IF(C87="Ne","",IF(E87="",IF(G87="",""),IF(C87="Ne","",IF(E87="Tužilac",IF(P87>1,30,IF(S87="",IF(P87>0.9,25,IF(P87>0.8,20,IF(P87>0.7,15,IF(P87>0.6,10,IF(P87>0.5,5,0))))),IF(S87>0.94,30,IF(S87>0.9,25,IF(S87>0.8,20,IF(S87>0.7,15,IF(S87>0.6,10,IF(S87>0.5,5,0)))))))),IF(P87>1,15,IF(S87="",IF(P87>0.9,13,IF(P87>0.8,11,IF(P87>0.7,9,IF(P87>0.6,7,IF(P87>0.5,3,0))))),IF(S87>0.94,15,IF(S87>0.9,12,IF(S87>0.8,9,IF(S87>0.7,6,IF(S87>0.6,4,IF(S87>0.5,2,0))))))))))))
O88: KOLEKTIVNA NORMA TUŽILAŠTVA | P88: =IF(P12="",IF(P13="","",AVERAGEIF(P12:P87,">0,2")),AVERAGEIF(P12:P87,">0,2"))
O89: BODOVANJE ZA OSTVARENU KOLEKTIVNU NORMU TUŽILAŠTVA U SKLADU SA ČLANOM 31. STAVOM 2 KRITERIJA ZA OCJENJIVANJE RADA GLAVNIH TUŽILACA | P89: =IF(P88="","",IF(P88>1,15,IF(P88>0.9,13,IF(P88>0.8,11,IF(P88>0.7,9,IF(P88>0.6,6,IF(P88>0.5,3,0)))))))
B91: Komentari za norme NPF-a unesene u plava polja
B92: Primjer - Tužilac 1 | C92: 8 mjeseci tužilac, 4 mjeseca šef odjeljenja-80% norme tužioca; (8/12)*100% + (4/12)*80% = 93% | G92: 0.93
A104: NAPOMENA 1: U Tabelu Ia se unose podaci o ostvarenoj orijentacijskoj normi za sve nosioce pravosudnih funkcija, uključujući i one kod kojih je ukupno ostvarenje norme ispod 20%: novoimenovani tužioci, tužioci koji su imenovani u drugu instituciju, kao i tužioci koji su prestali sa radom zbog: penzionisanja, podnošenja ostavke, smrti, gubitka radne sposobnosti, razrješenja od dužnosti, privremenog ili trajnog udaljenja od vršenja dužnosti itd. (član 14. stav (1) Kriterija za ocjenjivanje rada glavnih tužilaca, zamjenika glavnih tužilaca, šefova odjela u tužilaštvima u Bosni i Hercegovini). Ostvarena kolektivna norma tužilaštva automatski će se obračunati i glavnom tužiocu će se dodijeliti odgovarajući broj bodova u skladu sa članom 31. stav 2. Kriterija za ocjenjivanje rada glavnih tužilaca, zamjenika glavnih tužilaca i šefova odjela u tužilaštvima u Bosni i Hercegovini. Ukoliko tužilaštvo nije imalo dovoljan broj predmeta u radu za ostvarenje orijentacijske norme, potrebno je manuelno unijeti ukupan broj predmeta koji su bili u radu u tužilaštvu kao i ukupan broj riješenih predmeta u tužilaštvu u periodu ocjenjivanja. Procenat riješenih predmeta automatski će se obračunati te glavnom tužiocu dodijeliti odgovarajući broj bodova u skladu sa članom 31. stav 4. Kriterija za ocjenjivanje rada glavnih tužilaca, zamjenika glavnih tužilaca i šefova odjela u tužilaštvima u Bosni i Hercegovini. Ukoliko je postupajući tužilac u periodu ocjenjivanja obavljao funkciju člana VSTV-a BiH cijeli period ocjenjivanja potrebno je u Tabeli I kolona V odabrati opciju "tužilac", a u koloni VI procenat norme "50%" shodno članu 22. Pravilnika o orijentacijskim mjerilima, te zanemariti crveni kontrolnik koji će se u tom slučaju aktivirati. U slučaju da je postupajući tužilac u periodu ocjenjivanja obavljao funkciju člana VSTV-a BiH određeni vremenski period tokom perioda ocjenjivanja tada će podaci u tabeli popuniti shodno NAPOMENI 3, te norma preračunati shodno tački IIa Instrukcije. | Q104: Nedovoljan broj predmeta u radu
Q105: broj predmeta u radu | R105: broj riješenih predmeta | S105: procenat riješenih predmeta
S106: =IF(Q106="","",R106/Q106)
R107: BODOVANJE ZA OSTVARENU KOLEKTIVNU NORMU TUŽILAŠTVA U SKLADU SA ČLANOM 31. STAVOM 4 KRITERIJA ZA OCJENJIVANJE RADA GLAVNIH TUŽILACA | S107: =IF(S106="","",IF(S106>0.94,15,IF(S106>0.9,13,IF(S106>0.8,11,IF(S106>0.7,9,IF(S106>0.6,6,IF(S106>0.5,3,0)))))))
A110: Tabela Ib: Obračun norme za proces ocjenjivaja za NPF-a koji su u toku godine prešli iz jednog tužilaštva u drugo tužilaštvo - Obračun prema Tački IIc. 1) Instrukcije za obračun individualne i kolektivne orijentacione norme u tužilaštvima (pogledati NAPOMENU 4)
A111: Ime i prezime glavnog tužioca | O111: Ukupna ostvarena orijentacijska norma koja se unosi u Obrazac za ocjenjivanje = | P111: =P112+P113 -> 0
A112: Tužilaštvo 1 | E112: Glavni tužilac | O112: =IF(G112="",0,IF(G112="Ne treba rješavati predmete",1+SUM(L112:N112),(SUM(L112:N112)/G112))) -> 0 | P112: =IF(G112="Ne treba rješavati predmete",O112,IF(K112>0,O112*(J112/(J112-K112)),O112)) -> 0 | S112: =IF(Q112="","",(R112+R113)/(Q112+Q113)) | T112: =IF(P112="","",IF(C112="Ne","",IF(G112="Ne treba rješavati predmete","",IF((P112+P113)>1,12,IF(S112="",IF((P112+P113)>0.9,10,IF((P112+P113)>0.8,8,IF((P112+P113)>0.7,6,IF((P112+P113)>0.6,4,IF((P112+P113)>0.5,2,0))))),IF((S112+S113)>0.94,12,IF((S112+S113)>0.9,10,IF((S112+S113)>0.8,8,IF((S112+S113)>0.7,6,IF((S112+S113)>0.6,4,IF((S112+S113)>0.5,2,0))))))))))) -> 0
A113: Tužilaštvo 2 | F113: =IF(E113="Tužilac",1,IF(E113="Zamjenik glavnog tužioca",2,IF(E113="Šef odjela",3,IF(E113="Član VSTV-a",4,IF(E113="Šef odsjeka",5,""))))) | O113: =IF(G113="",0,(SUM(L113:N113)/G113)) -> 0 | P113: =IF(K113>0,O113*(J113/(J113-K113)),O113) -> 0 | T113: =IF(C113="Ne","",IF(E113="",IF(G113="",""),IF(C113="Ne","",IF(E113="Tužilac",IF((P112+P113)>1,30,IF(S113="",IF((P112+P113)>0.9,25,IF((P112+P113)>0.8,20,IF((P112+P113)>0.7,15,IF((P112+P113)>0.6,10,IF((P112+P113)>0.5,5,0))))),IF((S112+S113)>0.94,30,IF((S112+S113)>0.9,25,IF((S112+S113)>0.8,20,IF((S112+S113)>0.7,15,IF((S112+S113)>0.6,10,IF((S112+S113)>0.5,5,0)))))))),IF((P112+P113)>1,15,IF(S113="",IF((P112+P113)>0.9,13,IF((P112+P113)>0.8,11,IF((P112+P113)>0.7,9,IF((P112+P113)>0.6,7,IF((P112+P113)>0.5,3,0))))),IF((S112+S113)>0.94,15,IF((S112+S113)>0.9,12,IF((S112+S113)>0.8,9,IF((S112+S113)>0.7,6,IF((S112+S113)>0.6,4,IF((S112+S113)>0.5,2,0))))))))))))
A114: Ime i prezime nosioca pravosudne funkcije | O114: Ukupna ostvarena orijentacijska norma koja se unosi u Obrazac za ocjenjivanje = | P114: =P115+P116 -> 0
A115: Tužilaštvo 1 | F115: =IF(E115="Tužilac",1,IF(E115="Zamjenik glavnog tužioca",2,IF(E115="Šef odjela",3,IF(E115="Član VSTV-a",4,IF(E115="Šef odsjeka",5,""))))) | O115: =IF(G115="",0,(SUM(L115:N115)/G115)) -> 0 | P115: =IF(K115>0,O115*(J115/(J115-K115)),O115) -> 0 | S115: =IF(Q115="","",(R115+R116)/(Q115+Q116)) | T115: =IF(C115="Ne","",IF(E115="",IF(G115="",""),IF(C115="Ne","",IF(E115="Tužilac",IF((P116+P115)>1,30,IF(S115="",IF((P116+P115)>0.9,25,IF((P116+P115)>0.8,20,IF((P116+P115)>0.7,15,IF((P116+P115)>0.6,10,IF((P116+P115)>0.5,5,0))))),IF((S116+S115)>0.94,30,IF((S116+S115)>0.9,25,IF((S116+S115)>0.8,20,IF((S116+S115)>0.7,15,IF((S116+S115)>0.6,10,IF((S116+S115)>0.5,5,0)))))))),IF((P116+P115)>1,15,IF(S115="",IF((P116+P115)>0.9,13,IF((P116+P115)>0.8,11,IF((P116+P115)>0.7,9,IF((P116+P115)>0.6,7,IF((P116+P115)>0.5,3,0))))),IF((S116+S115)>0.94,15,IF((S116+S115)>0.9,12,IF((S116+S115)>0.8,9,IF((S116+S115)>0.7,6,IF((S116+S115)>0.6,4,IF((S116+S115)>0.5,2,0))))))))))))
A116: Tužilaštvo 2 | F116: =IF(E116="Tužilac",1,IF(E116="Zamjenik glavnog tužioca",2,IF(E116="Šef odjela",3,IF(E116="Član VSTV-a",4,IF(E116="Šef odsjeka",5,""))))) | O116: =IF(G116="",0,(SUM(L116:N116)/G116)) -> 0 | P116: =IF(K116>0,O116*(J116/(J116-K116)),O116) -> 0 | T116: =IF(C116="Ne","",IF(E116="",IF(G116="",""),IF(C116="Ne","",IF(E116="Tužilac",IF((P115+P116)>1,30,IF(S116="",IF((P115+P116)>0.9,25,IF((P115+P116)>0.8,20,IF((P115+P116)>0.7,15,IF((P115+P116)>0.6,10,IF((P115+P116)>0.5,5,0))))),IF((S115+S116)>0.94,30,IF((S115+S116)>0.9,25,IF((S115+S116)>0.8,20,IF((S115+S116)>0.7,15,IF((S115+S116)>0.6,10,IF((S115+S116)>0.5,5,0)))))))),IF((P115+P116)>1,15,IF(S116="",IF((P115+P116)>0.9,13,IF((P115+P116)>0.8,11,IF((P115+P116)>0.7,9,IF((P115+P116)>0.6,7,IF((P115+P116)>0.5,3,0))))),IF((S115+S116)>0.94,15,IF((S115+S116)>0.9,12,IF((S115+S116)>0.8,9,IF((S115+S116)>0.7,6,IF((S115+S116)>0.6,4,IF((S115+S116)>0.5,2,0))))))))))))
A117: Ime i prezime nosioca pravosudne funkcije | O117: Ukupna ostvarena orijentacijska norma koja se unosi u Obrazac za ocjenjivanje = | P117: =P118+P119 -> 0
A118: Tužilaštvo 1 | F118: =IF(E118="Tužilac",1,IF(E118="Zamjenik glavnog tužioca",2,IF(E118="Šef odjela",3,IF(E118="Član VSTV-a",4,IF(E118="Šef odsjeka",5,""))))) | O118: =IF(G118="",0,(SUM(L118:N118)/G118)) -> 0 | P118: =IF(K118>0,O118*(J118/(J118-K118)),O118) -> 0 | S118: =IF(Q118="","",(R118+R119)/(Q118+Q119)) | T118: =IF(C118="Ne","",IF(E118="",IF(G118="",""),IF(C118="Ne","",IF(E118="Tužilac",IF((P119+P118)>1,30,IF(S118="",IF((P119+P118)>0.9,25,IF((P119+P118)>0.8,20,IF((P119+P118)>0.7,15,IF((P119+P118)>0.6,10,IF((P119+P118)>0.5,5,0))))),IF((S119+S118)>0.94,30,IF((S119+S118)>0.9,25,IF((S119+S118)>0.8,20,IF((S119+S118)>0.7,15,IF((S119+S118)>0.6,10,IF((S119+S118)>0.5,5,0)))))))),IF((P119+P118)>1,15,IF(S118="",IF((P119+P118)>0.9,13,IF((P119+P118)>0.8,11,IF((P119+P118)>0.7,9,IF((P119+P118)>0.6,7,IF((P119+P118)>0.5,3,0))))),IF((S119+S118)>0.94,15,IF((S119+S118)>0.9,12,IF((S119+S118)>0.8,9,IF((S119+S118)>0.7,6,IF((S119+S118)>0.6,4,IF((S119+S118)>0.5,2,0))))))))))))
A119: Tužilaštvo 2 | F119: =IF(E119="Tužilac",1,IF(E119="Zamjenik glavnog tužioca",2,IF(E119="Šef odjela",3,IF(E119="Član VSTV-a",4,IF(E119="Šef odsjeka",5,""))))) | O119: =IF(G119="",0,(SUM(L119:N119)/G119)) -> 0 | P119: =IF(K119>0,O119*(J119/(J119-K119)),O119) -> 0 | T119: =IF(C119="Ne","",IF(E119="",IF(G119="",""),IF(C119="Ne","",IF(E119="Tužilac",IF((P118+P119)>1,30,IF(S119="",IF((P118+P119)>0.9,25,IF((P118+P119)>0.8,20,IF((P118+P119)>0.7,15,IF((P118+P119)>0.6,10,IF((P118+P119)>0.5,5,0))))),IF((S118+S119)>0.94,30,IF((S118+S119)>0.9,25,IF((S118+S119)>0.8,20,IF((S118+S119)>0.7,15,IF((S118+S119)>0.6,10,IF((S118+S119)>0.5,5,0)))))))),IF((P118+P119)>1,15,IF(S119="",IF((P118+P119)>0.9,13,IF((P118+P119)>0.8,11,IF((P118+P119)>0.7,9,IF((P118+P119)>0.6,7,IF((P118+P119)>0.5,3,0))))),IF((S118+S119)>0.94,15,IF((S118+S119)>0.9,12,IF((S118+S119)>0.8,9,IF((S118+S119)>0.7,6,IF((S118+S119)>0.6,4,IF((S118+S119)>0.5,2,0))))))))))))
A120: Ime i prezime nosioca pravosudne funkcije | O120: Ukupna ostvarena orijentacijska norma koja se unosi u Obrazac za ocjenjivanje = | P120: =P121+P122 -> 0
A121: Tužilaštvo 1 | F121: =IF(E121="Tužilac",1,IF(E121="Zamjenik glavnog tužioca",2,IF(E121="Šef odjela",3,IF(E121="Član VSTV-a",4,IF(E121="Šef odsjeka",5,""))))) | O121: =IF(G121="",0,(SUM(L121:N121)/G121)) -> 0 | P121: =IF(K121>0,O121*(J121/(J121-K121)),O121) -> 0 | S121: =IF(Q121="","",(R121+R122)/(Q121+Q122)) | T121: =IF(C121="Ne","",IF(E121="",IF(G121="",""),IF(C121="Ne","",IF(E121="Tužilac",IF((P122+P121)>1,30,IF(S121="",IF((P122+P121)>0.9,25,IF((P122+P121)>0.8,20,IF((P122+P121)>0.7,15,IF((P122+P121)>0.6,10,IF((P122+P121)>0.5,5,0))))),IF((S122+S121)>0.94,30,IF((S122+S121)>0.9,25,IF((S122+S121)>0.8,20,IF((S122+S121)>0.7,15,IF((S122+S121)>0.6,10,IF((S122+S121)>0.5,5,0)))))))),IF((P122+P121)>1,15,IF(S121="",IF((P122+P121)>0.9,13,IF((P122+P121)>0.8,11,IF((P122+P121)>0.7,9,IF((P122+P121)>0.6,7,IF((P122+P121)>0.5,3,0))))),IF((S122+S121)>0.94,15,IF((S122+S121)>0.9,12,IF((S122+S121)>0.8,9,IF((S122+S121)>0.7,6,IF((S122+S121)>0.6,4,IF((S122+S121)>0.5,2,0))))))))))))
A122: Tužilaštvo 2 | F122: =IF(E122="Tužilac",1,IF(E122="Zamjenik glavnog tužioca",2,IF(E122="Šef odjela",3,IF(E122="Član VSTV-a",4,IF(E122="Šef odsjeka",5,""))))) | O122: =IF(G122="",0,(SUM(L122:N122)/G122)) -> 0 | P122: =IF(K122>0,O122*(J122/(J122-K122)),O122) -> 0 | T122: =IF(C122="Ne","",IF(E122="",IF(G122="",""),IF(C122="Ne","",IF(E122="Tužilac",IF((P121+P122)>1,30,IF(S122="",IF((P121+P122)>0.9,25,IF((P121+P122)>0.8,20,IF((P121+P122)>0.7,15,IF((P121+P122)>0.6,10,IF((P121+P122)>0.5,5,0))))),IF((S121+S122)>0.94,30,IF((S121+S122)>0.9,25,IF((S121+S122)>0.8,20,IF((S121+S122)>0.7,15,IF((S121+S122)>0.6,10,IF((S121+S122)>0.5,5,0)))))))),IF((P121+P122)>1,15,IF(S122="",IF((P121+P122)>0.9,13,IF((P121+P122)>0.8,11,IF((P121+P122)>0.7,9,IF((P121+P122)>0.6,7,IF((P121+P122)>0.5,3,0))))),IF((S121+S122)>0.94,15,IF((S121+S122)>0.9,12,IF((S121+S122)>0.8,9,IF((S121+S122)>0.7,6,IF((S121+S122)>0.6,4,IF((S121+S122)>0.5,2,0))))))))))))
A123: Ime i prezime nosioca pravosudne funkcije | O123: Ukupna ostvarena orijentacijska norma koja se unosi u Obrazac za ocjenjivanje = | P123: =P124+P125 -> 0
A124: Tužilaštvo 1 | F124: =IF(E124="Tužilac",1,IF(E124="Zamjenik glavnog tužioca",2,IF(E124="Šef odjela",3,IF(E124="Član VSTV-a",4,IF(E124="Šef odsjeka",5,""))))) | O124: =IF(G124="",0,(SUM(L124:N124)/G124)) -> 0 | P124: =IF(K124>0,O124*(J124/(J124-K124)),O124) -> 0 | S124: =IF(Q124="","",(R124+R125)/(Q124+Q125)) | T124: =IF(C124="Ne","",IF(E124="",IF(G124="",""),IF(C124="Ne","",IF(E124="Tužilac",IF((P125+P124)>1,30,IF(S124="",IF((P125+P124)>0.9,25,IF((P125+P124)>0.8,20,IF((P125+P124)>0.7,15,IF((P125+P124)>0.6,10,IF((P125+P124)>0.5,5,0))))),IF((S125+S124)>0.94,30,IF((S125+S124)>0.9,25,IF((S125+S124)>0.8,20,IF((S125+S124)>0.7,15,IF((S125+S124)>0.6,10,IF((S125+S124)>0.5,5,0)))))))),IF((P125+P124)>1,15,IF(S124="",IF((P125+P124)>0.9,13,IF((P125+P124)>0.8,11,IF((P125+P124)>0.7,9,IF((P125+P124)>0.6,7,IF((P125+P124)>0.5,3,0))))),IF((S125+S124)>0.94,15,IF((S125+S124)>0.9,12,IF((S125+S124)>0.8,9,IF((S125+S124)>0.7,6,IF((S125+S124)>0.6,4,IF((S125+S124)>0.5,2,0))))))))))))
A125: Tužilaštvo 2 | F125: =IF(E125="Tužilac",1,IF(E125="Zamjenik glavnog tužioca",2,IF(E125="Šef odjela",3,IF(E125="Član VSTV-a",4,IF(E125="Šef odsjeka",5,""))))) | O125: =IF(G125="",0,(SUM(L125:N125)/G125)) -> 0 | P125: =IF(K125>0,O125*(J125/(J125-K125)),O125) -> 0 | T125: =IF(C125="Ne","",IF(E125="",IF(G125="",""),IF(C125="Ne","",IF(E125="Tužilac",IF((P124+P125)>1,30,IF(S125="",IF((P124+P125)>0.9,25,IF((P124+P125)>0.8,20,IF((P124+P125)>0.7,15,IF((P124+P125)>0.6,10,IF((P124+P125)>0.5,5,0))))),IF((S124+S125)>0.94,30,IF((S124+S125)>0.9,25,IF((S124+S125)>0.8,20,IF((S124+S125)>0.7,15,IF((S124+S125)>0.6,10,IF((S124+S125)>0.5,5,0)))))))),IF((P124+P125)>1,15,IF(S125="",IF((P124+P125)>0.9,13,IF((P124+P125)>0.8,11,IF((P124+P125)>0.7,9,IF((P124+P125)>0.6,7,IF((P124+P125)>0.5,3,0))))),IF((S124+S125)>0.94,15,IF((S124+S125)>0.9,12,IF((S124+S125)>0.8,9,IF((S124+S125)>0.7,6,IF((S124+S125)>0.6,4,IF((S124+S125)>0.5,2,0))))))))))))
A126: Ime i prezime nosioca pravosudne funkcije | O126: Ukupna ostvarena orijentacijska norma koja se unosi u Obrazac za ocjenjivanje = | P126: =P127+P128 -> 0
A127: Tužilaštvo 1 | F127: =IF(E127="Tužilac",1,IF(E127="Zamjenik glavnog tužioca",2,IF(E127="Šef odjela",3,IF(E127="Član VSTV-a",4,IF(E127="Šef odsjeka",5,""))))) | O127: =IF(G127="",0,(SUM(L127:N127)/G127)) -> 0 | P127: =IF(K127>0,O127*(J127/(J127-K127)),O127) -> 0 | S127: =IF(Q127="","",(R127+R128)/(Q127+Q128)) | T127: =IF(C127="Ne","",IF(E127="",IF(G127="",""),IF(C127="Ne","",IF(E127="Tužilac",IF((P128+P127)>1,30,IF(S127="",IF((P128+P127)>0.9,25,IF((P128+P127)>0.8,20,IF((P128+P127)>0.7,15,IF((P128+P127)>0.6,10,IF((P128+P127)>0.5,5,0))))),IF((S128+S127)>0.94,30,IF((S128+S127)>0.9,25,IF((S128+S127)>0.8,20,IF((S128+S127)>0.7,15,IF((S128+S127)>0.6,10,IF((S128+S127)>0.5,5,0)))))))),IF((P128+P127)>1,15,IF(S127="",IF((P128+P127)>0.9,13,IF((P128+P127)>0.8,11,IF((P128+P127)>0.7,9,IF((P128+P127)>0.6,7,IF((P128+P127)>0.5,3,0))))),IF((S128+S127)>0.94,15,IF((S128+S127)>0.9,12,IF((S128+S127)>0.8,9,IF((S128+S127)>0.7,6,IF((S128+S127)>0.6,4,IF((S128+S127)>0.5,2,0))))))))))))
A128: Tužilaštvo 2 | F128: =IF(E128="Tužilac",1,IF(E128="Zamjenik glavnog tužioca",2,IF(E128="Šef odjela",3,IF(E128="Član VSTV-a",4,IF(E128="Šef odsjeka",5,""))))) | O128: =IF(G128="",0,(SUM(L128:N128)/G128)) -> 0 | P128: =IF(K128>0,O128*(J128/(J128-K128)),O128) -> 0 | T128: =IF(C128="Ne","",IF(E128="",IF(G128="",""),IF(C128="Ne","",IF(E128="Tužilac",IF((P127+P128)>1,30,IF(S128="",IF((P127+P128)>0.9,25,IF((P127+P128)>0.8,20,IF((P127+P128)>0.7,15,IF((P127+P128)>0.6,10,IF((P127+P128)>0.5,5,0))))),IF((S127+S128)>0.94,30,IF((S127+S128)>0.9,25,IF((S127+S128)>0.8,20,IF((S127+S128)>0.7,15,IF((S127+S128)>0.6,10,IF((S127+S128)>0.5,5,0)))))))),IF((P127+P128)>1,15,IF(S128="",IF((P127+P128)>0.9,13,IF((P127+P128)>0.8,11,IF((P127+P128)>0.7,9,IF((P127+P128)>0.6,7,IF((P127+P128)>0.5,3,0))))),IF((S127+S128)>0.94,15,IF((S127+S128)>0.9,12,IF((S127+S128)>0.8,9,IF((S127+S128)>0.7,6,IF((S127+S128)>0.6,4,IF((S127+S128)>0.5,2,0))))))))))))
A129: Ime i prezime nosioca pravosudne funkcije | O129: Ukupna ostvarena orijentacijska norma koja se unosi u Obrazac za ocjenjivanje = | P129: =P130+P131 -> 0
A130: Tužilaštvo 1 | F130: =IF(E130="Tužilac",1,IF(E130="Zamjenik glavnog tužioca",2,IF(E130="Šef odjela",3,IF(E130="Član VSTV-a",4,IF(E130="Šef odsjeka",5,""))))) | O130: =IF(G130="",0,(SUM(L130:N130)/G130)) -> 0 | P130: =IF(K130>0,O130*(J130/(J130-K130)),O130) -> 0 | S130: =IF(Q130="","",(R130+R131)/(Q130+Q131)) | T130: =IF(C130="Ne","",IF(E130="",IF(G130="",""),IF(C130="Ne","",IF(E130="Tužilac",IF((P131+P130)>1,30,IF(S130="",IF((P131+P130)>0.9,25,IF((P131+P130)>0.8,20,IF((P131+P130)>0.7,15,IF((P131+P130)>0.6,10,IF((P131+P130)>0.5,5,0))))),IF((S131+S130)>0.94,30,IF((S131+S130)>0.9,25,IF((S131+S130)>0.8,20,IF((S131+S130)>0.7,15,IF((S131+S130)>0.6,10,IF((S131+S130)>0.5,5,0)))))))),IF((P131+P130)>1,15,IF(S130="",IF((P131+P130)>0.9,13,IF((P131+P130)>0.8,11,IF((P131+P130)>0.7,9,IF((P131+P130)>0.6,7,IF((P131+P130)>0.5,3,0))))),IF((S131+S130)>0.94,15,IF((S131+S130)>0.9,12,IF((S131+S130)>0.8,9,IF((S131+S130)>0.7,6,IF((S131+S130)>0.6,4,IF((S131+S130)>0.5,2,0))))))))))))
A131: Tužilaštvo 2 | F131: =IF(E131="Tužilac",1,IF(E131="Zamjenik glavnog tužioca",2,IF(E131="Šef odjela",3,IF(E131="Član VSTV-a",4,IF(E131="Šef odsjeka",5,""))))) | O131: =IF(G131="",0,(SUM(L131:N131)/G131)) -> 0 | P131: =IF(K131>0,O131*(J131/(J131-K131)),O131) -> 0 | T131: =IF(C131="Ne","",IF(E131="",IF(G131="",""),IF(C131="Ne","",IF(E131="Tužilac",IF((P130+P131)>1,30,IF(S131="",IF((P130+P131)>0.9,25,IF((P130+P131)>0.8,20,IF((P130+P131)>0.7,15,IF((P130+P131)>0.6,10,IF((P130+P131)>0.5,5,0))))),IF((S130+S131)>0.94,30,IF((S130+S131)>0.9,25,IF((S130+S131)>0.8,20,IF((S130+S131)>0.7,15,IF((S130+S131)>0.6,10,IF((S130+S131)>0.5,5,0)))))))),IF((P130+P131)>1,15,IF(S131="",IF((P130+P131)>0.9,13,IF((P130+P131)>0.8,11,IF((P130+P131)>0.7,9,IF((P130+P131)>0.6,7,IF((P130+P131)>0.5,3,0))))),IF((S130+S131)>0.94,15,IF((S130+S131)>0.9,12,IF((S130+S131)>0.8,9,IF((S130+S131)>0.7,6,IF((S130+S131)>0.6,4,IF((S130+S131)>0.5,2,0))))))))))))
A132: Ime i prezime nosioca pravosudne funkcije | O132: Ukupna ostvarena orijentacijska norma koja se unosi u Obrazac za ocjenjivanje = | P132: =P133+P134 -> 0
A133: Tužilaštvo 1 | F133: =IF(E133="Tužilac",1,IF(E133="Zamjenik glavnog tužioca",2,IF(E133="Šef odjela",3,IF(E133="Član VSTV-a",4,IF(E133="Šef odsjeka",5,""))))) | O133: =IF(G133="",0,(SUM(L133:N133)/G133)) -> 0 | P133: =IF(K133>0,O133*(J133/(J133-K133)),O133) -> 0 | S133: =IF(Q133="","",(R133+R134)/(Q133+Q134)) | T133: =IF(C133="Ne","",IF(E133="",IF(G133="",""),IF(C133="Ne","",IF(E133="Tužilac",IF((P134+P133)>1,30,IF(S133="",IF((P134+P133)>0.9,25,IF((P134+P133)>0.8,20,IF((P134+P133)>0.7,15,IF((P134+P133)>0.6,10,IF((P134+P133)>0.5,5,0))))),IF((S134+S133)>0.94,30,IF((S134+S133)>0.9,25,IF((S134+S133)>0.8,20,IF((S134+S133)>0.7,15,IF((S134+S133)>0.6,10,IF((S134+S133)>0.5,5,0)))))))),IF((P134+P133)>1,15,IF(S133="",IF((P134+P133)>0.9,13,IF((P134+P133)>0.8,11,IF((P134+P133)>0.7,9,IF((P134+P133)>0.6,7,IF((P134+P133)>0.5,3,0))))),IF((S134+S133)>0.94,15,IF((S134+S133)>0.9,12,IF((S134+S133)>0.8,9,IF((S134+S133)>0.7,6,IF((S134+S133)>0.6,4,IF((S134+S133)>0.5,2,0))))))))))))
A134: Tužilaštvo 2 | F134: =IF(E134="Tužilac",1,IF(E134="Zamjenik glavnog tužioca",2,IF(E134="Šef odjela",3,IF(E134="Član VSTV-a",4,IF(E134="Šef odsjeka",5,""))))) | O134: =IF(G134="",0,(SUM(L134:N134)/G134)) -> 0 | P134: =IF(K134>0,O134*(J134/(J134-K134)),O134) -> 0 | T134: =IF(C134="Ne","",IF(E134="",IF(G134="",""),IF(C134="Ne","",IF(E134="Tužilac",IF((P133+P134)>1,30,IF(S134="",IF((P133+P134)>0.9,25,IF((P133+P134)>0.8,20,IF((P133+P134)>0.7,15,IF((P133+P134)>0.6,10,IF((P133+P134)>0.5,5,0))))),IF((S133+S134)>0.94,30,IF((S133+S134)>0.9,25,IF((S133+S134)>0.8,20,IF((S133+S134)>0.7,15,IF((S133+S134)>0.6,10,IF((S133+S134)>0.5,5,0)))))))),IF((P133+P134)>1,15,IF(S134="",IF((P133+P134)>0.9,13,IF((P133+P134)>0.8,11,IF((P133+P134)>0.7,9,IF((P133+P134)>0.6,7,IF((P133+P134)>0.5,3,0))))),IF((S133+S134)>0.94,15,IF((S133+S134)>0.9,12,IF((S133+S134)>0.8,9,IF((S133+S134)>0.7,6,IF((S133+S134)>0.6,4,IF((S133+S134)>0.5,2,0))))))))))))
A135: Ime i prezime nosioca pravosudne funkcije | O135: Ukupna ostvarena orijentacijska norma koja se unosi u Obrazac za ocjenjivanje = | P135: =P136+P137 -> 0
A136: Tužilaštvo 1 | F136: =IF(E136="Tužilac",1,IF(E136="Zamjenik glavnog tužioca",2,IF(E136="Šef odjela",3,IF(E136="Član VSTV-a",4,IF(E136="Šef odsjeka",5,""))))) | O136: =IF(G136="",0,(SUM(L136:N136)/G136)) -> 0 | P136: =IF(K136>0,O136*(J136/(J136-K136)),O136) -> 0 | S136: =IF(Q136="","",(R136+R137)/(Q136+Q137)) | T136: =IF(C136="Ne","",IF(E136="",IF(G136="",""),IF(C136="Ne","",IF(E136="Tužilac",IF((P137+P136)>1,30,IF(S136="",IF((P137+P136)>0.9,25,IF((P137+P136)>0.8,20,IF((P137+P136)>0.7,15,IF((P137+P136)>0.6,10,IF((P137+P136)>0.5,5,0))))),IF((S137+S136)>0.94,30,IF((S137+S136)>0.9,25,IF((S137+S136)>0.8,20,IF((S137+S136)>0.7,15,IF((S137+S136)>0.6,10,IF((S137+S136)>0.5,5,0)))))))),IF((P137+P136)>1,15,IF(S136="",IF((P137+P136)>0.9,13,IF((P137+P136)>0.8,11,IF((P137+P136)>0.7,9,IF((P137+P136)>0.6,7,IF((P137+P136)>0.5,3,0))))),IF((S137+S136)>0.94,15,IF((S137+S136)>0.9,12,IF((S137+S136)>0.8,9,IF((S137+S136)>0.7,6,IF((S137+S136)>0.6,4,IF((S137+S136)>0.5,2,0))))))))))))
A137: Tužilaštvo 2 | F137: =IF(E137="Tužilac",1,IF(E137="Zamjenik glavnog tužioca",2,IF(E137="Šef odjela",3,IF(E137="Član VSTV-a",4,IF(E137="Šef odsjeka",5,""))))) | O137: =IF(G137="",0,(SUM(L137:N137)/G137)) -> 0 | P137: =IF(K137>0,O137*(J137/(J137-K137)),O137) -> 0 | T137: =IF(C137="Ne","",IF(E137="",IF(G137="",""),IF(C137="Ne","",IF(E137="Tužilac",IF((P136+P137)>1,30,IF(S137="",IF((P136+P137)>0.9,25,IF((P136+P137)>0.8,20,IF((P136+P137)>0.7,15,IF((P136+P137)>0.6,10,IF((P136+P137)>0.5,5,0))))),IF((S136+S137)>0.94,30,IF((S136+S137)>0.9,25,IF((S136+S137)>0.8,20,IF((S136+S137)>0.7,15,IF((S136+S137)>0.6,10,IF((S136+S137)>0.5,5,0)))))))),IF((P136+P137)>1,15,IF(S137="",IF((P136+P137)>0.9,13,IF((P136+P137)>0.8,11,IF((P136+P137)>0.7,9,IF((P136+P137)>0.6,7,IF((P136+P137)>0.5,3,0))))),IF((S136+S137)>0.94,15,IF((S136+S137)>0.9,12,IF((S136+S137)>0.8,9,IF((S136+S137)>0.7,6,IF((S136+S137)>0.6,4,IF((S136+S137)>0.5,2,0))))))))))))
A138: Ime i prezime nosioca pravosudne funkcije | O138: Ukupna ostvarena orijentacijska norma koja se unosi u Obrazac za ocjenjivanje = | P138: =P139+P140 -> 0
A139: Tužilaštvo 1 | F139: =IF(E139="Tužilac",1,IF(E139="Zamjenik glavnog tužioca",2,IF(E139="Šef odjela",3,IF(E139="Član VSTV-a",4,IF(E139="Šef odsjeka",5,""))))) | O139: =IF(G139="",0,(SUM(L139:N139)/G139)) -> 0 | P139: =IF(K139>0,O139*(J139/(J139-K139)),O139) -> 0 | S139: =IF(Q139="","",(R139+R140)/(Q139+Q140)) | T139: =IF(C139="Ne","",IF(E139="",IF(G139="",""),IF(C139="Ne","",IF(E139="Tužilac",IF((P140+P139)>1,30,IF(S139="",IF((P140+P139)>0.9,25,IF((P140+P139)>0.8,20,IF((P140+P139)>0.7,15,IF((P140+P139)>0.6,10,IF((P140+P139)>0.5,5,0))))),IF((S140+S139)>0.94,30,IF((S140+S139)>0.9,25,IF((S140+S139)>0.8,20,IF((S140+S139)>0.7,15,IF((S140+S139)>0.6,10,IF((S140+S139)>0.5,5,0)))))))),IF((P140+P139)>1,15,IF(S139="",IF((P140+P139)>0.9,13,IF((P140+P139)>0.8,11,IF((P140+P139)>0.7,9,IF((P140+P139)>0.6,7,IF((P140+P139)>0.5,3,0))))),IF((S140+S139)>0.94,15,IF((S140+S139)>0.9,12,IF((S140+S139)>0.8,9,IF((S140+S139)>0.7,6,IF((S140+S139)>0.6,4,IF((S140+S139)>0.5,2,0))))))))))))
A140: Tužilaštvo 2 | F140: =IF(E140="Tužilac",1,IF(E140="Zamjenik glavnog tužioca",2,IF(E140="Šef odjela",3,IF(E140="Član VSTV-a",4,IF(E140="Šef odsjeka",5,""))))) | O140: =IF(G140="",0,(SUM(L140:N140)/G140)) -> 0 | P140: =IF(K140>0,O140*(J140/(J140-K140)),O140) -> 0 | T140: =IF(C140="Ne","",IF(E140="",IF(G140="",""),IF(C140="Ne","",IF(E140="Tužilac",IF((P139+P140)>1,30,IF(S140="",IF((P139+P140)>0.9,25,IF((P139+P140)>0.8,20,IF((P139+P140)>0.7,15,IF((P139+P140)>0.6,10,IF((P139+P140)>0.5,5,0))))),IF((S139+S140)>0.94,30,IF((S139+S140)>0.9,25,IF((S139+S140)>0.8,20,IF((S139+S140)>0.7,15,IF((S139+S140)>0.6,10,IF((S139+S140)>0.5,5,0)))))))),IF((P139+P140)>1,15,IF(S140="",IF((P139+P140)>0.9,13,IF((P139+P140)>0.8,11,IF((P139+P140)>0.7,9,IF((P139+P140)>0.6,7,IF((P139+P140)>0.5,3,0))))),IF((S139+S140)>0.94,15,IF((S139+S140)>0.9,12,IF((S139+S140)>0.8,9,IF((S139+S140)>0.7,6,IF((S139+S140)>0.6,4,IF((S139+S140)>0.5,2,0))))))))))))
H143: Tabela Ic: Obračun ostvarene kolektivne orijentacione norme u tužilačkim odjelima (pogledati NAPOMENE 6 i 7) | Q143: Nedovoljan broj predmeta u radu
A144: NAPOMENA 2: Kolona IX (Ukupan broj dana za obračun norme) je popunjena (261) i odnosi se na NPF-e koji su radili cijelu godinu u jednoj instituciji. Ukoliko NPF nije obavljao funkciju u pravosudnoj instituciji tokom dijela godine (Novoimenovani NPF ili NPF koji je u toku godine prestao obavljati pravosudnu funkciju) vrši se preračun broja radnih dana. Npr. Tužilac počeo sa radom 1.4.2025. Ukupan broj dana za obračun norme = (366 – 31 – 28 – 31) / 7 * 5 = 196 | H144: Ime i prezime šefa odjela | K144: Naziv odjela | N144: Broj tužilaca u odjelu* | O144: Kolektivna norma odjela | P144: Bodovanje u skladu sa čl. 31. st. (3) Kri. za ocje rada gl. tužilaca | Q144: broj predmeta u radu | R144: broj riješenih predmeta | S144: procenat riješenih predmeta | T144: Bodovanje u skladu sa čl. 31. st. 4 Kri.za ocje rada gl. tužilaca
P145: =IF(O145="","",IF(O145>1,15,IF(O145>0.9,13,IF(O145>0.8,11,IF(O145>0.7,9,IF(O145>0.6,6,IF(O145>0.5,3,0))))))) | S145: =IF(Q145="","",R145/Q145) | T145: =IF(S145="","",IF(S145>0.94,15,IF(S145>0.9,13,IF(S145>0.8,11,IF(S145>0.7,9,IF(S145>0.6,6,IF(S145>0.5,3,0)))))))
P146: =IF(O146="","",IF(O146>1,15,IF(O146>0.9,13,IF(O146>0.8,11,IF(O146>0.7,9,IF(O146>0.6,6,IF(O146>0.5,3,0))))))) | S146: =IF(Q146="","",R146/Q146) | T146: =IF(S146="","",IF(S146>0.94,15,IF(S146>0.9,13,IF(S146>0.8,11,IF(S146>0.7,9,IF(S146>0.6,6,IF(S146>0.5,3,0)))))))
P147: =IF(O147="","",IF(O147>1,15,IF(O147>0.9,13,IF(O147>0.8,11,IF(O147>0.7,9,IF(O147>0.6,6,IF(O147>0.5,3,0))))))) | S147: =IF(Q147="","",R147/Q147) | T147: =IF(S147="","",IF(S147>0.94,15,IF(S147>0.9,13,IF(S147>0.8,11,IF(S147>0.7,9,IF(S147>0.6,6,IF(S147>0.5,3,0)))))))
P148: =IF(O148="","",IF(O148>1,15,IF(O148>0.9,13,IF(O148>0.8,11,IF(O148>0.7,9,IF(O148>0.6,6,IF(O148>0.5,3,0))))))) | S148: =IF(Q148="","",R148/Q148) | T148: =IF(S148="","",IF(S148>0.94,15,IF(S148>0.9,13,IF(S148>0.8,11,IF(S148>0.7,9,IF(S148>0.6,6,IF(S148>0.5,3,0)))))))
A149: NAPOMENA 3: Ukoliko je nosilac pravosudne funkcije dužan ostvariti procenat orijentacijske norme koji nije ponuđen u padajućem meniju u poljima iz kolone VI, podaci o ostvarenoj orijentacijskoj normi takvog nosioca pravosudne funkcije se unose u dio obrasca u kojem su polja kolone VI označena plavom bojom (tačka IIa. Instrukcije za obračun individualne i kolektivne orijentacione norme u tužilaštvima). | P149: =IF(O149="","",IF(O149>1,15,IF(O149>0.9,13,IF(O149>0.8,11,IF(O149>0.7,9,IF(O149>0.6,6,IF(O149>0.5,3,0))))))) | S149: =IF(Q149="","",R149/Q149) | T149: =IF(S149="","",IF(S149>0.94,15,IF(S149>0.9,13,IF(S149>0.8,11,IF(S149>0.7,9,IF(S149>0.6,6,IF(S149>0.5,3,0)))))))
P150: =IF(O150="","",IF(O150>1,15,IF(O150>0.9,13,IF(O150>0.8,11,IF(O150>0.7,9,IF(O150>0.6,6,IF(O150>0.5,3,0))))))) | S150: =IF(Q150="","",R150/Q150) | T150: =IF(S150="","",IF(S150>0.94,15,IF(S150>0.9,13,IF(S150>0.8,11,IF(S150>0.7,9,IF(S150>0.6,6,IF(S150>0.5,3,0)))))))
P151: =IF(O151="","",IF(O151>1,15,IF(O151>0.9,13,IF(O151>0.8,11,IF(O151>0.7,9,IF(O151>0.6,6,IF(O151>0.5,3,0))))))) | S151: =IF(Q151="","",R151/Q151) | T151: =IF(S151="","",IF(S151>0.94,15,IF(S151>0.9,13,IF(S151>0.8,11,IF(S151>0.7,9,IF(S151>0.6,6,IF(S151>0.5,3,0)))))))
P152: =IF(O152="","",IF(O152>1,15,IF(O152>0.9,13,IF(O152>0.8,11,IF(O152>0.7,9,IF(O152>0.6,6,IF(O152>0.5,3,0))))))) | S152: =IF(Q152="","",R152/Q152) | T152: =IF(S152="","",IF(S152>0.94,15,IF(S152>0.9,13,IF(S152>0.8,11,IF(S152>0.7,9,IF(S152>0.6,6,IF(S152>0.5,3,0)))))))
P153: =IF(O153="","",IF(O153>1,15,IF(O153>0.9,13,IF(O153>0.8,11,IF(O153>0.7,9,IF(O153>0.6,6,IF(O153>0.5,3,0))))))) | S153: =IF(Q153="","",R153/Q153) | T153: =IF(S153="","",IF(S153>0.94,15,IF(S153>0.9,13,IF(S153>0.8,11,IF(S153>0.7,9,IF(S153>0.6,6,IF(S153>0.5,3,0)))))))
A154: NAPOMENA 4: U Tabelu Ia se unose podaci za sve nosioce pravosudne funkcije koji su u toku godine obavljali funkciju u tužilaštvu. Ukoliko je nosilac pravosudne funkcije u toku godine prvi put imenovan u tužilaštvo, ili je obavljao funkciju u dva tužilaštva, ili je napustio pravosuđe u Tabelu Ia se unose podaci koje je nosilac pravosudne funkcije ostvario u tužilaštvu koje popunjava Tabelu Ia, a podaci o ostvarenoj normi se obračunavaju u skladu sa Instrukcijom za obračun norme - tačka IIb i tačka IIc 1) - za obračun kolektivne norme. Tabelu Ib popunjava tužilaštvo koje provodi postupak ocjenjivanja rezultata rada nosioca pravosudne funkcije koji je tokom godine obavljao funkciju u dva tužilaštva. Tabela Ib se popunjava na način da tužilaštvo u prvi red za pojedinačnog tužioca (npr. red 118) unosi podake o ostvarenoj normi u tužilaštvu u kojem se tužilac funkciju obavljao duži period ocjenjivanja. U drugi red (npr. red 119) se unose podaci o ostvarenoj normi u tužilaštvu u kojem se tužilac funkciju obavljao kraći period ocjenjivanja. Podaci o ostvarenoj normi se obračunavaju u skladu sa Instrukcijom – tačka IIc 1) – za proces ocjenjivanja. U obrazac za ocjenjivanje rada unosi se podatak o broju ostvarenih bodova iz Tabele Ib. | P154: =IF(O154="","",IF(O154>1,15,IF(O154>0.9,13,IF(O154>0.8,11,IF(O154>0.7,9,IF(O154>0.6,6,IF(O154>0.5,3,0))))))) | S154: =IF(Q154="","",R154/Q154) | T154: =IF(S154="","",IF(S154>0.94,15,IF(S154>0.9,13,IF(S154>0.8,11,IF(S154>0.7,9,IF(S154>0.6,6,IF(S154>0.5,3,0)))))))
H158: NAPOMENA 7: Kolektivnu normu odjela potrebno je manuelno preračunati i upisati u odgovarajuću kolonu u posebnoj tabeli. Iz preračuna kolektivne norme odjela potrebno je isključiti nosioce pravosudne funkcije kod kojih je ukupno ostvarenje norme ispod 20%: novoimenovani tužioci, tužioci koji su imenovani u drugu instituciju, kao i tužioci koji su prestali sa radom zbog: penzionisanja, podnošenja ostavke, smrti, gubitka radne sposobnosti, razrješenja od dužnosti, privremenog ili trajnog udaljenja od vršenja dužnosti itd. (član 14. stav (1) Kriterija za ocjenjivanje rada glavnih tužilaca, zamjenika glavnih tužilaca, šefova odjela u tužilaštvima u Bosni i Hercegovini). Ostvareni broj bodova šefa odjela automatski će se obračunati. Ukoliko odjel nije imao dovoljan broj predmeta u radu za ostvarenje orijentacijske norme, potrebno je manuelno unijeti ukupan broj predmeta koji su bili u radu u odjelu kao i ukupan broj riješenih predmeta u odjelu u periodu ocjenjivanja. Procenat riješenih predmeta automatski će se obračunati te šefu odjela dodijeliti odgovarajući broj bodova u skladu sa članom 31. stav 4. Kriterija za ocjenjivanje rada glavnih tužilaca, zamjenika glavnih tužilaca i šefova odjela u tužilaštvima u Bosni i Hercegovini.
H165: NAPOMENA 8: Podatak o ostvarenoj orijentacionoj normi na predmetima van TCMS-a se preuzima iz POMOĆNE TABELE ZA OBRAČUN NORME OSTVARENE NA PREDMETIMA VAN TCMS-a.
A166: NAPOMENA 5: Kolone XVI i XVII se popunjavaju ukoliko se nosilac pravosudne funkcije ocjenjuje u skladu sa članom 20. stav (3), (4), (5) i (6) Kriterija za ocjenjivanje rada glavnih tužilaca, zamjenika glavnih tužilaca i šefova odjela u tužilaštvima u BiH, odnosno članom 20. stav (3), (4) i (5) Kriterija za ocjenjivanje rada tužilaca u BiH. Dodatno pogledati napomenu iz Uputstva uz tabelu, kao i odgovarajuće odredbe Uputstva za primjenu Kriterija za ocjenjivanje rada glavnog tužioca Tužilaštva Bosne i Hercegovine, Federalnog tužilaštva Federacije Bosne i Hercegovine, Republičkog javnog tužilaštva Republike Srpske i Tužilaštva Brčko Distrikta Bosne i Hercegovine, Kriterija za ocjenjivanje rada glavnih tužilaca, zamjenika glavnih tužilaca, šefova odjela u tužilaštvima u Bosni i Hercegovini i Kriterija za ocjenjivanje rada tužilaca u Bosni i Hercegovini.
H167: NAPOMENA 9: Podatak o Procentu ostvarene orijentacijske norme prema čl 7, 8., 10 i 11. Pravilnika o orijentacijskim mjerilima se preuzima iz POMOĆNE TABELE ZA POSEBNO VREDNOVANJE PREDMETA.
H169: NAPOMENA 10: Pomoćne tabele navedene u NAPOMENAMA 8 i 9 kao i ostale materijale u vezi postupka ocjenjivanja rada NPF za 2024. godinu možete preuzeti putem linka:
H170: https://vstv.pravosudje.ba/vstvfo/B/141/article/143275
A171: NAPOMENA 6: Obračun ostvarene kolektivne orijentacione norme u tužilačkim odjelima obračunava se u skladu sa unutrašnjom organizacijom tužilaštva na način da se kolektivna orijentaciona norma računa kao aritmetička sredina pojedinačno ostvarenih orijentacionih normi svih tužilaca koji su odlukom glavnog tužioca raspoređeni u odgovarajući odjel, bez obzira na okolnost da su dio norme ostvarili donošenjem tužilačkih odluka u predmetima iz djelokruga drugih odjela u tužilaštvu, shodno tački IIIb. Instrukcije za obračun individualne i kolektivne orijentacione norme u tužilaštvima.

Sheet TABELA II
A1: =+'TABELA I'!A1 -> Naziv tužilaštva | D1: =+'TABELA I'!D1 -> Republičko javno tužilaštvo Republike Srpske - Posebni odjel | J1: 2016
A2: Izvještajni period: | D2: =+'TABELA I'!G2 -> 1.1.2025. - 31.12.2025.
A3: Tabela II: Kvalitet tužilačkih odluka (predmeti)
A4: Vrsta predmeta | B4: O P T U Ž N I C E | G4: I S T R A G E | K4: Ukupan kvalitet
B5: Broj podignutih optužnica | C5: Broj podnesenih prijedloga za izricanje vaspitnih mjera i maloljetničkog zatvora | D5: Broj pravosnažnih rješenja o odbijanju optužnice | E5: Broj pravosnažnih odluka o neprihvaćanju prijedloga za izricanje vaspitnih mjera i maloljetničkog zatvora | F5: Kvalitet optužnica | G5: Broj naredbi o nesprovođenju istrage | H5: Broj naredbi o obustavljanju istrage | I5: Ukupan broj rješenja glavnog tužioca o usvajanju pritužbi na naredbe o nesprovođenju, odnosno obustavljanu istrage | J5: Kvalitet istraga
A7: I | B7: II | C7: III | D7: IV | E7: V | F7: VI | G7: VII | H7: VIII | I7: IX | J7: X | K7: XV=(X+XIV)/2
A9: KTM | F9: =IF(B9+C9=0,"",(B9+C9-D9-E9)/(B9+C9)) | J9: =IF(G9+H9=0,"",(G9+H9-I9)/(G9+H9)) | K9: =IF(F9="",(IF(J9="","",J9/2)),IF(J9="",F9/2,(F9+J9)/2))
A10: KT | F10: =IF(B10+C10=0,"",(B10+C10-D10-E10)/(B10+C10)) | J10: =IF(G10+H10=0,"",(G10+H10-I10)/(G10+H10)) | K10: =IF(F10+J10=0,"",(F10+J10)/2) -> #VALUE!
A11: KTA | F11: =IF(B11+C11=0,"",(B11+C11-D11-E11)/(B11+C11)) | J11: =IF(G11+H11=0,"",(G11+H11-I11)/(G11+H11)) | K11: =IF(F11="",(IF(J11="","",J11/2)),IF(J11="",F11/2,(F11+J11)/2))
A12: KTN | F12: =IF(B12+C12=0,"",(B12+C12-D12-E12)/(B12+C12)) | K12: =IF(F12="",(IF(J12="","",J12/2)),IF(J12="",F12/2,(F12+J12)/2))
A13: KTK*** | F13: =IF(B13+C13=0,"",(B13+C13-D13-E13)/(B13+C13)) | J13: =IF(G13+H13=0,"",(G13+H13-I13/2)/(G13+H13)) | K13: =IF(F13="",(IF(J13="","",J13/2)),IF(J13="",F13/2,(F13+J13)/2))
A14: KTAK | F14: =IF(B14+C14=0,"",(B14+C14-D14-E14)/(B14+C14)) | J14: =IF(G14+H14=0,"",(G14+H14-I14/2)/(G14+H14)) | K14: =IF(F14="",(IF(J14="","",J14/2)),IF(J14="",F14/2,(F14+J14)/2))
A15: KTNK | F15: =IF(B15+C15=0,"",(B15+C15-D15-E15)/(B15+C15)) | J15: =IF(G15+H15=0,"",(G15+H15-I15/2)/(G15+H15)) | K15: =IF(F15="",(IF(J15="","",J15/2)),IF(J15="",F15/2,(F15+J15)/2))
A16: KTT | F16: =IF(B16+C16=0,"",(B16+C16-D16-E16)/(B16+C16)) | J16: =IF(G16+H16=0,"",(G16+H16-I16)/(G16+H16)) | K16: =IF(F16="",(IF(J16="","",J16/2)),IF(J16="",F16/2,(F16+J16)/2))
A17: KTAT | F17: =IF(B17+C17=0,"",(B17+C17-D17-E17)/(B17+C17)) | J17: =IF(G17+H17=0,"",(G17+H17-I17)/(G17+H17)) | K17: =IF(F17="",(IF(J17="","",J17/2)),IF(J17="",F17/2,(F17+J17)/2))
A18: KTNT | F18: =IF(B18+C18=0,"",(B18+C18-D18-E18)/(B18+C18)) | J18: =IF(G18+H18=0,"",(G18+H18-I18)/(G18+H18)) | K18: =IF(F18="",(IF(J18="","",J18/2)),IF(J18="",F18/2,(F18+J18)/2))
A19: KTKK | F19: =IF(B19+C19=0,"",(B19+C19-D19-E19)/(B19+C19)) | J19: =IF(G19+H19=0,"",(G19+H19-I19)/(G19+H19))
A20: KTAKK | F20: =IF(B20+C20=0,"",(B20+C20-D20-E20)/(B20+C20)) | J20: =IF(G20+H20=0,"",(G20+H20-I20)/(G20+H20))
A21: KTNKK | F21: =IF(B21+C21=0,"",(B21+C21-D21-E21)/(B21+C21)) | J21: =IF(G21+H21=0,"",(G21+H21-I21)/(G21+H21))
A22: KTD | F22: =IF(B22+C22=0,"",(B22+C22-D22-E22)/(B22+C22)) | J22: =IF(G22+H22=0,"",(G22+H22-I22)/(G22+H22))
A23: KTRZ | F23: =IF(B23+C23=0,"",(B23+C23-D23-E23)/(B23+C23)) | J23: =IF(G23+H23=0,"",(G23+H23-I23/2)/(G23+H23)) | K23: =IF(F23="",(IF(J23="","",J23/2)),IF(J23="",F23/2,(F23+J23)/2))
A24: KTARZ | F24: =IF(B24+C24=0,"",(B24+C24-D24-E24)/(B24+C24)) | J24: =IF(G24+H24=0,"",(G24+H24-I24/2)/(G24+H24)) | K24: =IF(F24="",(IF(J24="","",J24/2)),IF(J24="",F24/2,(F24+J24)/2))
A25: KTNRZ | F25: =IF(B25+C25=0,"",(B25+C25-D25-E25)/(B25+C25)) | J25: =IF(G25+H25=0,"",(G25+H25-I25/2)/(G25+H25)) | K25: =IF(F25="",(IF(J25="","",J25/2)),IF(J25="",F25/2,(F25+J25)/2))
A26: KTPO | F26: =IF(B26+C26=0,"",(B26+C26-D26-E26)/(B26+C26)) | J26: =IF(G26+H26=0,"",(G26+H26-I26/2)/(G26+H26)) | K26: =IF(F26="",(IF(J26="","",J26/2)),IF(J26="",F26/2,(F26+J26)/2))
A27: KTAPO | F27: =IF(B27+C27=0,"",(B27+C27-D27-E27)/(B27+C27)) | J27: =IF(G27+H27=0,"",(G27+H27-I27/2)/(G27+H27)) | K27: =IF(F27="",(IF(J27="","",J27/2)),IF(J27="",F27/2,(F27+J27)/2))
A28: KTNPO | F28: =IF(B28+C28=0,"",(B28+C28-D28-E28)/(B28+C28)) | J28: =IF(G28+H28=0,"",(G28+H28-I28/2)/(G28+H28)) | K28: =IF(F28="",(IF(J28="","",J28/2)),IF(J28="",F28/2,(F28+J28)/2))
A29: KTO**** | F29: =IF(B29+C29=0,"",(B29+C29-D29-E29)/(B29+C29)) | J29: =IF(G29+H29=0,"",(G29+H29-I29/2)/(G29+H29)) | K29: =IF(F29="",(IF(J29="","",J29/2)),IF(J29="",F29/2,(F29+J29)/2))
A30: KTAO | F30: =IF(B30+C30=0,"",(B30+C30-D30-E30)/(B30+C30)) | J30: =IF(G30+H30=0,"",(G30+H30-I30/2)/(G30+H30)) | K30: =IF(F30="",(IF(J30="","",J30/2)),IF(J30="",F30/2,(F30+J30)/2))
A31: KTNO | F31: =IF(B31+C31=0,"",(B31+C31-D31-E31)/(B31+C31)) | J31: =IF(G31+H31=0,"",(G31+H31-I31/2)/(G31+H31)) | K31: =IF(F31="",(IF(J31="","",J31/2)),IF(J31="",F31/2,(F31+J31)/2))
A33: Ukupno | B33: =SUM(B9:B31) -> 0 | C33: =SUM(C9:C31) -> 0 | D33: =SUM(D9:D31) -> 0 | E33: =SUM(E9:E31) -> 0 | F33: =IF(B33+C33=0,"",(B33+C33-D33-E33)/(B33+C33)) | G33: =SUM(G9:G31) -> 0 | H33: =SUM(H9:H31) -> 0 | I33: =SUM(I9:I31) -> 0 | J33: =IF(G33+H33=0,"",((G33+H33-(I9+I10+I11+I12+I16+I17+I18+I19+I20+I21+I22+((I13+I14+I15+I23+I24+I25+I26+I27+I28+I29+I30+I31)/2))))/(G33+H33)) | K33: =AVERAGE(K9:K31) -> #VALUE!
A35: Dužni ste unijeti vrijednosti u sva polja kolona II - V (ukoliko u izvještajnom periodu nije bilo odgovarajuće vrste odluke unesite 0). Ukoliko u bilo koje polje u koloni IV ne unesete podatak (0 ili drugu vrijednost) ovo polje će biti obojeno crvenom bojom.
A37: * | B37: Naredbe o neprovođenju i obustavi istrage u KTN predmetima iz oblasti opšteg kriminala ne ubrajaju se u ukupan broj naredbi o neprovođenju i obustavi istrage.
A39: ** | B39: U KTK vrstu predmeta evidentirati i KTKV predmete.
A41: *** | B41: U KTO vrstu predmeta evidentirati i KTOV predmete.

Sheet TABELA IIa
B1: =+'TABELA II'!A1 -> Naziv tužilaštva | E1: =+'TABELA I'!D1 -> Republičko javno tužilaštvo Republike Srpske - Posebni odjel
B2: Izvještajni period: | E2: =+'TABELA I'!G2 -> 1.1.2025. - 31.12.2025.
B3: Tabela IIa: Obračun ostvarenog kvaliteta optužnica i naredbi o nesprovođenju i obustavi istraga - Elektronski obrazac za obračun ostvarenog kvaliteta odluka (pogledati NAPOMENU 5 i 6)
B5: Redni broj | C5: Ime i prezime - podatak je automatski prenesen iz Tabele I - OBAVEZNO ZADRŽATI REDOSLIJED NPF-a iz Tabele I | D5: Pravosudna funkcija | E5: Naziv odjela - podatak je automatski prenesen iz Tabele I | F5: Ocijenjen u tužilaštvu | G5: Vrsta predmeta* | H5: Broj podignutih optužnica | I5: Broj podnesenih prijedloga za izricanje vaspitnih mjera i maloljetničkog zatvora | J5: Broj pravosnažnih rješenja o odbijanju optužnice | K5: Broj pravosnažnih odluka o neprihvaćanju prijedloga za izricanje vaspitnih mjera i maloljetničkog zatvora | L5: Kvalitet optužnica za godišnji izvještaj | M5: Kvalitet optužnica prema članu 28. Kriterija | N5: Ostvareni broj bodova za kvalitet optužnica prema članu 28. Kriterija | O5: Broj naredbi o nesprovođenju istrage | P5: Broj naredbi o obustavi istrage | Q5: Ukupan broj rješenja glavnog tužioca o usvajanju pritužbi na naredbe o nesprovođenju i obustavi istrage | R5: Kvalitet naredbi o nesprovođenju i obustavi istrage***** | S5: Kvalitet naredbi o nesprovođenju i obustavi istrage prema članu 29. Kriterija | T5: Ostvareni broj bodova za kvalitet naredbi o nesprovođenju i obustavi istraga prema članu 29. Kriterija | U5: Ostvareni broj bodova za kvalitet naredbi o nesprovođenju i obustavi istraga prema članu 29. Kriterija | V5: UKUPAN BROJ BODOVA ZA KVALITET OPTUŽNICA I KVALITET NAREDBI O NESPROVOĐENJU I OBUSTAVI ISTRAGA
B9: I | C9: II | D9: III | E9: IV | F9: V | G9: VI | H9: VII | I9: VIII | J9: IX | K9: X | L9: XI | M9: XII | N9: XIII | O9: XIV | P9: XV | Q9: XVI | R9: XVII | S9: XVIII | T9: XIX | U9: XX | V9: XXI
X10: Ocijenjen
B11: 1 | C11: =IF('TABELA I'!B12="","",'TABELA I'!B12) | D11: Zamjenik glavnog tužioca - specijalni tužilac | F11: Nije ocijenjen ili Nema obavezu neposredno raditi na predmetima | G11: KT i KTM | L11: =IF((H11+I11)=0,"",(H11+I11-J11-K11)/(H11+I11)) | M11: =IF((H11+I11)=0,"",(J11+K11)/(H11+I11)) | N11: =IF(F11="Nije ocijenjen ili Nema obavezu neposredno raditi na predmetima","",IF(F11="Ocijenjen",IF(H11+I11=0,"",IF(M11<0.0001,14,IF(M11<0.0301,11,IF(M11<0.0601,7,IF(M11<=0.1,4,IF(M11>1,0,)))))))) | R11: =IF(O11+P11=0,"",(O11+P11-Q11)/(O11+P11)) | S11: =IF(O11+P11=0,"",(Q11)/(O11+P11)) | T11: =IF(F11="Nije ocijenjen ili Nema obavezu neposredno raditi na predmetima","",IF(F11="Ocijenjen",IF(O11+P11=0,"",IF(S11<0.0251,14,IF(S11<0.0501,11,IF(S11<0.0751,7,IF(S11<=0.1,4,IF(SL11>1,0,)))))))) | U11: =IF(F11="Nije ocijenjen ili Nema obavezu neposredno raditi na predmetima","",IF(F11="Ocijenjen",IF(O12+P12=0,T11,IF(O11+P11=0,T12,(T11+T12)/2)))) | V11: =IF(F11="Nije ocijenjen ili Nema obavezu neposredno raditi na predmetima","",IF(F11="Ocijenjen",IF(U11="",N11,IF(N11="",U11,((N11+U11)/2))))) | X11: Nije ocijenjen ili Nema obavezu neposredno raditi na predmetima
G12: KTRZ, KTPO, KTO, KTK | R12: =IF(O12+P12=0,"",(O12+P12-Q12)/(O12+P12)) | S12: =IF(O12+P12=0,"",(Q12)/(O12+P12)) | T12: =IF(F11="Nije ocijenjen ili Nema obavezu neposredno raditi na predmetima","",IF(F11="Ocijenjen",IF(O12+P12=0,"",IF(S12<0.0301,14,IF(S12<0.0601,11,IF(S12<0.101,7,IF(S12<=0.2,4,IF(SL12>2,0,)))))))) | U12: =+(T9+U10)/2 -> #VALUE!
B13: 2 | C13: =IF('TABELA I'!B14="","",'TABELA I'!B14) | E13: =IF('TABELA I'!D14="","",'TABELA I'!D14) | F13: Nije ocijenjen | G13: KT i KTM | L13: =IF((H13+I13)=0,"",(H13+I13-J13-K13)/(H13+I13)) | M13: =IF((H13+I13)=0,"",(J13+K13)/(H13+I13)) | N13: =IF(F13="Nije ocijenjen","",IF(F13="Ocijenjen",IF(H13+I13=0,"",IF(D13="Tužilac",IF(M13<0.0001,50,IF(M13<0.0301,40,IF(M13<0.0601,25,IF(M13<=0.1,15,IF(M13>0.1,0,))))),IF(M13<0.0001,20,IF(M13<0.0301,15,IF(M13<0.0601,10,IF(M13<=0.1,5,IF(M13>0.1,0,))))))))) | R13: =IF(O13+P13=0,"",(O13+P13-Q13)/(O13+P13)) | S13: =IF(O13+P13=0,"",(Q13)/(O13+P13)) | T13: =IF(F13="Nije ocijenjen","",IF(F13="Ocijenjen",IF(O13+P13=0,"",IF(D13="Tužilac",IF(S13<0.0251,50,IF(S13<0.0501,40,IF(S13<0.0751,25,IF(S13<=0.1,15,IF(S13>0.1,0,))))),IF(S13<0.0251,20,IF(S13<0.0501,15,IF(S13<0.0751,10,IF(S13<=0.1,5,IF(S13>0.1,0,))))))))) | U13: =IF(F13="Nije ocijenjen","",IF(F13="Ocijenjen",IF(O14+P14=0,T13,IF(O13+P13=0,T14,(T13+T14)/2)))) | V13: =IF(F13="Nije ocijenjen","",IF(F13="Ocijenjen",IF(U13="",N13,IF(N13="",U13,((N13+U13)/2))))) | X13: Zamjenik glavnog tužioca
G14: KTRZ, KTPO, KTO, KTK | N14: =IF(#REF!="Nije ocijenjen","",IF(#REF!="Ocijenjen",IF(B14+C14=0,"",IF(#REF!="Tužilac",IF(M14<0.031,40,IF(M14<0.061,30,IF(M14<0.101,20,IF(M14<=0.2,10,IF(M14<=1,0,))))),IF(M14<0.031,20,IF(M14<0.061,15,IF(M14<0.101,10,IF(M14<=0.2,5,IF(M14<=1,0,))))))))) -> #REF! | R14: =IF(O14+P14=0,"",(O14+P14-Q14)/(O14+P14)) | S14: =IF(O14+P14=0,"",(Q14)/(O14+P14)) | T14: =IF(F13="Nije ocijenjen","",IF(F13="Ocijenjen",IF(O14+P14=0,"",IF(D13="Tužilac",IF(S14<0.0301,50,IF(S14<0.0601,40,IF(S14<0.1001,25,IF(S14<=0.2,15,IF(S14>0.2,0,))))),IF(S14<0.0301,20,IF(S14<0.0601,15,IF(S14<0.1001,10,IF(S14<=0.2,5,IF(S14>0.2,0,))))))))) | U14: =+(T11+U12)/2 -> #VALUE! | X14: Šef odjela
B15: 3 | C15: =IF('TABELA I'!B15="","",'TABELA I'!B15) | E15: =IF('TABELA I'!D15="","",'TABELA I'!D15) | F15: Nije ocijenjen | G15: KT i KTM | L15: =IF((H15+I15)=0,"",(H15+I15-J15-K15)/(H15+I15)) | M15: =IF((H15+I15)=0,"",(J15+K15)/(H15+I15)) | N15: =IF(F15="Nije ocijenjen","",IF(F15="Ocijenjen",IF(H15+I15=0,"",IF(D15="Tužilac",IF(M15<0.0001,50,IF(M15<0.0301,40,IF(M15<0.0601,25,IF(M15<=0.1,15,IF(M15>0.1,0,))))),IF(M15<0.0001,20,IF(M15<0.0301,15,IF(M15<0.0601,10,IF(M15<=0.1,5,IF(M15>0.1,0,))))))))) | R15: =IF(O15+P15=0,"",(O15+P15-Q15)/(O15+P15)) | S15: =IF(O15+P15=0,"",(Q15)/(O15+P15)) | T15: =IF(F15="Nije ocijenjen","",IF(F15="Ocijenjen",IF(O15+P15=0,"",IF(D15="Tužilac",IF(S15<0.0251,50,IF(S15<0.0501,40,IF(S15<0.0751,25,IF(S15<=0.1,15,IF(S15>0.1,0,))))),IF(S15<0.0251,20,IF(S15<0.0501,15,IF(S15<0.0751,10,IF(S15<=0.1,5,IF(S15>0.1,0,))))))))) | U15: =IF(F15="Nije ocijenjen","",IF(F15="Ocijenjen",IF(O16+P16=0,T15,IF(O15+P15=0,T16,(T15+T16)/2)))) | V15: =IF(F15="Nije ocijenjen","",IF(F15="Ocijenjen",IF(U15="",N15,IF(N15="",U15,((N15+U15)/2))))) | X15: Tužilac
G16: KTRZ, KTPO, KTO, KTK | N16: =IF(#REF!="Nije ocijenjen","",IF(#REF!="Ocijenjen",IF(B16+C16=0,"",IF(#REF!="Tužilac",IF(M16<0.031,40,IF(M16<0.061,30,IF(M16<0.101,20,IF(M16<=0.2,10,IF(M16<=1,0,))))),IF(M16<0.031,20,IF(M16<0.061,15,IF(M16<0.101,10,IF(M16<=0.2,5,IF(M16<=1,0,))))))))) -> #REF! | R16: =IF(O16+P16=0,"",(O16+P16-Q16)/(O16+P16)) | S16: =IF(O16+P16=0,"",(Q16)/(O16+P16)) | T16: =IF(F15="Nije ocijenjen","",IF(F15="Ocijenjen",IF(O16+P16=0,"",IF(D15="Tužilac",IF(S16<0.0301,50,IF(S16<0.0601,40,IF(S16<0.1001,25,IF(S16<=0.2,15,IF(S16>0.2,0,))))),IF(S16<0.0301,20,IF(S16<0.0601,15,IF(S16<0.1001,10,IF(S16<=0.2,5,IF(S16>0.2,0,))))))))) | U16: =+(T13+U14)/2 -> #VALUE!
B17: 4 | C17: =IF('TABELA I'!B16="","",'TABELA I'!B16) | E17: =IF('TABELA I'!D16="","",'TABELA I'!D16) | F17: Nije ocijenjen | G17: KT i KTM | L17: =IF((H17+I17)=0,"",(H17+I17-J17-K17)/(H17+I17)) | M17: =IF((H17+I17)=0,"",(J17+K17)/(H17+I17)) | N17: =IF(F17="Nije ocijenjen","",IF(F17="Ocijenjen",IF(H17+I17=0,"",IF(D17="Tužilac",IF(M17<0.0001,50,IF(M17<0.0301,40,IF(M17<0.0601,25,IF(M17<=0.1,15,IF(M17>0.1,0,))))),IF(M17<0.0001,20,IF(M17<0.0301,15,IF(M17<0.0601,10,IF(M17<=0.1,5,IF(M17>0.1,0,))))))))) | R17: =IF(O17+P17=0,"",(O17+P17-Q17)/(O17+P17)) | S17: =IF(O17+P17=0,"",(Q17)/(O17+P17)) | T17: =IF(F17="Nije ocijenjen","",IF(F17="Ocijenjen",IF(O17+P17=0,"",IF(D17="Tužilac",IF(S17<0.0251,50,IF(S17<0.0501,40,IF(S17<0.0751,25,IF(S17<=0.1,15,IF(S17>0.1,0,))))),IF(S17<0.0251,20,IF(S17<0.0501,15,IF(S17<0.0751,10,IF(S17<=0.1,5,IF(S17>0.1,0,))))))))) | U17: =IF(F17="Nije ocijenjen","",IF(F17="Ocijenjen",IF(O18+P18=0,T17,IF(O17+P17=0,T18,(T17+T18)/2)))) | V17: =IF(F17="Nije ocijenjen","",IF(F17="Ocijenjen",IF(U17="",N17,IF(N17="",U17,((N17+U17)/2)))))
G18: KTRZ, KTPO, KTO, KTK | N18: =IF(#REF!="Nije ocijenjen","",IF(#REF!="Ocijenjen",IF(B18+C18=0,"",IF(#REF!="Tužilac",IF(M18<0.031,40,IF(M18<0.061,30,IF(M18<0.101,20,IF(M18<=0.2,10,IF(M18<=1,0,))))),IF(M18<0.031,20,IF(M18<0.061,15,IF(M18<0.101,10,IF(M18<=0.2,5,IF(M18<=1,0,))))))))) -> #REF! | R18: =IF(O18+P18=0,"",(O18+P18-Q18)/(O18+P18)) | S18: =IF(O18+P18=0,"",(Q18)/(O18+P18)) | T18: =IF(F17="Nije ocijenjen","",IF(F17="Ocijenjen",IF(O18+P18=0,"",IF(D17="Tužilac",IF(S18<0.0301,50,IF(S18<0.0601,40,IF(S18<0.1001,25,IF(S18<=0.2,15,IF(S18>0.2,0,))))),IF(S18<0.0301,20,IF(S18<0.0601,15,IF(S18<0.1001,10,IF(S18<=0.2,5,IF(S18>0.2,0,))))))))) | U18: =+(T15+U16)/2 -> #VALUE! | X18: Ocijenjen
B19: 5 | C19: =IF('TABELA I'!B17="","",'TABELA I'!B17) | E19: =IF('TABELA I'!D17="","",'TABELA I'!D17) | F19: Nije ocijenjen | G19: KT i KTM | L19: =IF((H19+I19)=0,"",(H19+I19-J19-K19)/(H19+I19)) | M19: =IF((H19+I19)=0,"",(J19+K19)/(H19+I19)) | N19: =IF(F19="Nije ocijenjen","",IF(F19="Ocijenjen",IF(H19+I19=0,"",IF(D19="Tužilac",IF(M19<0.0001,50,IF(M19<0.0301,40,IF(M19<0.0601,25,IF(M19<=0.1,15,IF(M19>0.1,0,))))),IF(M19<0.0001,20,IF(M19<0.0301,15,IF(M19<0.0601,10,IF(M19<=0.1,5,IF(M19>0.1,0,))))))))) | R19: =IF(O19+P19=0,"",(O19+P19-Q19)/(O19+P19)) | S19: =IF(O19+P19=0,"",(Q19)/(O19+P19)) | T19: =IF(F19="Nije ocijenjen","",IF(F19="Ocijenjen",IF(O19+P19=0,"",IF(D19="Tužilac",IF(S19<0.0251,50,IF(S19<0.0501,40,IF(S19<0.0751,25,IF(S19<=0.1,15,IF(S19>0.1,0,))))),IF(S19<0.0251,20,IF(S19<0.0501,15,IF(S19<0.0751,10,IF(S19<=0.1,5,IF(S19>0.1,0,))))))))) | U19: =IF(F19="Nije ocijenjen","",IF(F19="Ocijenjen",IF(O20+P20=0,T19,IF(O19+P19=0,T20,(T19+T20)/2)))) | V19: =IF(F19="Nije ocijenjen","",IF(F19="Ocijenjen",IF(U19="",N19,IF(N19="",U19,((N19+U19)/2))))) | X19: Nije ocijenjen
G20: KTRZ, KTPO, KTO, KTK | N20: =IF(#REF!="Nije ocijenjen","",IF(#REF!="Ocijenjen",IF(B20+C20=0,"",IF(#REF!="Tužilac",IF(M20<0.031,40,IF(M20<0.061,30,IF(M20<0.101,20,IF(M20<=0.2,10,IF(M20<=1,0,))))),IF(M20<0.031,20,IF(M20<0.061,15,IF(M20<0.101,10,IF(M20<=0.2,5,IF(M20<=1,0,))))))))) -> #REF! | R20: =IF(O20+P20=0,"",(O20+P20-Q20)/(O20+P20)) | S20: =IF(O20+P20=0,"",(Q20)/(O20+P20)) | T20: =IF(F19="Nije ocijenjen","",IF(F19="Ocijenjen",IF(O20+P20=0,"",IF(D19="Tužilac",IF(S20<0.0301,50,IF(S20<0.0601,40,IF(S20<0.1001,25,IF(S20<=0.2,15,IF(S20>0.2,0,))))),IF(S20<0.0301,20,IF(S20<0.0601,15,IF(S20<0.1001,10,IF(S20<=0.2,5,IF(S20>0.2,0,))))))))) | U20: =+(T17+U18)/2 -> #VALUE!
B21: 6 | C21: =IF('TABELA I'!B18="","",'TABELA I'!B18) | E21: =IF('TABELA I'!D18="","",'TABELA I'!D18) | F21: Nije ocijenjen | G21: KT i KTM | L21: =IF((H21+I21)=0,"",(H21+I21-J21-K21)/(H21+I21)) | M21: =IF((H21+I21)=0,"",(J21+K21)/(H21+I21)) | N21: =IF(F21="Nije ocijenjen","",IF(F21="Ocijenjen",IF(H21+I21=0,"",IF(D21="Tužilac",IF(M21<0.0001,50,IF(M21<0.0301,40,IF(M21<0.0601,25,IF(M21<=0.1,15,IF(M21>0.1,0,))))),IF(M21<0.0001,20,IF(M21<0.0301,15,IF(M21<0.0601,10,IF(M21<=0.1,5,IF(M21>0.1,0,))))))))) | R21: =IF(O21+P21=0,"",(O21+P21-Q21)/(O21+P21)) | S21: =IF(O21+P21=0,"",(Q21)/(O21+P21)) | T21: =IF(F21="Nije ocijenjen","",IF(F21="Ocijenjen",IF(O21+P21=0,"",IF(D21="Tužilac",IF(S21<0.0251,50,IF(S21<0.0501,40,IF(S21<0.0751,25,IF(S21<=0.1,15,IF(S21>0.1,0,))))),IF(S21<0.0251,20,IF(S21<0.0501,15,IF(S21<0.0751,10,IF(S21<=0.1,5,IF(S21>0.1,0,))))))))) | U21: =IF(F21="Nije ocijenjen","",IF(F21="Ocijenjen",IF(O22+P22=0,T21,IF(O21+P21=0,T22,(T21+T22)/2)))) | V21: =IF(F21="Nije ocijenjen","",IF(F21="Ocijenjen",IF(U21="",N21,IF(N21="",U21,((N21+U21)/2)))))
G22: KTRZ, KTPO, KTO, KTK | N22: =IF(#REF!="Nije ocijenjen","",IF(#REF!="Ocijenjen",IF(B22+C22=0,"",IF(#REF!="Tužilac",IF(M22<0.031,40,IF(M22<0.061,30,IF(M22<0.101,20,IF(M22<=0.2,10,IF(M22<=1,0,))))),IF(M22<0.031,20,IF(M22<0.061,15,IF(M22<0.101,10,IF(M22<=0.2,5,IF(M22<=1,0,))))))))) -> #REF! | R22: =IF(O22+P22=0,"",(O22+P22-Q22)/(O22+P22)) | S22: =IF(O22+P22=0,"",(Q22)/(O22+P22)) | T22: =IF(F21="Nije ocijenjen","",IF(F21="Ocijenjen",IF(O22+P22=0,"",IF(D21="Tužilac",IF(S22<0.0301,50,IF(S22<0.0601,40,IF(S22<0.1001,25,IF(S22<=0.2,15,IF(S22>0.2,0,))))),IF(S22<0.0301,20,IF(S22<0.0601,15,IF(S22<0.1001,10,IF(S22<=0.2,5,IF(S22>0.2,0,))))))))) | U22: =+(T19+U20)/2 -> #VALUE! | X22: Nije ocijenjen
B23: 7 | C23: =IF('TABELA I'!B19="","",'TABELA I'!B19) | E23: =IF('TABELA I'!D19="","",'TABELA I'!D19) | F23: Nije ocijenjen | G23: KT i KTM | L23: =IF((H23+I23)=0,"",(H23+I23-J23-K23)/(H23+I23)) | M23: =IF((H23+I23)=0,"",(J23+K23)/(H23+I23)) | N23: =IF(F23="Nije ocijenjen","",IF(F23="Ocijenjen",IF(H23+I23=0,"",IF(D23="Tužilac",IF(M23<0.0001,50,IF(M23<0.0301,40,IF(M23<0.0601,25,IF(M23<=0.1,15,IF(M23>0.1,0,))))),IF(M23<0.0001,20,IF(M23<0.0301,15,IF(M23<0.0601,10,IF(M23<=0.1,5,IF(M23>0.1,0,))))))))) | R23: =IF(O23+P23=0,"",(O23+P23-Q23)/(O23+P23)) | S23: =IF(O23+P23=0,"",(Q23)/(O23+P23)) | T23: =IF(F23="Nije ocijenjen","",IF(F23="Ocijenjen",IF(O23+P23=0,"",IF(D23="Tužilac",IF(S23<0.0251,50,IF(S23<0.0501,40,IF(S23<0.0751,25,IF(S23<=0.1,15,IF(S23>0.1,0,))))),IF(S23<0.0251,20,IF(S23<0.0501,15,IF(S23<0.0751,10,IF(S23<=0.1,5,IF(S23>0.1,0,))))))))) | U23: =IF(F23="Nije ocijenjen","",IF(F23="Ocijenjen",IF(O24+P24=0,T23,IF(O23+P23=0,T24,(T23+T24)/2)))) | V23: =IF(F23="Nije ocijenjen","",IF(F23="Ocijenjen",IF(U23="",N23,IF(N23="",U23,((N23+U23)/2))))) | X23: Ocijenjen prema članu 20. stav 4. Kriterija
G24: KTRZ, KTPO, KTO, KTK | N24: =IF(#REF!="Nije ocijenjen","",IF(#REF!="Ocijenjen",IF(B24+C24=0,"",IF(#REF!="Tužilac",IF(M24<0.031,40,IF(M24<0.061,30,IF(M24<0.101,20,IF(M24<=0.2,10,IF(M24<=1,0,))))),IF(M24<0.031,20,IF(M24<0.061,15,IF(M24<0.101,10,IF(M24<=0.2,5,IF(M24<=1,0,))))))))) -> #REF! | R24: =IF(O24+P24=0,"",(O24+P24-Q24)/(O24+P24)) | S24: =IF(O24+P24=0,"",(Q24)/(O24+P24)) | T24: =IF(F23="Nije ocijenjen","",IF(F23="Ocijenjen",IF(O24+P24=0,"",IF(D23="Tužilac",IF(S24<0.0301,50,IF(S24<0.0601,40,IF(S24<0.1001,25,IF(S24<=0.2,15,IF(S24>0.2,0,))))),IF(S24<0.0301,20,IF(S24<0.0601,15,IF(S24<0.1001,10,IF(S24<=0.2,5,IF(S24>0.2,0,))))))))) | U24: =+(T21+U22)/2 -> #VALUE!
B25: 8 | C25: =IF('TABELA I'!B20="","",'TABELA I'!B20) | E25: =IF('TABELA I'!D20="","",'TABELA I'!D20) | F25: Nije ocijenjen | G25: KT i KTM | L25: =IF((H25+I25)=0,"",(H25+I25-J25-K25)/(H25+I25)) | M25: =IF((H25+I25)=0,"",(J25+K25)/(H25+I25)) | N25: =IF(F25="Nije ocijenjen","",IF(F25="Ocijenjen",IF(H25+I25=0,"",IF(D25="Tužilac",IF(M25<0.0001,50,IF(M25<0.0301,40,IF(M25<0.0601,25,IF(M25<=0.1,15,IF(M25>0.1,0,))))),IF(M25<0.0001,20,IF(M25<0.0301,15,IF(M25<0.0601,10,IF(M25<=0.1,5,IF(M25>0.1,0,))))))))) | R25: =IF(O25+P25=0,"",(O25+P25-Q25)/(O25+P25)) | S25: =IF(O25+P25=0,"",(Q25)/(O25+P25)) | T25: =IF(F25="Nije ocijenjen","",IF(F25="Ocijenjen",IF(O25+P25=0,"",IF(D25="Tužilac",IF(S25<0.0251,50,IF(S25<0.0501,40,IF(S25<0.0751,25,IF(S25<=0.1,15,IF(S25>0.1,0,))))),IF(S25<0.0251,20,IF(S25<0.0501,15,IF(S25<0.0751,10,IF(S25<=0.1,5,IF(S25>0.1,0,))))))))) | U25: =IF(F25="Nije ocijenjen","",IF(F25="Ocijenjen",IF(O26+P26=0,T25,IF(O25+P25=0,T26,(T25+T26)/2)))) | V25: =IF(F25="Nije ocijenjen","",IF(F25="Ocijenjen",IF(U25="",N25,IF(N25="",U25,((N25+U25)/2)))))
G26: KTRZ, KTPO, KTO, KTK | N26: =IF(#REF!="Nije ocijenjen","",IF(#REF!="Ocijenjen",IF(B26+C26=0,"",IF(#REF!="Tužilac",IF(M26<0.031,40,IF(M26<0.061,30,IF(M26<0.101,20,IF(M26<=0.2,10,IF(M26<=1,0,))))),IF(M26<0.031,20,IF(M26<0.061,15,IF(M26<0.101,10,IF(M26<=0.2,5,IF(M26<=1,0,))))))))) -> #REF! | R26: =IF(O26+P26=0,"",(O26+P26-Q26)/(O26+P26)) | S26: =IF(O26+P26=0,"",(Q26)/(O26+P26)) | T26: =IF(F25="Nije ocijenjen","",IF(F25="Ocijenjen",IF(O26+P26=0,"",IF(D25="Tužilac",IF(S26<0.0301,50,IF(S26<0.0601,40,IF(S26<0.1001,25,IF(S26<=0.2,15,IF(S26>0.2,0,))))),IF(S26<0.0301,20,IF(S26<0.0601,15,IF(S26<0.1001,10,IF(S26<=0.2,5,IF(S26>0.2,0,))))))))) | U26: =+(T23+U24)/2 -> #VALUE! | X26: Nije ocijenjen
B27: 9 | C27: =IF('TABELA I'!B21="","",'TABELA I'!B21) | E27: =IF('TABELA I'!D21="","",'TABELA I'!D21) | F27: Nije ocijenjen | G27: KT i KTM | L27: =IF((H27+I27)=0,"",(H27+I27-J27-K27)/(H27+I27)) | M27: =IF((H27+I27)=0,"",(J27+K27)/(H27+I27)) | N27: =IF(F27="Nije ocijenjen","",IF(F27="Ocijenjen",IF(H27+I27=0,"",IF(D27="Tužilac",IF(M27<0.0001,50,IF(M27<0.0301,40,IF(M27<0.0601,25,IF(M27<=0.1,15,IF(M27>0.1,0,))))),IF(M27<0.0001,20,IF(M27<0.0301,15,IF(M27<0.0601,10,IF(M27<=0.1,5,IF(M27>0.1,0,))))))))) | R27: =IF(O27+P27=0,"",(O27+P27-Q27)/(O27+P27)) | S27: =IF(O27+P27=0,"",(Q27)/(O27+P27)) | T27: =IF(F27="Nije ocijenjen","",IF(F27="Ocijenjen",IF(O27+P27=0,"",IF(D27="Tužilac",IF(S27<0.0251,50,IF(S27<0.0501,40,IF(S27<0.0751,25,IF(S27<=0.1,15,IF(S27>0.1,0,))))),IF(S27<0.0251,20,IF(S27<0.0501,15,IF(S27<0.0751,10,IF(S27<=0.1,5,IF(S27>0.1,0,))))))))) | U27: =IF(F27="Nije ocijenjen","",IF(F27="Ocijenjen",IF(O28+P28=0,T27,IF(O27+P27=0,T28,(T27+T28)/2)))) | V27: =IF(F27="Nije ocijenjen","",IF(F27="Ocijenjen",IF(U27="",N27,IF(N27="",U27,((N27+U27)/2))))) | X27: Ocijenjen prema članu 20. stav 6. Kriterija
G28: KTRZ, KTPO, KTO, KTK | N28: =IF(#REF!="Nije ocijenjen","",IF(#REF!="Ocijenjen",IF(B28+C28=0,"",IF(#REF!="Tužilac",IF(M28<0.031,40,IF(M28<0.061,30,IF(M28<0.101,20,IF(M28<=0.2,10,IF(M28<=1,0,))))),IF(M28<0.031,20,IF(M28<0.061,15,IF(M28<0.101,10,IF(M28<=0.2,5,IF(M28<=1,0,))))))))) -> #REF! | R28: =IF(O28+P28=0,"",(O28+P28-Q28)/(O28+P28)) | S28: =IF(O28+P28=0,"",(Q28)/(O28+P28)) | T28: =IF(F27="Nije ocijenjen","",IF(F27="Ocijenjen",IF(O28+P28=0,"",IF(D27="Tužilac",IF(S28<0.0301,50,IF(S28<0.0601,40,IF(S28<0.1001,25,IF(S28<=0.2,15,IF(S28>0.2,0,))))),IF(S28<0.0301,20,IF(S28<0.0601,15,IF(S28<0.1001,10,IF(S28<=0.2,5,IF(S28>0.2,0,))))))))) | U28: =+(T25+U26)/2 -> #VALUE!
B29: 10 | C29: =IF('TABELA I'!B22="","",'TABELA I'!B22) | E29: =IF('TABELA I'!D22="","",'TABELA I'!D22) | F29: Nije ocijenjen | G29: KT i KTM | L29: =IF((H29+I29)=0,"",(H29+I29-J29-K29)/(H29+I29)) | M29: =IF((H29+I29)=0,"",(J29+K29)/(H29+I29)) | N29: =IF(F29="Nije ocijenjen","",IF(F29="Ocijenjen",IF(H29+I29=0,"",IF(D29="Tužilac",IF(M29<0.0001,50,IF(M29<0.0301,40,IF(M29<0.0601,25,IF(M29<=0.1,15,IF(M29>0.1,0,))))),IF(M29<0.0001,20,IF(M29<0.0301,15,IF(M29<0.0601,10,IF(M29<=0.1,5,IF(M29>0.1,0,))))))))) | R29: =IF(O29+P29=0,"",(O29+P29-Q29)/(O29+P29)) | S29: =IF(O29+P29=0,"",(Q29)/(O29+P29)) | T29: =IF(F29="Nije ocijenjen","",IF(F29="Ocijenjen",IF(O29+P29=0,"",IF(D29="Tužilac",IF(S29<0.0251,50,IF(S29<0.0501,40,IF(S29<0.0751,25,IF(S29<=0.1,15,IF(S29>0.1,0,))))),IF(S29<0.0251,20,IF(S29<0.0501,15,IF(S29<0.0751,10,IF(S29<=0.1,5,IF(S29>0.1,0,))))))))) | U29: =IF(F29="Nije ocijenjen","",IF(F29="Ocijenjen",IF(O30+P30=0,T29,IF(O29+P29=0,T30,(T29+T30)/2)))) | V29: =IF(F29="Nije ocijenjen","",IF(F29="Ocijenjen",IF(U29="",N29,IF(N29="",U29,((N29+U29)/2)))))
G30: KTRZ, KTPO, KTO, KTK | N30: =IF(#REF!="Nije ocijenjen","",IF(#REF!="Ocijenjen",IF(B30+C30=0,"",IF(#REF!="Tužilac",IF(M30<0.031,40,IF(M30<0.061,30,IF(M30<0.101,20,IF(M30<=0.2,10,IF(M30<=1,0,))))),IF(M30<0.031,20,IF(M30<0.061,15,IF(M30<0.101,10,IF(M30<=0.2,5,IF(M30<=1,0,))))))))) -> #REF! | R30: =IF(O30+P30=0,"",(O30+P30-Q30)/(O30+P30)) | S30: =IF(O30+P30=0,"",(Q30)/(O30+P30)) | T30: =IF(F29="Nije ocijenjen","",IF(F29="Ocijenjen",IF(O30+P30=0,"",IF(D29="Tužilac",IF(S30<0.0301,50,IF(S30<0.0601,40,IF(S30<0.1001,25,IF(S30<=0.2,15,IF(S30>0.2,0,))))),IF(S30<0.0301,20,IF(S30<0.0601,15,IF(S30<0.1001,10,IF(S30<=0.2,5,IF(S30>0.2,0,))))))))) | U30: =+(T27+U28)/2 -> #VALUE!
B31: 11 | C31: =IF('TABELA I'!B23="","",'TABELA I'!B23) | E31: =IF('TABELA I'!D23="","",'TABELA I'!D23) | F31: Nije ocijenjen | G31: KT i KTM | L31: =IF((H31+I31)=0,"",(H31+I31-J31-K31)/(H31+I31)) | M31: =IF((H31+I31)=0,"",(J31+K31)/(H31+I31)) | N31: =IF(F31="Nije ocijenjen","",IF(F31="Ocijenjen",IF(H31+I31=0,"",IF(D31="Tužilac",IF(M31<0.0001,50,IF(M31<0.0301,40,IF(M31<0.0601,25,IF(M31<=0.1,15,IF(M31>0.1,0,))))),IF(M31<0.0001,20,IF(M31<0.0301,15,IF(M31<0.0601,10,IF(M31<=0.1,5,IF(M31>0.1,0,))))))))) | R31: =IF(O31+P31=0,"",(O31+P31-Q31)/(O31+P31)) | S31: =IF(O31+P31=0,"",(Q31)/(O31+P31)) | T31: =IF(F31="Nije ocijenjen","",IF(F31="Ocijenjen",IF(O31+P31=0,"",IF(D31="Tužilac",IF(S31<0.0251,50,IF(S31<0.0501,40,IF(S31<0.0751,25,IF(S31<=0.1,15,IF(S31>0.1,0,))))),IF(S31<0.0251,20,IF(S31<0.0501,15,IF(S31<0.0751,10,IF(S31<=0.1,5,IF(S31>0.1,0,))))))))) | U31: =IF(F31="Nije ocijenjen","",IF(F31="Ocijenjen",IF(O32+P32=0,T31,IF(O31+P31=0,T32,(T31+T32)/2)))) | V31: =IF(F31="Nije ocijenjen","",IF(F31="Ocijenjen",IF(U31="",N31,IF(N31="",U31,((N31+U31)/2)))))
G32: KTRZ, KTPO, KTO, KTK | N32: =IF(#REF!="Nije ocijenjen","",IF(#REF!="Ocijenjen",IF(B32+C32=0,"",IF(#REF!="Tužilac",IF(M32<0.031,40,IF(M32<0.061,30,IF(M32<0.101,20,IF(M32<=0.2,10,IF(M32<=1,0,))))),IF(M32<0.031,20,IF(M32<0.061,15,IF(M32<0.101,10,IF(M32<=0.2,5,IF(M32<=1,0,))))))))) -> #REF! | R32: =IF(O32+P32=0,"",(O32+P32-Q32)/(O32+P32)) | S32: =IF(O32+P32=0,"",(Q32)/(O32+P32)) | T32: =IF(F31="Nije ocijenjen","",IF(F31="Ocijenjen",IF(O32+P32=0,"",IF(D31="Tužilac",IF(S32<0.0301,50,IF(S32<0.0601,40,IF(S32<0.1001,25,IF(S32<=0.2,15,IF(S32>0.2,0,))))),IF(S32<0.0301,20,IF(S32<0.0601,15,IF(S32<0.1001,10,IF(S32<=0.2,5,IF(S32>0.2,0,))))))))) | U32: =+(T29+U30)/2 -> #VALUE!
B33: 12 | C33: =IF('TABELA I'!B24="","",'TABELA I'!B24) | E33: =IF('TABELA I'!D24="","",'TABELA I'!D24) | F33: Nije ocijenjen | G33: KT i KTM | L33: =IF((H33+I33)=0,"",(H33+I33-J33-K33)/(H33+I33)) | M33: =IF((H33+I33)=0,"",(J33+K33)/(H33+I33)) | N33: =IF(F33="Nije ocijenjen","",IF(F33="Ocijenjen",IF(H33+I33=0,"",IF(D33="Tužilac",IF(M33<0.0001,50,IF(M33<0.0301,40,IF(M33<0.0601,25,IF(M33<=0.1,15,IF(M33>0.1,0,))))),IF(M33<0.0001,20,IF(M33<0.0301,15,IF(M33<0.0601,10,IF(M33<=0.1,5,IF(M33>0.1,0,))))))))) | R33: =IF(O33+P33=0,"",(O33+P33-Q33)/(O33+P33)) | S33: =IF(O33+P33=0,"",(Q33)/(O33+P33)) | T33: =IF(F33="Nije ocijenjen","",IF(F33="Ocijenjen",IF(O33+P33=0,"",IF(D33="Tužilac",IF(S33<0.0251,50,IF(S33<0.0501,40,IF(S33<0.0751,25,IF(S33<=0.1,15,IF(S33>0.1,0,))))),IF(S33<0.0251,20,IF(S33<0.0501,15,IF(S33<0.0751,10,IF(S33<=0.1,5,IF(S33>0.1,0,))))))))) | U33: =IF(F33="Nije ocijenjen","",IF(F33="Ocijenjen",IF(O34+P34=0,T33,IF(O33+P33=0,T34,(T33+T34)/2)))) | V33: =IF(F33="Nije ocijenjen","",IF(F33="Ocijenjen",IF(U33="",N33,IF(N33="",U33,((N33+U33)/2)))))
G34: KTRZ, KTPO, KTO, KTK | N34: =IF(#REF!="Nije ocijenjen","",IF(#REF!="Ocijenjen",IF(B34+C34=0,"",IF(#REF!="Tužilac",IF(M34<0.031,40,IF(M34<0.061,30,IF(M34<0.101,20,IF(M34<=0.2,10,IF(M34<=1,0,))))),IF(M34<0.031,20,IF(M34<0.061,15,IF(M34<0.101,10,IF(M34<=0.2,5,IF(M34<=1,0,))))))))) -> #REF! | R34: =IF(O34+P34=0,"",(O34+P34-Q34)/(O34+P34)) | S34: =IF(O34+P34=0,"",(Q34)/(O34+P34)) | T34: =IF(F33="Nije ocijenjen","",IF(F33="Ocijenjen",IF(O34+P34=0,"",IF(D33="Tužilac",IF(S34<0.0301,50,IF(S34<0.0601,40,IF(S34<0.1001,25,IF(S34<=0.2,15,IF(S34>0.2,0,))))),IF(S34<0.0301,20,IF(S34<0.0601,15,IF(S34<0.1001,10,IF(S34<=0.2,5,IF(S34>0.2,0,))))))))) | U34: =+(T31+U32)/2 -> #VALUE!
B35: 13 | C35: =IF('TABELA I'!B25="","",'TABELA I'!B25) | E35: =IF('TABELA I'!D25="","",'TABELA I'!D25) | F35: Nije ocijenjen | G35: KT i KTM | L35: =IF((H35+I35)=0,"",(H35+I35-J35-K35)/(H35+I35)) | M35: =IF((H35+I35)=0,"",(J35+K35)/(H35+I35)) | N35: =IF(F35="Nije ocijenjen","",IF(F35="Ocijenjen",IF(H35+I35=0,"",IF(D35="Tužilac",IF(M35<0.0001,50,IF(M35<0.0301,40,IF(M35<0.0601,25,IF(M35<=0.1,15,IF(M35>0.1,0,))))),IF(M35<0.0001,20,IF(M35<0.0301,15,IF(M35<0.0601,10,IF(M35<=0.1,5,IF(M35>0.1,0,))))))))) | R35: =IF(O35+P35=0,"",(O35+P35-Q35)/(O35+P35)) | S35: =IF(O35+P35=0,"",(Q35)/(O35+P35)) | T35: =IF(F35="Nije ocijenjen","",IF(F35="Ocijenjen",IF(O35+P35=0,"",IF(D35="Tužilac",IF(S35<0.0251,50,IF(S35<0.0501,40,IF(S35<0.0751,25,IF(S35<=0.1,15,IF(S35>0.1,0,))))),IF(S35<0.0251,20,IF(S35<0.0501,15,IF(S35<0.0751,10,IF(S35<=0.1,5,IF(S35>0.1,0,))))))))) | U35: =IF(F35="Nije ocijenjen","",IF(F35="Ocijenjen",IF(O36+P36=0,T35,IF(O35+P35=0,T36,(T35+T36)/2)))) | V35: =IF(F35="Nije ocijenjen","",IF(F35="Ocijenjen",IF(U35="",N35,IF(N35="",U35,((N35+U35)/2)))))
G36: KTRZ, KTPO, KTO, KTK | N36: =IF(#REF!="Nije ocijenjen","",IF(#REF!="Ocijenjen",IF(B36+C36=0,"",IF(#REF!="Tužilac",IF(M36<0.031,40,IF(M36<0.061,30,IF(M36<0.101,20,IF(M36<=0.2,10,IF(M36<=1,0,))))),IF(M36<0.031,20,IF(M36<0.061,15,IF(M36<0.101,10,IF(M36<=0.2,5,IF(M36<=1,0,))))))))) -> #REF! | R36: =IF(O36+P36=0,"",(O36+P36-Q36)/(O36+P36)) | S36: =IF(O36+P36=0,"",(Q36)/(O36+P36)) | T36: =IF(F35="Nije ocijenjen","",IF(F35="Ocijenjen",IF(O36+P36=0,"",IF(D35="Tužilac",IF(S36<0.0301,50,IF(S36<0.0601,40,IF(S36<0.1001,25,IF(S36<=0.2,15,IF(S36>0.2,0,))))),IF(S36<0.0301,20,IF(S36<0.0601,15,IF(S36<0.1001,10,IF(S36<=0.2,5,IF(S36>0.2,0,))))))))) | U36: =+(T33+U34)/2 -> #VALUE!
B37: 14 | C37: =IF('TABELA I'!B26="","",'TABELA I'!B26) | E37: =IF('TABELA I'!D26="","",'TABELA I'!D26) | F37: Nije ocijenjen | G37: KT i KTM | L37: =IF((H37+I37)=0,"",(H37+I37-J37-K37)/(H37+I37)) | M37: =IF((H37+I37)=0,"",(J37+K37)/(H37+I37)) | N37: =IF(F37="Nije ocijenjen","",IF(F37="Ocijenjen",IF(H37+I37=0,"",IF(D37="Tužilac",IF(M37<0.0001,50,IF(M37<0.0301,40,IF(M37<0.0601,25,IF(M37<=0.1,15,IF(M37>0.1,0,))))),IF(M37<0.0001,20,IF(M37<0.0301,15,IF(M37<0.0601,10,IF(M37<=0.1,5,IF(M37>0.1,0,))))))))) | R37: =IF(O37+P37=0,"",(O37+P37-Q37)/(O37+P37)) | S37: =IF(O37+P37=0,"",(Q37)/(O37+P37)) | T37: =IF(F37="Nije ocijenjen","",IF(F37="Ocijenjen",IF(O37+P37=0,"",IF(D37="Tužilac",IF(S37<0.0251,50,IF(S37<0.0501,40,IF(S37<0.0751,25,IF(S37<=0.1,15,IF(S37>0.1,0,))))),IF(S37<0.0251,20,IF(S37<0.0501,15,IF(S37<0.0751,10,IF(S37<=0.1,5,IF(S37>0.1,0,))))))))) | U37: =IF(F37="Nije ocijenjen","",IF(F37="Ocijenjen",IF(O38+P38=0,T37,IF(O37+P37=0,T38,(T37+T38)/2)))) | V37: =IF(F37="Nije ocijenjen","",IF(F37="Ocijenjen",IF(U37="",N37,IF(N37="",U37,((N37+U37)/2)))))
G38: KTRZ, KTPO, KTO, KTK | N38: =IF(#REF!="Nije ocijenjen","",IF(#REF!="Ocijenjen",IF(B38+C38=0,"",IF(#REF!="Tužilac",IF(M38<0.031,40,IF(M38<0.061,30,IF(M38<0.101,20,IF(M38<=0.2,10,IF(M38<=1,0,))))),IF(M38<0.031,20,IF(M38<0.061,15,IF(M38<0.101,10,IF(M38<=0.2,5,IF(M38<=1,0,))))))))) -> #REF! | R38: =IF(O38+P38=0,"",(O38+P38-Q38)/(O38+P38)) | S38: =IF(O38+P38=0,"",(Q38)/(O38+P38)) | T38: =IF(F37="Nije ocijenjen","",IF(F37="Ocijenjen",IF(O38+P38=0,"",IF(D37="Tužilac",IF(S38<0.0301,50,IF(S38<0.0601,40,IF(S38<0.1001,25,IF(S38<=0.2,15,IF(S38>0.2,0,))))),IF(S38<0.0301,20,IF(S38<0.0601,15,IF(S38<0.1001,10,IF(S38<=0.2,5,IF(S38>0.2,0,))))))))) | U38: =+(T35+U36)/2 -> #VALUE!
B39: 15 | C39: =IF('TABELA I'!B27="","",'TABELA I'!B27) | E39: =IF('TABELA I'!D27="","",'TABELA I'!D27) | F39: Nije ocijenjen | G39: KT i KTM | L39: =IF((H39+I39)=0,"",(H39+I39-J39-K39)/(H39+I39)) | M39: =IF((H39+I39)=0,"",(J39+K39)/(H39+I39)) | N39: =IF(F39="Nije ocijenjen","",IF(F39="Ocijenjen",IF(H39+I39=0,"",IF(D39="Tužilac",IF(M39<0.0001,50,IF(M39<0.0301,40,IF(M39<0.0601,25,IF(M39<=0.1,15,IF(M39>0.1,0,))))),IF(M39<0.0001,20,IF(M39<0.0301,15,IF(M39<0.0601,10,IF(M39<=0.1,5,IF(M39>0.1,0,))))))))) | R39: =IF(O39+P39=0,"",(O39+P39-Q39)/(O39+P39)) | S39: =IF(O39+P39=0,"",(Q39)/(O39+P39)) | T39: =IF(F39="Nije ocijenjen","",IF(F39="Ocijenjen",IF(O39+P39=0,"",IF(D39="Tužilac",IF(S39<0.0251,50,IF(S39<0.0501,40,IF(S39<0.0751,25,IF(S39<=0.1,15,IF(S39>0.1,0,))))),IF(S39<0.0251,20,IF(S39<0.0501,15,IF(S39<0.0751,10,IF(S39<=0.1,5,IF(S39>0.1,0,))))))))) | U39: =IF(F39="Nije ocijenjen","",IF(F39="Ocijenjen",IF(O40+P40=0,T39,IF(O39+P39=0,T40,(T39+T40)/2)))) | V39: =IF(F39="Nije ocijenjen","",IF(F39="Ocijenjen",IF(U39="",N39,IF(N39="",U39,((N39+U39)/2)))))
G40: KTRZ, KTPO, KTO, KTK | N40: =IF(#REF!="Nije ocijenjen","",IF(#REF!="Ocijenjen",IF(B40+C40=0,"",IF(#REF!="Tužilac",IF(M40<0.031,40,IF(M40<0.061,30,IF(M40<0.101,20,IF(M40<=0.2,10,IF(M40<=1,0,))))),IF(M40<0.031,20,IF(M40<0.061,15,IF(M40<0.101,10,IF(M40<=0.2,5,IF(M40<=1,0,))))))))) -> #REF! | R40: =IF(O40+P40=0,"",(O40+P40-Q40)/(O40+P40)) | S40: =IF(O40+P40=0,"",(Q40)/(O40+P40)) | T40: =IF(F39="Nije ocijenjen","",IF(F39="Ocijenjen",IF(O40+P40=0,"",IF(D39="Tužilac",IF(S40<0.0301,50,IF(S40<0.0601,40,IF(S40<0.1001,25,IF(S40<=0.2,15,IF(S40>0.2,0,))))),IF(S40<0.0301,20,IF(S40<0.0601,15,IF(S40<0.1001,10,IF(S40<=0.2,5,IF(S40>0.2,0,))))))))) | U40: =+(T37+U38)/2 -> #VALUE!
B41: 16 | C41: =IF('TABELA I'!B28="","",'TABELA I'!B28) | E41: =IF('TABELA I'!D28="","",'TABELA I'!D28) | F41: Nije ocijenjen | G41: KT i KTM | L41: =IF((H41+I41)=0,"",(H41+I41-J41-K41)/(H41+I41)) | M41: =IF((H41+I41)=0,"",(J41+K41)/(H41+I41)) | N41: =IF(F41="Nije ocijenjen","",IF(F41="Ocijenjen",IF(H41+I41=0,"",IF(D41="Tužilac",IF(M41<0.0001,50,IF(M41<0.0301,40,IF(M41<0.0601,25,IF(M41<=0.1,15,IF(M41>0.1,0,))))),IF(M41<0.0001,20,IF(M41<0.0301,15,IF(M41<0.0601,10,IF(M41<=0.1,5,IF(M41>0.1,0,))))))))) | R41: =IF(O41+P41=0,"",(O41+P41-Q41)/(O41+P41)) | S41: =IF(O41+P41=0,"",(Q41)/(O41+P41)) | T41: =IF(F41="Nije ocijenjen","",IF(F41="Ocijenjen",IF(O41+P41=0,"",IF(D41="Tužilac",IF(S41<0.0251,50,IF(S41<0.0501,40,IF(S41<0.0751,25,IF(S41<=0.1,15,IF(S41>0.1,0,))))),IF(S41<0.0251,20,IF(S41<0.0501,15,IF(S41<0.0751,10,IF(S41<=0.1,5,IF(S41>0.1,0,))))))))) | U41: =IF(F41="Nije ocijenjen","",IF(F41="Ocijenjen",IF(O42+P42=0,T41,IF(O41+P41=0,T42,(T41+T42)/2)))) | V41: =IF(F41="Nije ocijenjen","",IF(F41="Ocijenjen",IF(U41="",N41,IF(N41="",U41,((N41+U41)/2)))))
G42: KTRZ, KTPO, KTO, KTK | N42: =IF(#REF!="Nije ocijenjen","",IF(#REF!="Ocijenjen",IF(B42+C42=0,"",IF(#REF!="Tužilac",IF(M42<0.031,40,IF(M42<0.061,30,IF(M42<0.101,20,IF(M42<=0.2,10,IF(M42<=1,0,))))),IF(M42<0.031,20,IF(M42<0.061,15,IF(M42<0.101,10,IF(M42<=0.2,5,IF(M42<=1,0,))))))))) -> #REF! | R42: =IF(O42+P42=0,"",(O42+P42-Q42)/(O42+P42)) | S42: =IF(O42+P42=0,"",(Q42)/(O42+P42)) | T42: =IF(F41="Nije ocijenjen","",IF(F41="Ocijenjen",IF(O42+P42=0,"",IF(D41="Tužilac",IF(S42<0.0301,50,IF(S42<0.0601,40,IF(S42<0.1001,25,IF(S42<=0.2,15,IF(S42>0.2,0,))))),IF(S42<0.0301,20,IF(S42<0.0601,15,IF(S42<0.1001,10,IF(S42<=0.2,5,IF(S42>0.2,0,))))))))) | U42: =+(T39+U40)/2 -> #VALUE!
B43: 17 | C43: =IF('TABELA I'!B29="","",'TABELA I'!B29) | E43: =IF('TABELA I'!D29="","",'TABELA I'!D29) | F43: Nije ocijenjen | G43: KT i KTM | L43: =IF((H43+I43)=0,"",(H43+I43-J43-K43)/(H43+I43)) | M43: =IF((H43+I43)=0,"",(J43+K43)/(H43+I43)) | N43: =IF(F43="Nije ocijenjen","",IF(F43="Ocijenjen",IF(H43+I43=0,"",IF(D43="Tužilac",IF(M43<0.0001,50,IF(M43<0.0301,40,IF(M43<0.0601,25,IF(M43<=0.1,15,IF(M43>0.1,0,))))),IF(M43<0.0001,20,IF(M43<0.0301,15,IF(M43<0.0601,10,IF(M43<=0.1,5,IF(M43>0.1,0,))))))))) | R43: =IF(O43+P43=0,"",(O43+P43-Q43)/(O43+P43)) | S43: =IF(O43+P43=0,"",(Q43)/(O43+P43)) | T43: =IF(F43="Nije ocijenjen","",IF(F43="Ocijenjen",IF(O43+P43=0,"",IF(D43="Tužilac",IF(S43<0.0251,50,IF(S43<0.0501,40,IF(S43<0.0751,25,IF(S43<=0.1,15,IF(S43>0.1,0,))))),IF(S43<0.0251,20,IF(S43<0.0501,15,IF(S43<0.0751,10,IF(S43<=0.1,5,IF(S43>0.1,0,))))))))) | U43: =IF(F43="Nije ocijenjen","",IF(F43="Ocijenjen",IF(O44+P44=0,T43,IF(O43+P43=0,T44,(T43+T44)/2)))) | V43: =IF(F43="Nije ocijenjen","",IF(F43="Ocijenjen",IF(U43="",N43,IF(N43="",U43,((N43+U43)/2)))))
G44: KTRZ, KTPO, KTO, KTK | N44: =IF(#REF!="Nije ocijenjen","",IF(#REF!="Ocijenjen",IF(B44+C44=0,"",IF(#REF!="Tužilac",IF(M44<0.031,40,IF(M44<0.061,30,IF(M44<0.101,20,IF(M44<=0.2,10,IF(M44<=1,0,))))),IF(M44<0.031,20,IF(M44<0.061,15,IF(M44<0.101,10,IF(M44<=0.2,5,IF(M44<=1,0,))))))))) -> #REF! | R44: =IF(O44+P44=0,"",(O44+P44-Q44)/(O44+P44)) | S44: =IF(O44+P44=0,"",(Q44)/(O44+P44)) | T44: =IF(F43="Nije ocijenjen","",IF(F43="Ocijenjen",IF(O44+P44=0,"",IF(D43="Tužilac",IF(S44<0.0301,50,IF(S44<0.0601,40,IF(S44<0.1001,25,IF(S44<=0.2,15,IF(S44>0.2,0,))))),IF(S44<0.0301,20,IF(S44<0.0601,15,IF(S44<0.1001,10,IF(S44<=0.2,5,IF(S44>0.2,0,))))))))) | U44: =+(T41+U42)/2 -> #VALUE!
B45: 18 | C45: =IF('TABELA I'!B30="","",'TABELA I'!B30) | E45: =IF('TABELA I'!D30="","",'TABELA I'!D30) | F45: Nije ocijenjen | G45: KT i KTM | L45: =IF((H45+I45)=0,"",(H45+I45-J45-K45)/(H45+I45)) | M45: =IF((H45+I45)=0,"",(J45+K45)/(H45+I45)) | N45: =IF(F45="Nije ocijenjen","",IF(F45="Ocijenjen",IF(H45+I45=0,"",IF(D45="Tužilac",IF(M45<0.0001,50,IF(M45<0.0301,40,IF(M45<0.0601,25,IF(M45<=0.1,15,IF(M45>0.1,0,))))),IF(M45<0.0001,20,IF(M45<0.0301,15,IF(M45<0.0601,10,IF(M45<=0.1,5,IF(M45>0.1,0,))))))))) | R45: =IF(O45+P45=0,"",(O45+P45-Q45)/(O45+P45)) | S45: =IF(O45+P45=0,"",(Q45)/(O45+P45)) | T45: =IF(F45="Nije ocijenjen","",IF(F45="Ocijenjen",IF(O45+P45=0,"",IF(D45="Tužilac",IF(S45<0.0251,50,IF(S45<0.0501,40,IF(S45<0.0751,25,IF(S45<=0.1,15,IF(S45>0.1,0,))))),IF(S45<0.0251,20,IF(S45<0.0501,15,IF(S45<0.0751,10,IF(S45<=0.1,5,IF(S45>0.1,0,))))))))) | U45: =IF(F45="Nije ocijenjen","",IF(F45="Ocijenjen",IF(O46+P46=0,T45,IF(O45+P45=0,T46,(T45+T46)/2)))) | V45: =IF(F45="Nije ocijenjen","",IF(F45="Ocijenjen",IF(U45="",N45,IF(N45="",U45,((N45+U45)/2)))))
G46: KTRZ, KTPO, KTO, KTK | N46: =IF(#REF!="Nije ocijenjen","",IF(#REF!="Ocijenjen",IF(B46+C46=0,"",IF(#REF!="Tužilac",IF(M46<0.031,40,IF(M46<0.061,30,IF(M46<0.101,20,IF(M46<=0.2,10,IF(M46<=1,0,))))),IF(M46<0.031,20,IF(M46<0.061,15,IF(M46<0.101,10,IF(M46<=0.2,5,IF(M46<=1,0,))))))))) -> #REF! | R46: =IF(O46+P46=0,"",(O46+P46-Q46)/(O46+P46)) | S46: =IF(O46+P46=0,"",(Q46)/(O46+P46)) | T46: =IF(F45="Nije ocijenjen","",IF(F45="Ocijenjen",IF(O46+P46=0,"",IF(D45="Tužilac",IF(S46<0.0301,50,IF(S46<0.0601,40,IF(S46<0.1001,25,IF(S46<=0.2,15,IF(S46>0.2,0,))))),IF(S46<0.0301,20,IF(S46<0.0601,15,IF(S46<0.1001,10,IF(S46<=0.2,5,IF(S46>0.2,0,))))))))) | U46: =+(T43+U44)/2 -> #VALUE!
B47: 19 | C47: =IF('TABELA I'!B31="","",'TABELA I'!B31) | E47: =IF('TABELA I'!D31="","",'TABELA I'!D31) | F47: Nije ocijenjen | G47: KT i KTM | L47: =IF((H47+I47)=0,"",(H47+I47-J47-K47)/(H47+I47)) | M47: =IF((H47+I47)=0,"",(J47+K47)/(H47+I47)) | N47: =IF(F47="Nije ocijenjen","",IF(F47="Ocijenjen",IF(H47+I47=0,"",IF(D47="Tužilac",IF(M47<0.0001,50,IF(M47<0.0301,40,IF(M47<0.0601,25,IF(M47<=0.1,15,IF(M47>0.1,0,))))),IF(M47<0.0001,20,IF(M47<0.0301,15,IF(M47<0.0601,10,IF(M47<=0.1,5,IF(M47>0.1,0,))))))))) | R47: =IF(O47+P47=0,"",(O47+P47-Q47)/(O47+P47)) | S47: =IF(O47+P47=0,"",(Q47)/(O47+P47)) | T47: =IF(F47="Nije ocijenjen","",IF(F47="Ocijenjen",IF(O47+P47=0,"",IF(D47="Tužilac",IF(S47<0.0251,50,IF(S47<0.0501,40,IF(S47<0.0751,25,IF(S47<=0.1,15,IF(S47>0.1,0,))))),IF(S47<0.0251,20,IF(S47<0.0501,15,IF(S47<0.0751,10,IF(S47<=0.1,5,IF(S47>0.1,0,))))))))) | U47: =IF(F47="Nije ocijenjen","",IF(F47="Ocijenjen",IF(O48+P48=0,T47,IF(O47+P47=0,T48,(T47+T48)/2)))) | V47: =IF(F47="Nije ocijenjen","",IF(F47="Ocijenjen",IF(U47="",N47,IF(N47="",U47,((N47+U47)/2)))))
G48: KTRZ, KTPO, KTO, KTK | N48: =IF(#REF!="Nije ocijenjen","",IF(#REF!="Ocijenjen",IF(B48+C48=0,"",IF(#REF!="Tužilac",IF(M48<0.031,40,IF(M48<0.061,30,IF(M48<0.101,20,IF(M48<=0.2,10,IF(M48<=1,0,))))),IF(M48<0.031,20,IF(M48<0.061,15,IF(M48<0.101,10,IF(M48<=0.2,5,IF(M48<=1,0,))))))))) -> #REF! | R48: =IF(O48+P48=0,"",(O48+P48-Q48)/(O48+P48)) | S48: =IF(O48+P48=0,"",(Q48)/(O48+P48)) | T48: =IF(F47="Nije ocijenjen","",IF(F47="Ocijenjen",IF(O48+P48=0,"",IF(D47="Tužilac",IF(S48<0.0301,50,IF(S48<0.0601,40,IF(S48<0.1001,25,IF(S48<=0.2,15,IF(S48>0.2,0,))))),IF(S48<0.0301,20,IF(S48<0.0601,15,IF(S48<0.1001,10,IF(S48<=0.2,5,IF(S48>0.2,0,))))))))) | U48: =+(T45+U46)/2 -> #VALUE!
B49: 20 | C49: =IF('TABELA I'!B32="","",'TABELA I'!B32) | E49: =IF('TABELA I'!D32="","",'TABELA I'!D32) | F49: Nije ocijenjen | G49: KT i KTM | L49: =IF((H49+I49)=0,"",(H49+I49-J49-K49)/(H49+I49)) | M49: =IF((H49+I49)=0,"",(J49+K49)/(H49+I49)) | N49: =IF(F49="Nije ocijenjen","",IF(F49="Ocijenjen",IF(H49+I49=0,"",IF(D49="Tužilac",IF(M49<0.0001,50,IF(M49<0.0301,40,IF(M49<0.0601,25,IF(M49<=0.1,15,IF(M49>0.1,0,))))),IF(M49<0.0001,20,IF(M49<0.0301,15,IF(M49<0.0601,10,IF(M49<=0.1,5,IF(M49>0.1,0,))))))))) | R49: =IF(O49+P49=0,"",(O49+P49-Q49)/(O49+P49)) | S49: =IF(O49+P49=0,"",(Q49)/(O49+P49)) | T49: =IF(F49="Nije ocijenjen","",IF(F49="Ocijenjen",IF(O49+P49=0,"",IF(D49="Tužilac",IF(S49<0.0251,50,IF(S49<0.0501,40,IF(S49<0.0751,25,IF(S49<=0.1,15,IF(S49>0.1,0,))))),IF(S49<0.0251,20,IF(S49<0.0501,15,IF(S49<0.0751,10,IF(S49<=0.1,5,IF(S49>0.1,0,))))))))) | U49: =IF(F49="Nije ocijenjen","",IF(F49="Ocijenjen",IF(O50+P50=0,T49,IF(O49+P49=0,T50,(T49+T50)/2)))) | V49: =IF(F49="Nije ocijenjen","",IF(F49="Ocijenjen",IF(U49="",N49,IF(N49="",U49,((N49+U49)/2)))))
G50: KTRZ, KTPO, KTO, KTK | N50: =IF(#REF!="Nije ocijenjen","",IF(#REF!="Ocijenjen",IF(B50+C50=0,"",IF(#REF!="Tužilac",IF(M50<0.031,40,IF(M50<0.061,30,IF(M50<0.101,20,IF(M50<=0.2,10,IF(M50<=1,0,))))),IF(M50<0.031,20,IF(M50<0.061,15,IF(M50<0.101,10,IF(M50<=0.2,5,IF(M50<=1,0,))))))))) -> #REF! | R50: =IF(O50+P50=0,"",(O50+P50-Q50)/(O50+P50)) | S50: =IF(O50+P50=0,"",(Q50)/(O50+P50)) | T50: =IF(F49="Nije ocijenjen","",IF(F49="Ocijenjen",IF(O50+P50=0,"",IF(D49="Tužilac",IF(S50<0.0301,50,IF(S50<0.0601,40,IF(S50<0.1001,25,IF(S50<=0.2,15,IF(S50>0.2,0,))))),IF(S50<0.0301,20,IF(S50<0.0601,15,IF(S50<0.1001,10,IF(S50<=0.2,5,IF(S50>0.2,0,))))))))) | U50: =+(T47+U48)/2 -> #VALUE!
B51: 21 | C51: =IF('TABELA I'!B33="","",'TABELA I'!B33) | E51: =IF('TABELA I'!D33="","",'TABELA I'!D33) | F51: Nije ocijenjen | G51: KT i KTM | L51: =IF((H51+I51)=0,"",(H51+I51-J51-K51)/(H51+I51)) | M51: =IF((H51+I51)=0,"",(J51+K51)/(H51+I51)) | N51: =IF(F51="Nije ocijenjen","",IF(F51="Ocijenjen",IF(H51+I51=0,"",IF(D51="Tužilac",IF(M51<0.0001,50,IF(M51<0.0301,40,IF(M51<0.0601,25,IF(M51<=0.1,15,IF(M51>0.1,0,))))),IF(M51<0.0001,20,IF(M51<0.0301,15,IF(M51<0.0601,10,IF(M51<=0.1,5,IF(M51>0.1,0,))))))))) | R51: =IF(O51+P51=0,"",(O51+P51-Q51)/(O51+P51)) | S51: =IF(O51+P51=0,"",(Q51)/(O51+P51)) | T51: =IF(F51="Nije ocijenjen","",IF(F51="Ocijenjen",IF(O51+P51=0,"",IF(D51="Tužilac",IF(S51<0.0251,50,IF(S51<0.0501,40,IF(S51<0.0751,25,IF(S51<=0.1,15,IF(S51>0.1,0,))))),IF(S51<0.0251,20,IF(S51<0.0501,15,IF(S51<0.0751,10,IF(S51<=0.1,5,IF(S51>0.1,0,))))))))) | U51: =IF(F51="Nije ocijenjen","",IF(F51="Ocijenjen",IF(O52+P52=0,T51,IF(O51+P51=0,T52,(T51+T52)/2)))) | V51: =IF(F51="Nije ocijenjen","",IF(F51="Ocijenjen",IF(U51="",N51,IF(N51="",U51,((N51+U51)/2)))))
G52: KTRZ, KTPO, KTO, KTK | N52: =IF(#REF!="Nije ocijenjen","",IF(#REF!="Ocijenjen",IF(B52+C52=0,"",IF(#REF!="Tužilac",IF(M52<0.031,40,IF(M52<0.061,30,IF(M52<0.101,20,IF(M52<=0.2,10,IF(M52<=1,0,))))),IF(M52<0.031,20,IF(M52<0.061,15,IF(M52<0.101,10,IF(M52<=0.2,5,IF(M52<=1,0,))))))))) -> #REF! | R52: =IF(O52+P52=0,"",(O52+P52-Q52)/(O52+P52)) | S52: =IF(O52+P52=0,"",(Q52)/(O52+P52)) | T52: =IF(F51="Nije ocijenjen","",IF(F51="Ocijenjen",IF(O52+P52=0,"",IF(D51="Tužilac",IF(S52<0.0301,50,IF(S52<0.0601,40,IF(S52<0.1001,25,IF(S52<=0.2,15,IF(S52>0.2,0,))))),IF(S52<0.0301,20,IF(S52<0.0601,15,IF(S52<0.1001,10,IF(S52<=0.2,5,IF(S52>0.2,0,))))))))) | U52: =+(T49+U50)/2 -> #VALUE!
B53: 22 | C53: =IF('TABELA I'!B34="","",'TABELA I'!B34) | E53: =IF('TABELA I'!D34="","",'TABELA I'!D34) | F53: Nije ocijenjen | G53: KT i KTM | L53: =IF((H53+I53)=0,"",(H53+I53-J53-K53)/(H53+I53)) | M53: =IF((H53+I53)=0,"",(J53+K53)/(H53+I53)) | N53: =IF(F53="Nije ocijenjen","",IF(F53="Ocijenjen",IF(H53+I53=0,"",IF(D53="Tužilac",IF(M53<0.0001,50,IF(M53<0.0301,40,IF(M53<0.0601,25,IF(M53<=0.1,15,IF(M53>0.1,0,))))),IF(M53<0.0001,20,IF(M53<0.0301,15,IF(M53<0.0601,10,IF(M53<=0.1,5,IF(M53>0.1,0,))))))))) | R53: =IF(O53+P53=0,"",(O53+P53-Q53)/(O53+P53)) | S53: =IF(O53+P53=0,"",(Q53)/(O53+P53)) | T53: =IF(F53="Nije ocijenjen","",IF(F53="Ocijenjen",IF(O53+P53=0,"",IF(D53="Tužilac",IF(S53<0.0251,50,IF(S53<0.0501,40,IF(S53<0.0751,25,IF(S53<=0.1,15,IF(S53>0.1,0,))))),IF(S53<0.0251,20,IF(S53<0.0501,15,IF(S53<0.0751,10,IF(S53<=0.1,5,IF(S53>0.1,0,))))))))) | U53: =IF(F53="Nije ocijenjen","",IF(F53="Ocijenjen",IF(O54+P54=0,T53,IF(O53+P53=0,T54,(T53+T54)/2)))) | V53: =IF(F53="Nije ocijenjen","",IF(F53="Ocijenjen",IF(U53="",N53,IF(N53="",U53,((N53+U53)/2)))))
G54: KTRZ, KTPO, KTO, KTK | N54: =IF(#REF!="Nije ocijenjen","",IF(#REF!="Ocijenjen",IF(B54+C54=0,"",IF(#REF!="Tužilac",IF(M54<0.031,40,IF(M54<0.061,30,IF(M54<0.101,20,IF(M54<=0.2,10,IF(M54<=1,0,))))),IF(M54<0.031,20,IF(M54<0.061,15,IF(M54<0.101,10,IF(M54<=0.2,5,IF(M54<=1,0,))))))))) -> #REF! | R54: =IF(O54+P54=0,"",(O54+P54-Q54)/(O54+P54)) | S54: =IF(O54+P54=0,"",(Q54)/(O54+P54)) | T54: =IF(F53="Nije ocijenjen","",IF(F53="Ocijenjen",IF(O54+P54=0,"",IF(D53="Tužilac",IF(S54<0.0301,50,IF(S54<0.0601,40,IF(S54<0.1001,25,IF(S54<=0.2,15,IF(S54>0.2,0,))))),IF(S54<0.0301,20,IF(S54<0.0601,15,IF(S54<0.1001,10,IF(S54<=0.2,5,IF(S54>0.2,0,))))))))) | U54: =+(T51+U52)/2 -> #VALUE!
B55: 23 | C55: =IF('TABELA I'!B35="","",'TABELA I'!B35) | E55: =IF('TABELA I'!D35="","",'TABELA I'!D35) | F55: Nije ocijenjen | G55: KT i KTM | L55: =IF((H55+I55)=0,"",(H55+I55-J55-K55)/(H55+I55)) | M55: =IF((H55+I55)=0,"",(J55+K55)/(H55+I55)) | N55: =IF(F55="Nije ocijenjen","",IF(F55="Ocijenjen",IF(H55+I55=0,"",IF(D55="Tužilac",IF(M55<0.0001,50,IF(M55<0.0301,40,IF(M55<0.0601,25,IF(M55<=0.1,15,IF(M55>0.1,0,))))),IF(M55<0.0001,20,IF(M55<0.0301,15,IF(M55<0.0601,10,IF(M55<=0.1,5,IF(M55>0.1,0,))))))))) | R55: =IF(O55+P55=0,"",(O55+P55-Q55)/(O55+P55)) | S55: =IF(O55+P55=0,"",(Q55)/(O55+P55)) | T55: =IF(F55="Nije ocijenjen","",IF(F55="Ocijenjen",IF(O55+P55=0,"",IF(D55="Tužilac",IF(S55<0.0251,50,IF(S55<0.0501,40,IF(S55<0.0751,25,IF(S55<=0.1,15,IF(S55>0.1,0,))))),IF(S55<0.0251,20,IF(S55<0.0501,15,IF(S55<0.0751,10,IF(S55<=0.1,5,IF(S55>0.1,0,))))))))) | U55: =IF(F55="Nije ocijenjen","",IF(F55="Ocijenjen",IF(O56+P56=0,T55,IF(O55+P55=0,T56,(T55+T56)/2)))) | V55: =IF(F55="Nije ocijenjen","",IF(F55="Ocijenjen",IF(U55="",N55,IF(N55="",U55,((N55+U55)/2)))))
G56: KTRZ, KTPO, KTO, KTK | N56: =IF(#REF!="Nije ocijenjen","",IF(#REF!="Ocijenjen",IF(B56+C56=0,"",IF(#REF!="Tužilac",IF(M56<0.031,40,IF(M56<0.061,30,IF(M56<0.101,20,IF(M56<=0.2,10,IF(M56<=1,0,))))),IF(M56<0.031,20,IF(M56<0.061,15,IF(M56<0.101,10,IF(M56<=0.2,5,IF(M56<=1,0,))))))))) -> #REF! | R56: =IF(O56+P56=0,"",(O56+P56-Q56)/(O56+P56)) | S56: =IF(O56+P56=0,"",(Q56)/(O56+P56)) | T56: =IF(F55="Nije ocijenjen","",IF(F55="Ocijenjen",IF(O56+P56=0,"",IF(D55="Tužilac",IF(S56<0.0301,50,IF(S56<0.0601,40,IF(S56<0.1001,25,IF(S56<=0.2,15,IF(S56>0.2,0,))))),IF(S56<0.0301,20,IF(S56<0.0601,15,IF(S56<0.1001,10,IF(S56<=0.2,5,IF(S56>0.2,0,))))))))) | U56: =+(T53+U54)/2 -> #VALUE!
B57: 24 | C57: =IF('TABELA I'!B36="","",'TABELA I'!B36) | E57: =IF('TABELA I'!D36="","",'TABELA I'!D36) | F57: Nije ocijenjen | G57: KT i KTM | L57: =IF((H57+I57)=0,"",(H57+I57-J57-K57)/(H57+I57)) | M57: =IF((H57+I57)=0,"",(J57+K57)/(H57+I57)) | N57: =IF(F57="Nije ocijenjen","",IF(F57="Ocijenjen",IF(H57+I57=0,"",IF(D57="Tužilac",IF(M57<0.0001,50,IF(M57<0.0301,40,IF(M57<0.0601,25,IF(M57<=0.1,15,IF(M57>0.1,0,))))),IF(M57<0.0001,20,IF(M57<0.0301,15,IF(M57<0.0601,10,IF(M57<=0.1,5,IF(M57>0.1,0,))))))))) | R57: =IF(O57+P57=0,"",(O57+P57-Q57)/(O57+P57)) | S57: =IF(O57+P57=0,"",(Q57)/(O57+P57)) | T57: =IF(F57="Nije ocijenjen","",IF(F57="Ocijenjen",IF(O57+P57=0,"",IF(D57="Tužilac",IF(S57<0.0251,50,IF(S57<0.0501,40,IF(S57<0.0751,25,IF(S57<=0.1,15,IF(S57>0.1,0,))))),IF(S57<0.0251,20,IF(S57<0.0501,15,IF(S57<0.0751,10,IF(S57<=0.1,5,IF(S57>0.1,0,))))))))) | U57: =IF(F57="Nije ocijenjen","",IF(F57="Ocijenjen",IF(O58+P58=0,T57,IF(O57+P57=0,T58,(T57+T58)/2)))) | V57: =IF(F57="Nije ocijenjen","",IF(F57="Ocijenjen",IF(U57="",N57,IF(N57="",U57,((N57+U57)/2)))))
G58: KTRZ, KTPO, KTO, KTK | N58: =IF(#REF!="Nije ocijenjen","",IF(#REF!="Ocijenjen",IF(B58+C58=0,"",IF(#REF!="Tužilac",IF(M58<0.031,40,IF(M58<0.061,30,IF(M58<0.101,20,IF(M58<=0.2,10,IF(M58<=1,0,))))),IF(M58<0.031,20,IF(M58<0.061,15,IF(M58<0.101,10,IF(M58<=0.2,5,IF(M58<=1,0,))))))))) -> #REF! | R58: =IF(O58+P58=0,"",(O58+P58-Q58)/(O58+P58)) | S58: =IF(O58+P58=0,"",(Q58)/(O58+P58)) | T58: =IF(F57="Nije ocijenjen","",IF(F57="Ocijenjen",IF(O58+P58=0,"",IF(D57="Tužilac",IF(S58<0.0301,50,IF(S58<0.0601,40,IF(S58<0.1001,25,IF(S58<=0.2,15,IF(S58>0.2,0,))))),IF(S58<0.0301,20,IF(S58<0.0601,15,IF(S58<0.1001,10,IF(S58<=0.2,5,IF(S58>0.2,0,))))))))) | U58: =+(T55+U56)/2 -> #VALUE!
B59: 25 | C59: =IF('TABELA I'!B37="","",'TABELA I'!B37) | E59: =IF('TABELA I'!D37="","",'TABELA I'!D37) | F59: Nije ocijenjen | G59: KT i KTM | L59: =IF((H59+I59)=0,"",(H59+I59-J59-K59)/(H59+I59)) | M59: =IF((H59+I59)=0,"",(J59+K59)/(H59+I59)) | N59: =IF(F59="Nije ocijenjen","",IF(F59="Ocijenjen",IF(H59+I59=0,"",IF(D59="Tužilac",IF(M59<0.0001,50,IF(M59<0.0301,40,IF(M59<0.0601,25,IF(M59<=0.1,15,IF(M59>0.1,0,))))),IF(M59<0.0001,20,IF(M59<0.0301,15,IF(M59<0.0601,10,IF(M59<=0.1,5,IF(M59>0.1,0,))))))))) | R59: =IF(O59+P59=0,"",(O59+P59-Q59)/(O59+P59)) | S59: =IF(O59+P59=0,"",(Q59)/(O59+P59)) | T59: =IF(F59="Nije ocijenjen","",IF(F59="Ocijenjen",IF(O59+P59=0,"",IF(D59="Tužilac",IF(S59<0.0251,50,IF(S59<0.0501,40,IF(S59<0.0751,25,IF(S59<=0.1,15,IF(S59>0.1,0,))))),IF(S59<0.0251,20,IF(S59<0.0501,15,IF(S59<0.0751,10,IF(S59<=0.1,5,IF(S59>0.1,0,))))))))) | U59: =IF(F59="Nije ocijenjen","",IF(F59="Ocijenjen",IF(O60+P60=0,T59,IF(O59+P59=0,T60,(T59+T60)/2)))) | V59: =IF(F59="Nije ocijenjen","",IF(F59="Ocijenjen",IF(U59="",N59,IF(N59="",U59,((N59+U59)/2)))))
G60: KTRZ, KTPO, KTO, KTK | N60: =IF(#REF!="Nije ocijenjen","",IF(#REF!="Ocijenjen",IF(B60+C60=0,"",IF(#REF!="Tužilac",IF(M60<0.031,40,IF(M60<0.061,30,IF(M60<0.101,20,IF(M60<=0.2,10,IF(M60<=1,0,))))),IF(M60<0.031,20,IF(M60<0.061,15,IF(M60<0.101,10,IF(M60<=0.2,5,IF(M60<=1,0,))))))))) -> #REF! | R60: =IF(O60+P60=0,"",(O60+P60-Q60)/(O60+P60)) | S60: =IF(O60+P60=0,"",(Q60)/(O60+P60)) | T60: =IF(F59="Nije ocijenjen","",IF(F59="Ocijenjen",IF(O60+P60=0,"",IF(D59="Tužilac",IF(S60<0.0301,50,IF(S60<0.0601,40,IF(S60<0.1001,25,IF(S60<=0.2,15,IF(S60>0.2,0,))))),IF(S60<0.0301,20,IF(S60<0.0601,15,IF(S60<0.1001,10,IF(S60<=0.2,5,IF(S60>0.2,0,))))))))) | U60: =+(T57+U58)/2 -> #VALUE!
B61: 26 | C61: =IF('TABELA I'!B38="","",'TABELA I'!B38) | E61: =IF('TABELA I'!D38="","",'TABELA I'!D38) | F61: Nije ocijenjen | G61: KT i KTM | L61: =IF((H61+I61)=0,"",(H61+I61-J61-K61)/(H61+I61)) | M61: =IF((H61+I61)=0,"",(J61+K61)/(H61+I61)) | N61: =IF(F61="Nije ocijenjen","",IF(F61="Ocijenjen",IF(H61+I61=0,"",IF(D61="Tužilac",IF(M61<0.0001,50,IF(M61<0.0301,40,IF(M61<0.0601,25,IF(M61<=0.1,15,IF(M61>0.1,0,))))),IF(M61<0.0001,20,IF(M61<0.0301,15,IF(M61<0.0601,10,IF(M61<=0.1,5,IF(M61>0.1,0,))))))))) | R61: =IF(O61+P61=0,"",(O61+P61-Q61)/(O61+P61)) | S61: =IF(O61+P61=0,"",(Q61)/(O61+P61)) | T61: =IF(F61="Nije ocijenjen","",IF(F61="Ocijenjen",IF(O61+P61=0,"",IF(D61="Tužilac",IF(S61<0.0251,50,IF(S61<0.0501,40,IF(S61<0.0751,25,IF(S61<=0.1,15,IF(S61>0.1,0,))))),IF(S61<0.0251,20,IF(S61<0.0501,15,IF(S61<0.0751,10,IF(S61<=0.1,5,IF(S61>0.1,0,))))))))) | U61: =IF(F61="Nije ocijenjen","",IF(F61="Ocijenjen",IF(O62+P62=0,T61,IF(O61+P61=0,T62,(T61+T62)/2)))) | V61: =IF(F61="Nije ocijenjen","",IF(F61="Ocijenjen",IF(U61="",N61,IF(N61="",U61,((N61+U61)/2)))))
G62: KTRZ, KTPO, KTO, KTK | N62: =IF(#REF!="Nije ocijenjen","",IF(#REF!="Ocijenjen",IF(B62+C62=0,"",IF(#REF!="Tužilac",IF(M62<0.031,40,IF(M62<0.061,30,IF(M62<0.101,20,IF(M62<=0.2,10,IF(M62<=1,0,))))),IF(M62<0.031,20,IF(M62<0.061,15,IF(M62<0.101,10,IF(M62<=0.2,5,IF(M62<=1,0,))))))))) -> #REF! | R62: =IF(O62+P62=0,"",(O62+P62-Q62)/(O62+P62)) | S62: =IF(O62+P62=0,"",(Q62)/(O62+P62)) | T62: =IF(F61="Nije ocijenjen","",IF(F61="Ocijenjen",IF(O62+P62=0,"",IF(D61="Tužilac",IF(S62<0.0301,50,IF(S62<0.0601,40,IF(S62<0.1001,25,IF(S62<=0.2,15,IF(S62>0.2,0,))))),IF(S62<0.0301,20,IF(S62<0.0601,15,IF(S62<0.1001,10,IF(S62<=0.2,5,IF(S62>0.2,0,))))))))) | U62: =+(T59+U60)/2 -> #VALUE!
B63: 27 | C63: =IF('TABELA I'!B39="","",'TABELA I'!B39) | E63: =IF('TABELA I'!D39="","",'TABELA I'!D39) | F63: Nije ocijenjen | G63: KT i KTM | L63: =IF((H63+I63)=0,"",(H63+I63-J63-K63)/(H63+I63)) | M63: =IF((H63+I63)=0,"",(J63+K63)/(H63+I63)) | N63: =IF(F63="Nije ocijenjen","",IF(F63="Ocijenjen",IF(H63+I63=0,"",IF(D63="Tužilac",IF(M63<0.0001,50,IF(M63<0.0301,40,IF(M63<0.0601,25,IF(M63<=0.1,15,IF(M63>0.1,0,))))),IF(M63<0.0001,20,IF(M63<0.0301,15,IF(M63<0.0601,10,IF(M63<=0.1,5,IF(M63>0.1,0,))))))))) | R63: =IF(O63+P63=0,"",(O63+P63-Q63)/(O63+P63)) | S63: =IF(O63+P63=0,"",(Q63)/(O63+P63)) | T63: =IF(F63="Nije ocijenjen","",IF(F63="Ocijenjen",IF(O63+P63=0,"",IF(D63="Tužilac",IF(S63<0.0251,50,IF(S63<0.0501,40,IF(S63<0.0751,25,IF(S63<=0.1,15,IF(S63>0.1,0,))))),IF(S63<0.0251,20,IF(S63<0.0501,15,IF(S63<0.0751,10,IF(S63<=0.1,5,IF(S63>0.1,0,))))))))) | U63: =IF(F63="Nije ocijenjen","",IF(F63="Ocijenjen",IF(O64+P64=0,T63,IF(O63+P63=0,T64,(T63+T64)/2)))) | V63: =IF(F63="Nije ocijenjen","",IF(F63="Ocijenjen",IF(U63="",N63,IF(N63="",U63,((N63+U63)/2)))))
G64: KTRZ, KTPO, KTO, KTK | N64: =IF(#REF!="Nije ocijenjen","",IF(#REF!="Ocijenjen",IF(B64+C64=0,"",IF(#REF!="Tužilac",IF(M64<0.031,40,IF(M64<0.061,30,IF(M64<0.101,20,IF(M64<=0.2,10,IF(M64<=1,0,))))),IF(M64<0.031,20,IF(M64<0.061,15,IF(M64<0.101,10,IF(M64<=0.2,5,IF(M64<=1,0,))))))))) -> #REF! | R64: =IF(O64+P64=0,"",(O64+P64-Q64)/(O64+P64)) | S64: =IF(O64+P64=0,"",(Q64)/(O64+P64)) | T64: =IF(F63="Nije ocijenjen","",IF(F63="Ocijenjen",IF(O64+P64=0,"",IF(D63="Tužilac",IF(S64<0.0301,50,IF(S64<0.0601,40,IF(S64<0.1001,25,IF(S64<=0.2,15,IF(S64>0.2,0,))))),IF(S64<0.0301,20,IF(S64<0.0601,15,IF(S64<0.1001,10,IF(S64<=0.2,5,IF(S64>0.2,0,))))))))) | U64: =+(T61+U62)/2 -> #VALUE!
B65: 28 | C65: =IF('TABELA I'!B40="","",'TABELA I'!B40) | E65: =IF('TABELA I'!D40="","",'TABELA I'!D40) | F65: Nije ocijenjen | G65: KT i KTM | L65: =IF((H65+I65)=0,"",(H65+I65-J65-K65)/(H65+I65)) | M65: =IF((H65+I65)=0,"",(J65+K65)/(H65+I65)) | N65: =IF(F65="Nije ocijenjen","",IF(F65="Ocijenjen",IF(H65+I65=0,"",IF(D65="Tužilac",IF(M65<0.0001,50,IF(M65<0.0301,40,IF(M65<0.0601,25,IF(M65<=0.1,15,IF(M65>0.1,0,))))),IF(M65<0.0001,20,IF(M65<0.0301,15,IF(M65<0.0601,10,IF(M65<=0.1,5,IF(M65>0.1,0,))))))))) | R65: =IF(O65+P65=0,"",(O65+P65-Q65)/(O65+P65)) | S65: =IF(O65+P65=0,"",(Q65)/(O65+P65)) | T65: =IF(F65="Nije ocijenjen","",IF(F65="Ocijenjen",IF(O65+P65=0,"",IF(D65="Tužilac",IF(S65<0.0251,50,IF(S65<0.0501,40,IF(S65<0.0751,25,IF(S65<=0.1,15,IF(S65>0.1,0,))))),IF(S65<0.0251,20,IF(S65<0.0501,15,IF(S65<0.0751,10,IF(S65<=0.1,5,IF(S65>0.1,0,))))))))) | U65: =IF(F65="Nije ocijenjen","",IF(F65="Ocijenjen",IF(O66+P66=0,T65,IF(O65+P65=0,T66,(T65+T66)/2)))) | V65: =IF(F65="Nije ocijenjen","",IF(F65="Ocijenjen",IF(U65="",N65,IF(N65="",U65,((N65+U65)/2)))))
G66: KTRZ, KTPO, KTO, KTK | N66: =IF(#REF!="Nije ocijenjen","",IF(#REF!="Ocijenjen",IF(B66+C66=0,"",IF(#REF!="Tužilac",IF(M66<0.031,40,IF(M66<0.061,30,IF(M66<0.101,20,IF(M66<=0.2,10,IF(M66<=1,0,))))),IF(M66<0.031,20,IF(M66<0.061,15,IF(M66<0.101,10,IF(M66<=0.2,5,IF(M66<=1,0,))))))))) -> #REF! | R66: =IF(O66+P66=0,"",(O66+P66-Q66)/(O66+P66)) | S66: =IF(O66+P66=0,"",(Q66)/(O66+P66)) | T66: =IF(F65="Nije ocijenjen","",IF(F65="Ocijenjen",IF(O66+P66=0,"",IF(D65="Tužilac",IF(S66<0.0301,50,IF(S66<0.0601,40,IF(S66<0.1001,25,IF(S66<=0.2,15,IF(S66>0.2,0,))))),IF(S66<0.0301,20,IF(S66<0.0601,15,IF(S66<0.1001,10,IF(S66<=0.2,5,IF(S66>0.2,0,))))))))) | U66: =+(T63+U64)/2 -> #VALUE!
B67: 29 | C67: =IF('TABELA I'!B41="","",'TABELA I'!B41) | E67: =IF('TABELA I'!D41="","",'TABELA I'!D41) | F67: Nije ocijenjen | G67: KT i KTM | L67: =IF((H67+I67)=0,"",(H67+I67-J67-K67)/(H67+I67)) | M67: =IF((H67+I67)=0,"",(J67+K67)/(H67+I67)) | N67: =IF(F67="Nije ocijenjen","",IF(F67="Ocijenjen",IF(H67+I67=0,"",IF(D67="Tužilac",IF(M67<0.0001,50,IF(M67<0.0301,40,IF(M67<0.0601,25,IF(M67<=0.1,15,IF(M67>0.1,0,))))),IF(M67<0.0001,20,IF(M67<0.0301,15,IF(M67<0.0601,10,IF(M67<=0.1,5,IF(M67>0.1,0,))))))))) | R67: =IF(O67+P67=0,"",(O67+P67-Q67)/(O67+P67)) | S67: =IF(O67+P67=0,"",(Q67)/(O67+P67)) | T67: =IF(F67="Nije ocijenjen","",IF(F67="Ocijenjen",IF(O67+P67=0,"",IF(D67="Tužilac",IF(S67<0.0251,50,IF(S67<0.0501,40,IF(S67<0.0751,25,IF(S67<=0.1,15,IF(S67>0.1,0,))))),IF(S67<0.0251,20,IF(S67<0.0501,15,IF(S67<0.0751,10,IF(S67<=0.1,5,IF(S67>0.1,0,))))))))) | U67: =IF(F67="Nije ocijenjen","",IF(F67="Ocijenjen",IF(O68+P68=0,T67,IF(O67+P67=0,T68,(T67+T68)/2)))) | V67: =IF(F67="Nije ocijenjen","",IF(F67="Ocijenjen",IF(U67="",N67,IF(N67="",U67,((N67+U67)/2)))))
G68: KTRZ, KTPO, KTO, KTK | N68: =IF(#REF!="Nije ocijenjen","",IF(#REF!="Ocijenjen",IF(B68+C68=0,"",IF(#REF!="Tužilac",IF(M68<0.031,40,IF(M68<0.061,30,IF(M68<0.101,20,IF(M68<=0.2,10,IF(M68<=1,0,))))),IF(M68<0.031,20,IF(M68<0.061,15,IF(M68<0.101,10,IF(M68<=0.2,5,IF(M68<=1,0,))))))))) -> #REF! | R68: =IF(O68+P68=0,"",(O68+P68-Q68)/(O68+P68)) | S68: =IF(O68+P68=0,"",(Q68)/(O68+P68)) | T68: =IF(F67="Nije ocijenjen","",IF(F67="Ocijenjen",IF(O68+P68=0,"",IF(D67="Tužilac",IF(S68<0.0301,50,IF(S68<0.0601,40,IF(S68<0.1001,25,IF(S68<=0.2,15,IF(S68>0.2,0,))))),IF(S68<0.0301,20,IF(S68<0.0601,15,IF(S68<0.1001,10,IF(S68<=0.2,5,IF(S68>0.2,0,))))))))) | U68: =+(T65+U66)/2 -> #VALUE!
B69: 30 | C69: =IF('TABELA I'!B42="","",'TABELA I'!B42) | E69: =IF('TABELA I'!D42="","",'TABELA I'!D42) | F69: Nije ocijenjen | G69: KT i KTM | L69: =IF((H69+I69)=0,"",(H69+I69-J69-K69)/(H69+I69)) | M69: =IF((H69+I69)=0,"",(J69+K69)/(H69+I69)) | N69: =IF(F69="Nije ocijenjen","",IF(F69="Ocijenjen",IF(H69+I69=0,"",IF(D69="Tužilac",IF(M69<0.0001,50,IF(M69<0.0301,40,IF(M69<0.0601,25,IF(M69<=0.1,15,IF(M69>0.1,0,))))),IF(M69<0.0001,20,IF(M69<0.0301,15,IF(M69<0.0601,10,IF(M69<=0.1,5,IF(M69>0.1,0,))))))))) | R69: =IF(O69+P69=0,"",(O69+P69-Q69)/(O69+P69)) | S69: =IF(O69+P69=0,"",(Q69)/(O69+P69)) | T69: =IF(F69="Nije ocijenjen","",IF(F69="Ocijenjen",IF(O69+P69=0,"",IF(D69="Tužilac",IF(S69<0.0251,50,IF(S69<0.0501,40,IF(S69<0.0751,25,IF(S69<=0.1,15,IF(S69>0.1,0,))))),IF(S69<0.0251,20,IF(S69<0.0501,15,IF(S69<0.0751,10,IF(S69<=0.1,5,IF(S69>0.1,0,))))))))) | U69: =IF(F69="Nije ocijenjen","",IF(F69="Ocijenjen",IF(O70+P70=0,T69,IF(O69+P69=0,T70,(T69+T70)/2)))) | V69: =IF(F69="Nije ocijenjen","",IF(F69="Ocijenjen",IF(U69="",N69,IF(N69="",U69,((N69+U69)/2)))))
G70: KTRZ, KTPO, KTO, KTK | N70: =IF(#REF!="Nije ocijenjen","",IF(#REF!="Ocijenjen",IF(B70+C70=0,"",IF(#REF!="Tužilac",IF(M70<0.031,40,IF(M70<0.061,30,IF(M70<0.101,20,IF(M70<=0.2,10,IF(M70<=1,0,))))),IF(M70<0.031,20,IF(M70<0.061,15,IF(M70<0.101,10,IF(M70<=0.2,5,IF(M70<=1,0,))))))))) -> #REF! | R70: =IF(O70+P70=0,"",(O70+P70-Q70)/(O70+P70)) | S70: =IF(O70+P70=0,"",(Q70)/(O70+P70)) | T70: =IF(F69="Nije ocijenjen","",IF(F69="Ocijenjen",IF(O70+P70=0,"",IF(D69="Tužilac",IF(S70<0.0301,50,IF(S70<0.0601,40,IF(S70<0.1001,25,IF(S70<=0.2,15,IF(S70>0.2,0,))))),IF(S70<0.0301,20,IF(S70<0.0601,15,IF(S70<0.1001,10,IF(S70<=0.2,5,IF(S70>0.2,0,))))))))) | U70: =+(T67+U68)/2 -> #VALUE!
B71: 31 | C71: =IF('TABELA I'!B43="","",'TABELA I'!B43) | E71: =IF('TABELA I'!D43="","",'TABELA I'!D43) | F71: Nije ocijenjen | G71: KT i KTM | L71: =IF((H71+I71)=0,"",(H71+I71-J71-K71)/(H71+I71)) | M71: =IF((H71+I71)=0,"",(J71+K71)/(H71+I71)) | N71: =IF(F71="Nije ocijenjen","",IF(F71="Ocijenjen",IF(H71+I71=0,"",IF(D71="Tužilac",IF(M71<0.0001,50,IF(M71<0.0301,40,IF(M71<0.0601,25,IF(M71<=0.1,15,IF(M71>0.1,0,))))),IF(M71<0.0001,20,IF(M71<0.0301,15,IF(M71<0.0601,10,IF(M71<=0.1,5,IF(M71>0.1,0,))))))))) | R71: =IF(O71+P71=0,"",(O71+P71-Q71)/(O71+P71)) | S71: =IF(O71+P71=0,"",(Q71)/(O71+P71)) | T71: =IF(F71="Nije ocijenjen","",IF(F71="Ocijenjen",IF(O71+P71=0,"",IF(D71="Tužilac",IF(S71<0.0251,50,IF(S71<0.0501,40,IF(S71<0.0751,25,IF(S71<=0.1,15,IF(S71>0.1,0,))))),IF(S71<0.0251,20,IF(S71<0.0501,15,IF(S71<0.0751,10,IF(S71<=0.1,5,IF(S71>0.1,0,))))))))) | U71: =IF(F71="Nije ocijenjen","",IF(F71="Ocijenjen",IF(O72+P72=0,T71,IF(O71+P71=0,T72,(T71+T72)/2)))) | V71: =IF(F71="Nije ocijenjen","",IF(F71="Ocijenjen",IF(U71="",N71,IF(N71="",U71,((N71+U71)/2)))))
G72: KTRZ, KTPO, KTO, KTK | N72: =IF(#REF!="Nije ocijenjen","",IF(#REF!="Ocijenjen",IF(B72+C72=0,"",IF(#REF!="Tužilac",IF(M72<0.031,40,IF(M72<0.061,30,IF(M72<0.101,20,IF(M72<=0.2,10,IF(M72<=1,0,))))),IF(M72<0.031,20,IF(M72<0.061,15,IF(M72<0.101,10,IF(M72<=0.2,5,IF(M72<=1,0,))))))))) -> #REF! | R72: =IF(O72+P72=0,"",(O72+P72-Q72)/(O72+P72)) | S72: =IF(O72+P72=0,"",(Q72)/(O72+P72)) | T72: =IF(F71="Nije ocijenjen","",IF(F71="Ocijenjen",IF(O72+P72=0,"",IF(D71="Tužilac",IF(S72<0.0301,50,IF(S72<0.0601,40,IF(S72<0.1001,25,IF(S72<=0.2,15,IF(S72>0.2,0,))))),IF(S72<0.0301,20,IF(S72<0.0601,15,IF(S72<0.1001,10,IF(S72<=0.2,5,IF(S72>0.2,0,))))))))) | U72: =+(T69+U70)/2 -> #VALUE!
B73: 32 | C73: =IF('TABELA I'!B44="","",'TABELA I'!B44) | E73: =IF('TABELA I'!D44="","",'TABELA I'!D44) | F73: Nije ocijenjen | G73: KT i KTM | L73: =IF((H73+I73)=0,"",(H73+I73-J73-K73)/(H73+I73)) | M73: =IF((H73+I73)=0,"",(J73+K73)/(H73+I73)) | N73: =IF(F73="Nije ocijenjen","",IF(F73="Ocijenjen",IF(H73+I73=0,"",IF(D73="Tužilac",IF(M73<0.0001,50,IF(M73<0.0301,40,IF(M73<0.0601,25,IF(M73<=0.1,15,IF(M73>0.1,0,))))),IF(M73<0.0001,20,IF(M73<0.0301,15,IF(M73<0.0601,10,IF(M73<=0.1,5,IF(M73>0.1,0,))))))))) | R73: =IF(O73+P73=0,"",(O73+P73-Q73)/(O73+P73)) | S73: =IF(O73+P73=0,"",(Q73)/(O73+P73)) | T73: =IF(F73="Nije ocijenjen","",IF(F73="Ocijenjen",IF(O73+P73=0,"",IF(D73="Tužilac",IF(S73<0.0251,50,IF(S73<0.0501,40,IF(S73<0.0751,25,IF(S73<=0.1,15,IF(S73>0.1,0,))))),IF(S73<0.0251,20,IF(S73<0.0501,15,IF(S73<0.0751,10,IF(S73<=0.1,5,IF(S73>0.1,0,))))))))) | U73: =IF(F73="Nije ocijenjen","",IF(F73="Ocijenjen",IF(O74+P74=0,T73,IF(O73+P73=0,T74,(T73+T74)/2)))) | V73: =IF(F73="Nije ocijenjen","",IF(F73="Ocijenjen",IF(U73="",N73,IF(N73="",U73,((N73+U73)/2)))))
G74: KTRZ, KTPO, KTO, KTK | N74: =IF(#REF!="Nije ocijenjen","",IF(#REF!="Ocijenjen",IF(B74+C74=0,"",IF(#REF!="Tužilac",IF(M74<0.031,40,IF(M74<0.061,30,IF(M74<0.101,20,IF(M74<=0.2,10,IF(M74<=1,0,))))),IF(M74<0.031,20,IF(M74<0.061,15,IF(M74<0.101,10,IF(M74<=0.2,5,IF(M74<=1,0,))))))))) -> #REF! | R74: =IF(O74+P74=0,"",(O74+P74-Q74)/(O74+P74)) | S74: =IF(O74+P74=0,"",(Q74)/(O74+P74)) | T74: =IF(F73="Nije ocijenjen","",IF(F73="Ocijenjen",IF(O74+P74=0,"",IF(D73="Tužilac",IF(S74<0.0301,50,IF(S74<0.0601,40,IF(S74<0.1001,25,IF(S74<=0.2,15,IF(S74>0.2,0,))))),IF(S74<0.0301,20,IF(S74<0.0601,15,IF(S74<0.1001,10,IF(S74<=0.2,5,IF(S74>0.2,0,))))))))) | U74: =+(T71+U72)/2 -> #VALUE!
B75: 33 | C75: =IF('TABELA I'!B45="","",'TABELA I'!B45) | E75: =IF('TABELA I'!D45="","",'TABELA I'!D45) | F75: Nije ocijenjen | G75: KT i KTM | L75: =IF((H75+I75)=0,"",(H75+I75-J75-K75)/(H75+I75)) | M75: =IF((H75+I75)=0,"",(J75+K75)/(H75+I75)) | N75: =IF(F75="Nije ocijenjen","",IF(F75="Ocijenjen",IF(H75+I75=0,"",IF(D75="Tužilac",IF(M75<0.0001,50,IF(M75<0.0301,40,IF(M75<0.0601,25,IF(M75<=0.1,15,IF(M75>0.1,0,))))),IF(M75<0.0001,20,IF(M75<0.0301,15,IF(M75<0.0601,10,IF(M75<=0.1,5,IF(M75>0.1,0,))))))))) | R75: =IF(O75+P75=0,"",(O75+P75-Q75)/(O75+P75)) | S75: =IF(O75+P75=0,"",(Q75)/(O75+P75)) | T75: =IF(F75="Nije ocijenjen","",IF(F75="Ocijenjen",IF(O75+P75=0,"",IF(D75="Tužilac",IF(S75<0.0251,50,IF(S75<0.0501,40,IF(S75<0.0751,25,IF(S75<=0.1,15,IF(S75>0.1,0,))))),IF(S75<0.0251,20,IF(S75<0.0501,15,IF(S75<0.0751,10,IF(S75<=0.1,5,IF(S75>0.1,0,))))))))) | U75: =IF(F75="Nije ocijenjen","",IF(F75="Ocijenjen",IF(O76+P76=0,T75,IF(O75+P75=0,T76,(T75+T76)/2)))) | V75: =IF(F75="Nije ocijenjen","",IF(F75="Ocijenjen",IF(U75="",N75,IF(N75="",U75,((N75+U75)/2)))))
G76: KTRZ, KTPO, KTO, KTK | N76: =IF(#REF!="Nije ocijenjen","",IF(#REF!="Ocijenjen",IF(B76+C76=0,"",IF(#REF!="Tužilac",IF(M76<0.031,40,IF(M76<0.061,30,IF(M76<0.101,20,IF(M76<=0.2,10,IF(M76<=1,0,))))),IF(M76<0.031,20,IF(M76<0.061,15,IF(M76<0.101,10,IF(M76<=0.2,5,IF(M76<=1,0,))))))))) -> #REF! | R76: =IF(O76+P76=0,"",(O76+P76-Q76)/(O76+P76)) | S76: =IF(O76+P76=0,"",(Q76)/(O76+P76)) | T76: =IF(F75="Nije ocijenjen","",IF(F75="Ocijenjen",IF(O76+P76=0,"",IF(D75="Tužilac",IF(S76<0.0301,50,IF(S76<0.0601,40,IF(S76<0.1001,25,IF(S76<=0.2,15,IF(S76>0.2,0,))))),IF(S76<0.0301,20,IF(S76<0.0601,15,IF(S76<0.1001,10,IF(S76<=0.2,5,IF(S76>0.2,0,))))))))) | U76: =+(T73+U74)/2 -> #VALUE!
B77: 34 | C77: =IF('TABELA I'!B46="","",'TABELA I'!B46) | E77: =IF('TABELA I'!D46="","",'TABELA I'!D46) | F77: Nije ocijenjen | G77: KT i KTM | L77: =IF((H77+I77)=0,"",(H77+I77-J77-K77)/(H77+I77)) | M77: =IF((H77+I77)=0,"",(J77+K77)/(H77+I77)) | N77: =IF(F77="Nije ocijenjen","",IF(F77="Ocijenjen",IF(H77+I77=0,"",IF(D77="Tužilac",IF(M77<0.0001,50,IF(M77<0.0301,40,IF(M77<0.0601,25,IF(M77<=0.1,15,IF(M77>0.1,0,))))),IF(M77<0.0001,20,IF(M77<0.0301,15,IF(M77<0.0601,10,IF(M77<=0.1,5,IF(M77>0.1,0,))))))))) | R77: =IF(O77+P77=0,"",(O77+P77-Q77)/(O77+P77)) | S77: =IF(O77+P77=0,"",(Q77)/(O77+P77)) | T77: =IF(F77="Nije ocijenjen","",IF(F77="Ocijenjen",IF(O77+P77=0,"",IF(D77="Tužilac",IF(S77<0.0251,50,IF(S77<0.0501,40,IF(S77<0.0751,25,IF(S77<=0.1,15,IF(S77>0.1,0,))))),IF(S77<0.0251,20,IF(S77<0.0501,15,IF(S77<0.0751,10,IF(S77<=0.1,5,IF(S77>0.1,0,))))))))) | U77: =IF(F77="Nije ocijenjen","",IF(F77="Ocijenjen",IF(O78+P78=0,T77,IF(O77+P77=0,T78,(T77+T78)/2)))) | V77: =IF(F77="Nije ocijenjen","",IF(F77="Ocijenjen",IF(U77="",N77,IF(N77="",U77,((N77+U77)/2)))))
G78: KTRZ, KTPO, KTO, KTK | N78: =IF(#REF!="Nije ocijenjen","",IF(#REF!="Ocijenjen",IF(B78+C78=0,"",IF(#REF!="Tužilac",IF(M78<0.031,40,IF(M78<0.061,30,IF(M78<0.101,20,IF(M78<=0.2,10,IF(M78<=1,0,))))),IF(M78<0.031,20,IF(M78<0.061,15,IF(M78<0.101,10,IF(M78<=0.2,5,IF(M78<=1,0,))))))))) -> #REF! | R78: =IF(O78+P78=0,"",(O78+P78-Q78)/(O78+P78)) | S78: =IF(O78+P78=0,"",(Q78)/(O78+P78)) | T78: =IF(F77="Nije ocijenjen","",IF(F77="Ocijenjen",IF(O78+P78=0,"",IF(D77="Tužilac",IF(S78<0.0301,50,IF(S78<0.0601,40,IF(S78<0.1001,25,IF(S78<=0.2,15,IF(S78>0.2,0,))))),IF(S78<0.0301,20,IF(S78<0.0601,15,IF(S78<0.1001,10,IF(S78<=0.2,5,IF(S78>0.2,0,))))))))) | U78: =+(T75+U76)/2 -> #VALUE!
B79: 35 | C79: =IF('TABELA I'!B47="","",'TABELA I'!B47) | E79: =IF('TABELA I'!D47="","",'TABELA I'!D47) | F79: Nije ocijenjen | G79: KT i KTM | L79: =IF((H79+I79)=0,"",(H79+I79-J79-K79)/(H79+I79)) | M79: =IF((H79+I79)=0,"",(J79+K79)/(H79+I79)) | N79: =IF(F79="Nije ocijenjen","",IF(F79="Ocijenjen",IF(H79+I79=0,"",IF(D79="Tužilac",IF(M79<0.0001,50,IF(M79<0.0301,40,IF(M79<0.0601,25,IF(M79<=0.1,15,IF(M79>0.1,0,))))),IF(M79<0.0001,20,IF(M79<0.0301,15,IF(M79<0.0601,10,IF(M79<=0.1,5,IF(M79>0.1,0,))))))))) | R79: =IF(O79+P79=0,"",(O79+P79-Q79)/(O79+P79)) | S79: =IF(O79+P79=0,"",(Q79)/(O79+P79)) | T79: =IF(F79="Nije ocijenjen","",IF(F79="Ocijenjen",IF(O79+P79=0,"",IF(D79="Tužilac",IF(S79<0.0251,50,IF(S79<0.0501,40,IF(S79<0.0751,25,IF(S79<=0.1,15,IF(S79>0.1,0,))))),IF(S79<0.0251,20,IF(S79<0.0501,15,IF(S79<0.0751,10,IF(S79<=0.1,5,IF(S79>0.1,0,))))))))) | U79: =IF(F79="Nije ocijenjen","",IF(F79="Ocijenjen",IF(O80+P80=0,T79,IF(O79+P79=0,T80,(T79+T80)/2)))) | V79: =IF(F79="Nije ocijenjen","",IF(F79="Ocijenjen",IF(U79="",N79,IF(N79="",U79,((N79+U79)/2)))))
G80: KTRZ, KTPO, KTO, KTK | N80: =IF(#REF!="Nije ocijenjen","",IF(#REF!="Ocijenjen",IF(B80+C80=0,"",IF(#REF!="Tužilac",IF(M80<0.031,40,IF(M80<0.061,30,IF(M80<0.101,20,IF(M80<=0.2,10,IF(M80<=1,0,))))),IF(M80<0.031,20,IF(M80<0.061,15,IF(M80<0.101,10,IF(M80<=0.2,5,IF(M80<=1,0,))))))))) -> #REF! | R80: =IF(O80+P80=0,"",(O80+P80-Q80)/(O80+P80)) | S80: =IF(O80+P80=0,"",(Q80)/(O80+P80)) | T80: =IF(F79="Nije ocijenjen","",IF(F79="Ocijenjen",IF(O80+P80=0,"",IF(D79="Tužilac",IF(S80<0.0301,50,IF(S80<0.0601,40,IF(S80<0.1001,25,IF(S80<=0.2,15,IF(S80>0.2,0,))))),IF(S80<0.0301,20,IF(S80<0.0601,15,IF(S80<0.1001,10,IF(S80<=0.2,5,IF(S80>0.2,0,))))))))) | U80: =+(T77+U78)/2 -> #VALUE!
B81: 36 | C81: =IF('TABELA I'!B48="","",'TABELA I'!B48) | E81: =IF('TABELA I'!D48="","",'TABELA I'!D48) | F81: Nije ocijenjen | G81: KT i KTM | L81: =IF((H81+I81)=0,"",(H81+I81-J81-K81)/(H81+I81)) | M81: =IF((H81+I81)=0,"",(J81+K81)/(H81+I81)) | N81: =IF(F81="Nije ocijenjen","",IF(F81="Ocijenjen",IF(H81+I81=0,"",IF(D81="Tužilac",IF(M81<0.0001,50,IF(M81<0.0301,40,IF(M81<0.0601,25,IF(M81<=0.1,15,IF(M81>0.1,0,))))),IF(M81<0.0001,20,IF(M81<0.0301,15,IF(M81<0.0601,10,IF(M81<=0.1,5,IF(M81>0.1,0,))))))))) | R81: =IF(O81+P81=0,"",(O81+P81-Q81)/(O81+P81)) | S81: =IF(O81+P81=0,"",(Q81)/(O81+P81)) | T81: =IF(F81="Nije ocijenjen","",IF(F81="Ocijenjen",IF(O81+P81=0,"",IF(D81="Tužilac",IF(S81<0.0251,50,IF(S81<0.0501,40,IF(S81<0.0751,25,IF(S81<=0.1,15,IF(S81>0.1,0,))))),IF(S81<0.0251,20,IF(S81<0.0501,15,IF(S81<0.0751,10,IF(S81<=0.1,5,IF(S81>0.1,0,))))))))) | U81: =IF(F81="Nije ocijenjen","",IF(F81="Ocijenjen",IF(O82+P82=0,T81,IF(O81+P81=0,T82,(T81+T82)/2)))) | V81: =IF(F81="Nije ocijenjen","",IF(F81="Ocijenjen",IF(U81="",N81,IF(N81="",U81,((N81+U81)/2)))))
G82: KTRZ, KTPO, KTO, KTK | N82: =IF(#REF!="Nije ocijenjen","",IF(#REF!="Ocijenjen",IF(B82+C82=0,"",IF(#REF!="Tužilac",IF(M82<0.031,40,IF(M82<0.061,30,IF(M82<0.101,20,IF(M82<=0.2,10,IF(M82<=1,0,))))),IF(M82<0.031,20,IF(M82<0.061,15,IF(M82<0.101,10,IF(M82<=0.2,5,IF(M82<=1,0,))))))))) -> #REF! | R82: =IF(O82+P82=0,"",(O82+P82-Q82)/(O82+P82)) | S82: =IF(O82+P82=0,"",(Q82)/(O82+P82)) | T82: =IF(F81="Nije ocijenjen","",IF(F81="Ocijenjen",IF(O82+P82=0,"",IF(D81="Tužilac",IF(S82<0.0301,50,IF(S82<0.0601,40,IF(S82<0.1001,25,IF(S82<=0.2,15,IF(S82>0.2,0,))))),IF(S82<0.0301,20,IF(S82<0.0601,15,IF(S82<0.1001,10,IF(S82<=0.2,5,IF(S82>0.2,0,))))))))) | U82: =+(T79+U80)/2 -> #VALUE!
B83: 37 | C83: =IF('TABELA I'!B49="","",'TABELA I'!B49) | E83: =IF('TABELA I'!D49="","",'TABELA I'!D49) | F83: Nije ocijenjen | G83: KT i KTM | L83: =IF((H83+I83)=0,"",(H83+I83-J83-K83)/(H83+I83)) | M83: =IF((H83+I83)=0,"",(J83+K83)/(H83+I83)) | N83: =IF(F83="Nije ocijenjen","",IF(F83="Ocijenjen",IF(H83+I83=0,"",IF(D83="Tužilac",IF(M83<0.0001,50,IF(M83<0.0301,40,IF(M83<0.0601,25,IF(M83<=0.1,15,IF(M83>0.1,0,))))),IF(M83<0.0001,20,IF(M83<0.0301,15,IF(M83<0.0601,10,IF(M83<=0.1,5,IF(M83>0.1,0,))))))))) | R83: =IF(O83+P83=0,"",(O83+P83-Q83)/(O83+P83)) | S83: =IF(O83+P83=0,"",(Q83)/(O83+P83)) | T83: =IF(F83="Nije ocijenjen","",IF(F83="Ocijenjen",IF(O83+P83=0,"",IF(D83="Tužilac",IF(S83<0.0251,50,IF(S83<0.0501,40,IF(S83<0.0751,25,IF(S83<=0.1,15,IF(S83>0.1,0,))))),IF(S83<0.0251,20,IF(S83<0.0501,15,IF(S83<0.0751,10,IF(S83<=0.1,5,IF(S83>0.1,0,))))))))) | U83: =IF(F83="Nije ocijenjen","",IF(F83="Ocijenjen",IF(O84+P84=0,T83,IF(O83+P83=0,T84,(T83+T84)/2)))) | V83: =IF(F83="Nije ocijenjen","",IF(F83="Ocijenjen",IF(U83="",N83,IF(N83="",U83,((N83+U83)/2)))))
G84: KTRZ, KTPO, KTO, KTK | N84: =IF(#REF!="Nije ocijenjen","",IF(#REF!="Ocijenjen",IF(B84+C84=0,"",IF(#REF!="Tužilac",IF(M84<0.031,40,IF(M84<0.061,30,IF(M84<0.101,20,IF(M84<=0.2,10,IF(M84<=1,0,))))),IF(M84<0.031,20,IF(M84<0.061,15,IF(M84<0.101,10,IF(M84<=0.2,5,IF(M84<=1,0,))))))))) -> #REF! | R84: =IF(O84+P84=0,"",(O84+P84-Q84)/(O84+P84)) | S84: =IF(O84+P84=0,"",(Q84)/(O84+P84)) | T84: =IF(F83="Nije ocijenjen","",IF(F83="Ocijenjen",IF(O84+P84=0,"",IF(D83="Tužilac",IF(S84<0.0301,50,IF(S84<0.0601,40,IF(S84<0.1001,25,IF(S84<=0.2,15,IF(S84>0.2,0,))))),IF(S84<0.0301,20,IF(S84<0.0601,15,IF(S84<0.1001,10,IF(S84<=0.2,5,IF(S84>0.2,0,))))))))) | U84: =+(T81+U82)/2 -> #VALUE!
B85: 38 | C85: =IF('TABELA I'!B50="","",'TABELA I'!B50) | E85: =IF('TABELA I'!D50="","",'TABELA I'!D50) | F85: Nije ocijenjen | G85: KT i KTM | L85: =IF((H85+I85)=0,"",(H85+I85-J85-K85)/(H85+I85)) | M85: =IF((H85+I85)=0,"",(J85+K85)/(H85+I85)) | N85: =IF(F85="Nije ocijenjen","",IF(F85="Ocijenjen",IF(H85+I85=0,"",IF(D85="Tužilac",IF(M85<0.0001,50,IF(M85<0.0301,40,IF(M85<0.0601,25,IF(M85<=0.1,15,IF(M85>0.1,0,))))),IF(M85<0.0001,20,IF(M85<0.0301,15,IF(M85<0.0601,10,IF(M85<=0.1,5,IF(M85>0.1,0,))))))))) | R85: =IF(O85+P85=0,"",(O85+P85-Q85)/(O85+P85)) | S85: =IF(O85+P85=0,"",(Q85)/(O85+P85)) | T85: =IF(F85="Nije ocijenjen","",IF(F85="Ocijenjen",IF(O85+P85=0,"",IF(D85="Tužilac",IF(S85<0.0251,50,IF(S85<0.0501,40,IF(S85<0.0751,25,IF(S85<=0.1,15,IF(S85>0.1,0,))))),IF(S85<0.0251,20,IF(S85<0.0501,15,IF(S85<0.0751,10,IF(S85<=0.1,5,IF(S85>0.1,0,))))))))) | U85: =IF(F85="Nije ocijenjen","",IF(F85="Ocijenjen",IF(O86+P86=0,T85,IF(O85+P85=0,T86,(T85+T86)/2)))) | V85: =IF(F85="Nije ocijenjen","",IF(F85="Ocijenjen",IF(U85="",N85,IF(N85="",U85,((N85+U85)/2)))))
G86: KTRZ, KTPO, KTO, KTK | N86: =IF(#REF!="Nije ocijenjen","",IF(#REF!="Ocijenjen",IF(B86+C86=0,"",IF(#REF!="Tužilac",IF(M86<0.031,40,IF(M86<0.061,30,IF(M86<0.101,20,IF(M86<=0.2,10,IF(M86<=1,0,))))),IF(M86<0.031,20,IF(M86<0.061,15,IF(M86<0.101,10,IF(M86<=0.2,5,IF(M86<=1,0,))))))))) -> #REF! | R86: =IF(O86+P86=0,"",(O86+P86-Q86)/(O86+P86)) | S86: =IF(O86+P86=0,"",(Q86)/(O86+P86)) | T86: =IF(F85="Nije ocijenjen","",IF(F85="Ocijenjen",IF(O86+P86=0,"",IF(D85="Tužilac",IF(S86<0.0301,50,IF(S86<0.0601,40,IF(S86<0.1001,25,IF(S86<=0.2,15,IF(S86>0.2,0,))))),IF(S86<0.0301,20,IF(S86<0.0601,15,IF(S86<0.1001,10,IF(S86<=0.2,5,IF(S86>0.2,0,))))))))) | U86: =+(T83+U84)/2 -> #VALUE!
B87: 39 | C87: =IF('TABELA I'!B51="","",'TABELA I'!B51) | E87: =IF('TABELA I'!D51="","",'TABELA I'!D51) | F87: Nije ocijenjen | G87: KT i KTM | L87: =IF((H87+I87)=0,"",(H87+I87-J87-K87)/(H87+I87)) | M87: =IF((H87+I87)=0,"",(J87+K87)/(H87+I87)) | N87: =IF(F87="Nije ocijenjen","",IF(F87="Ocijenjen",IF(H87+I87=0,"",IF(D87="Tužilac",IF(M87<0.0001,50,IF(M87<0.0301,40,IF(M87<0.0601,25,IF(M87<=0.1,15,IF(M87>0.1,0,))))),IF(M87<0.0001,20,IF(M87<0.0301,15,IF(M87<0.0601,10,IF(M87<=0.1,5,IF(M87>0.1,0,))))))))) | R87: =IF(O87+P87=0,"",(O87+P87-Q87)/(O87+P87)) | S87: =IF(O87+P87=0,"",(Q87)/(O87+P87)) | T87: =IF(F87="Nije ocijenjen","",IF(F87="Ocijenjen",IF(O87+P87=0,"",IF(D87="Tužilac",IF(S87<0.0251,50,IF(S87<0.0501,40,IF(S87<0.0751,25,IF(S87<=0.1,15,IF(S87>0.1,0,))))),IF(S87<0.0251,20,IF(S87<0.0501,15,IF(S87<0.0751,10,IF(S87<=0.1,5,IF(S87>0.1,0,))))))))) | U87: =IF(F87="Nije ocijenjen","",IF(F87="Ocijenjen",IF(O88+P88=0,T87,IF(O87+P87=0,T88,(T87+T88)/2)))) | V87: =IF(F87="Nije ocijenjen","",IF(F87="Ocijenjen",IF(U87="",N87,IF(N87="",U87,((N87+U87)/2)))))
G88: KTRZ, KTPO, KTO, KTK | N88: =IF(#REF!="Nije ocijenjen","",IF(#REF!="Ocijenjen",IF(B88+C88=0,"",IF(#REF!="Tužilac",IF(M88<0.031,40,IF(M88<0.061,30,IF(M88<0.101,20,IF(M88<=0.2,10,IF(M88<=1,0,))))),IF(M88<0.031,20,IF(M88<0.061,15,IF(M88<0.101,10,IF(M88<=0.2,5,IF(M88<=1,0,))))))))) -> #REF! | R88: =IF(O88+P88=0,"",(O88+P88-Q88)/(O88+P88)) | S88: =IF(O88+P88=0,"",(Q88)/(O88+P88)) | T88: =IF(F87="Nije ocijenjen","",IF(F87="Ocijenjen",IF(O88+P88=0,"",IF(D87="Tužilac",IF(S88<0.0301,50,IF(S88<0.0601,40,IF(S88<0.1001,25,IF(S88<=0.2,15,IF(S88>0.2,0,))))),IF(S88<0.0301,20,IF(S88<0.0601,15,IF(S88<0.1001,10,IF(S88<=0.2,5,IF(S88>0.2,0,))))))))) | U88: =+(T85+U86)/2 -> #VALUE!
B89: 40 | C89: =IF('TABELA I'!B52="","",'TABELA I'!B52) | E89: =IF('TABELA I'!D52="","",'TABELA I'!D52) | F89: Nije ocijenjen | G89: KT i KTM | L89: =IF((H89+I89)=0,"",(H89+I89-J89-K89)/(H89+I89)) | M89: =IF((H89+I89)=0,"",(J89+K89)/(H89+I89)) | N89: =IF(F89="Nije ocijenjen","",IF(F89="Ocijenjen",IF(H89+I89=0,"",IF(D89="Tužilac",IF(M89<0.0001,50,IF(M89<0.0301,40,IF(M89<0.0601,25,IF(M89<=0.1,15,IF(M89>0.1,0,))))),IF(M89<0.0001,20,IF(M89<0.0301,15,IF(M89<0.0601,10,IF(M89<=0.1,5,IF(M89>0.1,0,))))))))) | R89: =IF(O89+P89=0,"",(O89+P89-Q89)/(O89+P89)) | S89: =IF(O89+P89=0,"",(Q89)/(O89+P89)) | T89: =IF(F89="Nije ocijenjen","",IF(F89="Ocijenjen",IF(O89+P89=0,"",IF(D89="Tužilac",IF(S89<0.0251,50,IF(S89<0.0501,40,IF(S89<0.0751,25,IF(S89<=0.1,15,IF(S89>0.1,0,))))),IF(S89<0.0251,20,IF(S89<0.0501,15,IF(S89<0.0751,10,IF(S89<=0.1,5,IF(S89>0.1,0,))))))))) | U89: =IF(F89="Nije ocijenjen","",IF(F89="Ocijenjen",IF(O90+P90=0,T89,IF(O89+P89=0,T90,(T89+T90)/2)))) | V89: =IF(F89="Nije ocijenjen","",IF(F89="Ocijenjen",IF(U89="",N89,IF(N89="",U89,((N89+U89)/2)))))
G90: KTRZ, KTPO, KTO, KTK | N90: =IF(#REF!="Nije ocijenjen","",IF(#REF!="Ocijenjen",IF(B90+C90=0,"",IF(#REF!="Tužilac",IF(M90<0.031,40,IF(M90<0.061,30,IF(M90<0.101,20,IF(M90<=0.2,10,IF(M90<=1,0,))))),IF(M90<0.031,20,IF(M90<0.061,15,IF(M90<0.101,10,IF(M90<=0.2,5,IF(M90<=1,0,))))))))) -> #REF! | R90: =IF(O90+P90=0,"",(O90+P90-Q90)/(O90+P90)) | S90: =IF(O90+P90=0,"",(Q90)/(O90+P90)) | T90: =IF(F89="Nije ocijenjen","",IF(F89="Ocijenjen",IF(O90+P90=0,"",IF(D89="Tužilac",IF(S90<0.0301,50,IF(S90<0.0601,40,IF(S90<0.1001,25,IF(S90<=0.2,15,IF(S90>0.2,0,))))),IF(S90<0.0301,20,IF(S90<0.0601,15,IF(S90<0.1001,10,IF(S90<=0.2,5,IF(S90>0.2,0,))))))))) | U90: =+(T87+U88)/2 -> #VALUE!
B91: 41 | C91: =IF('TABELA I'!B53="","",'TABELA I'!B53) | E91: =IF('TABELA I'!D53="","",'TABELA I'!D53) | F91: Nije ocijenjen | G91: KT i KTM | L91: =IF((H91+I91)=0,"",(H91+I91-J91-K91)/(H91+I91)) | M91: =IF((H91+I91)=0,"",(J91+K91)/(H91+I91)) | N91: =IF(F91="Nije ocijenjen","",IF(F91="Ocijenjen",IF(H91+I91=0,"",IF(D91="Tužilac",IF(M91<0.0001,50,IF(M91<0.0301,40,IF(M91<0.0601,25,IF(M91<=0.1,15,IF(M91>0.1,0,))))),IF(M91<0.0001,20,IF(M91<0.0301,15,IF(M91<0.0601,10,IF(M91<=0.1,5,IF(M91>0.1,0,))))))))) | R91: =IF(O91+P91=0,"",(O91+P91-Q91)/(O91+P91)) | S91: =IF(O91+P91=0,"",(Q91)/(O91+P91)) | T91: =IF(F91="Nije ocijenjen","",IF(F91="Ocijenjen",IF(O91+P91=0,"",IF(D91="Tužilac",IF(S91<0.0251,50,IF(S91<0.0501,40,IF(S91<0.0751,25,IF(S91<=0.1,15,IF(S91>0.1,0,))))),IF(S91<0.0251,20,IF(S91<0.0501,15,IF(S91<0.0751,10,IF(S91<=0.1,5,IF(S91>0.1,0,))))))))) | U91: =IF(F91="Nije ocijenjen","",IF(F91="Ocijenjen",IF(O92+P92=0,T91,IF(O91+P91=0,T92,(T91+T92)/2)))) | V91: =IF(F91="Nije ocijenjen","",IF(F91="Ocijenjen",IF(U91="",N91,IF(N91="",U91,((N91+U91)/2)))))
G92: KTRZ, KTPO, KTO, KTK | N92: =IF(#REF!="Nije ocijenjen","",IF(#REF!="Ocijenjen",IF(B92+C92=0,"",IF(#REF!="Tužilac",IF(M92<0.031,40,IF(M92<0.061,30,IF(M92<0.101,20,IF(M92<=0.2,10,IF(M92<=1,0,))))),IF(M92<0.031,20,IF(M92<0.061,15,IF(M92<0.101,10,IF(M92<=0.2,5,IF(M92<=1,0,))))))))) -> #REF! | R92: =IF(O92+P92=0,"",(O92+P92-Q92)/(O92+P92)) | S92: =IF(O92+P92=0,"",(Q92)/(O92+P92)) | T92: =IF(F91="Nije ocijenjen","",IF(F91="Ocijenjen",IF(O92+P92=0,"",IF(D91="Tužilac",IF(S92<0.0301,50,IF(S92<0.0601,40,IF(S92<0.1001,25,IF(S92<=0.2,15,IF(S92>0.2,0,))))),IF(S92<0.0301,20,IF(S92<0.0601,15,IF(S92<0.1001,10,IF(S92<=0.2,5,IF(S92>0.2,0,))))))))) | U92: =+(T89+U90)/2 -> #VALUE!
B93: 42 | C93: =IF('TABELA I'!B54="","",'TABELA I'!B54) | E93: =IF('TABELA I'!D54="","",'TABELA I'!D54) | F93: Nije ocijenjen | G93: KT i KTM | L93: =IF((H93+I93)=0,"",(H93+I93-J93-K93)/(H93+I93)) | M93: =IF((H93+I93)=0,"",(J93+K93)/(H93+I93)) | N93: =IF(F93="Nije ocijenjen","",IF(F93="Ocijenjen",IF(H93+I93=0,"",IF(D93="Tužilac",IF(M93<0.0001,50,IF(M93<0.0301,40,IF(M93<0.0601,25,IF(M93<=0.1,15,IF(M93>0.1,0,))))),IF(M93<0.0001,20,IF(M93<0.0301,15,IF(M93<0.0601,10,IF(M93<=0.1,5,IF(M93>0.1,0,))))))))) | R93: =IF(O93+P93=0,"",(O93+P93-Q93)/(O93+P93)) | S93: =IF(O93+P93=0,"",(Q93)/(O93+P93)) | T93: =IF(F93="Nije ocijenjen","",IF(F93="Ocijenjen",IF(O93+P93=0,"",IF(D93="Tužilac",IF(S93<0.0251,50,IF(S93<0.0501,40,IF(S93<0.0751,25,IF(S93<=0.1,15,IF(S93>0.1,0,))))),IF(S93<0.0251,20,IF(S93<0.0501,15,IF(S93<0.0751,10,IF(S93<=0.1,5,IF(S93>0.1,0,))))))))) | U93: =IF(F93="Nije ocijenjen","",IF(F93="Ocijenjen",IF(O94+P94=0,T93,IF(O93+P93=0,T94,(T93+T94)/2)))) | V93: =IF(F93="Nije ocijenjen","",IF(F93="Ocijenjen",IF(U93="",N93,IF(N93="",U93,((N93+U93)/2)))))
G94: KTRZ, KTPO, KTO, KTK | N94: =IF(#REF!="Nije ocijenjen","",IF(#REF!="Ocijenjen",IF(B94+C94=0,"",IF(#REF!="Tužilac",IF(M94<0.031,40,IF(M94<0.061,30,IF(M94<0.101,20,IF(M94<=0.2,10,IF(M94<=1,0,))))),IF(M94<0.031,20,IF(M94<0.061,15,IF(M94<0.101,10,IF(M94<=0.2,5,IF(M94<=1,0,))))))))) -> #REF! | R94: =IF(O94+P94=0,"",(O94+P94-Q94)/(O94+P94)) | S94: =IF(O94+P94=0,"",(Q94)/(O94+P94)) | T94: =IF(F93="Nije ocijenjen","",IF(F93="Ocijenjen",IF(O94+P94=0,"",IF(D93="Tužilac",IF(S94<0.0301,50,IF(S94<0.0601,40,IF(S94<0.1001,25,IF(S94<=0.2,15,IF(S94>0.2,0,))))),IF(S94<0.0301,20,IF(S94<0.0601,15,IF(S94<0.1001,10,IF(S94<=0.2,5,IF(S94>0.2,0,))))))))) | U94: =+(T91+U92)/2 -> #VALUE!
B95: 43 | C95: =IF('TABELA I'!B55="","",'TABELA I'!B55) | E95: =IF('TABELA I'!D55="","",'TABELA I'!D55) | F95: Nije ocijenjen | G95: KT i KTM | L95: =IF((H95+I95)=0,"",(H95+I95-J95-K95)/(H95+I95)) | M95: =IF((H95+I95)=0,"",(J95+K95)/(H95+I95)) | N95: =IF(F95="Nije ocijenjen","",IF(F95="Ocijenjen",IF(H95+I95=0,"",IF(D95="Tužilac",IF(M95<0.0001,50,IF(M95<0.0301,40,IF(M95<0.0601,25,IF(M95<=0.1,15,IF(M95>0.1,0,))))),IF(M95<0.0001,20,IF(M95<0.0301,15,IF(M95<0.0601,10,IF(M95<=0.1,5,IF(M95>0.1,0,))))))))) | R95: =IF(O95+P95=0,"",(O95+P95-Q95)/(O95+P95)) | S95: =IF(O95+P95=0,"",(Q95)/(O95+P95)) | T95: =IF(F95="Nije ocijenjen","",IF(F95="Ocijenjen",IF(O95+P95=0,"",IF(D95="Tužilac",IF(S95<0.0251,50,IF(S95<0.0501,40,IF(S95<0.0751,25,IF(S95<=0.1,15,IF(S95>0.1,0,))))),IF(S95<0.0251,20,IF(S95<0.0501,15,IF(S95<0.0751,10,IF(S95<=0.1,5,IF(S95>0.1,0,))))))))) | U95: =IF(F95="Nije ocijenjen","",IF(F95="Ocijenjen",IF(O96+P96=0,T95,IF(O95+P95=0,T96,(T95+T96)/2)))) | V95: =IF(F95="Nije ocijenjen","",IF(F95="Ocijenjen",IF(U95="",N95,IF(N95="",U95,((N95+U95)/2)))))
G96: KTRZ, KTPO, KTO, KTK | N96: =IF(#REF!="Nije ocijenjen","",IF(#REF!="Ocijenjen",IF(B96+C96=0,"",IF(#REF!="Tužilac",IF(M96<0.031,40,IF(M96<0.061,30,IF(M96<0.101,20,IF(M96<=0.2,10,IF(M96<=1,0,))))),IF(M96<0.031,20,IF(M96<0.061,15,IF(M96<0.101,10,IF(M96<=0.2,5,IF(M96<=1,0,))))))))) -> #REF! | R96: =IF(O96+P96=0,"",(O96+P96-Q96)/(O96+P96)) | S96: =IF(O96+P96=0,"",(Q96)/(O96+P96)) | T96: =IF(F95="Nije ocijenjen","",IF(F95="Ocijenjen",IF(O96+P96=0,"",IF(D95="Tužilac",IF(S96<0.0301,50,IF(S96<0.0601,40,IF(S96<0.1001,25,IF(S96<=0.2,15,IF(S96>0.2,0,))))),IF(S96<0.0301,20,IF(S96<0.0601,15,IF(S96<0.1001,10,IF(S96<=0.2,5,IF(S96>0.2,0,))))))))) | U96: =+(T93+U94)/2 -> #VALUE!
B97: 44 | C97: =IF('TABELA I'!B56="","",'TABELA I'!B56) | E97: =IF('TABELA I'!D56="","",'TABELA I'!D56) | F97: Nije ocijenjen | G97: KT i KTM | L97: =IF((H97+I97)=0,"",(H97+I97-J97-K97)/(H97+I97)) | M97: =IF((H97+I97)=0,"",(J97+K97)/(H97+I97)) | N97: =IF(F97="Nije ocijenjen","",IF(F97="Ocijenjen",IF(H97+I97=0,"",IF(D97="Tužilac",IF(M97<0.0001,50,IF(M97<0.0301,40,IF(M97<0.0601,25,IF(M97<=0.1,15,IF(M97>0.1,0,))))),IF(M97<0.0001,20,IF(M97<0.0301,15,IF(M97<0.0601,10,IF(M97<=0.1,5,IF(M97>0.1,0,))))))))) | R97: =IF(O97+P97=0,"",(O97+P97-Q97)/(O97+P97)) | S97: =IF(O97+P97=0,"",(Q97)/(O97+P97)) | T97: =IF(F97="Nije ocijenjen","",IF(F97="Ocijenjen",IF(O97+P97=0,"",IF(D97="Tužilac",IF(S97<0.0251,50,IF(S97<0.0501,40,IF(S97<0.0751,25,IF(S97<=0.1,15,IF(S97>0.1,0,))))),IF(S97<0.0251,20,IF(S97<0.0501,15,IF(S97<0.0751,10,IF(S97<=0.1,5,IF(S97>0.1,0,))))))))) | U97: =IF(F97="Nije ocijenjen","",IF(F97="Ocijenjen",IF(O98+P98=0,T97,IF(O97+P97=0,T98,(T97+T98)/2)))) | V97: =IF(F97="Nije ocijenjen","",IF(F97="Ocijenjen",IF(U97="",N97,IF(N97="",U97,((N97+U97)/2)))))
G98: KTRZ, KTPO, KTO, KTK | N98: =IF(#REF!="Nije ocijenjen","",IF(#REF!="Ocijenjen",IF(B98+C98=0,"",IF(#REF!="Tužilac",IF(M98<0.031,40,IF(M98<0.061,30,IF(M98<0.101,20,IF(M98<=0.2,10,IF(M98<=1,0,))))),IF(M98<0.031,20,IF(M98<0.061,15,IF(M98<0.101,10,IF(M98<=0.2,5,IF(M98<=1,0,))))))))) -> #REF! | R98: =IF(O98+P98=0,"",(O98+P98-Q98)/(O98+P98)) | S98: =IF(O98+P98=0,"",(Q98)/(O98+P98)) | T98: =IF(F97="Nije ocijenjen","",IF(F97="Ocijenjen",IF(O98+P98=0,"",IF(D97="Tužilac",IF(S98<0.0301,50,IF(S98<0.0601,40,IF(S98<0.1001,25,IF(S98<=0.2,15,IF(S98>0.2,0,))))),IF(S98<0.0301,20,IF(S98<0.0601,15,IF(S98<0.1001,10,IF(S98<=0.2,5,IF(S98>0.2,0,))))))))) | U98: =+(T95+U96)/2 -> #VALUE!
B99: 45 | C99: =IF('TABELA I'!B57="","",'TABELA I'!B57) | E99: =IF('TABELA I'!D57="","",'TABELA I'!D57) | F99: Nije ocijenjen | G99: KT i KTM | L99: =IF((H99+I99)=0,"",(H99+I99-J99-K99)/(H99+I99)) | M99: =IF((H99+I99)=0,"",(J99+K99)/(H99+I99)) | N99: =IF(F99="Nije ocijenjen","",IF(F99="Ocijenjen",IF(H99+I99=0,"",IF(D99="Tužilac",IF(M99<0.0001,50,IF(M99<0.0301,40,IF(M99<0.0601,25,IF(M99<=0.1,15,IF(M99>0.1,0,))))),IF(M99<0.0001,20,IF(M99<0.0301,15,IF(M99<0.0601,10,IF(M99<=0.1,5,IF(M99>0.1,0,))))))))) | R99: =IF(O99+P99=0,"",(O99+P99-Q99)/(O99+P99)) | S99: =IF(O99+P99=0,"",(Q99)/(O99+P99)) | T99: =IF(F99="Nije ocijenjen","",IF(F99="Ocijenjen",IF(O99+P99=0,"",IF(D99="Tužilac",IF(S99<0.0251,50,IF(S99<0.0501,40,IF(S99<0.0751,25,IF(S99<=0.1,15,IF(S99>0.1,0,))))),IF(S99<0.0251,20,IF(S99<0.0501,15,IF(S99<0.0751,10,IF(S99<=0.1,5,IF(S99>0.1,0,))))))))) | U99: =IF(F99="Nije ocijenjen","",IF(F99="Ocijenjen",IF(O100+P100=0,T99,IF(O99+P99=0,T100,(T99+T100)/2)))) | V99: =IF(F99="Nije ocijenjen","",IF(F99="Ocijenjen",IF(U99="",N99,IF(N99="",U99,((N99+U99)/2)))))
G100: KTRZ, KTPO, KTO, KTK | N100: =IF(#REF!="Nije ocijenjen","",IF(#REF!="Ocijenjen",IF(B100+C100=0,"",IF(#REF!="Tužilac",IF(M100<0.031,40,IF(M100<0.061,30,IF(M100<0.101,20,IF(M100<=0.2,10,IF(M100<=1,0,))))),IF(M100<0.031,20,IF(M100<0.061,15,IF(M100<0.101,10,IF(M100<=0.2,5,IF(M100<=1,0,))))))))) -> #REF! | R100: =IF(O100+P100=0,"",(O100+P100-Q100)/(O100+P100)) | S100: =IF(O100+P100=0,"",(Q100)/(O100+P100)) | T100: =IF(F99="Nije ocijenjen","",IF(F99="Ocijenjen",IF(O100+P100=0,"",IF(D99="Tužilac",IF(S100<0.0301,50,IF(S100<0.0601,40,IF(S100<0.1001,25,IF(S100<=0.2,15,IF(S100>0.2,0,))))),IF(S100<0.0301,20,IF(S100<0.0601,15,IF(S100<0.1001,10,IF(S100<=0.2,5,IF(S100>0.2,0,))))))))) | U100: =+(T97+U98)/2 -> #VALUE!
B101: 46 | C101: =IF('TABELA I'!B58="","",'TABELA I'!B58) | E101: =IF('TABELA I'!D58="","",'TABELA I'!D58) | F101: Nije ocijenjen | G101: KT i KTM | L101: =IF((H101+I101)=0,"",(H101+I101-J101-K101)/(H101+I101)) | M101: =IF((H101+I101)=0,"",(J101+K101)/(H101+I101)) | N101: =IF(F101="Nije ocijenjen","",IF(F101="Ocijenjen",IF(H101+I101=0,"",IF(D101="Tužilac",IF(M101<0.0001,50,IF(M101<0.0301,40,IF(M101<0.0601,25,IF(M101<=0.1,15,IF(M101>0.1,0,))))),IF(M101<0.0001,20,IF(M101<0.0301,15,IF(M101<0.0601,10,IF(M101<=0.1,5,IF(M101>0.1,0,))))))))) | R101: =IF(O101+P101=0,"",(O101+P101-Q101)/(O101+P101)) | S101: =IF(O101+P101=0,"",(Q101)/(O101+P101)) | T101: =IF(F101="Nije ocijenjen","",IF(F101="Ocijenjen",IF(O101+P101=0,"",IF(D101="Tužilac",IF(S101<0.0251,50,IF(S101<0.0501,40,IF(S101<0.0751,25,IF(S101<=0.1,15,IF(S101>0.1,0,))))),IF(S101<0.0251,20,IF(S101<0.0501,15,IF(S101<0.0751,10,IF(S101<=0.1,5,IF(S101>0.1,0,))))))))) | U101: =IF(F101="Nije ocijenjen","",IF(F101="Ocijenjen",IF(O102+P102=0,T101,IF(O101+P101=0,T102,(T101+T102)/2)))) | V101: =IF(F101="Nije ocijenjen","",IF(F101="Ocijenjen",IF(U101="",N101,IF(N101="",U101,((N101+U101)/2)))))
G102: KTRZ, KTPO, KTO, KTK | N102: =IF(#REF!="Nije ocijenjen","",IF(#REF!="Ocijenjen",IF(B102+C102=0,"",IF(#REF!="Tužilac",IF(M102<0.031,40,IF(M102<0.061,30,IF(M102<0.101,20,IF(M102<=0.2,10,IF(M102<=1,0,))))),IF(M102<0.031,20,IF(M102<0.061,15,IF(M102<0.101,10,IF(M102<=0.2,5,IF(M102<=1,0,))))))))) -> #REF! | R102: =IF(O102+P102=0,"",(O102+P102-Q102)/(O102+P102)) | S102: =IF(O102+P102=0,"",(Q102)/(O102+P102)) | T102: =IF(F101="Nije ocijenjen","",IF(F101="Ocijenjen",IF(O102+P102=0,"",IF(D101="Tužilac",IF(S102<0.0301,50,IF(S102<0.0601,40,IF(S102<0.1001,25,IF(S102<=0.2,15,IF(S102>0.2,0,))))),IF(S102<0.0301,20,IF(S102<0.0601,15,IF(S102<0.1001,10,IF(S102<=0.2,5,IF(S102>0.2,0,))))))))) | U102: =+(T99+U100)/2 -> #VALUE!
B103: 47 | C103: =IF('TABELA I'!B59="","",'TABELA I'!B59) | E103: =IF('TABELA I'!D59="","",'TABELA I'!D59) | F103: Nije ocijenjen | G103: KT i KTM | L103: =IF((H103+I103)=0,"",(H103+I103-J103-K103)/(H103+I103)) | M103: =IF((H103+I103)=0,"",(J103+K103)/(H103+I103)) | N103: =IF(F103="Nije ocijenjen","",IF(F103="Ocijenjen",IF(H103+I103=0,"",IF(D103="Tužilac",IF(M103<0.0001,50,IF(M103<0.0301,40,IF(M103<0.0601,25,IF(M103<=0.1,15,IF(M103>0.1,0,))))),IF(M103<0.0001,20,IF(M103<0.0301,15,IF(M103<0.0601,10,IF(M103<=0.1,5,IF(M103>0.1,0,))))))))) | R103: =IF(O103+P103=0,"",(O103+P103-Q103)/(O103+P103)) | S103: =IF(O103+P103=0,"",(Q103)/(O103+P103)) | T103: =IF(F103="Nije ocijenjen","",IF(F103="Ocijenjen",IF(O103+P103=0,"",IF(D103="Tužilac",IF(S103<0.0251,50,IF(S103<0.0501,40,IF(S103<0.0751,25,IF(S103<=0.1,15,IF(S103>0.1,0,))))),IF(S103<0.0251,20,IF(S103<0.0501,15,IF(S103<0.0751,10,IF(S103<=0.1,5,IF(S103>0.1,0,))))))))) | U103: =IF(F103="Nije ocijenjen","",IF(F103="Ocijenjen",IF(O104+P104=0,T103,IF(O103+P103=0,T104,(T103+T104)/2)))) | V103: =IF(F103="Nije ocijenjen","",IF(F103="Ocijenjen",IF(U103="",N103,IF(N103="",U103,((N103+U103)/2)))))
G104: KTRZ, KTPO, KTO, KTK | N104: =IF(#REF!="Nije ocijenjen","",IF(#REF!="Ocijenjen",IF(B104+C104=0,"",IF(#REF!="Tužilac",IF(M104<0.031,40,IF(M104<0.061,30,IF(M104<0.101,20,IF(M104<=0.2,10,IF(M104<=1,0,))))),IF(M104<0.031,20,IF(M104<0.061,15,IF(M104<0.101,10,IF(M104<=0.2,5,IF(M104<=1,0,))))))))) -> #REF! | R104: =IF(O104+P104=0,"",(O104+P104-Q104)/(O104+P104)) | S104: =IF(O104+P104=0,"",(Q104)/(O104+P104)) | T104: =IF(F103="Nije ocijenjen","",IF(F103="Ocijenjen",IF(O104+P104=0,"",IF(D103="Tužilac",IF(S104<0.0301,50,IF(S104<0.0601,40,IF(S104<0.1001,25,IF(S104<=0.2,15,IF(S104>0.2,0,))))),IF(S104<0.0301,20,IF(S104<0.0601,15,IF(S104<0.1001,10,IF(S104<=0.2,5,IF(S104>0.2,0,))))))))) | U104: =+(T101+U102)/2 -> #VALUE!
...

Sheet TABELA III
A1: Naziv tužilaštva | D1: Republičko javno tužilaštvo Republike Srpske - Opšti odjel | K1: 2025
A2: Izvještajni period: | D2: 1.1.2025. - 31.12.2025.
A3: Tabela III: Ostvarena ažurnost i efikasnost rada na predmetima u Republičkom javnom tužilaštvu RS
A4: Redni broj | B4: Ime i prezime | C4: Ocjenjen u tužilaštvu | D4: Naziv odjela | E4: Pravosudna funkcija | G4: Period obavljanja pravosudne funkcije u instituciji koja popunjava tabelu Ia | I4: Ukupan broj dana rada | J4: Broj dana opravdanog odsustva iz član 20. Pravilnika o orijentacijskim mjerilima (Pogledati Napomenu 1.) | K4: Ostvarena ažurnost i efikasnost rada na predmetima (Pogledati Napomenu 2.) | N4: Broj ostvarenih bodova | Q4: Da | R4: Ne
G5: Datum od | H5: Datum do | K5: broj zaduženih predmeta | L5: broj riješenih predmeta | M5: ostvarena ažurnost | Q5: Zamjenik glavnog tužioca | R5: Šef odjela | S5: Tužilac
A6: I | B6: II | C6: III | D6: III | E6: IV | F6: Column1 | G6: V | H6: VI | I6: VII | J6: VIII | K6: IX | L6: X | M6: XI | N6: XIII | Q6: 1 | R6: 0.8 | S6: 0.7 | T6: 0.6 | U6: 0.5
A7: 1 | E7: Glavni tužilac | I7: 261 | Q7: 0.4 | R7: 0.3 | S7: 0.2 | T7: Ne treba rješavati predmete | Y7: =H7-G7 -> 0
D8: =D7 -> 0 | E8: =E7 -> Glavni tužilac | I8: 261 | Y8: =H8-G8 -> 0
A9: 2 | F9: =IF(E9="Tužilac",1,"") | I9: 261 | M9: =IF(K9="","",L9/K9) | N9: =IF(M9="","",IF(E9="Tužilac",IF(M9>0.94,40,IF(M9>0.9,35,IF(M9>0.8,30,IF(M9>0.7,20,IF(M9>0.6,10,IF(M9>0.5,5,0)))))),IF(M9>0.94,20,IF(M9>0.9,18,IF(M9>0.8,14,IF(M9>0.7,10,IF(M9>0.6,8,IF(M9>0.5,4,0)))))))) | Y9: =H9-G9 -> 0
A10: 3 | F10: =IF(E10="Tužilac",1,"") | I10: 261 | M10: =IF(K10="","",L10/K10) | N10: =IF(M10="","",IF(E10="Tužilac",IF(M10>0.94,40,IF(M10>0.9,35,IF(M10>0.8,30,IF(M10>0.7,20,IF(M10>0.6,10,IF(M10>0.5,5,0)))))),IF(M10>0.94,20,IF(M10>0.9,18,IF(M10>0.8,14,IF(M10>0.7,10,IF(M10>0.6,8,IF(M10>0.5,4,0)))))))) | Y10: =H10-G10 -> 0
A11: 4 | F11: =IF(E11="Tužilac",1,"") | I11: 261 | M11: =IF(K11="","",L11/K11) | N11: =IF(M11="","",IF(E11="Tužilac",IF(M11>0.94,40,IF(M11>0.9,35,IF(M11>0.8,30,IF(M11>0.7,20,IF(M11>0.6,10,IF(M11>0.5,5,0)))))),IF(M11>0.94,20,IF(M11>0.9,18,IF(M11>0.8,14,IF(M11>0.7,10,IF(M11>0.6,8,IF(M11>0.5,4,0)))))))) | Y11: =H11-G11 -> 0
A12: 5 | F12: =IF(E12="Tužilac",1,"") | I12: 261 | M12: =IF(K12="","",L12/K12) | N12: =IF(M12="","",IF(E12="Tužilac",IF(M12>0.94,40,IF(M12>0.9,35,IF(M12>0.8,30,IF(M12>0.7,20,IF(M12>0.6,10,IF(M12>0.5,5,0)))))),IF(M12>0.94,20,IF(M12>0.9,18,IF(M12>0.8,14,IF(M12>0.7,10,IF(M12>0.6,8,IF(M12>0.5,4,0)))))))) | Y12: =H12-G12 -> 0
A13: 6 | F13: =IF(E13="Tužilac",1,"") | I13: 261 | M13: =IF(K13="","",L13/K13) | N13: =IF(M13="","",IF(E13="Tužilac",IF(M13>0.94,40,IF(M13>0.9,35,IF(M13>0.8,30,IF(M13>0.7,20,IF(M13>0.6,10,IF(M13>0.5,5,0)))))),IF(M13>0.94,20,IF(M13>0.9,18,IF(M13>0.8,14,IF(M13>0.7,10,IF(M13>0.6,8,IF(M13>0.5,4,0)))))))) | Y13: =H13-G13 -> 0
A14: 7 | F14: =IF(E14="Tužilac",1,"") | I14: 261 | M14: =IF(K14="","",L14/K14) | N14: =IF(M14="","",IF(E14="Tužilac",IF(M14>0.94,40,IF(M14>0.9,35,IF(M14>0.8,30,IF(M14>0.7,20,IF(M14>0.6,10,IF(M14>0.5,5,0)))))),IF(M14>0.94,20,IF(M14>0.9,18,IF(M14>0.8,14,IF(M14>0.7,10,IF(M14>0.6,8,IF(M14>0.5,4,0)))))))) | Y14: =H14-G14 -> 0
A15: 8 | F15: =IF(E15="Tužilac",1,"") | I15: 261 | M15: =IF(K15="","",L15/K15) | N15: =IF(M15="","",IF(E15="Tužilac",IF(M15>0.94,40,IF(M15>0.9,35,IF(M15>0.8,30,IF(M15>0.7,20,IF(M15>0.6,10,IF(M15>0.5,5,0)))))),IF(M15>0.94,20,IF(M15>0.9,18,IF(M15>0.8,14,IF(M15>0.7,10,IF(M15>0.6,8,IF(M15>0.5,4,0)))))))) | Y15: =H15-G15 -> 0
A16: 9 | F16: =IF(E16="Tužilac",1,"") | I16: 261 | M16: =IF(K16="","",L16/K16) | N16: =IF(M16="","",IF(E16="Tužilac",IF(M16>0.94,40,IF(M16>0.9,35,IF(M16>0.8,30,IF(M16>0.7,20,IF(M16>0.6,10,IF(M16>0.5,5,0)))))),IF(M16>0.94,20,IF(M16>0.9,18,IF(M16>0.8,14,IF(M16>0.7,10,IF(M16>0.6,8,IF(M16>0.5,4,0))))))))
A17: 10 | F17: =IF(E17="Tužilac",1,"") | I17: 261 | M17: =IF(K17="","",L17/K17) | N17: =IF(M17="","",IF(E17="Tužilac",IF(M17>0.94,40,IF(M17>0.9,35,IF(M17>0.8,30,IF(M17>0.7,20,IF(M17>0.6,10,IF(M17>0.5,5,0)))))),IF(M17>0.94,20,IF(M17>0.9,18,IF(M17>0.8,14,IF(M17>0.7,10,IF(M17>0.6,8,IF(M17>0.5,4,0))))))))
A18: 11 | F18: =IF(E18="Tužilac",1,"") | I18: 261 | M18: =IF(K18="","",L18/K18) | N18: =IF(M18="","",IF(E18="Tužilac",IF(M18>0.94,40,IF(M18>0.9,35,IF(M18>0.8,30,IF(M18>0.7,20,IF(M18>0.6,10,IF(M18>0.5,5,0)))))),IF(M18>0.94,20,IF(M18>0.9,18,IF(M18>0.8,14,IF(M18>0.7,10,IF(M18>0.6,8,IF(M18>0.5,4,0))))))))
A19: 12 | F19: =IF(E19="Tužilac",1,"") | I19: 261 | M19: =IF(K19="","",L19/K19) | N19: =IF(M19="","",IF(E19="Tužilac",IF(M19>0.94,40,IF(M19>0.9,35,IF(M19>0.8,30,IF(M19>0.7,20,IF(M19>0.6,10,IF(M19>0.5,5,0)))))),IF(M19>0.94,20,IF(M19>0.9,18,IF(M19>0.8,14,IF(M19>0.7,10,IF(M19>0.6,8,IF(M19>0.5,4,0))))))))
A20: 13 | F20: =IF(E20="Tužilac",1,"") | I20: 261 | M20: =IF(K20="","",L20/K20) | N20: =IF(M20="","",IF(E20="Tužilac",IF(M20>0.94,40,IF(M20>0.9,35,IF(M20>0.8,30,IF(M20>0.7,20,IF(M20>0.6,10,IF(M20>0.5,5,0)))))),IF(M20>0.94,20,IF(M20>0.9,18,IF(M20>0.8,14,IF(M20>0.7,10,IF(M20>0.6,8,IF(M20>0.5,4,0))))))))
A21: 14 | F21: =IF(E21="Tužilac",1,"") | I21: 261 | M21: =IF(K21="","",L21/K21) | N21: =IF(M21="","",IF(E21="Tužilac",IF(M21>0.94,40,IF(M21>0.9,35,IF(M21>0.8,30,IF(M21>0.7,20,IF(M21>0.6,10,IF(M21>0.5,5,0)))))),IF(M21>0.94,20,IF(M21>0.9,18,IF(M21>0.8,14,IF(M21>0.7,10,IF(M21>0.6,8,IF(M21>0.5,4,0))))))))
A22: 15 | F22: =IF(E22="Tužilac",1,"") | I22: 261 | M22: =IF(K22="","",L22/K22) | N22: =IF(M22="","",IF(E22="Tužilac",IF(M22>0.94,40,IF(M22>0.9,35,IF(M22>0.8,30,IF(M22>0.7,20,IF(M22>0.6,10,IF(M22>0.5,5,0)))))),IF(M22>0.94,20,IF(M22>0.9,18,IF(M22>0.8,14,IF(M22>0.7,10,IF(M22>0.6,8,IF(M22>0.5,4,0))))))))
A23: 16 | F23: =IF(E23="Tužilac",1,"") | I23: 261 | M23: =IF(K23="","",L23/K23) | N23: =IF(M23="","",IF(E23="Tužilac",IF(M23>0.94,40,IF(M23>0.9,35,IF(M23>0.8,30,IF(M23>0.7,20,IF(M23>0.6,10,IF(M23>0.5,5,0)))))),IF(M23>0.94,20,IF(M23>0.9,18,IF(M23>0.8,14,IF(M23>0.7,10,IF(M23>0.6,8,IF(M23>0.5,4,0))))))))
A24: 17 | F24: =IF(E24="Tužilac",1,"") | I24: 261 | M24: =IF(K24="","",L24/K24) | N24: =IF(M24="","",IF(E24="Tužilac",IF(M24>0.94,40,IF(M24>0.9,35,IF(M24>0.8,30,IF(M24>0.7,20,IF(M24>0.6,10,IF(M24>0.5,5,0)))))),IF(M24>0.94,20,IF(M24>0.9,18,IF(M24>0.8,14,IF(M24>0.7,10,IF(M24>0.6,8,IF(M24>0.5,4,0))))))))
A25: 18 | F25: =IF(E25="Tužilac",1,"") | I25: 261 | M25: =IF(K25="","",L25/K25) | N25: =IF(M25="","",IF(E25="Tužilac",IF(M25>0.94,40,IF(M25>0.9,35,IF(M25>0.8,30,IF(M25>0.7,20,IF(M25>0.6,10,IF(M25>0.5,5,0)))))),IF(M25>0.94,20,IF(M25>0.9,18,IF(M25>0.8,14,IF(M25>0.7,10,IF(M25>0.6,8,IF(M25>0.5,4,0))))))))
A26: 19 | F26: =IF(E26="Tužilac",1,"") | I26: 261 | M26: =IF(K26="","",L26/K26) | N26: =IF(M26="","",IF(E26="Tužilac",IF(M26>0.94,40,IF(M26>0.9,35,IF(M26>0.8,30,IF(M26>0.7,20,IF(M26>0.6,10,IF(M26>0.5,5,0)))))),IF(M26>0.94,20,IF(M26>0.9,18,IF(M26>0.8,14,IF(M26>0.7,10,IF(M26>0.6,8,IF(M26>0.5,4,0))))))))
A27: 20 | F27: =IF(E27="Tužilac",1,"") | I27: 261 | M27: =IF(K27="","",L27/K27) | N27: =IF(M27="","",IF(E27="Tužilac",IF(M27>0.94,40,IF(M27>0.9,35,IF(M27>0.8,30,IF(M27>0.7,20,IF(M27>0.6,10,IF(M27>0.5,5,0)))))),IF(M27>0.94,20,IF(M27>0.9,18,IF(M27>0.8,14,IF(M27>0.7,10,IF(M27>0.6,8,IF(M27>0.5,4,0))))))))
... A72: 65 | F72: =IF(E72="Tužilac",1,"") | I72: 261 | M72: =IF(K72="","",L72/K72) | N72: =IF(M72="","",IF(E72="Tužilac",IF(M72>0.94,40,IF(M72>0.9,35,IF(M72>0.8,30,IF(M72>0.7,20,IF(M72>0.6,10,IF(M72>0.5,5,0)))))),IF(M72>0.94,20,IF(M72>0.9,18,IF(M72>0.8,14,IF(M72>0.7,10,IF(M72>0.6,8,IF(M72>0.5,4,0))))))))
F73: =IF(E73="Tužilac",1,"") | I73: 261 | M73: =IF(K73="","",L73/K73) | N73: =IF(M73="","",IF(E73="Tužilac",IF(M73>0.94,40,IF(M73>0.9,35,IF(M73>0.8,30,IF(M73>0.7,20,IF(M73>0.6,10,IF(M73>0.5,5,0)))))),IF(M73>0.94,20,IF(M73>0.9,18,IF(M73>0.8,14,IF(M73>0.7,10,IF(M73>0.6,8,IF(M73>0.5,4,0))))))))
F74: =IF(E74="Tužilac",1,"") | I74: 261 | M74: =IF(K74="","",L74/K74) | N74: =IF(M74="","",IF(E74="Tužilac",IF(M74>0.94,40,IF(M74>0.9,35,IF(M74>0.8,30,IF(M74>0.7,20,IF(M74>0.6,10,IF(M74>0.5,5,0)))))),IF(M74>0.94,20,IF(M74>0.9,18,IF(M74>0.8,14,IF(M74>0.7,10,IF(M74>0.6,8,IF(M74>0.5,4,0))))))))
F75: =IF(E75="Tužilac",1,"") | I75: 261 | M75: =IF(K75="","",L75/K75) | N75: =IF(M75="","",IF(E75="Tužilac",IF(M75>0.94,40,IF(M75>0.9,35,IF(M75>0.8,30,IF(M75>0.7,20,IF(M75>0.6,10,IF(M75>0.5,5,0)))))),IF(M75>0.94,20,IF(M75>0.9,18,IF(M75>0.8,14,IF(M75>0.7,10,IF(M75>0.6,8,IF(M75>0.5,4,0))))))))
F76: =IF(E76="Tužilac",1,"") | I76: 261 | M76: =IF(K76="","",L76/K76) | N76: =IF(M76="","",IF(E76="Tužilac",IF(M76>0.94,40,IF(M76>0.9,35,IF(M76>0.8,30,IF(M76>0.7,20,IF(M76>0.6,10,IF(M76>0.5,5,0)))))),IF(M76>0.94,20,IF(M76>0.9,18,IF(M76>0.8,14,IF(M76>0.7,10,IF(M76>0.6,8,IF(M76>0.5,4,0))))))))
F77: =IF(E77="Tužilac",1,"") | I77: 261 | M77: =IF(K77="","",L77/K77) | N77: =IF(M77="","",IF(E77="Tužilac",IF(M77>0.94,40,IF(M77>0.9,35,IF(M77>0.8,30,IF(M77>0.7,20,IF(M77>0.6,10,IF(M77>0.5,5,0)))))),IF(M77>0.94,20,IF(M77>0.9,18,IF(M77>0.8,14,IF(M77>0.7,10,IF(M77>0.6,8,IF(M77>0.5,4,0))))))))
F78: =IF(E78="Tužilac",1,"") | I78: 261 | M78: =IF(K78="","",L78/K78) | N78: =IF(M78="","",IF(E78="Tužilac",IF(M78>0.94,40,IF(M78>0.9,35,IF(M78>0.8,30,IF(M78>0.7,20,IF(M78>0.6,10,IF(M78>0.5,5,0)))))),IF(M78>0.94,20,IF(M78>0.9,18,IF(M78>0.8,14,IF(M78>0.7,10,IF(M78>0.6,8,IF(M78>0.5,4,0))))))))
F79: =IF(E79="Tužilac",1,"") | I79: 261 | M79: =IF(K79="","",L79/K79) | N79: =IF(M79="","",IF(E79="Tužilac",IF(M79>0.94,40,IF(M79>0.9,35,IF(M79>0.8,30,IF(M79>0.7,20,IF(M79>0.6,10,IF(M79>0.5,5,0)))))),IF(M79>0.94,20,IF(M79>0.9,18,IF(M79>0.8,14,IF(M79>0.7,10,IF(M79>0.6,8,IF(M79>0.5,4,0))))))))
F80: =IF(E80="Tužilac",1,"") | I80: 261 | M80: =IF(K80="","",L80/K80) | N80: =IF(M80="","",IF(E80="Tužilac",IF(M80>0.94,40,IF(M80>0.9,35,IF(M80>0.8,30,IF(M80>0.7,20,IF(M80>0.6,10,IF(M80>0.5,5,0)))))),IF(M80>0.94,20,IF(M80>0.9,18,IF(M80>0.8,14,IF(M80>0.7,10,IF(M80>0.6,8,IF(M80>0.5,4,0))))))))
F81: =IF(E81="Tužilac",1,"") | I81: 261 | M81: =IF(K81="","",L81/K81) | N81: =IF(M81="","",IF(E81="Tužilac",IF(M81>0.94,40,IF(M81>0.9,35,IF(M81>0.8,30,IF(M81>0.7,20,IF(M81>0.6,10,IF(M81>0.5,5,0)))))),IF(M81>0.94,20,IF(M81>0.9,18,IF(M81>0.8,14,IF(M81>0.7,10,IF(M81>0.6,8,IF(M81>0.5,4,0))))))))
F82: =IF(E82="Tužilac",1,"") | I82: 261 | M82: =IF(K82="","",L82/K82) | N82: =IF(M82="","",IF(E82="Tužilac",IF(M82>0.94,40,IF(M82>0.9,35,IF(M82>0.8,30,IF(M82>0.7,20,IF(M82>0.6,10,IF(M82>0.5,5,0)))))),IF(M82>0.94,20,IF(M82>0.9,18,IF(M82>0.8,14,IF(M82>0.7,10,IF(M82>0.6,8,IF(M82>0.5,4,0))))))))
A83: Član 43. Kriterija za ocjenjivanje rada glavnih tužilaca, zamjenika glavnih tužilaca i šefova odjela - ocjenjivanje rada Opšteg odjela Republičkog javnog tužilaštva RS | K83: =SUM(K7:K82) -> 0 | L83: =SUM(L7:L82) -> 0 | M83: =IF(K83=0,0,L83/K83) -> 0 | N83: =IF(M83="","",IF(M83>0.94,50,IF(M83>0.9,41,IF(M83>0.8,33,IF(M83>0.7,25,IF(M83>0.6,16,IF(M83>0.5,8,0))))))) -> 0
A86: NAPOMENA 1: Podaci o broju dana opravdanog odsustva se preuzimaju iz kolene XII Pomoćne tabela za obračun odsustava NPF-a koji su radili u jednoj instituciji u periodu ocjenjivanja, odnosno iz kolone XX Pomoćne tabela za obračun odsustava NPF-a koji su radili u dvije institucije u periodu ocjenjivanja
A87: NAPOMENA 2: U broj predmeta iz kolone IX i X tužilaštvo će unijeti i predmete koji nisu zavedeni u TCMS (A predmeti). U broj riješenih predmeta (kolona X) Republičko javno tužilaštvo Republike Srpske će evidentirati KTZ predmete u kojima je postupajući tužilac dao pisani odgovor na uloženi zahtjev za zaštitu zakonitosti bez obzira da li je Vrhovni sud Republike Srpske donio sudsku odluku. U vezi sa Dopisom VSTV BiH, broj 06-09-1-4068/2021 od 23.11.2021. godine, i članom 32. stav (2) Kriterija za ocjenjivanje rada tužilaca u BiH, potrebno je da glavni republički tužilac u godišnjem izvještaju o radu tužilaštva za 2025. godinu obrazloži podatke navedene u ovoj tabeli, u pogledu neriješenih predmeta na kraju izvještajne godine po tužiocu, vrsti/fazi predmeta i razlozima zbog kojih tužilaštvo nije riješilo predmet u navedenoj godini.

Sheet TABELA IV
A1: Naziv tužilaštva | C1: Republičko javno tužilaštvo Republike Srpske | J1: 2025
A2: Izvještajni period: | C2: 1.1.2025. - 31.12.2025.
A3: Tabela IV: Ostvareni broj bodova u skladu sa članom 21. stav 1. tačke c), d) i f) Kriterija za ocjenjivanje rada glavnog tužioca Republičkog javnog tužilaštva Republike Srpske
A4: Redni broj | B4: Ime i prezime | C4: Pravosudna funkcija | D4: Period obavljanja pravosudne funkcije | F4: Ukupan broj dana rada | G4: Broj dana opravdanog odsustva iz član 20. Pravilnika o orijentacijskim mjerilima (Pogledati Napomenu 1.) | H4: Elementi ocjene rada | J4: Ostvareni procenat | K4: Broj ostvarenih bodova | L4: Broj ostvarenih bodova | O4: Da | P4: Ne
D5: Datum od | E5: Datum do | O5: Zamjenik glavnog tužioca | P5: Šef odjela | Q5: Šef odsjeka | R5: Tužilac
A6: I | B6: II | C6: III | D6: IV | E6: V | F6: VI | G6: VII | H6: VIII | J6: IX | K6: X | L6: XIII | O6: 1 | P6: 0.8 | Q6: 0.7 | R6: 0.6 | S6: 0.5
A7: 1 | C7: Glavni tužilac | H7: Kolektivna orijentacijska norma Posebnog odjela | J7: =+'TABELA I'!G4 | K7: =IF(J7="","",IF(J7>1,5,IF(J7>0.9,4.5,IF(J7>0.8,4,IF(J7>0.7,3,IF(J7>0.6,2,IF(J7>0.5,1,0))))))) | O7: 0.4 | P7: 0.3 | Q7: 0.2 | R7: Ne treba rješavati predmete | W7: =E7-D7 -> 0
H8: Kolektivni kvalitet odluka Posebnog odjela | I8: Optužnice | J8: ='TABELA IIa'!M150 | K8: =IF(F13="","",(((F13+(G13+H13)/2)/2))) | W8: =E8-D8 -> 0
I9: Naredbe o nesprovođenju i obustavi istrage | J9: ='TABELA IIa'!S150
H10: Kolektivna ažurnost Opšteg odjela | J10: =IF('TABELA III'!M83=0,"",'TABELA III'!M83) | K10: =IF(J10="","",IF(J10>0.94,15,IF(J10>0.9,13,IF(J10>0.8,11,IF(J10>0.7,9,IF(J10>0.6,6,IF(J10>0.5,3,0)))))))
H11: Broj predmeta u kojima je neopravdano prekoračen rok za rješavanje pritužbi | K11: =IF(J11="","",IF(J11=0,5,IF(J11<11,4,IF(J11<21,3,IF(J11<31,2,IF(J11<=40,1,IF(J11>40,0)))))))
F12: ='TABELA IIa'!M150 | G12: ='TABELA IIa'!S150 | H12: ='TABELA IIa'!S151
F13: =IF(J8="","",IF(F12<0.0001,5,IF(F12<0.0301,4,IF(F12<0.0601,3,IF(F12<=0.1,2,IF(F12>1,0,)))))) | G13: =IF(G12<0.0251,5,IF(G12<0.0501,4,IF(G12<0.751,3,IF(G12<=0.1,2,IF(G12>1,0,))))) -> 0 | H13: =IF(H12<0.0301,5,IF(H12<0.0601,4,IF(H12<0.1001,3,IF(H12<=0.2,2,IF(H12>2,0,))))) -> 0
A15: NAPOMENA 1: Podaci o broju dana opravdanog odsustva se preuzimaju iz kolene XII Pomoćne tabela za obračun odsustava NPF-a koji su radili u jednoj instituciji u periodu ocjenjivanja, odnosno iz kolone XX Pomoćne tabela za obračun odsustava NPF-a koji su radili u dvije institucije u periodu ocjenjivanja
A16: Tužilaštvo upisuje podatke u kolone II, IV, V, VII i IX (žuto polje) Tabele IV. Podatak u koloni IX (Broj predmeta u kojima je neopravdano prekoračen rok za rješavanje pritužbi) preuzima se iz Obrasca broj 14. (RJEŠAVANJE PRITUŽBI NA TUŽILAČKE ODLUKE).
A17: Podaci iz kolone IX se automatski popunjavaju. Ostvareni broj bodova glavnom tužiocu Republičkog javnog tužilaštva će se u koloni X automatski obračunati u skladu sa članom 21. Kriterija za ocjenjivanje rada glavnog tužioca Tužilaštva BiH, Federalnog tužilaštva FBiH, Republičkog javnog tužilaštva RS i Tužilaštva Brčko distrikta BiH.

Sheet tbl_kvalitet_predm
A1: Tuz | B1: Godina | C1: VrstaPredm | D1: BrPodigOpt | E1: BrPodPrijedl | F1: PravPresOsudj | G1: PravPresOdbij | H1: PravPresOslob | I1: BrPravsnRjoOdbOpt | J1: BrPrOdlONeprPrijedl | K1: BrPrOdlOObustPost | L1: ZbirnaOPt | M1: KvalitetOpt | N1: BrNarONesprIstr | O1: BrNarOObustIstr | P1: UkBrRjesOPrit | Q1: KvalitetIstraga
A2: ='TABELA I'!$K$2 -> 0 | B2: ='TABELA I'!$K$1 -> 2025 | C2: 6 | D2: ='TABELA II'!B9 -> 0 | E2: ='TABELA II'!C9 -> 0 | F2: ='TABELA II'!#REF! -> #REF! | G2: ='TABELA II'!#REF! -> #REF! | H2: ='TABELA II'!#REF! -> #REF! | I2: ='TABELA II'!D9 -> 0 | J2: ='TABELA II'!E9 -> 0 | K2: ='TABELA II'!#REF! -> #REF! | L2: ='TABELA II'!#REF! -> #REF! | M2: ='TABELA II'!F9 | N2: ='TABELA II'!G9 -> 0 | O2: ='TABELA II'!H9 -> 0 | P2: ='TABELA II'!I9 -> 0 | Q2: ='TABELA II'!J9
A3: ='TABELA I'!$K$2 -> 0 | B3: ='TABELA I'!$K$1 -> 2025 | C3: 7 | D3: ='TABELA II'!B10 -> 0 | E3: ='TABELA II'!C10 -> 0 | F3: ='TABELA II'!#REF! -> #REF! | G3: ='TABELA II'!#REF! -> #REF! | H3: ='TABELA II'!#REF! -> #REF! | I3: ='TABELA II'!D10 -> 0 | J3: ='TABELA II'!E10 -> 0 | K3: ='TABELA II'!#REF! -> #REF! | L3: ='TABELA II'!#REF! -> #REF! | M3: ='TABELA II'!F10 | N3: ='TABELA II'!G10 -> 0 | O3: ='TABELA II'!H10 -> 0 | P3: ='TABELA II'!I10 -> 0 | Q3: ='TABELA II'!J10
A4: ='TABELA I'!$K$2 -> 0 | B4: ='TABELA I'!$K$1 -> 2025 | C4: 4 | D4: ='TABELA II'!B11 -> 0 | E4: ='TABELA II'!C11 -> 0 | F4: ='TABELA II'!#REF! -> #REF! | G4: ='TABELA II'!#REF! -> #REF! | H4: ='TABELA II'!#REF! -> #REF! | I4: ='TABELA II'!D11 -> 0 | J4: ='TABELA II'!E11 -> 0 | K4: ='TABELA II'!#REF! -> #REF! | L4: ='TABELA II'!#REF! -> #REF! | M4: ='TABELA II'!F11 | N4: ='TABELA II'!G11 -> 0 | O4: ='TABELA II'!H11 -> 0 | P4: ='TABELA II'!I11 -> 0 | Q4: ='TABELA II'!J11
A5: ='TABELA I'!$K$2 -> 0 | B5: ='TABELA I'!$K$1 -> 2025 | C5: 5 | D5: ='TABELA II'!B12 -> 0 | E5: ='TABELA II'!C12 -> 0 | F5: ='TABELA II'!#REF! -> #REF! | G5: ='TABELA II'!#REF! -> #REF! | H5: ='TABELA II'!#REF! -> #REF! | I5: ='TABELA II'!D12 -> 0 | J5: ='TABELA II'!E12 -> 0 | K5: ='TABELA II'!#REF! -> #REF! | L5: ='TABELA II'!#REF! -> #REF! | M5: ='TABELA II'!F12 | N5: ='TABELA II'!G12 -> 0 | O5: ='TABELA II'!H12 -> 0 | P5: ='TABELA II'!I12 -> 0 | Q5: ='TABELA II'!J12 -> 0
A6: ='TABELA I'!$K$2 -> 0 | B6: ='TABELA I'!$K$1 -> 2025 | C6: 10 | D6: ='TABELA II'!B13 -> 0 | E6: ='TABELA II'!C13 -> 0 | F6: ='TABELA II'!#REF! -> #REF! | G6: ='TABELA II'!#REF! -> #REF! | H6: ='TABELA II'!#REF! -> #REF! | I6: ='TABELA II'!D13 -> 0 | J6: ='TABELA II'!E13 -> 0 | K6: ='TABELA II'!#REF! -> #REF! | L6: ='TABELA II'!#REF! -> #REF! | M6: ='TABELA II'!F13 | N6: ='TABELA II'!G13 -> 0 | O6: ='TABELA II'!H13 -> 0 | P6: ='TABELA II'!I13 -> 0 | Q6: ='TABELA II'!J13
A7: ='TABELA I'!$K$2 -> 0 | B7: ='TABELA I'!$K$1 -> 2025 | C7: 11 | D7: ='TABELA II'!B14 -> 0 | E7: ='TABELA II'!C14 -> 0 | F7: ='TABELA II'!#REF! -> #REF! | G7: ='TABELA II'!#REF! -> #REF! | H7: ='TABELA II'!#REF! -> #REF! | I7: ='TABELA II'!D14 -> 0 | J7: ='TABELA II'!E14 -> 0 | K7: ='TABELA II'!#REF! -> #REF! | L7: ='TABELA II'!#REF! -> #REF! | M7: ='TABELA II'!F14 | N7: ='TABELA II'!G14 -> 0 | O7: ='TABELA II'!H14 -> 0 | P7: ='TABELA II'!I14 -> 0 | Q7: ='TABELA II'!J14
A8: ='TABELA I'!$K$2 -> 0 | B8: ='TABELA I'!$K$1 -> 2025 | C8: 12 | D8: ='TABELA II'!B15 -> 0 | E8: ='TABELA II'!C15 -> 0 | F8: ='TABELA II'!#REF! -> #REF! | G8: ='TABELA II'!#REF! -> #REF! | H8: ='TABELA II'!#REF! -> #REF! | I8: ='TABELA II'!D15 -> 0 | J8: ='TABELA II'!E15 -> 0 | K8: ='TABELA II'!#REF! -> #REF! | L8: ='TABELA II'!#REF! -> #REF! | M8: ='TABELA II'!F15 | N8: ='TABELA II'!G15 -> 0 | O8: ='TABELA II'!H15 -> 0 | P8: ='TABELA II'!I15 -> 0 | Q8: ='TABELA II'!J15
A9: ='TABELA I'!$K$2 -> 0 | B9: ='TABELA I'!$K$1 -> 2025 | C9: 13 | D9: ='TABELA II'!B16 -> 0 | E9: ='TABELA II'!C16 -> 0 | F9: ='TABELA II'!#REF! -> #REF! | G9: ='TABELA II'!#REF! -> #REF! | H9: ='TABELA II'!#REF! -> #REF! | I9: ='TABELA II'!D16 -> 0 | J9: ='TABELA II'!E16 -> 0 | K9: ='TABELA II'!#REF! -> #REF! | L9: ='TABELA II'!#REF! -> #REF! | M9: ='TABELA II'!F16 | N9: ='TABELA II'!G16 -> 0 | O9: ='TABELA II'!H16 -> 0 | P9: ='TABELA II'!I16 -> 0 | Q9: ='TABELA II'!J16
A10: ='TABELA I'!$K$2 -> 0 | B10: ='TABELA I'!$K$1 -> 2025 | C10: 14 | D10: ='TABELA II'!B17 -> 0 | E10: ='TABELA II'!C17 -> 0 | F10: ='TABELA II'!#REF! -> #REF! | G10: ='TABELA II'!#REF! -> #REF! | H10: ='TABELA II'!#REF! -> #REF! | I10: ='TABELA II'!D17 -> 0 | J10: ='TABELA II'!E17 -> 0 | K10: ='TABELA II'!#REF! -> #REF! | L10: ='TABELA II'!#REF! -> #REF! | M10: ='TABELA II'!F17 | N10: ='TABELA II'!G17 -> 0 | O10: ='TABELA II'!H17 -> 0 | P10: ='TABELA II'!I17 -> 0 | Q10: ='TABELA II'!J17
A11: ='TABELA I'!$K$2 -> 0 | B11: ='TABELA I'!$K$1 -> 2025 | C11: 15 | D11: ='TABELA II'!B18 -> 0 | E11: ='TABELA II'!C18 -> 0 | F11: ='TABELA II'!#REF! -> #REF! | G11: ='TABELA II'!#REF! -> #REF! | H11: ='TABELA II'!#REF! -> #REF! | I11: ='TABELA II'!D18 -> 0 | J11: ='TABELA II'!E18 -> 0 | K11: ='TABELA II'!#REF! -> #REF! | L11: ='TABELA II'!#REF! -> #REF! | M11: ='TABELA II'!F18 | N11: ='TABELA II'!G18 -> 0 | O11: ='TABELA II'!H18 -> 0 | P11: ='TABELA II'!I18 -> 0 | Q11: ='TABELA II'!J18
A12: ='TABELA I'!$K$2 -> 0 | B12: ='TABELA I'!$K$1 -> 2025 | C12: 33 | D12: ='TABELA II'!B19 -> 0 | E12: ='TABELA II'!C19 -> 0 | F12: ='TABELA II'!#REF! -> #REF! | G12: ='TABELA II'!#REF! -> #REF! | H12: ='TABELA II'!#REF! -> #REF! | I12: ='TABELA II'!D19 -> 0 | J12: ='TABELA II'!E19 -> 0 | K12: ='TABELA II'!#REF! -> #REF! | L12: ='TABELA II'!#REF! -> #REF! | M12: ='TABELA II'!F19 | N12: ='TABELA II'!G19 -> 0 | O12: ='TABELA II'!H19 -> 0 | P12: ='TABELA II'!I19 -> 0 | Q12: ='TABELA II'!J19
A13: ='TABELA I'!$K$2 -> 0 | B13: ='TABELA I'!$K$1 -> 2025 | C13: 34 | D13: ='TABELA II'!B20 -> 0 | E13: ='TABELA II'!C20 -> 0 | F13: ='TABELA II'!#REF! -> #REF! | G13: ='TABELA II'!#REF! -> #REF! | H13: ='TABELA II'!#REF! -> #REF! | I13: ='TABELA II'!D20 -> 0 | J13: ='TABELA II'!E20 -> 0 | K13: ='TABELA II'!#REF! -> #REF! | L13: ='TABELA II'!#REF! -> #REF! | M13: ='TABELA II'!F20 | N13: ='TABELA II'!G20 -> 0 | O13: ='TABELA II'!H20 -> 0 | P13: ='TABELA II'!I20 -> 0 | Q13: ='TABELA II'!J20
... A24: ='TABELA I'!$K$2 -> 0 | B24: ='TABELA I'!$K$1 -> 2025 | C24: 24 | D24: ='TABELA II'!B31 -> 0 | E24: ='TABELA II'!C31 -> 0 | F24: ='TABELA II'!#REF! -> #REF! | G24: ='TABELA II'!#REF! -> #REF! | H24: ='TABELA II'!#REF! -> #REF! | I24: ='TABELA II'!D31 -> 0 | J24: ='TABELA II'!E31 -> 0 | K24: ='TABELA II'!#REF! -> #REF! | L24: ='TABELA II'!#REF! -> #REF! | M24: ='TABELA II'!F31 | N24: ='TABELA II'!G31 -> 0 | O24: ='TABELA II'!H31 -> 0 | P24: ='TABELA II'!I31 -> 0 | Q24: ='TABELA II'!J31

Sheet TABELA III-
A1: =+'TABELA I'!A1 -> Naziv tužilaštva | C1: =+'TABELA I'!D1 -> Republičko javno tužilaštvo Republike Srpske - Posebni odjel
A2: Izvještajni period: | C2: =+'TABELA I'!G2 -> 1.1.2025. - 31.12.2025.
A3: Tabela III: Podaci o Kta, Ktarz, Ktn i Ktnrz predmetima (pogledati NAPOMENU 1)
A4: Vrsta predmeta | B4: Neriješeno iz ranijih godina | C4: Primljeno u toku godine | D4: Ukupno u radu | E4: Riješeno u toku godine | I4: Ukupno riješeno na kraju godine | J4: Neriješeno na kraju godine
E5: naredbom o nesprovođenju istrage | G5: prenošenjem u KT upisnik | H5: na drugi način
E6: zbog zastarjelosti | F6: druge vrste naredbe o neprovođenju istrage
A7: KOLONA = | B7: I | C7: II | D7: III | E7: IV | F7: V | G7: VI | H7: VII | I7: VIII | J7: IX
D8: III = I+II | I8: VIII =IV+V+VI+VII | J8: IX=III-VIII
A10: Kta* | D10: =IF(B10+C10=0, " ", B10+C10) | I10: =SUM(E10:H10) -> 0 | J10: =SUM(B10:C10)-SUM(E10:H10) -> 0
A11: Ktarz | D11: =IF(B11+C11=0, " ", B11+C11) | I11: =SUM(E11:H11) -> 0 | J11: =SUM(B11:C11)-SUM(E11:H11) -> 0
A12: Ktn** | D12: =IF(B12+C12=0, " ", B12+C12) | I12: =SUM(E12:H12) -> 0 | J12: =SUM(B12:C12)-SUM(E12:H12) -> 0
A13: Ktnrz | D13: =IF(B13+C13=0, " ", B13+C13) | I13: =SUM(E13:H13) -> 0 | J13: =SUM(B13:C13)-SUM(E13:H13) -> 0
A15: Ukupno | B15: =SUM(B10:B13) -> 0 | C15: =SUM(C10:C13) -> 0 | D15: =SUM(D10:D13) -> 0 | E15: =SUM(E10:E13) -> 0 | F15: =SUM(F10:F13) -> 0 | G15: =SUM(G10:G13) -> 0 | H15: =SUM(H10:H13) -> 0 | I15: =SUM(I10:I13) -> 0 | J15: =SUM(J10:J14) -> 0
A17: * U Kta predmete spadaju KTA, KTAK, KTAO, KTAPO i KTAT predmeti.
A19: ** U Ktn predmete spadaju KTN, KTNK, KTNO, KTNPO i KTNT predmeti.
A21: Napomena 1: Molimo Vas da obratite pažnju da podaci koji se iskazuju u Tabeli III - Podaci o KTA, KTARZ, KTN i KTNRZ predmetima Kolona I – neriješeno iz prethodnih godina trebaju biti jednaki podacima o broju neriješenih predmeta na kraju 2017.godine koji su iskazani u Tabeli za izvještavanje o radu tužilaštva za 2017.godinu.
A22: Pomoći radi, u prilogu Vam dostavljamo tabelu sa podacima o ukupnom broju neriješenih KTA, KTARZ, KTN i KTNRZ predmeta na kraju 2017.godine, koje ste VSTV-u BiH dostavili putem Tabele za izvještavanje o radu tužilaštva za 2017.godinu (Tabeli III - Podaci o KTA, KTARZ, KTN i KTNRZ predmetima Kolona IX – neriješeno na kraju godine)

Sheet TABELA IIIa
A1: =+'TABELA I'!A1 -> Naziv tužilaštva | B1: =+'TABELA I'!D1 -> Republičko javno tužilaštvo Republike Srpske - Posebni odjel
A2: Izvještajni period: | B2: =+'TABELA I'!G2 -> 1.1.2025. - 31.12.2025.
A3: Tabela IIIa: Podaci o neriješenim Kta, Ktarz, Ktn i Ktnrz predmetima koji nisu uvedeni u TCMS na dan 31.12.2018.
A4: Vrsta predmeta | B4: Broj neriješenih predmeta koji nisu uvedeni u TCMS na dan 31.12.2018. godine
A7: KOLONA = | B7: I
A10: Kta*
A11: Ktarz
A12: Ktn**
A13: Ktnrz
A15: Ukupno | B15: =SUM(B10:B13) -> 0
B16: ='TABELA III-'!J15 -> 0
A18: * U Kta predmete spadaju KTA, KTAK, KTAO. KTAPO i KTAT predmeti.
A20: ** U Ktn predmete spadaju KTN, KTNK, KTNO, KTNPO i KTNT predmeti.

Sheet TABELA IV-
A1: =+'TABELA I'!A1 -> Naziv tužilaštva | C1: =+'TABELA I'!D1 -> Republičko javno tužilaštvo Republike Srpske - Posebni odjel
A2: Izvještajni period: | C2: =+'TABELA I'!G2 -> 1.1.2025. - 31.12.2025.
A3: Tabela IV: Podaci o broju Kta i Ktn predmeta u kojima je nastupila zastara
A4: Vrsta predmeta | C4: Broj predmeta u kojima je nastupila apsolutna zastarjelost krivičnog gonjenja | D4: Broj predmeta u kojima je nastupila relativna zastarjelost krivičnog gonjenja | E4: UKUPNO
A5: KOLONA = | C5: I | D5: II | E5: III = I+II
A6: Kta* | E6: =SUM(C6:D6) -> 0
A7: Ktn** | E7: =SUM(C7:D7) -> 0
A9: * U Kta predmete spadaju KTA, KTAK, KTAO, KTAPO i KTAT predmeti.
A10: ** U Ktn predmete spadaju KTN, KTNK, KTNO, KTNPO i KTNT predmeti.

Sheet tab1norma
A1: Godina | B1: Tuzilastvo | C1: ImePrezime | D1: Ocjenjen | E1: OdjelOdsjek | F1: Funkcija | G1: NormaPravilnik | H1: DatumOd | I1: DatumDo | J1: BroDanaZa Normu | K1: Odsustvo | L1: NormaTCMS | M1: NormaVanTCMS | N1: VeceVrednovanje | O1: OstvarenaNorma | P1: PreracunataNorma | Q1: BrPredmURadu | R1: BrRijPredm | S1: ProcRijPredm | T1: BodoviZaOcj
A2: ='TABELA I'!$K$1 -> 2025 | B2: ='TABELA I'!$K$2 -> 0 | C2: ='TABELA I'!B12 -> 0 | D2: ='TABELA I'!C12 -> 0 | E2: ='TABELA I'!D12 -> 0 | F2: ='TABELA I'!E12 -> Zamjenik glavnog tužioca - specijalni tužilac | G2: ='TABELA I'!G12 -> 0 | H2: ='TABELA I'!H12 -> 0 | I2: ='TABELA I'!I12 -> 0 | J2: ='TABELA I'!J12 -> 261 | K2: ='TABELA I'!K12 -> 0 | L2: ='TABELA I'!L12 -> 0 | M2: ='TABELA I'!M12 -> 0 | N2: ='TABELA I'!N12 -> 0 | ... T2: ='TABELA I'!T12
A3: ='TABELA I'!$K$1 -> 2025 | B3: ='TABELA I'!$K$2 -> 0 | C3: ='TABELA I'!B12 -> 0 | D3: ='TABELA I'!C12 -> 0 | E3: ='TABELA I'!D12 -> 0 | F3: ='TABELA I'!E13 -> 0 | G3: ='TABELA I'!G13 -> 0 | H3: ='TABELA I'!H13 -> 0 | I3: ='TABELA I'!I13 -> 0 | J3: ='TABELA I'!J13 -> 261 | K3: ='TABELA I'!K13 -> 0 | L3: ='TABELA I'!L13 -> 0 | M3: ='TABELA I'!M13 -> 0 | N3: ='TABELA I'!N13 -> 0 | ... T3: ='TABELA I'!T13
A4: ='TABELA I'!$K$1 -> 2025 | B4: ='TABELA I'!$K$2 -> 0 | C4: ='TABELA I'!B14 -> 0 | D4: ='TABELA I'!C14 -> 0 | E4: ='TABELA I'!D14 -> 0 | F4: ='TABELA I'!E14 -> 0 | G4: ='TABELA I'!G14 -> 0 | H4: ='TABELA I'!H14 -> 0 | I4: ='TABELA I'!I14 -> 0 | J4: ='TABELA I'!J14 -> 261 | K4: ='TABELA I'!K14 -> 0 | L4: ='TABELA I'!L14 -> 0 | M4: ='TABELA I'!M14 -> 0 | N4: ='TABELA I'!N14 -> 0 | ... T4: ='TABELA I'!T14
A5: ='TABELA I'!$K$1 -> 2025 | B5: ='TABELA I'!$K$2 -> 0 | C5: ='TABELA I'!B15 -> 0 | D5: ='TABELA I'!C15 -> 0 | E5: ='TABELA I'!D15 -> 0 | F5: ='TABELA I'!E15 -> 0 | G5: ='TABELA I'!G15 -> 0 | H5: ='TABELA I'!H15 -> 0 | I5: ='TABELA I'!I15 -> 0 | J5: ='TABELA I'!J15 -> 261 | K5: ='TABELA I'!K15 -> 0 | L5: ='TABELA I'!L15 -> 0 | M5: ='TABELA I'!M15 -> 0 | N5: ='TABELA I'!N15 -> 0 | ... T5: ='TABELA I'!T15
A6: ='TABELA I'!$K$1 -> 2025 | B6: ='TABELA I'!$K$2 -> 0 | C6: ='TABELA I'!B16 -> 0 | D6: ='TABELA I'!C16 -> 0 | E6: ='TABELA I'!D16 -> 0 | F6: ='TABELA I'!E16 -> 0 | G6: ='TABELA I'!G16 -> 0 | H6: ='TABELA I'!H16 -> 0 | I6: ='TABELA I'!I16 -> 0 | J6: ='TABELA I'!J16 -> 261 | K6: ='TABELA I'!K16 -> 0 | L6: ='TABELA I'!L16 -> 0 | M6: ='TABELA I'!M16 -> 0 | N6: ='TABELA I'!N16 -> 0 | ... T6: ='TABELA I'!T16
A7: ='TABELA I'!$K$1 -> 2025 | B7: ='TABELA I'!$K$2 -> 0 | C7: ='TABELA I'!B17 -> 0 | D7: ='TABELA I'!C17 -> 0 | E7: ='TABELA I'!D17 -> 0 | F7: ='TABELA I'!E17 -> 0 | G7: ='TABELA I'!G17 -> 0 | H7: ='TABELA I'!H17 -> 0 | I7: ='TABELA I'!I17 -> 0 | J7: ='TABELA I'!J17 -> 261 | K7: ='TABELA I'!K17 -> 0 | L7: ='TABELA I'!L17 -> 0 | M7: ='TABELA I'!M17 -> 0 | N7: ='TABELA I'!N17 -> 0 | ... T7: ='TABELA I'!T17
A8: ='TABELA I'!$K$1 -> 2025 | B8: ='TABELA I'!$K$2 -> 0 | C8: ='TABELA I'!B18 -> 0 | D8: ='TABELA I'!C18 -> 0 | E8: ='TABELA I'!D18 -> 0 | F8: ='TABELA I'!E18 -> 0 | G8: ='TABELA I'!G18 -> 0 | H8: ='TABELA I'!H18 -> 0 | I8: ='TABELA I'!I18 -> 0 | J8: ='TABELA I'!J18 -> 261 | K8: ='TABELA I'!K18 -> 0 | L8: ='TABELA I'!L18 -> 0 | M8: ='TABELA I'!M18 -> 0 | N8: ='TABELA I'!N18 -> 0 | ... T8: ='TABELA I'!T18
A9: ='TABELA I'!$K$1 -> 2025 | B9: ='TABELA I'!$K$2 -> 0 | C9: ='TABELA I'!B19 -> 0 | D9: ='TABELA I'!C19 -> 0 | E9: ='TABELA I'!D19 -> 0 | F9: ='TABELA I'!E19 -> 0 | G9: ='TABELA I'!G19 -> 0 | H9: ='TABELA I'!H19 -> 0 | I9: ='TABELA I'!I19 -> 0 | J9: ='TABELA I'!J19 -> 261 | K9: ='TABELA I'!K19 -> 0 | L9: ='TABELA I'!L19 -> 0 | M9: ='TABELA I'!M19 -> 0 | N9: ='TABELA I'!N19 -> 0 | ... T9: ='TABELA I'!T19
A10: ='TABELA I'!$K$1 -> 2025 | B10: ='TABELA I'!$K$2 -> 0 | C10: ='TABELA I'!B20 -> 0 | D10: ='TABELA I'!C20 -> 0 | E10: ='TABELA I'!D20 -> 0 | F10: ='TABELA I'!E20 -> 0 | G10: ='TABELA I'!G20 -> 0 | H10: ='TABELA I'!H20 -> 0 | I10: ='TABELA I'!I20 -> 0 | J10: ='TABELA I'!J20 -> 261 | K10: ='TABELA I'!K20 -> 0 | L10: ='TABELA I'!L20 -> 0 | M10: ='TABELA I'!M20 -> 0 | N10: ='TABELA I'!N20 -> 0 | ... T10: ='TABELA I'!T20
A11: ='TABELA I'!$K$1 -> 2025 | B11: ='TABELA I'!$K$2 -> 0 | C11: ='TABELA I'!B21 -> 0 | D11: ='TABELA I'!C21 -> 0 | E11: ='TABELA I'!D21 -> 0 | F11: ='TABELA I'!E21 -> 0 | G11: ='TABELA I'!G21 -> 0 | H11: ='TABELA I'!H21 -> 0 | I11: ='TABELA I'!I21 -> 0 | J11: ='TABELA I'!J21 -> 261 | K11: ='TABELA I'!K21 -> 0 | L11: ='TABELA I'!L21 -> 0 | M11: ='TABELA I'!M21 -> 0 | N11: ='TABELA I'!N21 -> 0 | ... T11: ='TABELA I'!T21
A12: ='TABELA I'!$K$1 -> 2025 | B12: ='TABELA I'!$K$2 -> 0 | C12: ='TABELA I'!B22 -> 0 | D12: ='TABELA I'!C22 -> 0 | E12: ='TABELA I'!D22 -> 0 | F12: ='TABELA I'!E22 -> 0 | G12: ='TABELA I'!G22 -> 0 | H12: ='TABELA I'!H22 -> 0 | I12: ='TABELA I'!I22 -> 0 | J12: ='TABELA I'!J22 -> 261 | K12: ='TABELA I'!K22 -> 0 | L12: ='TABELA I'!L22 -> 0 | M12: ='TABELA I'!M22 -> 0 | N12: ='TABELA I'!N22 -> 0 | ... T12: ='TABELA I'!T22
A13: ='TABELA I'!$K$1 -> 2025 | B13: ='TABELA I'!$K$2 -> 0 | C13: ='TABELA I'!B23 -> 0 | D13: ='TABELA I'!C23 -> 0 | E13: ='TABELA I'!D23 -> 0 | F13: ='TABELA I'!E23 -> 0 | G13: ='TABELA I'!G23 -> 0 | H13: ='TABELA I'!H23 -> 0 | I13: ='TABELA I'!I23 -> 0 | J13: ='TABELA I'!J23 -> 261 | K13: ='TABELA I'!K23 -> 0 | L13: ='TABELA I'!L23 -> 0 | M13: ='TABELA I'!M23 -> 0 | N13: ='TABELA I'!N23 -> 0 | ... T13: ='TABELA I'!T23
A14: ='TABELA I'!$K$1 -> 2025 | B14: ='TABELA I'!$K$2 -> 0 | C14: ='TABELA I'!B24 -> 0 | D14: ='TABELA I'!C24 -> 0 | E14: ='TABELA I'!D24 -> 0 | F14: ='TABELA I'!E24 -> 0 | G14: ='TABELA I'!G24 -> 0 | H14: ='TABELA I'!H24 -> 0 | I14: ='TABELA I'!I24 -> 0 | J14: ='TABELA I'!J24 -> 261 | K14: ='TABELA I'!K24 -> 0 | L14: ='TABELA I'!L24 -> 0 | M14: ='TABELA I'!M24 -> 0 | N14: ='TABELA I'!N24 -> 0 | ... T14: ='TABELA I'!T24
A15: ='TABELA I'!$K$1 -> 2025 | B15: ='TABELA I'!$K$2 -> 0 | C15: ='TABELA I'!B25 -> 0 | D15: ='TABELA I'!C25 -> 0 | E15: ='TABELA I'!D25 -> 0 | F15: ='TABELA I'!E25 -> 0 | G15: ='TABELA I'!G25 -> 0 | H15: ='TABELA I'!H25 -> 0 | I15: ='TABELA I'!I25 -> 0 | J15: ='TABELA I'!J25 -> 261 | K15: ='TABELA I'!K25 -> 0 | L15: ='TABELA I'!L25 -> 0 | M15: ='TABELA I'!M25 -> 0 | N15: ='TABELA I'!N25 -> 0 | ... T15: ='TABELA I'!T25
... A77: ='TABELA I'!$K$1 -> 2025 | B77: ='TABELA I'!$K$2 -> 0 | C77: ='TABELA I'!B87 -> 0 | D77: ='TABELA I'!C87 -> 0 | E77: ='TABELA I'!D87 -> 0 | F77: ='TABELA I'!E87 -> 0 | G77: ='TABELA I'!G87 -> 0 | H77: ='TABELA I'!H87 -> 0 | I77: ='TABELA I'!I87 -> 0 | J77: ='TABELA I'!J87 -> 261 | K77: ='TABELA I'!K87 -> 0 | L77: ='TABELA I'!L87 -> 0 | M77: ='TABELA I'!M87 -> 0 | N77: ='TABELA I'!N87 -> 0 | ... T77: ='TABELA I'!T87
A79: Godina | B79: Tuzilastvo | C79: ImePrezime | D79: Ocjenjen | E79: OdjelOdsjek | F79: Funkcija | G79: NormaPravilnik | H79: DatumOd | I79: DatumDo | J79: BroDanaZa Normu | K79: Odsustvo | L79: NormaTCMS | M79: NormaVanTCMS | N79: VeceVrednovanje | O79: OstvarenaNorma | P79: PreracunataNorma | Q79: BrPredmURadu | R79: BrRijPredm | S79: ProcRijPredm | T79: BodoviZaOcj | U79: Tuzil_1_2
A80: ='TABELA I'!$K$1 -> 2025 | B80: ='TABELA I'!$K$2 -> 0 | C80: =+'TABELA I'!D111 -> 0 | D80: =+'TABELA I'!C112 -> 0 | E80: =+'TABELA I'!D112 -> 0 | F80: =+'TABELA I'!E112 -> Glavni tužilac | G80: ='TABELA I'!G112 -> 0 | H80: ='TABELA I'!H112 -> 0 | I80: ='TABELA I'!I112 -> 0 | J80: ='TABELA I'!J112 -> 0 | K80: ='TABELA I'!K112 -> 0 | L80: ='TABELA I'!L112 -> 0 | M80: ='TABELA I'!M112 -> 0 | N80: ='TABELA I'!N112 -> 0 | ... T80: ='TABELA I'!T112 -> 0 | U80: ='TABELA I'!A112 -> Tužilaštvo 1
A81: ='TABELA I'!$K$1 -> 2025 | B81: ='TABELA I'!$K$2 -> 0 | C81: =+'TABELA I'!D111 -> 0 | D81: =+'TABELA I'!C113 -> 0 | E81: =+'TABELA I'!D113 -> 0 | F81: =+'TABELA I'!E113 -> 0 | G81: ='TABELA I'!G113 -> 0 | H81: ='TABELA I'!H113 -> 0 | I81: ='TABELA I'!I113 -> 0 | J81: ='TABELA I'!J113 -> 0 | K81: ='TABELA I'!K113 -> 0 | L81: ='TABELA I'!L113 -> 0 | M81: ='TABELA I'!M113 -> 0 | N81: ='TABELA I'!N113 -> 0 | ... T81: ='TABELA I'!T113 | U81: ='TABELA I'!A113 -> Tužilaštvo 2
A82: ='TABELA I'!$K$1 -> 2025 | B82: ='TABELA I'!$K$2 -> 0 | C82: ='TABELA I'!D114 -> 0 | D82: ='TABELA I'!C115 -> 0 | E82: ='TABELA I'!D115 -> 0 | F82: ='TABELA I'!E115 -> 0 | G82: ='TABELA I'!G115 -> 0 | H82: ='TABELA I'!H115 -> 0 | I82: ='TABELA I'!I115 -> 0 | J82: ='TABELA I'!J115 -> 0 | K82: ='TABELA I'!K115 -> 0 | L82: ='TABELA I'!L115 -> 0 | M82: ='TABELA I'!M115 -> 0 | N82: ='TABELA I'!N115 -> 0 | ... T82: ='TABELA I'!T115 | U82: ='TABELA I'!A115 -> Tužilaštvo 1
A83: ='TABELA I'!$K$1 -> 2025 | B83: ='TABELA I'!$K$2 -> 0 | C83: ='TABELA I'!D114 -> 0 | D83: ='TABELA I'!C116 -> 0 | E83: ='TABELA I'!D116 -> 0 | F83: ='TABELA I'!E116 -> 0 | G83: ='TABELA I'!G116 -> 0 | H83: ='TABELA I'!H116 -> 0 | I83: ='TABELA I'!I116 -> 0 | J83: ='TABELA I'!J116 -> 0 | K83: ='TABELA I'!K116 -> 0 | L83: ='TABELA I'!L116 -> 0 | M83: ='TABELA I'!M116 -> 0 | N83: ='TABELA I'!N116 -> 0 | ... T83: ='TABELA I'!T116 | U83: ='TABELA I'!A116 -> Tužilaštvo 2
A84: ='TABELA I'!$K$1 -> 2025 | B84: ='TABELA I'!$K$2 -> 0 | C84: ='TABELA I'!D117 -> 0 | D84: ='TABELA I'!C118 -> 0 | E84: ='TABELA I'!D118 -> 0 | F84: ='TABELA I'!E118 -> 0 | G84: ='TABELA I'!G118 -> 0 | H84: ='TABELA I'!H118 -> 0 | I84: ='TABELA I'!I118 -> 0 | J84: ='TABELA I'!J118 -> 0 | K84: ='TABELA I'!K118 -> 0 | L84: ='TABELA I'!L118 -> 0 | M84: ='TABELA I'!M118 -> 0 | N84: ='TABELA I'!N118 -> 0 | ... T84: ='TABELA I'!T118 | U84: ='TABELA I'!A118 -> Tužilaštvo 1
A85: ='TABELA I'!$K$1 -> 2025 | B85: ='TABELA I'!$K$2 -> 0 | C85: ='TABELA I'!D117 -> 0 | D85: ='TABELA I'!C119 -> 0 | E85: ='TABELA I'!D119 -> 0 | F85: ='TABELA I'!E119 -> 0 | G85: ='TABELA I'!G119 -> 0 | H85: ='TABELA I'!H119 -> 0 | I85: ='TABELA I'!I119 -> 0 | J85: ='TABELA I'!J119 -> 0 | K85: ='TABELA I'!K119 -> 0 | L85: ='TABELA I'!L119 -> 0 | M85: ='TABELA I'!M119 -> 0 | N85: ='TABELA I'!N119 -> 0 | ... T85: ='TABELA I'!T119 | U85: ='TABELA I'!A119 -> Tužilaštvo 2
A86: ='TABELA I'!$K$1 -> 2025 | B86: ='TABELA I'!$K$2 -> 0 | C86: ='TABELA I'!D120 -> 0 | D86: ='TABELA I'!C121 -> 0 | E86: ='TABELA I'!D121 -> 0 | F86: ='TABELA I'!E121 -> 0 | G86: ='TABELA I'!G121 -> 0 | H86: ='TABELA I'!H121 -> 0 | I86: ='TABELA I'!I121 -> 0 | J86: ='TABELA I'!J121 -> 0 | K86: ='TABELA I'!K121 -> 0 | L86: ='TABELA I'!L121 -> 0 | M86: ='TABELA I'!M121 -> 0 | N86: ='TABELA I'!N121 -> 0 | ... T86: ='TABELA I'!T121 | U86: ='TABELA I'!A121 -> Tužilaštvo 1
A87: ='TABELA I'!$K$1 -> 2025 | B87: ='TABELA I'!$K$2 -> 0 | C87: ='TABELA I'!D120 -> 0 | D87: ='TABELA I'!C122 -> 0 | E87: ='TABELA I'!D122 -> 0 | F87: ='TABELA I'!E122 -> 0 | G87: ='TABELA I'!G122 -> 0 | H87: ='TABELA I'!H122 -> 0 | I87: ='TABELA I'!I122 -> 0 | J87: ='TABELA I'!J122 -> 0 | K87: ='TABELA I'!K122 -> 0 | L87: ='TABELA I'!L122 -> 0 | M87: ='TABELA I'!M122 -> 0 | N87: ='TABELA I'!N122 -> 0 | ... T87: ='TABELA I'!T122 | U87: ='TABELA I'!A122 -> Tužilaštvo 2
A88: ='TABELA I'!$K$1 -> 2025 | B88: ='TABELA I'!$K$2 -> 0 | C88: ='TABELA I'!D123 -> 0 | D88: ='TABELA I'!C124 -> 0 | E88: ='TABELA I'!D124 -> 0 | F88: ='TABELA I'!E124 -> 0 | G88: ='TABELA I'!G124 -> 0 | H88: ='TABELA I'!H124 -> 0 | I88: ='TABELA I'!I124 -> 0 | J88: ='TABELA I'!J124 -> 0 | K88: ='TABELA I'!K124 -> 0 | L88: ='TABELA I'!L124 -> 0 | M88: ='TABELA I'!M124 -> 0 | N88: ='TABELA I'!N124 -> 0 | ... T88: ='TABELA I'!T124 | U88: ='TABELA I'!A124 -> Tužilaštvo 1
A89: ='TABELA I'!$K$1 -> 2025 | B89: ='TABELA I'!$K$2 -> 0 | C89: ='TABELA I'!D123 -> 0 | D89: ='TABELA I'!C125 -> 0 | E89: ='TABELA I'!D125 -> 0 | F89: ='TABELA I'!E125 -> 0 | G89: ='TABELA I'!G125 -> 0 | H89: ='TABELA I'!H125 -> 0 | I89: ='TABELA I'!I125 -> 0 | J89: ='TABELA I'!J125 -> 0 | K89: ='TABELA I'!K125 -> 0 | L89: ='TABELA I'!L125 -> 0 | M89: ='TABELA I'!M125 -> 0 | N89: ='TABELA I'!N125 -> 0 | ... T89: ='TABELA I'!T125 | U89: ='TABELA I'!A125 -> Tužilaštvo 2
A90: ='TABELA I'!$K$1 -> 2025 | B90: ='TABELA I'!$K$2 -> 0 | C90: ='TABELA I'!D126 -> 0 | D90: ='TABELA I'!C127 -> 0 | E90: ='TABELA I'!D127 -> 0 | F90: ='TABELA I'!E127 -> 0 | G90: ='TABELA I'!G127 -> 0 | H90: ='TABELA I'!H127 -> 0 | I90: ='TABELA I'!I127 -> 0 | J90: ='TABELA I'!J127 -> 0 | K90: ='TABELA I'!K127 -> 0 | L90: ='TABELA I'!L127 -> 0 | M90: ='TABELA I'!M127 -> 0 | N90: ='TABELA I'!N127 -> 0 | ... T90: ='TABELA I'!T127 | U90: ='TABELA I'!A127 -> Tužilaštvo 1
A91: ='TABELA I'!$K$1 -> 2025 | B91: ='TABELA I'!$K$2 -> 0 | C91: ='TABELA I'!D126 -> 0 | D91: ='TABELA I'!C128 -> 0 | E91: ='TABELA I'!D128 -> 0 | F91: ='TABELA I'!E128 -> 0 | G91: ='TABELA I'!G128 -> 0 | H91: ='TABELA I'!H128 -> 0 | I91: ='TABELA I'!I128 -> 0 | J91: ='TABELA I'!J128 -> 0 | K91: ='TABELA I'!K128 -> 0 | L91: ='TABELA I'!L128 -> 0 | M91: ='TABELA I'!M128 -> 0 | N91: ='TABELA I'!N128 -> 0 | ... T91: ='TABELA I'!T128 | U91: ='TABELA I'!A128 -> Tužilaštvo 2
A92: ='TABELA I'!$K$1 -> 2025 | B92: ='TABELA I'!$K$2 -> 0 | C92: ='TABELA I'!D129 -> 0 | D92: ='TABELA I'!C130 -> 0 | E92: ='TABELA I'!D130 -> 0 | F92: ='TABELA I'!E130 -> 0 | G92: ='TABELA I'!G130 -> 0 | H92: ='TABELA I'!H130 -> 0 | I92: ='TABELA I'!I130 -> 0 | J92: ='TABELA I'!J130 -> 0 | K92: ='TABELA I'!K130 -> 0 | L92: ='TABELA I'!L130 -> 0 | M92: ='TABELA I'!M130 -> 0 | N92: ='TABELA I'!N130 -> 0 | ... T92: ='TABELA I'!T130 | U92: ='TABELA I'!A130 -> Tužilaštvo 1
A93: ='TABELA I'!$K$1 -> 2025 | B93: ='TABELA I'!$K$2 -> 0 | C93: ='TABELA I'!D129 -> 0 | D93: ='TABELA I'!C131 -> 0 | E93: ='TABELA I'!D131 -> 0 | F93: ='TABELA I'!E131 -> 0 | G93: ='TABELA I'!G131 -> 0 | H93: ='TABELA I'!H131 -> 0 | I93: ='TABELA I'!I131 -> 0 | J93: ='TABELA I'!J131 -> 0 | K93: ='TABELA I'!K131 -> 0 | L93: ='TABELA I'!L131 -> 0 | M93: ='TABELA I'!M131 -> 0 | N93: ='TABELA I'!N131 -> 0 | ... T93: ='TABELA I'!T131 | U93: ='TABELA I'!A131 -> Tužilaštvo 2
A94: ='TABELA I'!$K$1 -> 2025 | B94: ='TABELA I'!$K$2 -> 0 | C94: ='TABELA I'!D132 -> 0 | D94: ='TABELA I'!C133 -> 0 | E94: ='TABELA I'!D133 -> 0 | F94: ='TABELA I'!E133 -> 0 | G94: ='TABELA I'!G133 -> 0 | H94: ='TABELA I'!H133 -> 0 | I94: ='TABELA I'!I133 -> 0 | J94: ='TABELA I'!J133 -> 0 | K94: ='TABELA I'!K133 -> 0 | L94: ='TABELA I'!L133 -> 0 | M94: ='TABELA I'!M133 -> 0 | N94: ='TABELA I'!N133 -> 0 | ... T94: ='TABELA I'!T133 | U94: ='TABELA I'!A133 -> Tužilaštvo 1
A95: ='TABELA I'!$K$1 -> 2025 | B95: ='TABELA I'!$K$2 -> 0 | C95: ='TABELA I'!D132 -> 0 | D95: ='TABELA I'!C134 -> 0 | E95: ='TABELA I'!D134 -> 0 | F95: ='TABELA I'!E134 -> 0 | G95: ='TABELA I'!G134 -> 0 | H95: ='TABELA I'!H134 -> 0 | I95: ='TABELA I'!I134 -> 0 | J95: ='TABELA I'!J134 -> 0 | K95: ='TABELA I'!K134 -> 0 | L95: ='TABELA I'!L134 -> 0 | M95: ='TABELA I'!M134 -> 0 | N95: ='TABELA I'!N134 -> 0 | ... T95: ='TABELA I'!T134 | U95: ='TABELA I'!A134 -> Tužilaštvo 2
A96: ='TABELA I'!$K$1 -> 2025 | B96: ='TABELA I'!$K$2 -> 0 | C96: ='TABELA I'!D135 -> 0 | D96: ='TABELA I'!C136 -> 0 | E96: ='TABELA I'!D136 -> 0 | F96: ='TABELA I'!E136 -> 0 | G96: ='TABELA I'!G136 -> 0 | H96: ='TABELA I'!H136 -> 0 | I96: ='TABELA I'!I136 -> 0 | J96: ='TABELA I'!J136 -> 0 | K96: ='TABELA I'!K136 -> 0 | L96: ='TABELA I'!L136 -> 0 | M96: ='TABELA I'!M136 -> 0 | N96: ='TABELA I'!N136 -> 0 | ... T96: ='TABELA I'!T136 | U96: ='TABELA I'!A136 -> Tužilaštvo 1
A97: ='TABELA I'!$K$1 -> 2025 | B97: ='TABELA I'!$K$2 -> 0 | C97: ='TABELA I'!D135 -> 0 | D97: ='TABELA I'!C137 -> 0 | E97: ='TABELA I'!D137 -> 0 | F97: ='TABELA I'!E137 -> 0 | G97: ='TABELA I'!G137 -> 0 | H97: ='TABELA I'!H137 -> 0 | I97: ='TABELA I'!I137 -> 0 | J97: ='TABELA I'!J137 -> 0 | K97: ='TABELA I'!K137 -> 0 | L97: ='TABELA I'!L137 -> 0 | M97: ='TABELA I'!M137 -> 0 | N97: ='TABELA I'!N137 -> 0 | ... T97: ='TABELA I'!T137 | U97: ='TABELA I'!A137 -> Tužilaštvo 2
A98: ='TABELA I'!$K$1 -> 2025 | B98: ='TABELA I'!$K$2 -> 0 | C98: ='TABELA I'!D138 -> 0 | D98: ='TABELA I'!C139 -> 0 | E98: ='TABELA I'!D139 -> 0 | F98: ='TABELA I'!E139 -> 0 | G98: ='TABELA I'!G139 -> 0 | H98: ='TABELA I'!H139 -> 0 | I98: ='TABELA I'!I139 -> 0 | J98: ='TABELA I'!J139 -> 0 | K98: ='TABELA I'!K139 -> 0 | L98: ='TABELA I'!L139 -> 0 | M98: ='TABELA I'!M139 -> 0 | N98: ='TABELA I'!N139 -> 0 | ... T98: ='TABELA I'!T139 | U98: ='TABELA I'!A139 -> Tužilaštvo 1
A99: ='TABELA I'!$K$1 -> 2025 | B99: ='TABELA I'!$K$2 -> 0 | C99: ='TABELA I'!D138 -> 0 | D99: ='TABELA I'!C140 -> 0 | E99: ='TABELA I'!D140 -> 0 | F99: ='TABELA I'!E140 -> 0 | G99: ='TABELA I'!G140 -> 0 | H99: ='TABELA I'!H140 -> 0 | I99: ='TABELA I'!I140 -> 0 | J99: ='TABELA I'!J140 -> 0 | K99: ='TABELA I'!K140 -> 0 | L99: ='TABELA I'!L140 -> 0 | M99: ='TABELA I'!M140 -> 0 | N99: ='TABELA I'!N140 -> 0 | ... T99: ='TABELA I'!T140 | U99: ='TABELA I'!A140 -> Tužilaštvo 2
A102: Godina | B102: Tuzilastvo | C102: ImePrezimePredsjOdj | D102: Odjel | E102: BrojTuzOdjel | F102: KolNormaOdjela
A103: ='TABELA I'!$K$1 -> 2025 | B103: ='TABELA I'!$K$2 -> 0 | C103: ='TABELA I'!H145 -> 0 | D103: ='TABELA I'!K145 -> 0 | E103: ='TABELA I'!N145 -> 0 | F103: ='TABELA I'!O145 -> 0
A104: ='TABELA I'!$K$1 -> 2025 | B104: ='TABELA I'!$K$2 -> 0 | C104: ='TABELA I'!H146 -> 0 | D104: ='TABELA I'!K146 -> 0 | E104: ='TABELA I'!N146 -> 0 | F104: ='TABELA I'!O146 -> 0
A105: ='TABELA I'!$K$1 -> 2025 | B105: ='TABELA I'!$K$2 -> 0 | C105: ='TABELA I'!H147 -> 0 | D105: ='TABELA I'!K147 -> 0 | E105: ='TABELA I'!N147 -> 0 | F105: ='TABELA I'!O147 -> 0
A106: ='TABELA I'!$K$1 -> 2025 | B106: ='TABELA I'!$K$2 -> 0 | C106: ='TABELA I'!H148 -> 0 | D106: ='TABELA I'!K148 -> 0 | E106: ='TABELA I'!N148 -> 0 | F106: ='TABELA I'!O148 -> 0
A107: ='TABELA I'!$K$1 -> 2025 | B107: ='TABELA I'!$K$2 -> 0 | C107: ='TABELA I'!H149 -> 0 | D107: ='TABELA I'!K149 -> 0 | E107: ='TABELA I'!N149 -> 0 | F107: ='TABELA I'!O149 -> 0
A108: ='TABELA I'!$K$1 -> 2025 | B108: ='TABELA I'!$K$2 -> 0 | C108: ='TABELA I'!H150 -> 0 | D108: ='TABELA I'!K150 -> 0 | E108: ='TABELA I'!N150 -> 0 | F108: ='TABELA I'!O150 -> 0
A109: ='TABELA I'!$K$1 -> 2025 | B109: ='TABELA I'!$K$2 -> 0 | C109: ='TABELA I'!H151 -> 0 | D109: ='TABELA I'!K151 -> 0 | E109: ='TABELA I'!N151 -> 0 | F109: ='TABELA I'!O151 -> 0
A110: ='TABELA I'!$K$1 -> 2025 | B110: ='TABELA I'!$K$2 -> 0 | C110: ='TABELA I'!H152 -> 0 | D110: ='TABELA I'!K152 -> 0 | E110: ='TABELA I'!N152 -> 0 | F110: ='TABELA I'!O152 -> 0
A111: ='TABELA I'!$K$1 -> 2025 | B111: ='TABELA I'!$K$2 -> 0 | C111: ='TABELA I'!H153 -> 0 | D111: ='TABELA I'!K153 -> 0 | E111: ='TABELA I'!N153 -> 0 | F111: ='TABELA I'!O153 -> 0
A112: ='TABELA I'!$K$1 -> 2025 | B112: ='TABELA I'!$K$2 -> 0 | C112: ='TABELA I'!H154 -> 0 | D112: ='TABELA I'!K154 -> 0 | E112: ='TABELA I'!N154 -> 0 | F112: ='TABELA I'!O154 -> 0

Sheet tbl_kvalitet_tuzioci
A1: Tuz | B1: Godina | C1: ImePrezime | D1: Funkcija | E1: Odjel | F1: Ocjenjen | G1: VrstaPredm | H1: BrPodigOpt | I1: BrPodPrijedl | J1: PravPresOsudj | K1: PravPresOdbij | L1: PravPresOslob | M1: BrPravsnRjoOdbOpt | N1: BrPrOdlONeprPrijedl | O1: BrPrOdlOObustPost | P1: ZbirnaOPt | Q1: KvalitetOpt | R1: KvalitetZaGI | S1: KvalOptCl19Krit | T1: BrBodPoCl19 | U1: BrBodPoCl21Stav2 | V1: BrNarONesprIstr | W1: BrNarOObustIstr | X1: UkBrRjesOPrit | Y1: KvalitetIstraga | Z1: KvalitetIstragaCl20 | AA1: BrBodPoCl20 | AB1: KvalZbirnoOptIstr | AC1: NegatBod | AD1: UkBrBodOptIstr
A2: ='TABELA I'!$K$2 -> 0 | B2: ='TABELA I'!$K$1 -> 2025 | C2: ='TABELA IIa'!C11 | D2: ='TABELA IIa'!D11 -> Zamjenik glavnog tužioca - specijalni tužilac | E2: ='TABELA IIa'!E11 -> 0 | F2: ='TABELA IIa'!F11 -> Nije ocijenjen ili Nema obavezu neposredno raditi na predmetima | G2: ='TABELA IIa'!G11 -> KT i KTM | H2: ='TABELA IIa'!H11 -> 0 | I2: ='TABELA IIa'!I11 -> 0 | J2: ='TABELA IIa'!J11 -> 0 | ... V2: ='TABELA IIa'!V11 | W2: ='TABELA IIa'!#REF! -> #REF! | X2: ='TABELA IIa'!#REF! -> #REF! | Y2: ='TABELA IIa'!#REF! -> #REF! | Z2: ='TABELA IIa'!#REF! -> #REF! | AA2: ='TABELA IIa'!#REF! -> #REF! | AB2: ='TABELA IIa'!#REF! -> #REF! | AC2: ='TABELA IIa'!#REF! -> #REF! | AD2: ='TABELA IIa'!#REF! -> #REF!
A3: ='TABELA I'!$K$2 -> 0 | B3: ='TABELA I'!$K$1 -> 2025 | C3: =C2 | D3: =D2 -> Zamjenik glavnog tužioca - specijalni tužilac | E3: =E2 -> 0 | F3: =F2 -> Nije ocijenjen ili Nema obavezu neposredno raditi na predmetima | G3: ='TABELA IIa'!G12 -> KTRZ, KTPO, KTO, KTK | H3: ='TABELA IIa'!H12 -> 0 | I3: ='TABELA IIa'!I12 -> 0 | J3: ='TABELA IIa'!J12 -> 0 | K3: ='TABELA IIa'!K12 -> 0 | L3: ='TABELA IIa'!L12 -> 0 | M3: ='TABELA IIa'!M12 -> 0 | N3: ='TABELA IIa'!N12 -> 0 | ... T3: ='TABELA IIa'!T12 | U3: =U2 | V3: =V2 | W3: =W2 -> #REF! | X3: =X2 -> #REF! | Y3: =Y2 -> #REF! | Z3: =Z2 -> #REF! | AA3: =AA2 -> #REF! | AB3: =AB2 -> #REF! | ... AD3: =AD2 -> #REF!
A4: ='TABELA I'!$K$2 -> 0 | B4: ='TABELA I'!$K$1 -> 2025 | C4: ='TABELA IIa'!C13 | D4: ='TABELA IIa'!D13 -> 0 | E4: ='TABELA IIa'!E13 | F4: ='TABELA IIa'!F13 -> Nije ocijenjen | G4: ='TABELA IIa'!G13 -> KT i KTM | H4: ='TABELA IIa'!H13 -> 0 | I4: ='TABELA IIa'!I13 -> 0 | J4: ='TABELA IIa'!J13 -> 0 | ... V4: ='TABELA IIa'!V13 | W4: ='TABELA IIa'!#REF! -> #REF! | X4: ='TABELA IIa'!#REF! -> #REF! | Y4: ='TABELA IIa'!#REF! -> #REF! | Z4: ='TABELA IIa'!#REF! -> #REF! | AA4: ='TABELA IIa'!#REF! -> #REF! | AB4: ='TABELA IIa'!#REF! -> #REF! | AC4: ='TABELA IIa'!#REF! -> #REF! | AD4: ='TABELA IIa'!#REF! -> #REF!
A5: ='TABELA I'!$K$2 -> 0 | B5: ='TABELA I'!$K$1 -> 2025 | C5: =C4 | D5: =D4 -> 0 | E5: =E4 | F5: =F4 -> Nije ocijenjen | G5: ='TABELA IIa'!G14 -> KTRZ, KTPO, KTO, KTK | H5: ='TABELA IIa'!H14 -> 0 | I5: ='TABELA IIa'!I14 -> 0 | J5: ='TABELA IIa'!J14 -> 0 | K5: ='TABELA IIa'!K14 -> 0 | L5: ='TABELA IIa'!L14 -> 0 | M5: ='TABELA IIa'!M14 -> 0 | N5: ='TABELA IIa'!N14 -> #REF! | ... T5: ='TABELA IIa'!T14 | U5: =U4 | V5: =V4 | W5: =W4 -> #REF! | X5: =X4 -> #REF! | Y5: =Y4 -> #REF! | Z5: =Z4 -> #REF! | AA5: =AA4 -> #REF! | AB5: =AB4 -> #REF! | ... AD5: =AD4 -> #REF!
A6: ='TABELA I'!$K$2 -> 0 | B6: ='TABELA I'!$K$1 -> 2025 | C6: ='TABELA IIa'!C15 | D6: ='TABELA IIa'!D15 -> 0 | E6: ='TABELA IIa'!E15 | F6: ='TABELA IIa'!F15 -> Nije ocijenjen | G6: ='TABELA IIa'!G15 -> KT i KTM | H6: ='TABELA IIa'!H15 -> 0 | I6: ='TABELA IIa'!I15 -> 0 | J6: ='TABELA IIa'!J15 -> 0 | ... V6: ='TABELA IIa'!V15 | W6: ='TABELA IIa'!#REF! -> #REF! | X6: ='TABELA IIa'!#REF! -> #REF! | Y6: ='TABELA IIa'!#REF! -> #REF! | Z6: ='TABELA IIa'!#REF! -> #REF! | AA6: ='TABELA IIa'!#REF! -> #REF! | AB6: ='TABELA IIa'!#REF! -> #REF! | AC6: ='TABELA IIa'!#REF! -> #REF! | AD6: ='TABELA IIa'!#REF! -> #REF!
