Workbook

Sheet Uputstvo
B2: KANTONALNI/OKRUŽNI SUDOVI
B3: Kompletni materijali u vezi procesa izvještavanja i ocjenjivanja rada u sudovima dostupni su na linkovima:
B4: http://www.pravosudje.ba/vstv/faces/kategorijevijesti.jsp?ins=141&modul=1198&kat=1201&kolona=12200
B5: https://vstv.pravosudje.ba/vstv/faces/vijesti.jsp?id=65385
B6: Tabele za popunjavanje podataka o radu sudova nije moguće mijenjati, niti dodavati nove redove ili kolone.
B7: Tabele se isključivo popunjavaju predviđenim redoslijedom, po redoslijedu postavljenih tabela.
B10: Podatke je potrebno upisivati samo u polja osjenčena žutom bojom.
B11: U ostala polja nije moguće upisivati vrijednosti, u ovim poljima vrijednosti će biti izračunate automatski.
B12: Molimo Vas da u Tabeli I i naslovu e-maila (subject) kojim ćete poslati popunjene obrasce navedete naziv Vašeg suda.
B15: Popunjene obrasce poslati na e-mail adresu: vstvstatistika@pravosudje.ba do 1.2.2020. godine.
B17: Za sva eventualna pitanja vezano za popunjavanje obrazaca molimo Vas da kontaktirate
B18: Odjel za pravosudnu upravu, na telefon: 033 704 616 ili 033 707 584.
... B35: TABELA IV – ODLUKE USTAVNOG SUDA BIH U tabeli IV potrebno je prikazati samo podatke o odlukama Ustavnog suda BiH u kojima je izrekom obuhvaćena odluka Vašeg suda, odnosno postupak koji je u toku pred Vašim sudom (kada je riječ o apelacijama sa navodima da postoji kršenje prava na suđenje u razumnom roku). Posebna napomena: Traženi podaci se odnose na odluke iz apelacione nadležnosti Ustavnog suda BiH. Tabela IVa – Odluke kojima se ne usvaja apelacija: potrebno je prikazati podatke o odlukama Ustavnog suda BiH kojima je utvrđeno da nije osnovana apelacija izjavljena u odnosu na odluke Vašeg suda. Molimo da unesete podatake u kolone I-III prema njihovim nazivima. Podaci se automatski preračunavaju u koloni IV. Tabela IVb – Odluke kojima apelacija usvaja: “Pravni osnov” - Odluke kojima se usvaja apelacija potrebno je razvrstati prema izrekama odluka Ustavnog suda BiH kojima su utvrđene povrede Ustava BiH, Evropske konvencije o ljudskim pravima (u tabeli: EK) i njenih protokola (u tabeli:P). Svi pomenuti dokumenti i klasifikacija povreda su dostupni na zvaničnoj web stranici Ustavnog suda BiH (http://www.ccbh.ba/bos/p_stream.php?kat=83). Kolone I - IV “Broj odluka kojim se usvaja apelacija” – Potrebno je razvrstati broj odluka Ustavnog suda kojima se izjavljena apelacija usvaja u odnosu na odluku Vašeg suda, prema odgovarajućim kategorijama, u zavisnosti od izreke odluke Ustavnog suda BiH. Preostale odluke Ustavnog suda, koje ne spadaju u navedene tri kategorije, potrebno je upisati u rubriku “Broj ostalih odluka kojima se usvajaju apelacije” (npr. odluka kojom se usvaja apelacija i konstatuje povreda prava na pravično suđenje, zbog prekoračenja razumnog roka za donošenje odluke, nakon što je sudski postupak završen, a kojom se ne nalaže sudu da okonča predmet bez odlaganja, odnosno ne ukida ili ne preinačuje odluka suda). Ukoliko su izrekom odluke Ustavnog suda BiH ustanovljene dvije ili više povreda ustavom zagarantovanih prava i sloboda, molimo Vas da svaku od povreda evidentirate posebno u tabeli IVb. Molimo Vas da i djelimično usvojene apelacije prikažete u odgovarajućim kolonama tabele IVb. Tabela IVc – Predmeti u kojima se nalaže sudu da okonča predmet bez odlaganja zbog kršenja prava na donošenje odluke u razumnom roku U tabeli IVc potrebno je prikazati predmete u kojima je Ustavni sud BiH naložio sudu da okonča predmet bez odlaganja zbog kršenja prava na donošenje odluke u razumnom roku. Molimo Vas da u ovu tabelu unesete samo podatke o predmetima u kojima je Vašem sudu naloženo da okonča predmet bez odlaganja. U skladu sa obrazloženjem odluke Ustavnog suda BiH, potrebno je da naznačite u kojoj fazi postupka je Vaš sud rješavao predmet za koji je Ustavni sud utvrdio da je Vaš sud u najvećoj mjeri doprinio odugovlačenju postupka. Tabela IVd - Predmeti u kojima je utvrđeno kršenje prava na donošenje odluke u razumnom roku Takođe, potrebno je da popunite i tabelu IVd koja se odnosi na ukupan broj predmeta, u kojima je usvojena apelacija u odnosu na Vaš sud i određena naknada nematerijalne štete zbog kršenja prava na donošenje odluke u razumnom roku, kao i ukupan iznos naknade koji je utvrdio Ustavni sud BiH.

Sheet Tabela I
A1: Kantonalni/Okružni sud: | C1: Županijski sud Široki Brijeg | K1: 2019
A2: Izvještajni period: | B2: 1.1.2019.-31.12.2019.
A4: Ostvarena kolektivna norma za sud u 2019. godini | D4: =+'Tabela II'!P84 -> 1.3007561
A5: Kvalitet sudskih odluka: | B5: =+J30 -> 0.91169846
A7: Tabela Ia - Kvalitet sudskih odluka po vrstama predmeta
A8: Vrsta predmeta | B8: Broj donesenih odluka na koje se može izjaviti pravni lijek - pogledati NAPOMENU 2 | C8: Ukupan broj ožalbenih odluka | D8: Broj odbačenih pravnih lijekova | E8: Broj potvrđenih odluka | F8: Broj preinačenih odluka | G8: Broj preinačenih odluka donijetih na raspravi ili na pretresu pred višim sudom | H8: Broj ukinutih odluka - pogledati NAPOMENU 2 | I8: Broj djelimično ukinutih odluka | J8: Kvalitet sudskih odluka | K8: Broj presuda koje su ukinute i predmet je vraćen na ponovno suđenje
E9: Odbijen pravni lijek
B10: I | C10: II=IV+V+VI+ VII+VIII) | D10: III | E10: IV | F10: V | G10: VI | H10: VII | I10: VIII | J10: IX1 | K10: X
A11: Građanski referat
A12: Gž | B12: 173 | C12: =E12+F12+G12+H12+I12 -> 24 | D12: 32 | E12: 20 | F12: 3 | H12: 1 | J12: =IF(C12=0,"",IF(B12=0,1,0.83*((C12-H12-I12/2)/C12)+0.17*((B12-G12-H12-I12/2)/B12))) -> 0.96443401
A13: Pž | B13: 36 | C13: =E13+F13+G13+H13+I13 -> 12 | D13: 6 | E13: 12 | F13: 0 | J13: =IF(C13=0,"",IF(B13=0,1,0.83*((C13-H13-I13/2)/C13)+0.17*((B13-G13-H13-I13/2)/B13))) -> 1
A14: Rsž | B14: 43 | C14: =E14+F14+G14+H14+I14 -> 4 | D14: 9 | E14: 4 | F14: 0 | J14: =IF(C14=0,"",IF(B14=0,1,0.83*((C14-H14-I14/2)/C14)+0.17*((B14-G14-H14-I14/2)/B14))) -> 1
A15: Ostalo* | B15: 39 | C15: =E15+F15+G15+H15+I15 -> 3 | D15: 0 | E15: 2 | F15: 0 | H15: 1 | J15: =IF(C15=0,"",IF(B15=0,1,0.83*((C15-H15-I15/2)/C15)+0.17*((B15-G15-H15-I15/2)/B15))) -> 0.71897436
A16: Krivični referat
A17: K | B17: 4 | C17: =E17+F17+G17+H17+I17 -> 4 | D17: 0 | E17: 1 | H17: 3 | J17: =IF(C17=0,"",IF(B17=0,1,0.83*((C17-H17-I17/2)/C17)+0.17*((B17-G17-H17-I17/2)/B17))) -> 0.25
A18: Ratni zločini | C18: =E18+F18+G18+H18+I18 -> 0 | J18: =IF(C18=0,"",IF(B18=0,1,0.83*((C18-H18-I18/2)/C18)+0.17*((B18-G18-H18-I18/2)/B18)))
A19: Kž | B19: 3 | C19: =E19+F19+G19+H19+I19 -> 0 | E19: 0 | J19: =IF(C19=0,"",IF(B19=0,1,0.83*((C19-H19-I19/2)/C19)+0.17*((B19-G19-H19-I19/2)/B19)))
A20: Kžk | C20: =E20+F20+G20+H20+I20 -> 1 | H20: 1 | J20: =IF(C20=0,"",IF(B20=0,1,0.83*((C20-H20-I20/2)/C20)+0.17*((B20-G20-H20-I20/2)/B20))) -> 1
A21: Kv | B21: 6 | C21: =E21+F21+G21+H21+I21 -> 1 | E21: 1 | J21: =IF(C21=0,"",IF(B21=0,1,0.83*((C21-H21-I21/2)/C21)+0.17*((B21-G21-H21-I21/2)/B21))) -> 1
A22: Kpp | C22: =E22+F22+G22+H22+I22 -> 0 | J22: =IF(C22=0,"",IF(B22=0,1,0.83*((C22-H22-I22/2)/C22)+0.17*((B22-G22-H22-I22/2)/B22)))
A23: Kps | C23: =E23+F23+G23+H23+I23 -> 0 | J23: =IF(C23=0,"",IF(B23=0,1,0.83*((C23-H23-I23/2)/C23)+0.17*((B23-G23-H23-I23/2)/B23)))
A24: Kmž | C24: =E24+F24+G24+H24+I24 -> 0 | J24: =IF(C24=0,"",IF(B24=0,1,0.83*((C24-H24-I24/2)/C24)+0.17*((B24-G24-H24-I24/2)/B24)))
A25: Ostalo* | C25: =E25+F25+G25+H25+I25 -> 0 | J25: =IF(C25=0,"",IF(B25=0,1,0.83*((C25-H25-I25/2)/C25)+0.17*((B25-G25-H25-I25/2)/B25)))
A26: Upravni referat
A27: U | B27: 12 | C27: =E27+F27+G27+H27+I27 -> 39 | D27: 0 | E27: 34 | F27: 2 | H27: 3 | J27: =IF(C27=0,"",IF(B27=0,1,0.83*((C27-H27-I27/2)/C27)+0.17*((B27-G27-H27-I27/2)/B27))) -> 0.89365385
A28: Ostalo | B28: 132 | C28: =E28+F28+G28+H28+I28 -> 0 | D28: 0 | E28: 0 | F28: 0 | J28: =IF(C28=0,"",IF(B28=0,1,0.83*((C28-H28-I28/2)/C28)+0.17*((B28-G28-H28-I28/2)/B28)))
A30: Ukupno | B30: =SUM(B12:B15)+SUM(B17:B25)+SUM(B27:B28) -> 448 | C30: =SUM(C12:C15)+SUM(C17:C25)+SUM(C27:C28) -> 88 | D30: =SUM(D12:D15)+SUM(D17:D25)+SUM(D27:D28) -> 47 | E30: =SUM(E12:E15)+SUM(E17:E25)+SUM(E27:E28) -> 74 | F30: =SUM(F12:F15)+SUM(F17:F25)+SUM(F27:F28) -> 5 | G30: =SUM(G12:G15)+SUM(G17:G25)+SUM(G27:G28) -> 0 | H30: =SUM(H12:H15)+SUM(H17:H25)+SUM(H27:H28) -> 9 | I30: =SUM(I12:I15)+SUM(I17:I25)+SUM(I27:I28) -> 0 | J30: =IF(C30=0,"",IF(B30=0,1,0.83*((C30-H30-I30/2)/C30)+0.17*((B30-G30-H30-I30/2)/B30))) -> 0.91169846 | K30: =SUM(K12:K15)+SUM(K17:K25)+SUM(K27:K28) -> 0
A32: Ukupno 2018* | B32: 433 | C32: Obrazloženje:
A33: * Unesite podatak o Ukupnom broju donesenih odluka na koje se može izjaviti pravni lijek iz izvještaja koji ste dostavili za 2018. godinu. Ukoliko je razlika u Ukupnom broju donesenih odluka na koje se može izjaviti pravni lijek u periodu 2018/2019 veća od 20% aktiviraće se kontrolnik i potrebno je da obrazložite uzroke za nastanak te razlike.
A40: 1 Kvalitet rada sudskih odluka se automatski obračunava u skladu sa članom 18. Kriterija za ocjenjivanje rada sudija u BiH i članom 17. Kriterija za ocjenjivanje rada predsjednika sudova i predsjednika sudskih odjeljenja u BiH. Slijedi tekst za pojašnjenje formule za obračun kvaliteta sudskih odluka: (83% * (Ukupan broj ožalbenih odluka - Broj ukinutih odluka - Broj djelimično ukinutih odluka/2) / Ukupan broj ožalbenih odluka) + (17% * (Broj donesenih odluka na koje se može izjaviti pravni lijek - Broj preinačenih odluka donijetih nakon održane glavne raspave ili pretresa pred drugostepenim sudom - Broj ukinutih odluka - Broj djelimično ukinutih odluka/2) / Broj donesenih odluka na koje se može izjaviti pravni lijek).
A42: NAPOMENA 1: U Tabelu Ia se unose podaci o kvalitetu odluka za sve nosilace pravosudne funkcije koji su u toku godine obavljali funkciju u sudu, bez obzira na period obavljanja funkcije u sudu. U Tabelu se unose podaci za sve nosioce pravosudne funkcije: koji su obavljali funkciju u sudu cijelu godinu, koji su imenovani u sud u toku godine, koji su prešli u drugi sud u toku godine, kao i podaci za nosioce pravosudne funkcije koji su prestali obavljati funkciju u sudu zbog odlaska u penziju u 2019. godini ili iz drugih razloga (ostavke, razrješenja), a u 2019. godini su donosili odluke na koje se može izjaviti pravni lijek, i/ili sud je nakon prestanka obavljanja funkcije zaprimio žalbene odluke od strane višeg suda po izjavljenom pravnom lijeku na odluke bivšeg nosioca pravosudne funckije. Na taj način se pravilno obračunava kolektivni kvalitet odluka u sudu.
A49: NAPOMENA 2: U broj donesenih odluka na koje se može izjaviti pravni lijek (Kolona I) i broj ukinutih odluka (Kolona VII) prilikom računanja procenta ukinutih odluka iz člana 18. stav (1) tačka a) i b) Kriterija za ocjenjivanje rada sudija u BiH neće se uzimati u obračun odluke koje su ukinute u sadržajno nebitnom dijelu odnosno ako je odluka ukinuta ili se smatra ukinutom zbog toga što je instancioni sud nakon donošenja ispitivane odluke izmijenio sudsku praksu.
A50: Tabela Ib - Kvalitet sudskih odluka po odjeljenjima - (Ukoliko sud nema formirana odjeljenja nije potrebno popunjavati Tabelu Ib - zanemariti kontrolnike)*
A51: Kontrolnik | C51: =SUM(C55:C69) -> 0 | D51: =SUM(D55:D69) -> 0 | E51: =SUM(E55:E69) -> 0 | F51: =SUM(F55:F69) -> 0 | G51: =SUM(G55:G69) -> 0 | H51: =SUM(H55:H69) -> 0 | I51: =SUM(I55:I69) -> 0 | J51: =SUM(J55:J69) -> 0 | K51: =IF(D51=0,"",IF(C51=0,1,0.83*((D51-I51-J51/2)/D51)+0.17*((C51-H51-I51-J51/2)/C51))) | L51: =SUM(L55:L69) -> 0
A53: Naziv odjeljenja ** | B53: Predsjednik odjeljenja je Ocijenjen / Nije ocijenjen*** | C53: Broj donesenih odluka na koje se može izjaviti pravni lijek | D53: Ukupan broj ožalbenih odluka | E53: Broj odbačenih pravnih lijekova | F53: Broj potvrđenih odluka | G53: Broj preinačenih odluka | H53: Broj preinačenih odluka donijetih na raspravi ili na pretresu pred višim sudom | I53: Broj ukinutih odluka | J53: Broj djelimično ukinutih odluka | K53: Kvalitet sudskih odluka | L53: Broj presuda koje su ukinute i predmet je vraćen na ponovno suđenje | M53: Broj bodova koji se dodjeljuje predsjedniku sudskog odjeljenja
C54: I | D54: II=IV+V+VI+ VII+VIII) | E54: III | F54: IV | G54: V | H54: VI | I54: VII | J54: VIII | K54: IX1 | L54: X | M54: XI
D55: =F55+G55+H55+I55+J55 -> 0 | K55: =IF(D55=0,"",IF(C55=0,1,0.83*((D55-I55-J55/2)/D55)+0.17*((C55-H55-I55-J55/2)/C55))) | M55: =IF(A55="","",IF(B55="Ocijenjen",IF(K55>0.95,5,IF(K55>0.9,4,IF(K55>0.8,3,IF(K55>0.7,2,IF(K55>0.6,1,0))))),"")) | O55: Ocijenjen
D56: =F56+G56+H56+I56+J56 -> 0 | K56: =IF(D56=0,"",IF(C56=0,1,0.83*((D56-I56-J56/2)/D56)+0.17*((C56-H56-I56-J56/2)/C56))) | M56: =IF(A56="","",IF(B56="Ocijenjen",IF(K56>0.95,5,IF(K56>0.9,4,IF(K56>0.8,3,IF(K56>0.7,2,IF(K56>0.6,1,0))))),"")) | O56: Nije ocijenjen
D57: =F57+G57+H57+I57+J57 -> 0 | K57: =IF(D57=0,"",IF(C57=0,1,0.83*((D57-I57-J57/2)/D57)+0.17*((C57-H57-I57-J57/2)/C57))) | M57: =IF(A57="","",IF(B57="Ocijenjen",IF(K57>0.95,5,IF(K57>0.9,4,IF(K57>0.8,3,IF(K57>0.7,2,IF(K57>0.6,1,0))))),""))
D58: =F58+G58+H58+I58+J58 -> 0 | K58: =IF(D58=0,"",IF(C58=0,1,0.83*((D58-I58-J58/2)/D58)+0.17*((C58-H58-I58-J58/2)/C58))) | M58: =IF(A58="","",IF(B58="Ocijenjen",IF(K58>0.95,5,IF(K58>0.9,4,IF(K58>0.8,3,IF(K58>0.7,2,IF(K58>0.6,1,0))))),""))
D59: =F59+G59+H59+I59+J59 -> 0 | K59: =IF(D59=0,"",IF(C59=0,1,0.83*((D59-I59-J59/2)/D59)+0.17*((C59-H59-I59-J59/2)/C59))) | M59: =IF(A59="","",IF(B59="Ocijenjen",IF(K59>0.95,5,IF(K59>0.9,4,IF(K59>0.8,3,IF(K59>0.7,2,IF(K59>0.6,1,0))))),""))
D60: =F60+G60+H60+I60+J60 -> 0 | K60: =IF(D60=0,"",IF(C60=0,1,0.83*((D60-I60-J60/2)/D60)+0.17*((C60-H60-I60-J60/2)/C60))) | M60: =IF(A60="","",IF(B60="Ocijenjen",IF(K60>0.95,5,IF(K60>0.9,4,IF(K60>0.8,3,IF(K60>0.7,2,IF(K60>0.6,1,0))))),""))
D61: =F61+G61+H61+I61+J61 -> 0 | K61: =IF(D61=0,"",IF(C61=0,1,0.83*((D61-I61-J61/2)/D61)+0.17*((C61-H61-I61-J61/2)/C61))) | M61: =IF(A61="","",IF(B61="Ocijenjen",IF(K61>0.95,5,IF(K61>0.9,4,IF(K61>0.8,3,IF(K61>0.7,2,IF(K61>0.6,1,0))))),""))
D62: =F62+G62+H62+I62+J62 -> 0 | K62: =IF(D62=0,"",IF(C62=0,1,0.83*((D62-I62-J62/2)/D62)+0.17*((C62-H62-I62-J62/2)/C62))) | M62: =IF(A62="","",IF(B62="Ocijenjen",IF(K62>0.95,5,IF(K62>0.9,4,IF(K62>0.8,3,IF(K62>0.7,2,IF(K62>0.6,1,0))))),""))
D63: =F63+G63+H63+I63+J63 -> 0 | K63: =IF(D63=0,"",IF(C63=0,1,0.83*((D63-I63-J63/2)/D63)+0.17*((C63-H63-I63-J63/2)/C63))) | M63: =IF(A63="","",IF(B63="Ocijenjen",IF(K63>0.95,5,IF(K63>0.9,4,IF(K63>0.8,3,IF(K63>0.7,2,IF(K63>0.6,1,0))))),""))
D64: =F64+G64+H64+I64+J64 -> 0 | K64: =IF(D64=0,"",IF(C64=0,1,0.83*((D64-I64-J64/2)/D64)+0.17*((C64-H64-I64-J64/2)/C64))) | M64: =IF(A64="","",IF(B64="Ocijenjen",IF(K64>0.95,5,IF(K64>0.9,4,IF(K64>0.8,3,IF(K64>0.7,2,IF(K64>0.6,1,0))))),""))
D65: =F65+G65+H65+I65+J65 -> 0 | K65: =IF(D65=0,"",IF(C65=0,1,0.83*((D65-I65-J65/2)/D65)+0.17*((C65-H65-I65-J65/2)/C65))) | M65: =IF(A65="","",IF(B65="Ocijenjen",IF(K65>0.95,5,IF(K65>0.9,4,IF(K65>0.8,3,IF(K65>0.7,2,IF(K65>0.6,1,0))))),""))
D66: =F66+G66+H66+I66+J66 -> 0 | K66: =IF(D66=0,"",IF(C66=0,1,0.83*((D66-I66-J66/2)/D66)+0.17*((C66-H66-I66-J66/2)/C66))) | M66: =IF(A66="","",IF(B66="Ocijenjen",IF(K66>0.95,5,IF(K66>0.9,4,IF(K66>0.8,3,IF(K66>0.7,2,IF(K66>0.6,1,0))))),""))
D67: =F67+G67+H67+I67+J67 -> 0 | K67: =IF(D67=0,"",IF(C67=0,1,0.83*((D67-I67-J67/2)/D67)+0.17*((C67-H67-I67-J67/2)/C67))) | M67: =IF(A67="","",IF(B67="Ocijenjen",IF(K67>0.95,5,IF(K67>0.9,4,IF(K67>0.8,3,IF(K67>0.7,2,IF(K67>0.6,1,0))))),""))
D68: =F68+G68+H68+I68+J68 -> 0 | K68: =IF(D68=0,"",IF(C68=0,1,0.83*((D68-I68-J68/2)/D68)+0.17*((C68-H68-I68-J68/2)/C68))) | M68: =IF(A68="","",IF(B68="Ocijenjen",IF(K68>0.95,5,IF(K68>0.9,4,IF(K68>0.8,3,IF(K68>0.7,2,IF(K68>0.6,1,0))))),""))
D69: =F69+G69+H69+I69+J69 -> 0 | K69: =IF(D69=0,"",IF(C69=0,1,0.83*((D69-I69-J69/2)/D69)+0.17*((C69-H69-I69-J69/2)/C69))) | M69: =IF(A69="","",IF(B69="Ocijenjen",IF(K69>0.95,5,IF(K69>0.9,4,IF(K69>0.8,3,IF(K69>0.7,2,IF(K69>0.6,1,0))))),""))
A71: * Sud u kojem su formirana odjeljenja obavezan je da popuni Tabelu Ib.
A72: ** Sud u Kolonu “Naziv odjeljenja” obavezan je da manuelno unese nazive svih formiranih odjeljenja u sudu.
A73: *** Sud u Koloni „Predsjednik odjeljenja je Ocjenjen / Nije ocjenjen“ obavezan je iz padajućeg menija odabrati „Ocjenjen“ ili „Nije ocjenjen“ tako da sud osigura da se za predsjednika odjeljenja unese isti podatak i u Tabelu IIIa (Ocjenjen u sudu – „Da“ ili „Ne“).
A74: NAPOMENA 3: U Tabelu Ib se manuelno unose podaci o broju odluka iz Tabele Ia. Podaci iz Tabele Ia unose se u Tabelu Ib na način da se podaci iz Tabele Ia raspoređuju i zbirno iskazuju u Tabeli Ib po pravnim oblastima za koja su formirana sudska odjeljenja. Npr. potvrđena odluka iz građanske oblasti iskazuje se u podacima o kolektivnom kvalitetu Građanskog odjeljenja bez obzira što je ožalbenu odluku donio sudija koji je odlukom o rasporedu poslova raspoređen u drugo odjeljenje. Sud je obavezan da u Tabelu Ib unese podatke u Kolone I, III-VIII i X i u slučaju kada je u Koloni „Predsjednik odjeljenja je Ocjenjen / Nije ocjenjen“ iz padajućeg menija odabrano „Nije ocjenjen“. Ukupan broj odluka u sudu iz Tabele Ia i IIIa mora biti jednak ukupnom broju odluka u Tabeli Ib, u suprotnom aktiviraće se kontrolnici što ukazuje na potrebu provjere ispravnosti unosa podataka.
A75: NAPOMENA 4: Kolektivni kvalitet odluka odjeljenja (Kolona IX) i Broj bodova koji se dodjeljuje predsjedniku sudskog odjeljenja (Kolona XI) automatski se obračunavaju u skladu sa odredbom člana 21. Kriterija za ocjenjivanje rada predsjednika sudova i predsjednika sudskih odjeljenja u BiH.

Sheet tbl1_kvalitet_rada
A1: for_key | B1: godina | C1: lista_referata | D1: DonesOdluke | E1: OdbPrLijek | F1: PotvOdluke | G1: PreinOdluke | H1: PreinOdlukeNakonRasp | I1: UkinOdluke | J1: DjelimUkin | K1: UkinVracPonSud
A2: =+'Tabela I'!$K$2 -> 0 | B2: =+'Tabela I'!$K$1 -> 2019 | C2: 34 | D2: ='Tabela I'!B12 -> 173 | E2: ='Tabela I'!D12 -> 32 | F2: ='Tabela I'!E12 -> 20 | G2: ='Tabela I'!F12 -> 3 | H2: ='Tabela I'!G12 -> 0 | I2: ='Tabela I'!H12 -> 1 | J2: ='Tabela I'!I12 -> 0 | K2: ='Tabela I'!K12 -> 0
A3: =+'Tabela I'!$K$2 -> 0 | B3: =+'Tabela I'!$K$1 -> 2019 | C3: 35 | D3: ='Tabela I'!B13 -> 36 | E3: ='Tabela I'!D13 -> 6 | F3: ='Tabela I'!E13 -> 12 | G3: ='Tabela I'!F13 -> 0 | H3: ='Tabela I'!G13 -> 0 | I3: ='Tabela I'!H13 -> 0 | J3: ='Tabela I'!I13 -> 0 | K3: ='Tabela I'!K13 -> 0
A4: =+'Tabela I'!$K$2 -> 0 | B4: =+'Tabela I'!$K$1 -> 2019 | C4: 90 | D4: ='Tabela I'!B14 -> 43 | E4: ='Tabela I'!D14 -> 9 | F4: ='Tabela I'!E14 -> 4 | G4: ='Tabela I'!F14 -> 0 | H4: ='Tabela I'!G14 -> 0 | I4: ='Tabela I'!H14 -> 0 | J4: ='Tabela I'!I14 -> 0 | K4: ='Tabela I'!K14 -> 0
A5: =+'Tabela I'!$K$2 -> 0 | B5: =+'Tabela I'!$K$1 -> 2019 | C5: 36 | D5: ='Tabela I'!B15 -> 39 | E5: ='Tabela I'!D15 -> 0 | F5: ='Tabela I'!E15 -> 2 | G5: ='Tabela I'!F15 -> 0 | H5: ='Tabela I'!G15 -> 0 | I5: ='Tabela I'!H15 -> 1 | J5: ='Tabela I'!I15 -> 0 | K5: ='Tabela I'!K15 -> 0
A6: =+'Tabela I'!$K$2 -> 0 | B6: =+'Tabela I'!$K$1 -> 2019 | C6: 11 | D6: ='Tabela I'!B17 -> 4 | E6: ='Tabela I'!D17 -> 0 | F6: ='Tabela I'!E17 -> 1 | G6: ='Tabela I'!F17 -> 0 | H6: ='Tabela I'!G17 -> 0 | I6: ='Tabela I'!H17 -> 3 | J6: ='Tabela I'!I17 -> 0 | K6: ='Tabela I'!K17 -> 0
A7: =+'Tabela I'!$K$2 -> 0 | B7: =+'Tabela I'!$K$1 -> 2019 | C7: 37 | D7: ='Tabela I'!B18 -> 0 | E7: ='Tabela I'!D18 -> 0 | F7: ='Tabela I'!E18 -> 0 | G7: ='Tabela I'!F18 -> 0 | H7: ='Tabela I'!G18 -> 0 | I7: ='Tabela I'!H18 -> 0 | J7: ='Tabela I'!I18 -> 0 | K7: ='Tabela I'!K18 -> 0
A8: =+'Tabela I'!$K$2 -> 0 | B8: =+'Tabela I'!$K$1 -> 2019 | C8: 38 | D8: ='Tabela I'!B19 -> 3 | E8: ='Tabela I'!D19 -> 0 | F8: ='Tabela I'!E19 -> 0 | G8: ='Tabela I'!F19 -> 0 | H8: ='Tabela I'!G19 -> 0 | I8: ='Tabela I'!H19 -> 0 | J8: ='Tabela I'!I19 -> 0 | K8: ='Tabela I'!K19 -> 0
A9: =+'Tabela I'!$K$2 -> 0 | B9: =+'Tabela I'!$K$1 -> 2019 | C9: 40 | D9: ='Tabela I'!B20 -> 0 | E9: ='Tabela I'!D20 -> 0 | F9: ='Tabela I'!E20 -> 0 | G9: ='Tabela I'!F20 -> 0 | H9: ='Tabela I'!G20 -> 0 | I9: ='Tabela I'!H20 -> 1 | J9: ='Tabela I'!I20 -> 0 | K9: ='Tabela I'!K20 -> 0
A10: =+'Tabela I'!$K$2 -> 0 | B10: =+'Tabela I'!$K$1 -> 2019 | C10: 16 | D10: ='Tabela I'!B21 -> 6 | E10: ='Tabela I'!D21 -> 0 | F10: ='Tabela I'!E21 -> 1 | G10: ='Tabela I'!F21 -> 0 | H10: ='Tabela I'!G21 -> 0 | I10: ='Tabela I'!H21 -> 0 | J10: ='Tabela I'!I21 -> 0 | K10: ='Tabela I'!K21 -> 0
A11: =+'Tabela I'!$K$2 -> 0 | B11: =+'Tabela I'!$K$1 -> 2019 | C11: 13 | D11: ='Tabela I'!B22 -> 0 | E11: ='Tabela I'!D22 -> 0 | F11: ='Tabela I'!E22 -> 0 | G11: ='Tabela I'!F22 -> 0 | H11: ='Tabela I'!G22 -> 0 | I11: ='Tabela I'!H22 -> 0 | J11: ='Tabela I'!I22 -> 0 | K11: ='Tabela I'!K22 -> 0
A12: =+'Tabela I'!$K$2 -> 0 | B12: =+'Tabela I'!$K$1 -> 2019 | C12: 12 | D12: ='Tabela I'!B23 -> 0 | E12: ='Tabela I'!D23 -> 0 | F12: ='Tabela I'!E23 -> 0 | G12: ='Tabela I'!F23 -> 0 | H12: ='Tabela I'!G23 -> 0 | I12: ='Tabela I'!H23 -> 0 | J12: ='Tabela I'!I23 -> 0 | K12: ='Tabela I'!K23 -> 0
A13: =+'Tabela I'!$K$2 -> 0 | B13: =+'Tabela I'!$K$1 -> 2019 | C13: 39 | D13: ='Tabela I'!B24 -> 0 | E13: ='Tabela I'!D24 -> 0 | F13: ='Tabela I'!E24 -> 0 | G13: ='Tabela I'!F24 -> 0 | H13: ='Tabela I'!G24 -> 0 | I13: ='Tabela I'!H24 -> 0 | J13: ='Tabela I'!I24 -> 0 | K13: ='Tabela I'!K24 -> 0
A14: =+'Tabela I'!$K$2 -> 0 | B14: =+'Tabela I'!$K$1 -> 2019 | C14: 19 | D14: ='Tabela I'!B25 -> 0 | E14: ='Tabela I'!D25 -> 0 | F14: ='Tabela I'!E25 -> 0 | G14: ='Tabela I'!F25 -> 0 | H14: ='Tabela I'!G25 -> 0 | I14: ='Tabela I'!H25 -> 0 | J14: ='Tabela I'!I25 -> 0 | K14: ='Tabela I'!K25 -> 0
A15: =+'Tabela I'!$K$2 -> 0 | B15: =+'Tabela I'!$K$1 -> 2019 | C15: 52 | D15: ='Tabela I'!B27 -> 12 | E15: ='Tabela I'!D27 -> 0 | F15: ='Tabela I'!E27 -> 34 | G15: ='Tabela I'!F27 -> 2 | H15: ='Tabela I'!G27 -> 0 | I15: ='Tabela I'!H27 -> 3 | J15: ='Tabela I'!I27 -> 0 | K15: ='Tabela I'!K27 -> 0
A16: =+'Tabela I'!$K$2 -> 0 | B16: =+'Tabela I'!$K$1 -> 2019 | C16: 56 | D16: ='Tabela I'!B28 -> 132 | E16: ='Tabela I'!D28 -> 0 | F16: ='Tabela I'!E28 -> 0 | G16: ='Tabela I'!F28 -> 0 | H16: ='Tabela I'!G28 -> 0 | I16: ='Tabela I'!H28 -> 0 | J16: ='Tabela I'!I28 -> 0 | K16: ='Tabela I'!K28 -> 0
D17: =SUM(D2:D16) -> 448 | E17: =SUM(E2:E16) -> 47 | F17: =SUM(F2:F16) -> 74 | G17: =SUM(G2:G16) -> 5 | H17: =SUM(H2:H16) -> 0 | I17: =SUM(I2:I16) -> 9 | J17: =SUM(J2:J16) -> 0 | K17: =SUM(K2:K16) -> 0
A21: for_key | B21: godina | C21: Odjel | D21: DonesOdluke | E21: OdbPrLijek | F21: PotvOdluke | G21: PreinOdluke | H21: PreinOdlukeNakonRasp | I21: UkinOdluke | J21: DjelimUkin | K21: UkinVracPonSud
A22: =+'Tabela I'!$K$2 -> 0 | B22: =+'Tabela I'!$K$1 -> 2019 | C22: =+'Tabela I'!#REF! -> #REF! | D22: =+'Tabela I'!#REF! -> #REF! | E22: =+'Tabela I'!#REF! -> #REF! | F22: =+'Tabela I'!#REF! -> #REF! | G22: =+'Tabela I'!#REF! -> #REF! | H22: =+'Tabela I'!#REF! -> #REF! | I22: =+'Tabela I'!#REF! -> #REF! | J22: =+'Tabela I'!#REF! -> #REF! | K22: =+'Tabela I'!#REF! -> #REF!
A23: =+'Tabela I'!$K$2 -> 0 | B23: =+'Tabela I'!$K$1 -> 2019 | C23: =+'Tabela I'!#REF! -> #REF! | D23: =+'Tabela I'!#REF! -> #REF! | E23: =+'Tabela I'!#REF! -> #REF! | F23: =+'Tabela I'!#REF! -> #REF! | G23: =+'Tabela I'!#REF! -> #REF! | H23: =+'Tabela I'!#REF! -> #REF! | I23: =+'Tabela I'!#REF! -> #REF! | J23: =+'Tabela I'!#REF! -> #REF! | K23: =+'Tabela I'!#REF! -> #REF!
A24: =+'Tabela I'!$K$2 -> 0 | B24: =+'Tabela I'!$K$1 -> 2019 | C24: =+'Tabela I'!#REF! -> #REF! | D24: =+'Tabela I'!#REF! -> #REF! | E24: =+'Tabela I'!#REF! -> #REF! | F24: =+'Tabela I'!#REF! -> #REF! | G24: =+'Tabela I'!#REF! -> #REF! | H24: =+'Tabela I'!#REF! -> #REF! | I24: =+'Tabela I'!#REF! -> #REF! | J24: =+'Tabela I'!#REF! -> #REF! | K24: =+'Tabela I'!#REF! -> #REF!
A25: =+'Tabela I'!$K$2 -> 0 | B25: =+'Tabela I'!$K$1 -> 2019 | C25: =+'Tabela I'!#REF! -> #REF! | D25: =+'Tabela I'!#REF! -> #REF! | E25: =+'Tabela I'!#REF! -> #REF! | F25: =+'Tabela I'!#REF! -> #REF! | G25: =+'Tabela I'!#REF! -> #REF! | H25: =+'Tabela I'!#REF! -> #REF! | I25: =+'Tabela I'!#REF! -> #REF! | J25: =+'Tabela I'!#REF! -> #REF! | K25: =+'Tabela I'!#REF! -> #REF!
A26: =+'Tabela I'!$K$2 -> 0 | B26: =+'Tabela I'!$K$1 -> 2019 | C26: =+'Tabela I'!#REF! -> #REF! | D26: =+'Tabela I'!#REF! -> #REF! | E26: =+'Tabela I'!#REF! -> #REF! | F26: =+'Tabela I'!#REF! -> #REF! | G26: =+'Tabela I'!#REF! -> #REF! | H26: =+'Tabela I'!#REF! -> #REF! | I26: =+'Tabela I'!#REF! -> #REF! | J26: =+'Tabela I'!#REF! -> #REF! | K26: =+'Tabela I'!#REF! -> #REF!
A27: =+'Tabela I'!$K$2 -> 0 | B27: =+'Tabela I'!$K$1 -> 2019 | C27: =+'Tabela I'!#REF! -> #REF! | D27: =+'Tabela I'!#REF! -> #REF! | E27: =+'Tabela I'!#REF! -> #REF! | F27: =+'Tabela I'!#REF! -> #REF! | G27: =+'Tabela I'!#REF! -> #REF! | H27: =+'Tabela I'!#REF! -> #REF! | I27: =+'Tabela I'!#REF! -> #REF! | J27: =+'Tabela I'!#REF! -> #REF! | K27: =+'Tabela I'!#REF! -> #REF!
A28: =+'Tabela I'!$K$2 -> 0 | B28: =+'Tabela I'!$K$1 -> 2019 | C28: =+'Tabela I'!#REF! -> #REF! | D28: =+'Tabela I'!#REF! -> #REF! | E28: =+'Tabela I'!#REF! -> #REF! | F28: =+'Tabela I'!#REF! -> #REF! | G28: =+'Tabela I'!#REF! -> #REF! | H28: =+'Tabela I'!#REF! -> #REF! | I28: =+'Tabela I'!#REF! -> #REF! | J28: =+'Tabela I'!#REF! -> #REF! | K28: =+'Tabela I'!#REF! -> #REF!
A29: =+'Tabela I'!$K$2 -> 0 | B29: =+'Tabela I'!$K$1 -> 2019 | C29: =+'Tabela I'!#REF! -> #REF! | D29: =+'Tabela I'!#REF! -> #REF! | E29: =+'Tabela I'!#REF! -> #REF! | F29: =+'Tabela I'!#REF! -> #REF! | G29: =+'Tabela I'!#REF! -> #REF! | H29: =+'Tabela I'!#REF! -> #REF! | I29: =+'Tabela I'!#REF! -> #REF! | J29: =+'Tabela I'!#REF! -> #REF! | K29: =+'Tabela I'!#REF! -> #REF!
A30: =+'Tabela I'!$K$2 -> 0 | B30: =+'Tabela I'!$K$1 -> 2019 | C30: =+'Tabela I'!#REF! -> #REF! | D30: =+'Tabela I'!#REF! -> #REF! | E30: =+'Tabela I'!#REF! -> #REF! | F30: =+'Tabela I'!#REF! -> #REF! | G30: =+'Tabela I'!#REF! -> #REF! | H30: =+'Tabela I'!#REF! -> #REF! | I30: =+'Tabela I'!#REF! -> #REF! | J30: =+'Tabela I'!#REF! -> #REF! | K30: =+'Tabela I'!#REF! -> #REF!
A31: =+'Tabela I'!$K$2 -> 0 | B31: =+'Tabela I'!$K$1 -> 2019 | C31: =+'Tabela I'!#REF! -> #REF! | D31: =+'Tabela I'!#REF! -> #REF! | E31: =+'Tabela I'!#REF! -> #REF! | F31: =+'Tabela I'!#REF! -> #REF! | G31: =+'Tabela I'!#REF! -> #REF! | H31: =+'Tabela I'!#REF! -> #REF! | I31: =+'Tabela I'!#REF! -> #REF! | J31: =+'Tabela I'!#REF! -> #REF! | K31: =+'Tabela I'!#REF! -> #REF!
A32: =+'Tabela I'!$K$2 -> 0 | B32: =+'Tabela I'!$K$1 -> 2019 | C32: =+'Tabela I'!#REF! -> #REF! | D32: =+'Tabela I'!#REF! -> #REF! | E32: =+'Tabela I'!#REF! -> #REF! | F32: =+'Tabela I'!#REF! -> #REF! | G32: =+'Tabela I'!#REF! -> #REF! | H32: =+'Tabela I'!#REF! -> #REF! | I32: =+'Tabela I'!#REF! -> #REF! | J32: =+'Tabela I'!#REF! -> #REF! | K32: =+'Tabela I'!#REF! -> #REF!
A33: =+'Tabela I'!$K$2 -> 0 | B33: =+'Tabela I'!$K$1 -> 2019 | C33: =+'Tabela I'!#REF! -> #REF! | D33: =+'Tabela I'!#REF! -> #REF! | E33: =+'Tabela I'!#REF! -> #REF! | F33: =+'Tabela I'!#REF! -> #REF! | G33: =+'Tabela I'!#REF! -> #REF! | H33: =+'Tabela I'!#REF! -> #REF! | I33: =+'Tabela I'!#REF! -> #REF! | J33: =+'Tabela I'!#REF! -> #REF! | K33: =+'Tabela I'!#REF! -> #REF!
... A36: =+'Tabela I'!$K$2 -> 0 | B36: =+'Tabela I'!$K$1 -> 2019 | C36: =+'Tabela I'!#REF! -> #REF! | D36: =+'Tabela I'!#REF! -> #REF! | E36: =+'Tabela I'!#REF! -> #REF! | F36: =+'Tabela I'!#REF! -> #REF! | G36: =+'Tabela I'!#REF! -> #REF! | H36: =+'Tabela I'!#REF! -> #REF! | I36: =+'Tabela I'!#REF! -> #REF! | J36: =+'Tabela I'!#REF! -> #REF! | K36: =+'Tabela I'!#REF! -> #REF!
D37: =SUM(D22:D36) -> #REF! | E37: =SUM(E22:E36) -> #REF! | F37: =SUM(F22:F36) -> #REF! | G37: =SUM(G22:G36) -> #REF! | H37: =SUM(H22:H36) -> #REF! | I37: =SUM(I22:I36) -> #REF! | J37: =SUM(J22:J36) -> #REF! | K37: =SUM(K22:K36) -> #REF!

Sheet Tabela II
A1: ='Tabela I'!A1 -> Kantonalni/Okružni sud: | D1: ='Tabela I'!C1 -> Županijski sud Široki Brijeg
A2: Izvještajni period: | C2: 1.1.2019.-31.12.2019.
A3: Tabela IIa – Ostvarena orijentaciona norma - Elektronski obrazac za obračun ostvarene orijentacione norme iz člana 11. Kriterija za ocjenjivanje rada sudija u BiH i člana 8. Kriterija za ocjenjivanje rada predsjednika sudova i predsjednika sudskih odjeljenja u BiH (pogledati NAPOMENU 4)
A5: Redni broj | B5: Ime i prezime - evidentirani podatak se automatski prenosi u Tabelu IIIa | C5: Ocjenjen u sudu | D5: Naziv odjela | E5: Pravosudna funkcija | G5: Procenat orijentacijske norme koju je nosilac pravosudne funkcije dužan ostvariti - Ukoliko procenat orijenatcijske norme nije predviđen u padajućem meniju pogledati NAPOMENU 3 | H5: Period obavljanja pravosudne funkcije u instituciji koja popunjava tabelu Ia | J5: Ukupan broj dana za obračun norme - pogledati NAPOMENU 2 | K5: Broj dana opravdanog odsustva iz člana 14. Kriterija za ocjenjivanje rada sudija u BiH (pogledati NAPOMENU 9) | L5: Ostvarena orijentaciona norma iz CMS-a | M5: Ostvarena orijentaciona norma na predmetima van CMS-a - pogledati NAPOMENU 6 | N5: Procenat ostvarene orijentacione norme prema članu 9. Pravilnika o orijentacijskim mjerilima - pogledati NAPOMENU 7 | O5: Procenat ostvarene propisane godišnje orijentacijske norme u 2019. godini | P5: Ukupno ostvarena orijentacijska norma u 2019. godini | Q5: Nedovoljan broj predmeta u radu - pogledati NAPOMENU 5 | V5: Broj ostvarenih bodova | W5: Sudija | X5: Stručni saradnik | Y5: Predsjednik odjela | Z5: Predsjednik sudskog vijeća vrhovnog suda entiteta
H6: Datum od | I6: Datum do | Q6: broj predmeta u radu | R6: broj riješenih predmeta | S6: broj neriješenih predmeta sa zakonskim i procesnim smetnjama | T6: broj neriješenih predmeta bez zakonskih i procesnih smetnji | U6: procenat riješenih predmeta
A7: I | B7: II | C7: III | D7: IV | E7: V | G7: VI | H7: VII | I7: VIII | J7: IX | K7: X | L7: XI | M7: XII | N7: XIII | O7: XIV | P7: XV | Q7: XVI | R7: XVII | S7: XVIII | T7: XIX | U7: XX | V7: XXI | W7: 1 | X7: 0.9 | Y7: 0.8 | Z7: 0.5 | AA7: 0.25 | AB7: Ne treba raditi na predm.
A8: 1 | B8: Bosiljka Rudeš | C8: DA | E8: Predsjednik suda | J8: 261 | O8: =IF(G8="","",IF(G8="Ne treba raditi na predm.",1+SUM(L8:N8),(SUM(L8:N8)/G8))) | P8: =IF(K8>0,O8*(J8/(J8-K8)),O8) | U8: =IF(Q8="","",R8/(Q8-S8)) | V8: =IF(P8="","",IF(C8="Ne","",IF(G8="Ne treba raditi na predm.","",IF(P8>1,10,IF(U8="",IF(P8>0.9,8,IF(P8>0.8,6,IF(P8>0.7,4,IF(P8>0.6,2,0)))),IF(U8=1,10,IF(U8>0.9,8,IF(U8>0.8,6,IF(U8>0.7,5,IF(U8>0.6,4,IF(U8>0.5,2,0))))))))))) | W8: 0.7 | X8: 0.5 | Y8: 0.4 | Z8: 0.3 | AA8: Ne treba raditi na predm.
E9: Predsjednik suda | G9: 0.5 | H9: 01.01.2019 | I9: 31.12.2019 | J9: 261 | K9: 6 | L9: 1.1474 | O9: =IF(G9="","",IF(G9="Ne treba raditi na predm.",1+SUM(L9:N9),(SUM(L9:N9)/G9))) -> 2.2948 | P9: =IF(K9>0,O9*(J9/(J9-K9)),O9) -> 2.3487953 | U9: =IF(Q9="","",R9/(Q9-S9)) | V9: =IF(P9="","",IF(C9="Ne","",IF(G9="Ne treba raditi na predm.","",IF(P9>1,10,IF(U9="",IF(P9>0.9,8,IF(P9>0.8,6,IF(P9>0.7,4,IF(P9>0.6,2,0)))),IF(U9=1,10,IF(U9>0.9,8,IF(U9>0.8,6,IF(U9>0.7,5,IF(U9>0.6,4,IF(U9>0.5,2,0))))))))))) -> 10
A10: 2 | B10: Mile Zeljko | C10: Ne | D10: Sudsko odjeljenje | E10: Sudija | F10: =IF(E10="Sudija",1,IF(E10="Stručni saradnik",1,"")) -> 1 | G10: 1 | H10: 01.01.2019 | I10: 31.12.2019 | J10: 261 | K10: 9 | L10: 0.9257 | O10: =IF(G10="","",IF(G10="Ne treba raditi na predm.",1+SUM(L10:N10),(SUM(L10:N10)/G10))) -> 0.9257 | P10: =IF(K10>0,O10*(J10/(J10-K10)),O10) -> 0.95876071 | U10: =IF(Q10="","",R10/(Q10-S10)) | V10: =IF(P10="","",IF(C10="Ne","",IF(G10="Ne treba raditi na predm.","", IF(P10>1,30,IF(U10="",IF(P10>0.9,25,IF(P10>0.8,20,IF(P10>0.7,16,IF(P10>0.6,10,IF(P10>0.5,4,0))))),IF(U10=1,30,IF(U10>0.9,25,IF(U10>0.8,20,IF(U10>0.7,15,IF(U10>0.6,10,IF(U10>0.5,5,0))))))))))) | W10: Da | X10: Ne
A11: 3 | B11: Gordana Pažin | C11: Ne | D11: Sudsko odjeljenje | E11: Sudija | F11: =IF(E11="Sudija",1,IF(E11="Stručni saradnik",1,"")) -> 1 | G11: 1 | H11: 01.01.2019 | I11: 31.12.2019 | J11: 261 | K11: 0 | L11: 0.9301 | O11: =IF(G11="","",IF(G11="Ne treba raditi na predm.",1+SUM(L11:N11),(SUM(L11:N11)/G11))) -> 0.9301 | P11: =IF(K11>0,O11*(J11/(J11-K11)),O11) -> 0.9301 | U11: =IF(Q11="","",R11/(Q11-S11)) | V11: =IF(P11="","",IF(C11="Ne","",IF(G11="Ne treba raditi na predm.","", IF(P11>1,30,IF(U11="",IF(P11>0.9,25,IF(P11>0.8,20,IF(P11>0.7,16,IF(P11>0.6,10,IF(P11>0.5,4,0))))),IF(U11=1,30,IF(U11>0.9,25,IF(U11>0.8,20,IF(U11>0.7,15,IF(U11>0.6,10,IF(U11>0.5,5,0)))))))))))
A12: 4 | B12: Katica Artuković | C12: DA | D12: Sudsko odjeljenje | E12: Sudija | F12: =IF(E12="Sudija",1,IF(E12="Stručni saradnik",1,"")) -> 1 | G12: 1 | H12: 01.01.2019 | I12: 31.12.2019 | J12: 261 | K12: 7 | L12: 1.0051 | N12: 0.1454 | O12: =IF(G12="","",IF(G12="Ne treba raditi na predm.",1+SUM(L12:N12),(SUM(L12:N12)/G12))) -> 1.1505 | P12: =IF(K12>0,O12*(J12/(J12-K12)),O12) -> 1.1822067 | U12: =IF(Q12="","",R12/(Q12-S12)) | V12: =IF(P12="","",IF(C12="Ne","",IF(G12="Ne treba raditi na predm.","", IF(P12>1,30,IF(U12="",IF(P12>0.9,25,IF(P12>0.8,20,IF(P12>0.7,16,IF(P12>0.6,10,IF(P12>0.5,4,0))))),IF(U12=1,30,IF(U12>0.9,25,IF(U12>0.8,20,IF(U12>0.7,15,IF(U12>0.6,10,IF(U12>0.5,5,0))))))))))) -> 30
A13: 5 | B13: Franjo Ravlija | C13: Ne | D13: Sudsko odjeljenje | E13: Sudija | F13: =IF(E13="Sudija",1,IF(E13="Stručni saradnik",1,"")) -> 1 | G13: 1 | H13: 01.01.2019 | I13: 31.12.2019 | J13: 261 | K13: 6 | L13: 1.059 | O13: =IF(G13="","",IF(G13="Ne treba raditi na predm.",1+SUM(L13:N13),(SUM(L13:N13)/G13))) -> 1.059 | P13: =IF(K13>0,O13*(J13/(J13-K13)),O13) -> 1.0839176 | U13: =IF(Q13="","",R13/(Q13-S13)) | V13: =IF(P13="","",IF(C13="Ne","",IF(G13="Ne treba raditi na predm.","", IF(P13>1,30,IF(U13="",IF(P13>0.9,25,IF(P13>0.8,20,IF(P13>0.7,16,IF(P13>0.6,10,IF(P13>0.5,4,0))))),IF(U13=1,30,IF(U13>0.9,25,IF(U13>0.8,20,IF(U13>0.7,15,IF(U13>0.6,10,IF(U13>0.5,5,0)))))))))))
A14: 6 | F14: =IF(E14="Sudija",1,IF(E14="Stručni saradnik",1,"")) | J14: 261 | O14: =IF(G14="","",IF(G14="Ne treba raditi na predm.",1+SUM(L14:N14),(SUM(L14:N14)/G14))) | P14: =IF(K14>0,O14*(J14/(J14-K14)),O14) | U14: =IF(Q14="","",R14/(Q14-S14)) | V14: =IF(P14="","",IF(C14="Ne","",IF(G14="Ne treba raditi na predm.","", IF(P14>1,30,IF(U14="",IF(P14>0.9,25,IF(P14>0.8,20,IF(P14>0.7,16,IF(P14>0.6,10,IF(P14>0.5,4,0))))),IF(U14=1,30,IF(U14>0.9,25,IF(U14>0.8,20,IF(U14>0.7,15,IF(U14>0.6,10,IF(U14>0.5,5,0)))))))))))
A15: 7 | F15: =IF(E15="Sudija",1,IF(E15="Stručni saradnik",1,"")) | J15: 261 | O15: =IF(G15="","",IF(G15="Ne treba raditi na predm.",1+SUM(L15:N15),(SUM(L15:N15)/G15))) | P15: =IF(K15>0,O15*(J15/(J15-K15)),O15) | U15: =IF(Q15="","",R15/(Q15-S15)) | V15: =IF(P15="","",IF(C15="Ne","",IF(G15="Ne treba raditi na predm.","", IF(P15>1,30,IF(U15="",IF(P15>0.9,25,IF(P15>0.8,20,IF(P15>0.7,16,IF(P15>0.6,10,IF(P15>0.5,4,0))))),IF(U15=1,30,IF(U15>0.9,25,IF(U15>0.8,20,IF(U15>0.7,15,IF(U15>0.6,10,IF(U15>0.5,5,0)))))))))))
A16: 8 | F16: =IF(E16="Sudija",1,IF(E16="Stručni saradnik",1,"")) | J16: 261 | O16: =IF(G16="","",IF(G16="Ne treba raditi na predm.",1+SUM(L16:N16),(SUM(L16:N16)/G16))) | P16: =IF(K16>0,O16*(J16/(J16-K16)),O16) | U16: =IF(Q16="","",R16/(Q16-S16)) | V16: =IF(P16="","",IF(C16="Ne","",IF(G16="Ne treba raditi na predm.","", IF(P16>1,30,IF(U16="",IF(P16>0.9,25,IF(P16>0.8,20,IF(P16>0.7,16,IF(P16>0.6,10,IF(P16>0.5,4,0))))),IF(U16=1,30,IF(U16>0.9,25,IF(U16>0.8,20,IF(U16>0.7,15,IF(U16>0.6,10,IF(U16>0.5,5,0)))))))))))
A17: 9 | F17: =IF(E17="Sudija",1,IF(E17="Stručni saradnik",1,"")) | J17: 261 | O17: =IF(G17="","",IF(G17="Ne treba raditi na predm.",1+SUM(L17:N17),(SUM(L17:N17)/G17))) | P17: =IF(K17>0,O17*(J17/(J17-K17)),O17) | U17: =IF(Q17="","",R17/(Q17-S17)) | V17: =IF(P17="","",IF(C17="Ne","",IF(G17="Ne treba raditi na predm.","", IF(P17>1,30,IF(U17="",IF(P17>0.9,25,IF(P17>0.8,20,IF(P17>0.7,16,IF(P17>0.6,10,IF(P17>0.5,4,0))))),IF(U17=1,30,IF(U17>0.9,25,IF(U17>0.8,20,IF(U17>0.7,15,IF(U17>0.6,10,IF(U17>0.5,5,0)))))))))))
A18: 10 | F18: =IF(E18="Sudija",1,IF(E18="Stručni saradnik",1,"")) | J18: 261 | O18: =IF(G18="","",IF(G18="Ne treba raditi na predm.",1+SUM(L18:N18),(SUM(L18:N18)/G18))) | P18: =IF(K18>0,O18*(J18/(J18-K18)),O18) | U18: =IF(Q18="","",R18/(Q18-S18)) | V18: =IF(P18="","",IF(C18="Ne","",IF(G18="Ne treba raditi na predm.","", IF(P18>1,30,IF(U18="",IF(P18>0.9,25,IF(P18>0.8,20,IF(P18>0.7,16,IF(P18>0.6,10,IF(P18>0.5,4,0))))),IF(U18=1,30,IF(U18>0.9,25,IF(U18>0.8,20,IF(U18>0.7,15,IF(U18>0.6,10,IF(U18>0.5,5,0)))))))))))
A19: 11 | F19: =IF(E19="Sudija",1,IF(E19="Stručni saradnik",1,"")) | J19: 261 | O19: =IF(G19="","",IF(G19="Ne treba raditi na predm.",1+SUM(L19:N19),(SUM(L19:N19)/G19))) | P19: =IF(K19>0,O19*(J19/(J19-K19)),O19) | U19: =IF(Q19="","",R19/(Q19-S19)) | V19: =IF(P19="","",IF(C19="Ne","",IF(G19="Ne treba raditi na predm.","", IF(P19>1,30,IF(U19="",IF(P19>0.9,25,IF(P19>0.8,20,IF(P19>0.7,16,IF(P19>0.6,10,IF(P19>0.5,4,0))))),IF(U19=1,30,IF(U19>0.9,25,IF(U19>0.8,20,IF(U19>0.7,15,IF(U19>0.6,10,IF(U19>0.5,5,0)))))))))))
A20: 12 | F20: =IF(E20="Sudija",1,IF(E20="Stručni saradnik",1,"")) | J20: 261 | O20: =IF(G20="","",IF(G20="Ne treba raditi na predm.",1+SUM(L20:N20),(SUM(L20:N20)/G20))) | P20: =IF(K20>0,O20*(J20/(J20-K20)),O20) | U20: =IF(Q20="","",R20/(Q20-S20)) | V20: =IF(P20="","",IF(C20="Ne","",IF(G20="Ne treba raditi na predm.","", IF(P20>1,30,IF(U20="",IF(P20>0.9,25,IF(P20>0.8,20,IF(P20>0.7,16,IF(P20>0.6,10,IF(P20>0.5,4,0))))),IF(U20=1,30,IF(U20>0.9,25,IF(U20>0.8,20,IF(U20>0.7,15,IF(U20>0.6,10,IF(U20>0.5,5,0)))))))))))
A21: 13 | F21: =IF(E21="Sudija",1,IF(E21="Stručni saradnik",1,"")) | J21: 261 | O21: =IF(G21="","",IF(G21="Ne treba raditi na predm.",1+SUM(L21:N21),(SUM(L21:N21)/G21))) | P21: =IF(K21>0,O21*(J21/(J21-K21)),O21) | U21: =IF(Q21="","",R21/(Q21-S21)) | V21: =IF(P21="","",IF(C21="Ne","",IF(G21="Ne treba raditi na predm.","", IF(P21>1,30,IF(U21="",IF(P21>0.9,25,IF(P21>0.8,20,IF(P21>0.7,16,IF(P21>0.6,10,IF(P21>0.5,4,0))))),IF(U21=1,30,IF(U21>0.9,25,IF(U21>0.8,20,IF(U21>0.7,15,IF(U21>0.6,10,IF(U21>0.5,5,0)))))))))))
A22: 14 | F22: =IF(E22="Sudija",1,IF(E22="Stručni saradnik",1,"")) | J22: 261 | O22: =IF(G22="","",IF(G22="Ne treba raditi na predm.",1+SUM(L22:N22),(SUM(L22:N22)/G22))) | P22: =IF(K22>0,O22*(J22/(J22-K22)),O22) | U22: =IF(Q22="","",R22/(Q22-S22)) | V22: =IF(P22="","",IF(C22="Ne","",IF(G22="Ne treba raditi na predm.","", IF(P22>1,30,IF(U22="",IF(P22>0.9,25,IF(P22>0.8,20,IF(P22>0.7,16,IF(P22>0.6,10,IF(P22>0.5,4,0))))),IF(U22=1,30,IF(U22>0.9,25,IF(U22>0.8,20,IF(U22>0.7,15,IF(U22>0.6,10,IF(U22>0.5,5,0)))))))))))
A23: 15 | F23: =IF(E23="Sudija",1,IF(E23="Stručni saradnik",1,"")) | J23: 261 | O23: =IF(G23="","",IF(G23="Ne treba raditi na predm.",1+SUM(L23:N23),(SUM(L23:N23)/G23))) | P23: =IF(K23>0,O23*(J23/(J23-K23)),O23) | U23: =IF(Q23="","",R23/(Q23-S23)) | V23: =IF(P23="","",IF(C23="Ne","",IF(G23="Ne treba raditi na predm.","", IF(P23>1,30,IF(U23="",IF(P23>0.9,25,IF(P23>0.8,20,IF(P23>0.7,16,IF(P23>0.6,10,IF(P23>0.5,4,0))))),IF(U23=1,30,IF(U23>0.9,25,IF(U23>0.8,20,IF(U23>0.7,15,IF(U23>0.6,10,IF(U23>0.5,5,0)))))))))))
A24: 16 | F24: =IF(E24="Sudija",1,IF(E24="Stručni saradnik",1,"")) | J24: 261 | O24: =IF(G24="","",IF(G24="Ne treba raditi na predm.",1+SUM(L24:N24),(SUM(L24:N24)/G24))) | P24: =IF(K24>0,O24*(J24/(J24-K24)),O24) | U24: =IF(Q24="","",R24/(Q24-S24)) | V24: =IF(P24="","",IF(C24="Ne","",IF(G24="Ne treba raditi na predm.","", IF(P24>1,30,IF(U24="",IF(P24>0.9,25,IF(P24>0.8,20,IF(P24>0.7,16,IF(P24>0.6,10,IF(P24>0.5,4,0))))),IF(U24=1,30,IF(U24>0.9,25,IF(U24>0.8,20,IF(U24>0.7,15,IF(U24>0.6,10,IF(U24>0.5,5,0)))))))))))
A25: 17 | F25: =IF(E25="Sudija",1,IF(E25="Stručni saradnik",1,"")) | J25: 261 | O25: =IF(G25="","",IF(G25="Ne treba raditi na predm.",1+SUM(L25:N25),(SUM(L25:N25)/G25))) | P25: =IF(K25>0,O25*(J25/(J25-K25)),O25) | U25: =IF(Q25="","",R25/(Q25-S25)) | V25: =IF(P25="","",IF(C25="Ne","",IF(G25="Ne treba raditi na predm.","", IF(P25>1,30,IF(U25="",IF(P25>0.9,25,IF(P25>0.8,20,IF(P25>0.7,16,IF(P25>0.6,10,IF(P25>0.5,4,0))))),IF(U25=1,30,IF(U25>0.9,25,IF(U25>0.8,20,IF(U25>0.7,15,IF(U25>0.6,10,IF(U25>0.5,5,0)))))))))))
... A73: 65 | F73: =IF(E73="Sudija",1,IF(E73="Stručni saradnik",1,"")) | J73: 261 | O73: =IF(G73="","",IF(G73="Ne treba raditi na predm.",1+SUM(L73:N73),(SUM(L73:N73)/G73))) | P73: =IF(K73>0,O73*(J73/(J73-K73)),O73) | U73: =IF(Q73="","",R73/(Q73-S73)) | V73: =IF(P73="","",IF(C73="Ne","",IF(G73="Ne treba raditi na predm.","", IF(P73>1,30,IF(U73="",IF(P73>0.9,25,IF(P73>0.8,20,IF(P73>0.7,16,IF(P73>0.6,10,IF(P73>0.5,4,0))))),IF(U73=1,30,IF(U73>0.9,25,IF(U73>0.8,20,IF(U73>0.7,15,IF(U73>0.6,10,IF(U73>0.5,5,0)))))))))))
F74: =IF(E74="Sudija",1,IF(E74="Stručni saradnik",1,"")) | J74: 261 | O74: =IF(G74="","",IF(G74="Ne treba raditi na predm.",1+SUM(L74:N74),(SUM(L74:N74)/G74))) | P74: =IF(K74>0,O74*(J74/(J74-K74)),O74) | U74: =IF(Q74="","",R74/(Q74-S74)) | V74: =IF(P74="","",IF(C74="Ne","",IF(G74="Ne treba raditi na predm.","", IF(P74>1,30,IF(U74="",IF(P74>0.9,25,IF(P74>0.8,20,IF(P74>0.7,16,IF(P74>0.6,10,IF(P74>0.5,4,0))))),IF(U74=1,30,IF(U74>0.9,25,IF(U74>0.8,20,IF(U74>0.7,15,IF(U74>0.6,10,IF(U74>0.5,5,0)))))))))))
F75: =IF(E75="Sudija",1,IF(E75="Stručni saradnik",1,"")) | J75: 261 | O75: =IF(G75="","",IF(G75="Ne treba raditi na predm.",1+SUM(L75:N75),(SUM(L75:N75)/G75))) | P75: =IF(K75>0,O75*(J75/(J75-K75)),O75) | U75: =IF(Q75="","",R75/(Q75-S75)) | V75: =IF(P75="","",IF(C75="Ne","",IF(G75="Ne treba raditi na predm.","", IF(P75>1,30,IF(U75="",IF(P75>0.9,25,IF(P75>0.8,20,IF(P75>0.7,16,IF(P75>0.6,10,IF(P75>0.5,4,0))))),IF(U75=1,30,IF(U75>0.9,25,IF(U75>0.8,20,IF(U75>0.7,15,IF(U75>0.6,10,IF(U75>0.5,5,0)))))))))))
F76: =IF(E76="Sudija",1,IF(E76="Stručni saradnik",1,"")) | J76: 261 | O76: =IF(G76="","",IF(G76="Ne treba raditi na predm.",1+SUM(L76:N76),(SUM(L76:N76)/G76))) | P76: =IF(K76>0,O76*(J76/(J76-K76)),O76) | U76: =IF(Q76="","",R76/(Q76-S76)) | V76: =IF(P76="","",IF(C76="Ne","",IF(G76="Ne treba raditi na predm.","", IF(P76>1,30,IF(U76="",IF(P76>0.9,25,IF(P76>0.8,20,IF(P76>0.7,16,IF(P76>0.6,10,IF(P76>0.5,4,0))))),IF(U76=1,30,IF(U76>0.9,25,IF(U76>0.8,20,IF(U76>0.7,15,IF(U76>0.6,10,IF(U76>0.5,5,0)))))))))))
F77: =IF(E77="Sudija",1,IF(E77="Stručni saradnik",1,"")) | J77: 261 | O77: =IF(G77="","",IF(G77="Ne treba raditi na predm.",1+SUM(L77:N77),(SUM(L77:N77)/G77))) | P77: =IF(K77>0,O77*(J77/(J77-K77)),O77) | U77: =IF(Q77="","",R77/(Q77-S77)) | V77: =IF(P77="","",IF(C77="Ne","",IF(G77="Ne treba raditi na predm.","", IF(P77>1,30,IF(U77="",IF(P77>0.9,25,IF(P77>0.8,20,IF(P77>0.7,16,IF(P77>0.6,10,IF(P77>0.5,4,0))))),IF(U77=1,30,IF(U77>0.9,25,IF(U77>0.8,20,IF(U77>0.7,15,IF(U77>0.6,10,IF(U77>0.5,5,0)))))))))))
F78: =IF(E78="Sudija",1,IF(E78="Stručni saradnik",1,"")) | J78: 261 | O78: =IF(G78="","",IF(G78="Ne treba raditi na predm.",1+SUM(L78:N78),(SUM(L78:N78)/G78))) | P78: =IF(K78>0,O78*(J78/(J78-K78)),O78) | U78: =IF(Q78="","",R78/(Q78-S78)) | V78: =IF(P78="","",IF(C78="Ne","",IF(G78="Ne treba raditi na predm.","", IF(P78>1,30,IF(U78="",IF(P78>0.9,25,IF(P78>0.8,20,IF(P78>0.7,16,IF(P78>0.6,10,IF(P78>0.5,4,0))))),IF(U78=1,30,IF(U78>0.9,25,IF(U78>0.8,20,IF(U78>0.7,15,IF(U78>0.6,10,IF(U78>0.5,5,0)))))))))))
F79: =IF(E79="Sudija",1,IF(E79="Stručni saradnik",1,"")) | J79: 261 | O79: =IF(G79="","",IF(G79="Ne treba raditi na predm.",1+SUM(L79:N79),(SUM(L79:N79)/G79))) | P79: =IF(K79>0,O79*(J79/(J79-K79)),O79) | U79: =IF(Q79="","",R79/(Q79-S79)) | V79: =IF(P79="","",IF(C79="Ne","",IF(G79="Ne treba raditi na predm.","", IF(P79>1,30,IF(U79="",IF(P79>0.9,25,IF(P79>0.8,20,IF(P79>0.7,16,IF(P79>0.6,10,IF(P79>0.5,4,0))))),IF(U79=1,30,IF(U79>0.9,25,IF(U79>0.8,20,IF(U79>0.7,15,IF(U79>0.6,10,IF(U79>0.5,5,0)))))))))))
F80: =IF(E80="Sudija",1,IF(E80="Stručni saradnik",1,"")) | J80: 261 | O80: =IF(G80="","",IF(G80="Ne treba raditi na predm.",1+SUM(L80:N80),(SUM(L80:N80)/G80))) | P80: =IF(K80>0,O80*(J80/(J80-K80)),O80) | U80: =IF(Q80="","",R80/(Q80-S80)) | V80: =IF(P80="","",IF(C80="Ne","",IF(G80="Ne treba raditi na predm.","", IF(P80>1,30,IF(U80="",IF(P80>0.9,25,IF(P80>0.8,20,IF(P80>0.7,16,IF(P80>0.6,10,IF(P80>0.5,4,0))))),IF(U80=1,30,IF(U80>0.9,25,IF(U80>0.8,20,IF(U80>0.7,15,IF(U80>0.6,10,IF(U80>0.5,5,0)))))))))))
F81: =IF(E81="Sudija",1,IF(E81="Stručni saradnik",1,"")) | J81: 261 | O81: =IF(G81="","",IF(G81="Ne treba raditi na predm.",1+SUM(L81:N81),(SUM(L81:N81)/G81))) | P81: =IF(K81>0,O81*(J81/(J81-K81)),O81) | U81: =IF(Q81="","",R81/(Q81-S81)) | V81: =IF(P81="","",IF(C81="Ne","",IF(G81="Ne treba raditi na predm.","", IF(P81>1,30,IF(U81="",IF(P81>0.9,25,IF(P81>0.8,20,IF(P81>0.7,16,IF(P81>0.6,10,IF(P81>0.5,4,0))))),IF(U81=1,30,IF(U81>0.9,25,IF(U81>0.8,20,IF(U81>0.7,15,IF(U81>0.6,10,IF(U81>0.5,5,0)))))))))))
F82: =IF(E82="Sudija",1,IF(E82="Stručni saradnik",1,"")) | J82: 261 | O82: =IF(G82="","",IF(G82="Ne treba raditi na predm.",1+SUM(L82:N82),(SUM(L82:N82)/G82))) | P82: =IF(K82>0,O82*(J82/(J82-K82)),O82) | U82: =IF(Q82="","",R82/(Q82-S82)) | V82: =IF(P82="","",IF(C82="Ne","",IF(G82="Ne treba raditi na predm.","", IF(P82>1,30,IF(U82="",IF(P82>0.9,25,IF(P82>0.8,20,IF(P82>0.7,16,IF(P82>0.6,10,IF(P82>0.5,4,0))))),IF(U82=1,30,IF(U82>0.9,25,IF(U82>0.8,20,IF(U82>0.7,15,IF(U82>0.6,10,IF(U82>0.5,5,0)))))))))))
F83: =IF(E83="Sudija",1,IF(E83="Stručni saradnik",1,"")) | J83: 261 | O83: =IF(G83="","",IF(G83="Ne treba raditi na predm.",1+SUM(L83:N83),(SUM(L83:N83)/G83))) | P83: =IF(K83>0,O83*(J83/(J83-K83)),O83) | U83: =IF(Q83="","",R83/(Q83-S83)) | V83: =IF(P83="","",IF(C83="Ne","",IF(G83="Ne treba raditi na predm.","", IF(P83>1,30,IF(U83="",IF(P83>0.9,25,IF(P83>0.8,20,IF(P83>0.7,16,IF(P83>0.6,10,IF(P83>0.5,4,0))))),IF(U83=1,30,IF(U83>0.9,25,IF(U83>0.8,20,IF(U83>0.7,15,IF(U83>0.6,10,IF(U83>0.5,5,0)))))))))))
O84: KOLEKTIVNA NORMA SUDA | P84: =IF(P8="",IF(P9="","",AVERAGE(P8:P83)),AVERAGE(P8:P83)) -> 1.3007561 | Q84: =SUM(Q8:Q83) -> 0 | R84: =SUM(R8:R83) -> 0 | S84: =SUM(S8:S83) -> 0 | T84: =SUM(T8:T83) -> 0 | U84: =IF(Q84=0,"",R84/(Q84-S84))
O85: BODOVANJE ZA OSTVARENU KOLEKTIVNU NORMU SUDA U SKLADU SA ČLANOM 11. STAV (2) KRITERIJA ZA OCJENJIVANJE RADA PREDSJEDNIKA SUDOVA I PREDSJEDNIKA SUDSKIH ODJELJENJA U BiH | P85: =IF(P84="","",IF(P84>1,30,IF(P84>0.95,28,IF(P84>0.9,24,IF(P84>0.85,20,IF(P84>0.8,16,IF(P84>0.75,12,IF(P84>0.7,8,IF(P84>0.5,4,0))))))))) -> 30
O86: BODOVANJE ZA OSTVARENU KOLEKTIVNU NORMU SUDA U SKLADU SA ČLANOM 11. STAV (3) KRITERIJA ZA OCJENJIVANJE RADA PREDSJEDNIKA SUDOVA I PREDSJEDNIKA SUDSKIH ODJELJENJA U BiH | P86: =IF(P84="","",IF(P84>1,60,IF(P84>0.95,56,IF(P84>0.9,48,IF(P84>0.85,40,IF(P84>0.8,32,IF(P84>0.75,24,IF(P84>0.7,16,IF(P84>0.5,8,0))))))))) -> 60
B88: Obrazloženje norme NPF-a unesene u plava polja
B89: Primjer - Sudija 1 | C89: 8 mjeseci sudija, 4 mjeseca šef odjela (90% norme sudije) | G89: 0.97
Q101: Nedovoljan broj predmeta u radu
A102: NAPOMENA 1: Ostvarena kolektivna norma suda automatski se obračunava i predsjedniku suda će se dodjeliti odgovarajući broj bodova u skladu sa članom 11. Kriterija za ocjenjivanje rada predsjednika sudova i predsjednika sudskih odjeljenja u BiH. Ukoliko sud nije imao dovoljan broj predmeta u radu za ostvarenje orijentacijske norme, potrebno je manuelno unijeti ukupan broj predmeta koji su bili u radu u sudu kao i ukupan broj riješenih predmeta u sudu u periodu ocjenjivanja, kao i podatke o broju neriješenih predmeta sa zakonskim i procesnim smetnjama i broju neriješenih predmeta bez zakonskih i procesnih smetnji. Procenat riješenih predmeta automatski će se obračunati te predsjedniku suda dodijeliti odgovarajući broj bodova u skladu sa članom 12. Kriterija za ocjenjivanje rada predsjednika sudova i predsjednika sudskih odjeljenja u BiH. | Q102: broj predmeta u radu | R102: broj riješenih predmeta | S102: broj neriješenih predmeta sa zakonskim i procesnim smetnjama | T102: broj neriješenih predmeta bez zakonskih i procesnih smetnji | U102: procenat riješenih predmeta
U103: =IF(Q103="","",R103/(Q103-S103))
T104: BODOVANJE ZA BROJ RIJEŠENIH PREDMETA U SUDU U SKLADU SA ČLANOM 12. STAV (1) KRITERIJA ZA OCJENJIVANJE RADA PREDSJEDNIKA SUDOVA I PREDSJEDNIKA SUDSKIH ODJELJENJA U BiH | U104: =IF(U103="","",IF(U103=1,30,IF(U103>0.95,28,IF(U103>0.9,24,IF(U103>0.85,20,IF(U103>0.8,16,IF(U103>0.75,12,IF(U103>0.7,8,IF(U103>0.5,4,0)))))))))
T105: BODOVANJE ZA BROJ RIJEŠENIH PREDMETA U SUDU U SKLADU SA ČLANOM 12. STAV (2) KRITERIJA ZA OCJENJIVANJE RADA PREDSJEDNIKA SUDOVA I PREDSJEDNIKA SUDSKIH ODJELJENJA U BiH | U105: =IF(U103="","",IF(U103=1,60,IF(U103>0.95,56,IF(U103>0.9,48,IF(U103>0.85,40,IF(U103>0.8,32,IF(U103>0.75,24,IF(U103>0.7,16,IF(U103>0.5,8,0)))))))))
A108: Tabela IIb -Obračun norme za proces ocjenjivaja za nosioce pravosudne funkcije koji su u toku godine prešli iz jednog suda u drugi sud, ako su funkciju obavljali u sudovima istog nivoa - Obračun prema Instrukciji dio: II POSEBNI SLUČAJEVI OCJENJIVANJA 3) a) - (pogledati NAPOMENU 4) i koji su odlukom VSTV BiH privremeno upućeni na obavljanje sudijske dužnosti u drugi sud (pogledati NAPOMENU 4a)
A109: Ime i prezime predsjednika suda | O109: Ukupna ostvarena orijentacijska norma koja se unosi u Obrazac za ocjenjivanje = | P109: =P110+P111 -> 0
A110: Sud 1 | E110: Predsjednik suda | O110: =IF(G110="",0,IF(G110="Ne treba raditi na predm.",1+SUM(L110:N110),(SUM(L110:N110)/G110))) -> 0 | P110: =IF(K110>0,O110*(J110/(J110-K110)),O110) -> 0 | U110: =IF(Q110="","",R110/(Q110-S110)) | V110: =IF(P110="","",IF(C110="Ne","",IF(G110="Ne treba raditi na predm.","",IF((P110+P111)>1,10,IF(U110="",IF((P110+P111)>0.9,8,IF((P110+P111)>0.8,6,IF((P110+P111)>0.7,4,IF((P110+P111)>0.6,2,0)))),IF((U110+U111)=1,10,IF((U110+U111)>0.9,8,IF((U110+U111)>0.8,6,IF((U110+U111)>0.7,5,IF((U110+U111)>0.6,4,IF((U110+U111)>0.5,2,0))))))))))) -> 0
A111: Sud 2 | F111: =IF(E111="Sudija",1,IF(E111="Stručni saradnik",1,"")) | O111: =IF(G111="",0,IF(G111="Ne treba raditi na predm.",1+SUM(L111:N111),(SUM(L111:N111)/G111))) -> 0 | P111: =IF(K111>0,O111*(J111/(J111-K111)),O111) -> 0 | U111: =IF(Q111="","",R111/(Q111-S111)) | V111: =IF(P110="","",IF(C111="Ne","",IF(G111="Ne treba raditi na predm.","", IF((P110+P111)>1,30,IF(U110="",IF((P110+P111)>0.9,25,IF((P110+P111)>0.8,20,IF((P110+P111)>0.7,16,IF((P110+P111)>0.6,10,IF((P110+P111)>0.5,4,0))))),IF((U110+U111)=1,30,IF((U110+U111)>0.9,25,IF((U110+U111)>0.8,20,IF((U110+U111)>0.7,15,IF((U110+U111)>0.6,10,IF((U110+U111)>0.5,5,0))))))))))) -> 0
A112: Ime i prezime nosioca pravosudne funkcije | D112: Mile Zeljko | O112: Ukupna ostvarena orijentacijska norma koja se unosi u Obrazac za ocjenjivanje = | P112: =P113+P114 -> 1.0325607
A113: Županijski sud Široki Brijeg | C113: Da | E113: Sudija | F113: =IF(E113="Sudija",1,IF(E113="Stručni saradnik",1,"")) -> 1 | G113: 1 | H113: 01.01.2019 | I113: 31.12.2019 | J113: 261 | K113: 9 | L113: 0.9257 | O113: =IF(G113="",0,IF(G113="Ne treba raditi na predm.",1+SUM(L113:N113),(SUM(L113:N113)/G113))) -> 0.9257 | P113: =IF(K113>0,O113*(J113/(J113-K113)),O113) -> 0.95876071 | U113: =IF(Q113="","",R113/(Q113-S113)) | V113: =IF(P113="","",IF(C113="Ne","",IF(G113="Ne treba raditi na predm.","", IF((P113+P114)>1,30,IF(U113="",IF((P113+P114)>0.9,25,IF((P113+P114)>0.8,20,IF((P113+P114)>0.7,16,IF((P113+P114)>0.6,10,IF((P113+P114)>0.5,4,0))))),IF((U113+U114)=1,30,IF((U113+U114)>0.9,25,IF((U113+U114)>0.8,20,IF((U113+U114)>0.7,15,IF((U113+U114)>0.6,10,IF((U113+U114)>0.5,5,0))))))))))) -> 30
A114: Županijski sud Mostar | C114: Ne | E114: Sudija | F114: =IF(E114="Sudija",1,IF(E114="Stručni saradnik",1,"")) -> 1 | G114: 1 | H114: 01.01.2019 | I114: 31.12.2019 | J114: 225 | L114: 0.0738 | O114: =IF(G114="",0,IF(G114="Ne treba raditi na predm.",1+SUM(L114:N114),(SUM(L114:N114)/G114))) -> 0.0738 | P114: =IF(K114>0,O114*(J114/(J114-K114)),O114) -> 0.0738 | U114: =IF(Q114="","",R114/(Q114-S114)) | V114: =IF(P113="","",IF(C114="Ne","",IF(G114="Ne treba raditi na predm.","", IF((P113+P114)>1,30,IF(U113="",IF((P113+P114)>0.9,25,IF((P113+P114)>0.8,20,IF((P113+P114)>0.7,16,IF((P113+P114)>0.6,10,IF((P113+P114)>0.5,4,0))))),IF((U113+U114)=1,30,IF((U113+U114)>0.9,25,IF((U113+U114)>0.8,20,IF((U113+U114)>0.7,15,IF((U113+U114)>0.6,10,IF((U113+U114)>0.5,5,0)))))))))))
A115: Ime i prezime nosioca pravosudne funkcije | D115: Gordana Pažin | O115: Ukupna ostvarena orijentacijska norma koja se unosi u Obrazac za ocjenjivanje = | P115: =P116+P117 -> 1.013
A116: Županijski sud Široki Brijeg | C116: Da | E116: Sudija | F116: =IF(E116="Sudija",1,IF(E116="Stručni saradnik",1,"")) -> 1 | G116: 1 | H116: 01.01.2019 | I116: 31.12.2019 | J116: 261 | K116: 0 | L116: 0.9301 | O116: =IF(G116="",0,IF(G116="Ne treba raditi na predm.",1+SUM(L116:N116),(SUM(L116:N116)/G116))) -> 0.9301 | P116: =IF(K116>0,O116*(J116/(J116-K116)),O116) -> 0.9301 | U116: =IF(Q116="","",R116/(Q116-S116)) | V116: =IF(P116="","",IF(C116="Ne","",IF(G116="Ne treba raditi na predm.","", IF((P116+P117)>1,30,IF(U116="",IF((P116+P117)>0.9,25,IF((P116+P117)>0.8,20,IF((P116+P117)>0.7,16,IF((P116+P117)>0.6,10,IF((P116+P117)>0.5,4,0))))),IF((U116+U117)=1,30,IF((U116+U117)>0.9,25,IF((U116+U117)>0.8,20,IF((U116+U117)>0.7,15,IF((U116+U117)>0.6,10,IF((U116+U117)>0.5,5,0))))))))))) -> 30
A117: Županijski sud Mostar | C117: Ne | E117: Sudija | F117: =IF(E117="Sudija",1,IF(E117="Stručni saradnik",1,"")) -> 1 | G117: 1 | H117: 01.01.2019 | I117: 31.12.2019 | J117: 225 | L117: 0.0829 | O117: =IF(G117="",0,IF(G117="Ne treba raditi na predm.",1+SUM(L117:N117),(SUM(L117:N117)/G117))) -> 0.0829 | P117: =IF(K117>0,O117*(J117/(J117-K117)),O117) -> 0.0829 | U117: =IF(Q117="","",R117/(Q117-S117)) | V117: =IF(P116="","",IF(C117="Ne","",IF(G117="Ne treba raditi na predm.","", IF((P116+P117)>1,30,IF(U116="",IF((P116+P117)>0.9,25,IF((P116+P117)>0.8,20,IF((P116+P117)>0.7,16,IF((P116+P117)>0.6,10,IF((P116+P117)>0.5,4,0))))),IF((U116+U117)=1,30,IF((U116+U117)>0.9,25,IF((U116+U117)>0.8,20,IF((U116+U117)>0.7,15,IF((U116+U117)>0.6,10,IF((U116+U117)>0.5,5,0)))))))))))
A118: Ime i prezime nosioca pravosudne funkcije | D118: Franjo Ravlija | O118: Ukupna ostvarena orijentacijska norma koja se unosi u Obrazac za ocjenjivanje = | P118: =P119+P120 -> 1.1769176
A119: Županijski sud Široki Brijeg | C119: Da | E119: Sudija | F119: =IF(E119="Sudija",1,IF(E119="Stručni saradnik",1,"")) -> 1 | G119: 1 | H119: 01.01.2019 | I119: 31.12.2019 | J119: 261 | K119: 6 | L119: 1.059 | O119: =IF(G119="",0,IF(G119="Ne treba raditi na predm.",1+SUM(L119:N119),(SUM(L119:N119)/G119))) -> 1.059 | P119: =IF(K119>0,O119*(J119/(J119-K119)),O119) -> 1.0839176 | U119: =IF(Q119="","",R119/(Q119-S119)) | V119: =IF(P119="","",IF(C119="Ne","",IF(G119="Ne treba raditi na predm.","", IF((P119+P120)>1,30,IF(U119="",IF((P119+P120)>0.9,25,IF((P119+P120)>0.8,20,IF((P119+P120)>0.7,16,IF((P119+P120)>0.6,10,IF((P119+P120)>0.5,4,0))))),IF((U119+U120)=1,30,IF((U119+U120)>0.9,25,IF((U119+U120)>0.8,20,IF((U119+U120)>0.7,15,IF((U119+U120)>0.6,10,IF((U119+U120)>0.5,5,0))))))))))) -> 30
A120: Županijski sud Mostar | C120: Ne | E120: Sudija | F120: =IF(E120="Sudija",1,IF(E120="Stručni saradnik",1,"")) -> 1 | G120: 1 | H120: 01.01.2019 | I120: 31.12.2019 | J120: 225 | L120: 0.093 | O120: =IF(G120="",0,IF(G120="Ne treba raditi na predm.",1+SUM(L120:N120),(SUM(L120:N120)/G120))) -> 0.093 | P120: =IF(K120>0,O120*(J120/(J120-K120)),O120) -> 0.093 | U120: =IF(Q120="","",R120/(Q120-S120)) | V120: =IF(P119="","",IF(C120="Ne","",IF(G120="Ne treba raditi na predm.","", IF((P119+P120)>1,30,IF(U119="",IF((P119+P120)>0.9,25,IF((P119+P120)>0.8,20,IF((P119+P120)>0.7,16,IF((P119+P120)>0.6,10,IF((P119+P120)>0.5,4,0))))),IF((U119+U120)=1,30,IF((U119+U120)>0.9,25,IF((U119+U120)>0.8,20,IF((U119+U120)>0.7,15,IF((U119+U120)>0.6,10,IF((U119+U120)>0.5,5,0)))))))))))
A121: Ime i prezime nosioca pravosudne funkcije | O121: Ukupna ostvarena orijentacijska norma koja se unosi u Obrazac za ocjenjivanje = | P121: =P122+P123 -> 0
A122: Sud 1 | F122: =IF(E122="Sudija",1,IF(E122="Stručni saradnik",1,"")) | O122: =IF(G122="",0,IF(G122="Ne treba raditi na predm.",1+SUM(L122:N122),(SUM(L122:N122)/G122))) -> 0 | P122: =IF(K122>0,O122*(J122/(J122-K122)),O122) -> 0 | U122: =IF(Q122="","",R122/(Q122-S122)) | V122: =IF(P122="","",IF(C122="Ne","",IF(G122="Ne treba raditi na predm.","", IF((P122+P123)>1,30,IF(U122="",IF((P122+P123)>0.9,25,IF((P122+P123)>0.8,20,IF((P122+P123)>0.7,16,IF((P122+P123)>0.6,10,IF((P122+P123)>0.5,4,0))))),IF((U122+U123)=1,30,IF((U122+U123)>0.9,25,IF((U122+U123)>0.8,20,IF((U122+U123)>0.7,15,IF((U122+U123)>0.6,10,IF((U122+U123)>0.5,5,0))))))))))) -> 0
A123: Sud 2 | F123: =IF(E123="Sudija",1,IF(E123="Stručni saradnik",1,"")) | O123: =IF(G123="",0,IF(G123="Ne treba raditi na predm.",1+SUM(L123:N123),(SUM(L123:N123)/G123))) -> 0 | P123: =IF(K123>0,O123*(J123/(J123-K123)),O123) -> 0 | U123: =IF(Q123="","",R123/(Q123-S123)) | V123: =IF(P122="","",IF(C123="Ne","",IF(G123="Ne treba raditi na predm.","", IF((P122+P123)>1,30,IF(U122="",IF((P122+P123)>0.9,25,IF((P122+P123)>0.8,20,IF((P122+P123)>0.7,16,IF((P122+P123)>0.6,10,IF((P122+P123)>0.5,4,0))))),IF((U122+U123)=1,30,IF((U122+U123)>0.9,25,IF((U122+U123)>0.8,20,IF((U122+U123)>0.7,15,IF((U122+U123)>0.6,10,IF((U122+U123)>0.5,5,0))))))))))) -> 0
A124: Ime i prezime nosioca pravosudne funkcije | O124: Ukupna ostvarena orijentacijska norma koja se unosi u Obrazac za ocjenjivanje = | P124: =P125+P126 -> 0
A125: Sud 1 | F125: =IF(E125="Sudija",1,IF(E125="Stručni saradnik",1,"")) | O125: =IF(G125="",0,IF(G125="Ne treba raditi na predm.",1+SUM(L125:N125),(SUM(L125:N125)/G125))) -> 0 | P125: =IF(K125>0,O125*(J125/(J125-K125)),O125) -> 0 | U125: =IF(Q125="","",R125/(Q125-S125)) | V125: =IF(P125="","",IF(C125="Ne","",IF(G125="Ne treba raditi na predm.","", IF((P125+P126)>1,30,IF(U125="",IF((P125+P126)>0.9,25,IF((P125+P126)>0.8,20,IF((P125+P126)>0.7,16,IF((P125+P126)>0.6,10,IF((P125+P126)>0.5,4,0))))),IF((U125+U126)=1,30,IF((U125+U126)>0.9,25,IF((U125+U126)>0.8,20,IF((U125+U126)>0.7,15,IF((U125+U126)>0.6,10,IF((U125+U126)>0.5,5,0))))))))))) -> 0
A126: Sud 2 | F126: =IF(E126="Sudija",1,IF(E126="Stručni saradnik",1,"")) | O126: =IF(G126="",0,IF(G126="Ne treba raditi na predm.",1+SUM(L126:N126),(SUM(L126:N126)/G126))) -> 0 | P126: =IF(K126>0,O126*(J126/(J126-K126)),O126) -> 0 | U126: =IF(Q126="","",R126/(Q126-S126)) | V126: =IF(P125="","",IF(C126="Ne","",IF(G126="Ne treba raditi na predm.","", IF((P125+P126)>1,30,IF(U125="",IF((P125+P126)>0.9,25,IF((P125+P126)>0.8,20,IF((P125+P126)>0.7,16,IF((P125+P126)>0.6,10,IF((P125+P126)>0.5,4,0))))),IF((U125+U126)=1,30,IF((U125+U126)>0.9,25,IF((U125+U126)>0.8,20,IF((U125+U126)>0.7,15,IF((U125+U126)>0.6,10,IF((U125+U126)>0.5,5,0))))))))))) -> 0
A127: Ime i prezime nosioca pravosudne funkcije | O127: Ukupna ostvarena orijentacijska norma koja se unosi u Obrazac za ocjenjivanje = | P127: =P128+P129 -> 0
A128: Sud 1 | F128: =IF(E128="Sudija",1,IF(E128="Stručni saradnik",1,"")) | O128: =IF(G128="",0,IF(G128="Ne treba raditi na predm.",1+SUM(L128:N128),(SUM(L128:N128)/G128))) -> 0 | P128: =IF(K128>0,O128*(J128/(J128-K128)),O128) -> 0 | U128: =IF(Q128="","",R128/(Q128-S128)) | V128: =IF(P128="","",IF(C128="Ne","",IF(G128="Ne treba raditi na predm.","", IF((P128+P129)>1,30,IF(U128="",IF((P128+P129)>0.9,25,IF((P128+P129)>0.8,20,IF((P128+P129)>0.7,16,IF((P128+P129)>0.6,10,IF((P128+P129)>0.5,4,0))))),IF((U128+U129)=1,30,IF((U128+U129)>0.9,25,IF((U128+U129)>0.8,20,IF((U128+U129)>0.7,15,IF((U128+U129)>0.6,10,IF((U128+U129)>0.5,5,0))))))))))) -> 0
A129: Sud 2 | F129: =IF(E129="Sudija",1,IF(E129="Stručni saradnik",1,"")) | O129: =IF(G129="",0,IF(G129="Ne treba raditi na predm.",1+SUM(L129:N129),(SUM(L129:N129)/G129))) -> 0 | P129: =IF(K129>0,O129*(J129/(J129-K129)),O129) -> 0 | U129: =IF(Q129="","",R129/(Q129-S129)) | V129: =IF(P128="","",IF(C129="Ne","",IF(G129="Ne treba raditi na predm.","", IF((P128+P129)>1,30,IF(U128="",IF((P128+P129)>0.9,25,IF((P128+P129)>0.8,20,IF((P128+P129)>0.7,16,IF((P128+P129)>0.6,10,IF((P128+P129)>0.5,4,0))))),IF((U128+U129)=1,30,IF((U128+U129)>0.9,25,IF((U128+U129)>0.8,20,IF((U128+U129)>0.7,15,IF((U128+U129)>0.6,10,IF((U128+U129)>0.5,5,0))))))))))) -> 0
A130: Ime i prezime nosioca pravosudne funkcije | O130: Ukupna ostvarena orijentacijska norma koja se unosi u Obrazac za ocjenjivanje = | P130: =P131+P132 -> 0
A131: Sud 1 | F131: =IF(E131="Sudija",1,IF(E131="Stručni saradnik",1,"")) | O131: =IF(G131="",0,IF(G131="Ne treba raditi na predm.",1+SUM(L131:N131),(SUM(L131:N131)/G131))) -> 0 | P131: =IF(K131>0,O131*(J131/(J131-K131)),O131) -> 0 | U131: =IF(Q131="","",R131/(Q131-S131)) | V131: =IF(P131="","",IF(C131="Ne","",IF(G131="Ne treba raditi na predm.","", IF((P131+P132)>1,30,IF(U131="",IF((P131+P132)>0.9,25,IF((P131+P132)>0.8,20,IF((P131+P132)>0.7,16,IF((P131+P132)>0.6,10,IF((P131+P132)>0.5,4,0))))),IF((U131+U132)=1,30,IF((U131+U132)>0.9,25,IF((U131+U132)>0.8,20,IF((U131+U132)>0.7,15,IF((U131+U132)>0.6,10,IF((U131+U132)>0.5,5,0))))))))))) -> 0
A132: Sud 2 | F132: =IF(E132="Sudija",1,IF(E132="Stručni saradnik",1,"")) | O132: =IF(G132="",0,IF(G132="Ne treba raditi na predm.",1+SUM(L132:N132),(SUM(L132:N132)/G132))) -> 0 | P132: =IF(K132>0,O132*(J132/(J132-K132)),O132) -> 0 | U132: =IF(Q132="","",R132/(Q132-S132)) | V132: =IF(P131="","",IF(C132="Ne","",IF(G132="Ne treba raditi na predm.","", IF((P131+P132)>1,30,IF(U131="",IF((P131+P132)>0.9,25,IF((P131+P132)>0.8,20,IF((P131+P132)>0.7,16,IF((P131+P132)>0.6,10,IF((P131+P132)>0.5,4,0))))),IF((U131+U132)=1,30,IF((U131+U132)>0.9,25,IF((U131+U132)>0.8,20,IF((U131+U132)>0.7,15,IF((U131+U132)>0.6,10,IF((U131+U132)>0.5,5,0))))))))))) -> 0
A133: Ime i prezime nosioca pravosudne funkcije | O133: Ukupna ostvarena orijentacijska norma koja se unosi u Obrazac za ocjenjivanje = | P133: =P134+P135 -> 0
A134: Sud 1 | F134: =IF(E134="Sudija",1,IF(E134="Stručni saradnik",1,"")) | O134: =IF(G134="",0,IF(G134="Ne treba raditi na predm.",1+SUM(L134:N134),(SUM(L134:N134)/G134))) -> 0 | P134: =IF(K134>0,O134*(J134/(J134-K134)),O134) -> 0 | U134: =IF(Q134="","",R134/(Q134-S134)) | V134: =IF(P134="","",IF(C134="Ne","",IF(G134="Ne treba raditi na predm.","", IF((P134+P135)>1,30,IF(U134="",IF((P134+P135)>0.9,25,IF((P134+P135)>0.8,20,IF((P134+P135)>0.7,16,IF((P134+P135)>0.6,10,IF((P134+P135)>0.5,4,0))))),IF((U134+U135)=1,30,IF((U134+U135)>0.9,25,IF((U134+U135)>0.8,20,IF((U134+U135)>0.7,15,IF((U134+U135)>0.6,10,IF((U134+U135)>0.5,5,0))))))))))) -> 0
A135: Sud 2 | F135: =IF(E135="Sudija",1,IF(E135="Stručni saradnik",1,"")) | O135: =IF(G135="",0,IF(G135="Ne treba raditi na predm.",1+SUM(L135:N135),(SUM(L135:N135)/G135))) -> 0 | P135: =IF(K135>0,O135*(J135/(J135-K135)),O135) -> 0 | U135: =IF(Q135="","",R135/(Q135-S135)) | V135: =IF(P134="","",IF(C135="Ne","",IF(G135="Ne treba raditi na predm.","", IF((P134+P135)>1,30,IF(U134="",IF((P134+P135)>0.9,25,IF((P134+P135)>0.8,20,IF((P134+P135)>0.7,16,IF((P134+P135)>0.6,10,IF((P134+P135)>0.5,4,0))))),IF((U134+U135)=1,30,IF((U134+U135)>0.9,25,IF((U134+U135)>0.8,20,IF((U134+U135)>0.7,15,IF((U134+U135)>0.6,10,IF((U134+U135)>0.5,5,0))))))))))) -> 0
A136: Ime i prezime nosioca pravosudne funkcije | O136: Ukupna ostvarena orijentacijska norma koja se unosi u Obrazac za ocjenjivanje = | P136: =P137+P138 -> 0
A137: Sud 1 | F137: =IF(E137="Sudija",1,IF(E137="Stručni saradnik",1,"")) | O137: =IF(G137="",0,IF(G137="Ne treba raditi na predm.",1+SUM(L137:N137),(SUM(L137:N137)/G137))) -> 0 | P137: =IF(K137>0,O137*(J137/(J137-K137)),O137) -> 0 | U137: =IF(Q137="","",R137/(Q137-S137)) | V137: =IF(P137="","",IF(C137="Ne","",IF(G137="Ne treba raditi na predm.","", IF((P137+P138)>1,30,IF(U137="",IF((P137+P138)>0.9,25,IF((P137+P138)>0.8,20,IF((P137+P138)>0.7,16,IF((P137+P138)>0.6,10,IF((P137+P138)>0.5,4,0))))),IF((U137+U138)=1,30,IF((U137+U138)>0.9,25,IF((U137+U138)>0.8,20,IF((U137+U138)>0.7,15,IF((U137+U138)>0.6,10,IF((U137+U138)>0.5,5,0))))))))))) -> 0
A138: Sud 2 | F138: =IF(E138="Sudija",1,IF(E138="Stručni saradnik",1,"")) | O138: =IF(G138="",0,IF(G138="Ne treba raditi na predm.",1+SUM(L138:N138),(SUM(L138:N138)/G138))) -> 0 | P138: =IF(K138>0,O138*(J138/(J138-K138)),O138) -> 0 | U138: =IF(Q138="","",R138/(Q138-S138)) | V138: =IF(P137="","",IF(C138="Ne","",IF(G138="Ne treba raditi na predm.","", IF((P137+P138)>1,30,IF(U137="",IF((P137+P138)>0.9,25,IF((P137+P138)>0.8,20,IF((P137+P138)>0.7,16,IF((P137+P138)>0.6,10,IF((P137+P138)>0.5,4,0))))),IF((U137+U138)=1,30,IF((U137+U138)>0.9,25,IF((U137+U138)>0.8,20,IF((U137+U138)>0.7,15,IF((U137+U138)>0.6,10,IF((U137+U138)>0.5,5,0))))))))))) -> 0
A139: Ime i prezime nosioca pravosudne funkcije | O139: Ukupna ostvarena orijentacijska norma koja se unosi u Obrazac za ocjenjivanje = | P139: =P140+P141 -> 0
A140: Sud 1 | F140: =IF(E140="Sudija",1,IF(E140="Stručni saradnik",1,"")) | O140: =IF(G140="",0,IF(G140="Ne treba raditi na predm.",1+SUM(L140:N140),(SUM(L140:N140)/G140))) -> 0 | P140: =IF(K140>0,O140*(J140/(J140-K140)),O140) -> 0 | U140: =IF(Q140="","",R140/(Q140-S140)) | V140: =IF(P140="","",IF(C140="Ne","",IF(G140="Ne treba raditi na predm.","", IF((P140+P141)>1,30,IF(U140="",IF((P140+P141)>0.9,25,IF((P140+P141)>0.8,20,IF((P140+P141)>0.7,16,IF((P140+P141)>0.6,10,IF((P140+P141)>0.5,4,0))))),IF((U140+U141)=1,30,IF((U140+U141)>0.9,25,IF((U140+U141)>0.8,20,IF((U140+U141)>0.7,15,IF((U140+U141)>0.6,10,IF((U140+U141)>0.5,5,0))))))))))) -> 0
A141: Sud 2 | F141: =IF(E141="Sudija",1,IF(E141="Stručni saradnik",1,"")) | O141: =IF(G141="",0,IF(G141="Ne treba raditi na predm.",1+SUM(L141:N141),(SUM(L141:N141)/G141))) -> 0 | P141: =IF(K141>0,O141*(J141/(J141-K141)),O141) -> 0 | U141: =IF(Q141="","",R141/(Q141-S141)) | V141: =IF(P140="","",IF(C141="Ne","",IF(G141="Ne treba raditi na predm.","", IF((P140+P141)>1,30,IF(U140="",IF((P140+P141)>0.9,25,IF((P140+P141)>0.8,20,IF((P140+P141)>0.7,16,IF((P140+P141)>0.6,10,IF((P140+P141)>0.5,4,0))))),IF((U140+U141)=1,30,IF((U140+U141)>0.9,25,IF((U140+U141)>0.8,20,IF((U140+U141)>0.7,15,IF((U140+U141)>0.6,10,IF((U140+U141)>0.5,5,0))))))))))) -> 0
A142: Ime i prezime nosioca pravosudne funkcije | O142: Ukupna ostvarena orijentacijska norma koja se unosi u Obrazac za ocjenjivanje = | P142: =P143+P144 -> 0
A143: Sud 1 | F143: =IF(E143="Sudija",1,IF(E143="Stručni saradnik",1,"")) | O143: =IF(G143="",0,IF(G143="Ne treba raditi na predm.",1+SUM(L143:N143),(SUM(L143:N143)/G143))) -> 0 | P143: =IF(K143>0,O143*(J143/(J143-K143)),O143) -> 0 | U143: =IF(Q143="","",R143/(Q143-S143)) | V143: =IF(P143="","",IF(C143="Ne","",IF(G143="Ne treba raditi na predm.","", IF((P143+P144)>1,30,IF(U143="",IF((P143+P144)>0.9,25,IF((P143+P144)>0.8,20,IF((P143+P144)>0.7,16,IF((P143+P144)>0.6,10,IF((P143+P144)>0.5,4,0))))),IF((U143+U144)=1,30,IF((U143+U144)>0.9,25,IF((U143+U144)>0.8,20,IF((U143+U144)>0.7,15,IF((U143+U144)>0.6,10,IF((U143+U144)>0.5,5,0))))))))))) -> 0
A144: Sud 2 | F144: =IF(E144="Sudija",1,IF(E144="Stručni saradnik",1,"")) | O144: =IF(G144="",0,IF(G144="Ne treba raditi na predm.",1+SUM(L144:N144),(SUM(L144:N144)/G144))) -> 0 | P144: =IF(K144>0,O144*(J144/(J144-K144)),O144) -> 0 | U144: =IF(Q144="","",R144/(Q144-S144)) | V144: =IF(P143="","",IF(C144="Ne","",IF(G144="Ne treba raditi na predm.","", IF((P143+P144)>1,30,IF(U143="",IF((P143+P144)>0.9,25,IF((P143+P144)>0.8,20,IF((P143+P144)>0.7,16,IF((P143+P144)>0.6,10,IF((P143+P144)>0.5,4,0))))),IF((U143+U144)=1,30,IF((U143+U144)>0.9,25,IF((U143+U144)>0.8,20,IF((U143+U144)>0.7,15,IF((U143+U144)>0.6,10,IF((U143+U144)>0.5,5,0))))))))))) -> 0
A145: Ime i prezime nosioca pravosudne funkcije | O145: Ukupna ostvarena orijentacijska norma koja se unosi u Obrazac za ocjenjivanje = | P145: =P146+P147 -> 0
A146: Sud 1 | F146: =IF(E146="Sudija",1,IF(E146="Stručni saradnik",1,"")) | O146: =IF(G146="",0,IF(G146="Ne treba raditi na predm.",1+SUM(L146:N146),(SUM(L146:N146)/G146))) -> 0 | P146: =IF(K146>0,O146*(J146/(J146-K146)),O146) -> 0 | U146: =IF(Q146="","",R146/(Q146-S146)) | V146: =IF(P146="","",IF(C146="Ne","",IF(G146="Ne treba raditi na predm.","", IF((P146+P147)>1,30,IF(U146="",IF((P146+P147)>0.9,25,IF((P146+P147)>0.8,20,IF((P146+P147)>0.7,16,IF((P146+P147)>0.6,10,IF((P146+P147)>0.5,4,0))))),IF((U146+U147)=1,30,IF((U146+U147)>0.9,25,IF((U146+U147)>0.8,20,IF((U146+U147)>0.7,15,IF((U146+U147)>0.6,10,IF((U146+U147)>0.5,5,0))))))))))) -> 0
A147: Sud 2 | F147: =IF(E147="Sudija",1,IF(E147="Stručni saradnik",1,"")) | O147: =IF(G147="",0,IF(G147="Ne treba raditi na predm.",1+SUM(L147:N147),(SUM(L147:N147)/G147))) -> 0 | P147: =IF(K147>0,O147*(J147/(J147-K147)),O147) -> 0 | U147: =IF(Q147="","",R147/(Q147-S147)) | V147: =IF(P146="","",IF(C147="Ne","",IF(G147="Ne treba raditi na predm.","", IF((P146+P147)>1,30,IF(U146="",IF((P146+P147)>0.9,25,IF((P146+P147)>0.8,20,IF((P146+P147)>0.7,16,IF((P146+P147)>0.6,10,IF((P146+P147)>0.5,4,0))))),IF((U146+U147)=1,30,IF((U146+U147)>0.9,25,IF((U146+U147)>0.8,20,IF((U146+U147)>0.7,15,IF((U146+U147)>0.6,10,IF((U146+U147)>0.5,5,0))))))))))) -> 0
A148: Ime i prezime nosioca pravosudne funkcije | O148: Ukupna ostvarena orijentacijska norma koja se unosi u Obrazac za ocjenjivanje = | P148: =P149+P150 -> 0
A149: Sud 1 | F149: =IF(E149="Sudija",1,IF(E149="Stručni saradnik",1,"")) | O149: =IF(G149="",0,IF(G149="Ne treba raditi na predm.",1+SUM(L149:N149),(SUM(L149:N149)/G149))) -> 0 | P149: =IF(K149>0,O149*(J149/(J149-K149)),O149) -> 0 | U149: =IF(Q149="","",R149/(Q149-S149)) | V149: =IF(P149="","",IF(C149="Ne","",IF(G149="Ne treba raditi na predm.","", IF((P149+P150)>1,30,IF(U149="",IF((P149+P150)>0.9,25,IF((P149+P150)>0.8,20,IF((P149+P150)>0.7,16,IF((P149+P150)>0.6,10,IF((P149+P150)>0.5,4,0))))),IF((U149+U150)=1,30,IF((U149+U150)>0.9,25,IF((U149+U150)>0.8,20,IF((U149+U150)>0.7,15,IF((U149+U150)>0.6,10,IF((U149+U150)>0.5,5,0))))))))))) -> 0
A150: Sud 2 | F150: =IF(E150="Sudija",1,IF(E150="Stručni saradnik",1,"")) | O150: =IF(G150="",0,IF(G150="Ne treba raditi na predm.",1+SUM(L150:N150),(SUM(L150:N150)/G150))) -> 0 | P150: =IF(K150>0,O150*(J150/(J150-K150)),O150) -> 0 | U150: =IF(Q150="","",R150/(Q150-S150)) | V150: =IF(P149="","",IF(C150="Ne","",IF(G150="Ne treba raditi na predm.","", IF((P149+P150)>1,30,IF(U149="",IF((P149+P150)>0.9,25,IF((P149+P150)>0.8,20,IF((P149+P150)>0.7,16,IF((P149+P150)>0.6,10,IF((P149+P150)>0.5,4,0))))),IF((U149+U150)=1,30,IF((U149+U150)>0.9,25,IF((U149+U150)>0.8,20,IF((U149+U150)>0.7,15,IF((U149+U150)>0.6,10,IF((U149+U150)>0.5,5,0))))))))))) -> 0
A151: Ime i prezime nosioca pravosudne funkcije | O151: Ukupna ostvarena orijentacijska norma koja se unosi u Obrazac za ocjenjivanje = | P151: =P152+P153 -> 0
A152: Sud 1 | F152: =IF(E152="Sudija",1,IF(E152="Stručni saradnik",1,"")) | O152: =IF(G152="",0,IF(G152="Ne treba raditi na predm.",1+SUM(L152:N152),(SUM(L152:N152)/G152))) -> 0 | P152: =IF(K152>0,O152*(J152/(J152-K152)),O152) -> 0 | U152: =IF(Q152="","",R152/(Q152-S152)) | V152: =IF(P152="","",IF(C152="Ne","",IF(G152="Ne treba raditi na predm.","", IF((P152+P153)>1,30,IF(U152="",IF((P152+P153)>0.9,25,IF((P152+P153)>0.8,20,IF((P152+P153)>0.7,16,IF((P152+P153)>0.6,10,IF((P152+P153)>0.5,4,0))))),IF((U152+U153)=1,30,IF((U152+U153)>0.9,25,IF((U152+U153)>0.8,20,IF((U152+U153)>0.7,15,IF((U152+U153)>0.6,10,IF((U152+U153)>0.5,5,0))))))))))) -> 0
A153: Sud 2 | F153: =IF(E153="Sudija",1,IF(E153="Stručni saradnik",1,"")) | O153: =IF(G153="",0,IF(G153="Ne treba raditi na predm.",1+SUM(L153:N153),(SUM(L153:N153)/G153))) -> 0 | P153: =IF(K153>0,O153*(J153/(J153-K153)),O153) -> 0 | U153: =IF(Q153="","",R153/(Q153-S153)) | V153: =IF(P152="","",IF(C153="Ne","",IF(G153="Ne treba raditi na predm.","", IF((P152+P153)>1,30,IF(U152="",IF((P152+P153)>0.9,25,IF((P152+P153)>0.8,20,IF((P152+P153)>0.7,16,IF((P152+P153)>0.6,10,IF((P152+P153)>0.5,4,0))))),IF((U152+U153)=1,30,IF((U152+U153)>0.9,25,IF((U152+U153)>0.8,20,IF((U152+U153)>0.7,15,IF((U152+U153)>0.6,10,IF((U152+U153)>0.5,5,0))))))))))) -> 0
A154: Ime i prezime nosioca pravosudne funkcije | O154: Ukupna ostvarena orijentacijska norma koja se unosi u Obrazac za ocjenjivanje = | P154: =P155+P156 -> 0
A155: Sud 1 | F155: =IF(E155="Sudija",1,IF(E155="Stručni saradnik",1,"")) | O155: =IF(G155="",0,IF(G155="Ne treba raditi na predm.",1+SUM(L155:N155),(SUM(L155:N155)/G155))) -> 0 | P155: =IF(K155>0,O155*(J155/(J155-K155)),O155) -> 0 | U155: =IF(Q155="","",R155/(Q155-S155)) | V155: =IF(P155="","",IF(C155="Ne","",IF(G155="Ne treba raditi na predm.","", IF((P155+P156)>1,30,IF(U155="",IF((P155+P156)>0.9,25,IF((P155+P156)>0.8,20,IF((P155+P156)>0.7,16,IF((P155+P156)>0.6,10,IF((P155+P156)>0.5,4,0))))),IF((U155+U156)=1,30,IF((U155+U156)>0.9,25,IF((U155+U156)>0.8,20,IF((U155+U156)>0.7,15,IF((U155+U156)>0.6,10,IF((U155+U156)>0.5,5,0))))))))))) -> 0
A156: Sud 2 | F156: =IF(E156="Sudija",1,IF(E156="Stručni saradnik",1,"")) | O156: =IF(G156="",0,IF(G156="Ne treba raditi na predm.",1+SUM(L156:N156),(SUM(L156:N156)/G156))) -> 0 | P156: =IF(K156>0,O156*(J156/(J156-K156)),O156) -> 0 | U156: =IF(Q156="","",R156/(Q156-S156)) | V156: =IF(P155="","",IF(C156="Ne","",IF(G156="Ne treba raditi na predm.","", IF((P155+P156)>1,30,IF(U155="",IF((P155+P156)>0.9,25,IF((P155+P156)>0.8,20,IF((P155+P156)>0.7,16,IF((P155+P156)>0.6,10,IF((P155+P156)>0.5,4,0))))),IF((U155+U156)=1,30,IF((U155+U156)>0.9,25,IF((U155+U156)>0.8,20,IF((U155+U156)>0.7,15,IF((U155+U156)>0.6,10,IF((U155+U156)>0.5,5,0))))))))))) -> 0
A157: Ime i prezime nosioca pravosudne funkcije | O157: Ukupna ostvarena orijentacijska norma koja se unosi u Obrazac za ocjenjivanje = | P157: =P158+P159 -> 0
A158: Sud 1 | F158: =IF(E158="Sudija",1,IF(E158="Stručni saradnik",1,"")) | O158: =IF(G158="",0,IF(G158="Ne treba raditi na predm.",1+SUM(L158:N158),(SUM(L158:N158)/G158))) -> 0 | P158: =IF(K158>0,O158*(J158/(J158-K158)),O158) -> 0 | U158: =IF(Q158="","",R158/(Q158-S158)) | V158: =IF(P158="","",IF(C158="Ne","",IF(G158="Ne treba raditi na predm.","", IF((P158+P159)>1,30,IF(U158="",IF((P158+P159)>0.9,25,IF((P158+P159)>0.8,20,IF((P158+P159)>0.7,16,IF((P158+P159)>0.6,10,IF((P158+P159)>0.5,4,0))))),IF((U158+U159)=1,30,IF((U158+U159)>0.9,25,IF((U158+U159)>0.8,20,IF((U158+U159)>0.7,15,IF((U158+U159)>0.6,10,IF((U158+U159)>0.5,5,0))))))))))) -> 0
A159: Sud 2 | F159: =IF(E159="Sudija",1,IF(E159="Stručni saradnik",1,"")) | O159: =IF(G159="",0,IF(G159="Ne treba raditi na predm.",1+SUM(L159:N159),(SUM(L159:N159)/G159))) -> 0 | P159: =IF(K159>0,O159*(J159/(J159-K159)),O159) -> 0 | U159: =IF(Q159="","",R159/(Q159-S159)) | V159: =IF(P158="","",IF(C159="Ne","",IF(G159="Ne treba raditi na predm.","", IF((P158+P159)>1,30,IF(U158="",IF((P158+P159)>0.9,25,IF((P158+P159)>0.8,20,IF((P158+P159)>0.7,16,IF((P158+P159)>0.6,10,IF((P158+P159)>0.5,4,0))))),IF((U158+U159)=1,30,IF((U158+U159)>0.9,25,IF((U158+U159)>0.8,20,IF((U158+U159)>0.7,15,IF((U158+U159)>0.6,10,IF((U158+U159)>0.5,5,0))))))))))) -> 0
A160: Ime i prezime nosioca pravosudne funkcije | O160: Ukupna ostvarena orijentacijska norma koja se unosi u Obrazac za ocjenjivanje = | P160: =P161+P162 -> 0
A161: Sud 1 | F161: =IF(E161="Sudija",1,IF(E161="Stručni saradnik",1,"")) | O161: =IF(G161="",0,IF(G161="Ne treba raditi na predm.",1+SUM(L161:N161),(SUM(L161:N161)/G161))) -> 0 | P161: =IF(K161>0,O161*(J161/(J161-K161)),O161) -> 0 | U161: =IF(Q161="","",R161/(Q161-S161)) | V161: =IF(P161="","",IF(C161="Ne","",IF(G161="Ne treba raditi na predm.","", IF((P161+P162)>1,30,IF(U161="",IF((P161+P162)>0.9,25,IF((P161+P162)>0.8,20,IF((P161+P162)>0.7,16,IF((P161+P162)>0.6,10,IF((P161+P162)>0.5,4,0))))),IF((U161+U162)=1,30,IF((U161+U162)>0.9,25,IF((U161+U162)>0.8,20,IF((U161+U162)>0.7,15,IF((U161+U162)>0.6,10,IF((U161+U162)>0.5,5,0))))))))))) -> 0
A162: Sud 2 | F162: =IF(E162="Sudija",1,IF(E162="Stručni saradnik",1,"")) | O162: =IF(G162="",0,IF(G162="Ne treba raditi na predm.",1+SUM(L162:N162),(SUM(L162:N162)/G162))) -> 0 | P162: =IF(K162>0,O162*(J162/(J162-K162)),O162) -> 0 | U162: =IF(Q162="","",R162/(Q162-S162)) | V162: =IF(P161="","",IF(C162="Ne","",IF(G162="Ne treba raditi na predm.","", IF((P161+P162)>1,30,IF(U161="",IF((P161+P162)>0.9,25,IF((P161+P162)>0.8,20,IF((P161+P162)>0.7,16,IF((P161+P162)>0.6,10,IF((P161+P162)>0.5,4,0))))),IF((U161+U162)=1,30,IF((U161+U162)>0.9,25,IF((U161+U162)>0.8,20,IF((U161+U162)>0.7,15,IF((U161+U162)>0.6,10,IF((U161+U162)>0.5,5,0))))))))))) -> 0
...

Sheet Tabela III
A1: =+'Tabela I'!A1 -> Kantonalni/Okružni sud: | E1: =+'Tabela I'!C1 -> Županijski sud Široki Brijeg
A2: Izvještajni period: | E2: =+'Tabela I'!B2 -> 1.1.2019.-31.12.2019.
A3: Tabela IIIa - Kvalitet sudskih odluka po nosiocima pravosudnih funkcija - Elektronski obrazac za obračun kvaliteta odluka iz člana 13. Kriterija za ocjenjivanje rada sudija u BiH i člana 8. Kriterija za ocjenjivanje rada predsjednika sudova i predsjednika sudskih odjeljenja u BiH (pogledati NAPOMENU 2 i 3)
A6: Redni broj | B6: Ime i prezime - podatak je automatski prenesen iz Tabele IIa - OBAVEZNO ZADRŽATI REDOSLIJED NPF-a iz Tabele IIa | C6: Naziv odjela - podatak je automatski prenesen iz Tabele IIa - OBAVEZNO ZADRŽATI REDOSLIJED NPF-a iz Tabele IIa | D6: Pravosudna funkcija - podatak je automatski prenesen iz Tabele IIa - OBAVEZNO ZADRŽATI REDOSLIJED NPF-a iz Tabele IIa | E6: Ocijenjen / Nije ocijenjen u sudu | F6: Ukupan broj donesenih odluka na koje se može izjaviti pravni lijek | G6: Ukupan broj ožalbenih odluka | H6: Broj odbačenih pravnih lijekova*** | I6: Broj potvrđenih odluka | J6: Broj preinačenih odluka | K6: Broj preinačenih odluka donijetih na raspravi ili na pretresu pred višim sudom**** | L6: Broj ukinutih odluka | M6: Broj djelimično ukinutih odluka | N6: Kvalitet sudskih odluka prema članu 18. stav (1) tačka a) Kriterija (S) i članu 17. stav (1) Kriterija (PS i PSO) | O6: Broj ostvarenih bodova za kvalitet prema članu 18. stav (1) tačka a) Kriterija (S) i članu 17. stav (1) Kriterija (PS i PSO) | P6: Kvalitet sudskih odluka prema članu 18. stav (1) tačka b) Kriterija (S) i članu 17. stav (2) Kriterija (PS i PSO) | Q6: Broj ostvarenih bodova za kvalitet prema članu 18. stav 1. tačka b) Kriterija (S) i članu 17. stav (2) Kriterija (PS i PSO) | R6: UKUPAN broj ostvarenih bodova za kvalitet sudskih odluka
I7: Odbijen pravni lijek
A8: I | B8: II | C8: III | D8: IV | E8: V | F8: VI | G8: VII | H8: VIII | I8: IX | J8: X | K8: XI | L8: XII | M8: XIII | N8: XIV | O8: XV | P8: XVI | Q8: XVII | R8: XVIII
A10: 1 | B10: =IF('Tabela II'!B8="","",'Tabela II'!B8) -> Bosiljka Rudeš | D10: Predsjednik suda * | E10: Ocijenjen | F10: 83 | G10: =SUM(I10:M10) -> 21 | H10: 22 | I10: 18 | J10: 2 | K10: 0 | L10: 1 | N10: =IF(E10="","",IF(E10="Nije ocijenjen ili Ne treba raditi na predmetima","",IF(E10="Ocijenjen",IF(G10<10,"Član 18. stav 7. Kriterija",(L10+(M10/2))/(G10))))) -> 0.047619048 | O10: =IF(E10="","",IF(E10="Nije ocijenjen ili Ne treba raditi na predmetima","",IF(E10="Ocijenjen",IF(N10="Član 18. stav 7. Kriterija","",IF(N10>0.4,0,IF(N10>0.3,1,IF(N10>0.2,2,IF(N10>0.1,3,IF(N10>0.05,4,IF(N10<=0.05,5,)))))))))) -> 5 | P10: =IF(E10="","",IF(E10="Nije ocijenjen ili Ne treba raditi na predmetima","",IF(E10="Ocijenjen",IF(F10=0,"",((L10+K10+(M10/2))/(F10)))))) -> 0.012048193 | Q10: =IF(E10="","",IF(E10="Nije ocijenjen ili Ne treba raditi na predmetima","",IF(E10="Ocijenjen",IF(P10>0.2,0,IF(P10>0.15,1,IF(P10>0.1,2,IF(P10>0.06,3,IF(P10>0.03,4,IF(P10<=0.03,5,))))))))) -> 5 | R10: =IF(E10="","",IF(E10="Nije ocijenjen ili Ne treba raditi na predmetima","",IF(E10="Ocijenjen",IF(N10="Član 18. stav 7. Kriterija",Q10,O10+Q10)))) -> 10 | V10: Ocijenjen
A11: 2 | B11: =IF('Tabela II'!B10="","",'Tabela II'!B10) -> Mile Zeljko | C11: =IF('Tabela II'!D10="","",'Tabela II'!D10) -> Sudsko odjeljenje | D11: =IF('Tabela II'!E10="","",'Tabela II'!E10) -> Sudija | E11: Nije ocijenjen | F11: 70 | G11: =SUM(I11:M11) -> 41 | H11: 9 | I11: 36 | J11: 2 | K11: 0 | L11: 3 | N11: =IF(E11="","",IF(E11="Nije ocijenjen","",IF(E11="Ocijenjen",IF(G11<10,"Član 18. stav 7. Kriterija",(L11+(M11/2))/(G11))))) | O11: =IF(E11="","",IF(E11="Nije ocijenjen","",IF(E11="Ocijenjen",IF(N11="Član 18. stav 7. Kriterija","",IF(N11>0.4,0,IF(N11>0.3,5,IF(N11>0.2,10,IF(N11>0.1,15,IF(N11>0.05,20,IF(N11<=0.05,25,)))))))))) | P11: =IF(E11="","",IF(E11="Nije ocijenjen","",IF(E11="Ocijenjen",IF(F11=0,"",((L11+K11+(M11/2))/(F11)))))) | Q11: =IF(E11="","",IF(E11="Nije ocijenjen","",IF(E11="Ocijenjen",IF(P11>0.2,0,IF(P11>0.15,1,IF(P11>0.1,2,IF(P11>0.06,3,IF(P11>0.03,4,IF(P11<=0.03,5,))))))))) | R11: =IF(E11="","",IF(E11="Nije ocijenjen","",IF(E11="Ocijenjen",IF(N11="Član 18. stav 7. Kriterija",Q11,O11+Q11)))) | T11: Sudija | V11: Nije ocijenjen
A12: 3 | B12: =IF('Tabela II'!B11="","",'Tabela II'!B11) -> Gordana Pažin | C12: =IF('Tabela II'!D11="","",'Tabela II'!D11) -> Sudsko odjeljenje | D12: =IF('Tabela II'!E11="","",'Tabela II'!E11) -> Sudija | E12: Nije ocijenjen | F12: 47 | G12: =SUM(I12:M12) -> 18 | H12: 6 | I12: 12 | J12: 1 | K12: 0 | L12: 5 | N12: =IF(E12="","",IF(E12="Nije ocijenjen","",IF(E12="Ocijenjen",IF(G12<10,"Član 18. stav 7. Kriterija",(L12+(M12/2))/(G12))))) | O12: =IF(E12="","",IF(E12="Nije ocijenjen","",IF(E12="Ocijenjen",IF(N12="Član 18. stav 7. Kriterija","",IF(N12>0.4,0,IF(N12>0.3,5,IF(N12>0.2,10,IF(N12>0.1,15,IF(N12>0.05,20,IF(N12<=0.05,25,)))))))))) | P12: =IF(E12="","",IF(E12="Nije ocijenjen","",IF(E12="Ocijenjen",IF(F12=0,"",((L12+K12+(M12/2))/(F12)))))) | Q12: =IF(E12="","",IF(E12="Nije ocijenjen","",IF(E12="Ocijenjen",IF(P12>0.2,0,IF(P12>0.15,1,IF(P12>0.1,2,IF(P12>0.06,3,IF(P12>0.03,4,IF(P12<=0.03,5,))))))))) | R12: =IF(E12="","",IF(E12="Nije ocijenjen","",IF(E12="Ocijenjen",IF(N12="Član 18. stav 7. Kriterija",Q12,O12+Q12)))) | T12: Stručni saradnik
A13: 4 | B13: Katica Artuković | C13: =IF('Tabela II'!D12="","",'Tabela II'!D12) -> Sudsko odjeljenje | D13: =IF('Tabela II'!E12="","",'Tabela II'!E12) -> Sudija | E13: Ocijenjen | F13: 160 | G13: =SUM(I13:M13) -> 4 | H13: 1 | I13: 3 | J13: 0 | K13: 0 | L13: 1 | N13: =IF(E13="","",IF(E13="Nije ocijenjen","",IF(E13="Ocijenjen",IF(G13<10,"Član 18. stav 7. Kriterija",(L13+(M13/2))/(G13))))) -> Član 18. stav 7. Kriterija | O13: =IF(E13="","",IF(E13="Nije ocijenjen","",IF(E13="Ocijenjen",IF(N13="Član 18. stav 7. Kriterija","",IF(N13>0.4,0,IF(N13>0.3,5,IF(N13>0.2,10,IF(N13>0.1,15,IF(N13>0.05,20,IF(N13<=0.05,25,)))))))))) | P13: =IF(E13="","",IF(E13="Nije ocijenjen","",IF(E13="Ocijenjen",IF(F13=0,"",((L13+K13+(M13/2))/(F13)))))) -> 0.00625 | Q13: =IF(E13="","",IF(E13="Nije ocijenjen","",IF(E13="Ocijenjen",IF(P13>0.2,0,IF(P13>0.15,1,IF(P13>0.1,2,IF(P13>0.06,3,IF(P13>0.03,4,IF(P13<=0.03,5,))))))))) -> 5 | R13: =IF(E13="","",IF(E13="Nije ocijenjen","",IF(E13="Ocijenjen",IF(N13="Član 18. stav 7. Kriterija",Q13,O13+Q13)))) -> 5 | T13: Predsjednik odjela
A14: 5 | B14: =IF('Tabela II'!B13="","",'Tabela II'!B13) -> Franjo Ravlija | C14: =IF('Tabela II'!D13="","",'Tabela II'!D13) -> Sudsko odjeljenje | D14: =IF('Tabela II'!E13="","",'Tabela II'!E13) -> Sudija | E14: Nije ocijenjen | F14: 88 | G14: =SUM(I14:M14) -> 6 | H14: 9 | I14: 6 | J14: 0 | K14: 0 | L14: 0 | N14: =IF(E14="","",IF(E14="Nije ocijenjen","",IF(E14="Ocijenjen",IF(G14<10,"Član 18. stav 7. Kriterija",(L14+(M14/2))/(G14))))) | O14: =IF(E14="","",IF(E14="Nije ocijenjen","",IF(E14="Ocijenjen",IF(N14="Član 18. stav 7. Kriterija","",IF(N14>0.4,0,IF(N14>0.3,5,IF(N14>0.2,10,IF(N14>0.1,15,IF(N14>0.05,20,IF(N14<=0.05,25,)))))))))) | P14: =IF(E14="","",IF(E14="Nije ocijenjen","",IF(E14="Ocijenjen",IF(F14=0,"",((L14+K14+(M14/2))/(F14)))))) | Q14: =IF(E14="","",IF(E14="Nije ocijenjen","",IF(E14="Ocijenjen",IF(P14>0.2,0,IF(P14>0.15,1,IF(P14>0.1,2,IF(P14>0.06,3,IF(P14>0.03,4,IF(P14<=0.03,5,))))))))) | R14: =IF(E14="","",IF(E14="Nije ocijenjen","",IF(E14="Ocijenjen",IF(N14="Član 18. stav 7. Kriterija",Q14,O14+Q14)))) | T14: Predsjednik sudskog vijeća vrhovnog suda entiteta
A15: 6 | B15: =IF('Tabela II'!B14="","",'Tabela II'!B14) | C15: =IF('Tabela II'!D14="","",'Tabela II'!D14) | D15: =IF('Tabela II'!E14="","",'Tabela II'!E14) | G15: =SUM(I15:M15) -> 0 | N15: =IF(E15="","",IF(E15="Nije ocijenjen","",IF(E15="Ocijenjen",IF(G15<10,"Član 18. stav 7. Kriterija",(L15+(M15/2))/(G15))))) | O15: =IF(E15="","",IF(E15="Nije ocijenjen","",IF(E15="Ocijenjen",IF(N15="Član 18. stav 7. Kriterija","",IF(N15>0.4,0,IF(N15>0.3,5,IF(N15>0.2,10,IF(N15>0.1,15,IF(N15>0.05,20,IF(N15<=0.05,25,)))))))))) | P15: =IF(E15="","",IF(E15="Nije ocijenjen","",IF(E15="Ocijenjen",IF(F15=0,"",((L15+K15+(M15/2))/(F15)))))) | Q15: =IF(E15="","",IF(E15="Nije ocijenjen","",IF(E15="Ocijenjen",IF(P15>0.2,0,IF(P15>0.15,1,IF(P15>0.1,2,IF(P15>0.06,3,IF(P15>0.03,4,IF(P15<=0.03,5,))))))))) | R15: =IF(E15="","",IF(E15="Nije ocijenjen","",IF(E15="Ocijenjen",IF(N15="Član 18. stav 7. Kriterija",Q15,O15+Q15))))
A16: 7 | B16: =IF('Tabela II'!B15="","",'Tabela II'!B15) | C16: =IF('Tabela II'!D15="","",'Tabela II'!D15) | D16: =IF('Tabela II'!E15="","",'Tabela II'!E15) | G16: =SUM(I16:M16) -> 0 | N16: =IF(E16="","",IF(E16="Nije ocijenjen","",IF(E16="Ocijenjen",IF(G16<10,"Član 18. stav 7. Kriterija",(L16+(M16/2))/(G16))))) | O16: =IF(E16="","",IF(E16="Nije ocijenjen","",IF(E16="Ocijenjen",IF(N16="Član 18. stav 7. Kriterija","",IF(N16>0.4,0,IF(N16>0.3,5,IF(N16>0.2,10,IF(N16>0.1,15,IF(N16>0.05,20,IF(N16<=0.05,25,)))))))))) | P16: =IF(E16="","",IF(E16="Nije ocijenjen","",IF(E16="Ocijenjen",IF(F16=0,"",((L16+K16+(M16/2))/(F16)))))) | Q16: =IF(E16="","",IF(E16="Nije ocijenjen","",IF(E16="Ocijenjen",IF(P16>0.2,0,IF(P16>0.15,1,IF(P16>0.1,2,IF(P16>0.06,3,IF(P16>0.03,4,IF(P16<=0.03,5,))))))))) | R16: =IF(E16="","",IF(E16="Nije ocijenjen","",IF(E16="Ocijenjen",IF(N16="Član 18. stav 7. Kriterija",Q16,O16+Q16))))
A17: 8 | B17: =IF('Tabela II'!B16="","",'Tabela II'!B16) | C17: =IF('Tabela II'!D16="","",'Tabela II'!D16) | D17: =IF('Tabela II'!E16="","",'Tabela II'!E16) | G17: =SUM(I17:M17) -> 0 | N17: =IF(E17="","",IF(E17="Nije ocijenjen","",IF(E17="Ocijenjen",IF(G17<10,"Član 18. stav 7. Kriterija",(L17+(M17/2))/(G17))))) | O17: =IF(E17="","",IF(E17="Nije ocijenjen","",IF(E17="Ocijenjen",IF(N17="Član 18. stav 7. Kriterija","",IF(N17>0.4,0,IF(N17>0.3,5,IF(N17>0.2,10,IF(N17>0.1,15,IF(N17>0.05,20,IF(N17<=0.05,25,)))))))))) | P17: =IF(E17="","",IF(E17="Nije ocijenjen","",IF(E17="Ocijenjen",IF(F17=0,"",((L17+K17+(M17/2))/(F17)))))) | Q17: =IF(E17="","",IF(E17="Nije ocijenjen","",IF(E17="Ocijenjen",IF(P17>0.2,0,IF(P17>0.15,1,IF(P17>0.1,2,IF(P17>0.06,3,IF(P17>0.03,4,IF(P17<=0.03,5,))))))))) | R17: =IF(E17="","",IF(E17="Nije ocijenjen","",IF(E17="Ocijenjen",IF(N17="Član 18. stav 7. Kriterija",Q17,O17+Q17)))) | V17: Ocijenjen
A18: 9 | B18: =IF('Tabela II'!B17="","",'Tabela II'!B17) | C18: =IF('Tabela II'!D17="","",'Tabela II'!D17) | D18: =IF('Tabela II'!E17="","",'Tabela II'!E17) | G18: =SUM(I18:M18) -> 0 | N18: =IF(E18="","",IF(E18="Nije ocijenjen","",IF(E18="Ocijenjen",IF(G18<10,"Član 18. stav 7. Kriterija",(L18+(M18/2))/(G18))))) | O18: =IF(E18="","",IF(E18="Nije ocijenjen","",IF(E18="Ocijenjen",IF(N18="Član 18. stav 7. Kriterija","",IF(N18>0.4,0,IF(N18>0.3,5,IF(N18>0.2,10,IF(N18>0.1,15,IF(N18>0.05,20,IF(N18<=0.05,25,)))))))))) | P18: =IF(E18="","",IF(E18="Nije ocijenjen","",IF(E18="Ocijenjen",IF(F18=0,"",((L18+K18+(M18/2))/(F18)))))) | Q18: =IF(E18="","",IF(E18="Nije ocijenjen","",IF(E18="Ocijenjen",IF(P18>0.2,0,IF(P18>0.15,1,IF(P18>0.1,2,IF(P18>0.06,3,IF(P18>0.03,4,IF(P18<=0.03,5,))))))))) | R18: =IF(E18="","",IF(E18="Nije ocijenjen","",IF(E18="Ocijenjen",IF(N18="Član 18. stav 7. Kriterija",Q18,O18+Q18)))) | V18: Nije ocijenjen ili Ne treba raditi na predmetima
A19: 10 | B19: =IF('Tabela II'!B18="","",'Tabela II'!B18) | C19: =IF('Tabela II'!D18="","",'Tabela II'!D18) | D19: =IF('Tabela II'!E18="","",'Tabela II'!E18) | G19: =SUM(I19:M19) -> 0 | N19: =IF(E19="","",IF(E19="Nije ocijenjen","",IF(E19="Ocijenjen",IF(G19<10,"Član 18. stav 7. Kriterija",(L19+(M19/2))/(G19))))) | O19: =IF(E19="","",IF(E19="Nije ocijenjen","",IF(E19="Ocijenjen",IF(N19="Član 18. stav 7. Kriterija","",IF(N19>0.4,0,IF(N19>0.3,5,IF(N19>0.2,10,IF(N19>0.1,15,IF(N19>0.05,20,IF(N19<=0.05,25,)))))))))) | P19: =IF(E19="","",IF(E19="Nije ocijenjen","",IF(E19="Ocijenjen",IF(F19=0,"",((L19+K19+(M19/2))/(F19)))))) | Q19: =IF(E19="","",IF(E19="Nije ocijenjen","",IF(E19="Ocijenjen",IF(P19>0.2,0,IF(P19>0.15,1,IF(P19>0.1,2,IF(P19>0.06,3,IF(P19>0.03,4,IF(P19<=0.03,5,))))))))) | R19: =IF(E19="","",IF(E19="Nije ocijenjen","",IF(E19="Ocijenjen",IF(N19="Član 18. stav 7. Kriterija",Q19,O19+Q19))))
A20: 11 | B20: =IF('Tabela II'!B19="","",'Tabela II'!B19) | C20: =IF('Tabela II'!D19="","",'Tabela II'!D19) | D20: =IF('Tabela II'!E19="","",'Tabela II'!E19) | G20: =SUM(I20:M20) -> 0 | N20: =IF(E20="","",IF(E20="Nije ocijenjen","",IF(E20="Ocijenjen",IF(G20<10,"Član 18. stav 7. Kriterija",(L20+(M20/2))/(G20))))) | O20: =IF(E20="","",IF(E20="Nije ocijenjen","",IF(E20="Ocijenjen",IF(N20="Član 18. stav 7. Kriterija","",IF(N20>0.4,0,IF(N20>0.3,5,IF(N20>0.2,10,IF(N20>0.1,15,IF(N20>0.05,20,IF(N20<=0.05,25,)))))))))) | P20: =IF(E20="","",IF(E20="Nije ocijenjen","",IF(E20="Ocijenjen",IF(F20=0,"",((L20+K20+(M20/2))/(F20)))))) | Q20: =IF(E20="","",IF(E20="Nije ocijenjen","",IF(E20="Ocijenjen",IF(P20>0.2,0,IF(P20>0.15,1,IF(P20>0.1,2,IF(P20>0.06,3,IF(P20>0.03,4,IF(P20<=0.03,5,))))))))) | R20: =IF(E20="","",IF(E20="Nije ocijenjen","",IF(E20="Ocijenjen",IF(N20="Član 18. stav 7. Kriterija",Q20,O20+Q20))))
A21: 12 | B21: =IF('Tabela II'!B20="","",'Tabela II'!B20) | C21: =IF('Tabela II'!D20="","",'Tabela II'!D20) | D21: =IF('Tabela II'!E20="","",'Tabela II'!E20) | G21: =SUM(I21:M21) -> 0 | N21: =IF(E21="","",IF(E21="Nije ocijenjen","",IF(E21="Ocijenjen",IF(G21<10,"Član 18. stav 7. Kriterija",(L21+(M21/2))/(G21))))) | O21: =IF(E21="","",IF(E21="Nije ocijenjen","",IF(E21="Ocijenjen",IF(N21="Član 18. stav 7. Kriterija","",IF(N21>0.4,0,IF(N21>0.3,5,IF(N21>0.2,10,IF(N21>0.1,15,IF(N21>0.05,20,IF(N21<=0.05,25,)))))))))) | P21: =IF(E21="","",IF(E21="Nije ocijenjen","",IF(E21="Ocijenjen",IF(F21=0,"",((L21+K21+(M21/2))/(F21)))))) | Q21: =IF(E21="","",IF(E21="Nije ocijenjen","",IF(E21="Ocijenjen",IF(P21>0.2,0,IF(P21>0.15,1,IF(P21>0.1,2,IF(P21>0.06,3,IF(P21>0.03,4,IF(P21<=0.03,5,))))))))) | R21: =IF(E21="","",IF(E21="Nije ocijenjen","",IF(E21="Ocijenjen",IF(N21="Član 18. stav 7. Kriterija",Q21,O21+Q21))))
A22: 13 | B22: =IF('Tabela II'!B21="","",'Tabela II'!B21) | C22: =IF('Tabela II'!D21="","",'Tabela II'!D21) | D22: =IF('Tabela II'!E21="","",'Tabela II'!E21) | G22: =SUM(I22:M22) -> 0 | N22: =IF(E22="","",IF(E22="Nije ocijenjen","",IF(E22="Ocijenjen",IF(G22<10,"Član 18. stav 7. Kriterija",(L22+(M22/2))/(G22))))) | O22: =IF(E22="","",IF(E22="Nije ocijenjen","",IF(E22="Ocijenjen",IF(N22="Član 18. stav 7. Kriterija","",IF(N22>0.4,0,IF(N22>0.3,5,IF(N22>0.2,10,IF(N22>0.1,15,IF(N22>0.05,20,IF(N22<=0.05,25,)))))))))) | P22: =IF(E22="","",IF(E22="Nije ocijenjen","",IF(E22="Ocijenjen",IF(F22=0,"",((L22+K22+(M22/2))/(F22)))))) | Q22: =IF(E22="","",IF(E22="Nije ocijenjen","",IF(E22="Ocijenjen",IF(P22>0.2,0,IF(P22>0.15,1,IF(P22>0.1,2,IF(P22>0.06,3,IF(P22>0.03,4,IF(P22<=0.03,5,))))))))) | R22: =IF(E22="","",IF(E22="Nije ocijenjen","",IF(E22="Ocijenjen",IF(N22="Član 18. stav 7. Kriterija",Q22,O22+Q22))))
A23: 14 | B23: =IF('Tabela II'!B22="","",'Tabela II'!B22) | C23: =IF('Tabela II'!D22="","",'Tabela II'!D22) | D23: =IF('Tabela II'!E22="","",'Tabela II'!E22) | G23: =SUM(I23:M23) -> 0 | N23: =IF(E23="","",IF(E23="Nije ocijenjen","",IF(E23="Ocijenjen",IF(G23<10,"Član 18. stav 7. Kriterija",(L23+(M23/2))/(G23))))) | O23: =IF(E23="","",IF(E23="Nije ocijenjen","",IF(E23="Ocijenjen",IF(N23="Član 18. stav 7. Kriterija","",IF(N23>0.4,0,IF(N23>0.3,5,IF(N23>0.2,10,IF(N23>0.1,15,IF(N23>0.05,20,IF(N23<=0.05,25,)))))))))) | P23: =IF(E23="","",IF(E23="Nije ocijenjen","",IF(E23="Ocijenjen",IF(F23=0,"",((L23+K23+(M23/2))/(F23)))))) | Q23: =IF(E23="","",IF(E23="Nije ocijenjen","",IF(E23="Ocijenjen",IF(P23>0.2,0,IF(P23>0.15,1,IF(P23>0.1,2,IF(P23>0.06,3,IF(P23>0.03,4,IF(P23<=0.03,5,))))))))) | R23: =IF(E23="","",IF(E23="Nije ocijenjen","",IF(E23="Ocijenjen",IF(N23="Član 18. stav 7. Kriterija",Q23,O23+Q23))))
A24: 15 | B24: =IF('Tabela II'!B23="","",'Tabela II'!B23) | C24: =IF('Tabela II'!D23="","",'Tabela II'!D23) | D24: =IF('Tabela II'!E23="","",'Tabela II'!E23) | G24: =SUM(I24:M24) -> 0 | N24: =IF(E24="","",IF(E24="Nije ocijenjen","",IF(E24="Ocijenjen",IF(G24<10,"Član 18. stav 7. Kriterija",(L24+(M24/2))/(G24))))) | O24: =IF(E24="","",IF(E24="Nije ocijenjen","",IF(E24="Ocijenjen",IF(N24="Član 18. stav 7. Kriterija","",IF(N24>0.4,0,IF(N24>0.3,5,IF(N24>0.2,10,IF(N24>0.1,15,IF(N24>0.05,20,IF(N24<=0.05,25,)))))))))) | P24: =IF(E24="","",IF(E24="Nije ocijenjen","",IF(E24="Ocijenjen",IF(F24=0,"",((L24+K24+(M24/2))/(F24)))))) | Q24: =IF(E24="","",IF(E24="Nije ocijenjen","",IF(E24="Ocijenjen",IF(P24>0.2,0,IF(P24>0.15,1,IF(P24>0.1,2,IF(P24>0.06,3,IF(P24>0.03,4,IF(P24<=0.03,5,))))))))) | R24: =IF(E24="","",IF(E24="Nije ocijenjen","",IF(E24="Ocijenjen",IF(N24="Član 18. stav 7. Kriterija",Q24,O24+Q24))))
A25: 16 | B25: =IF('Tabela II'!B24="","",'Tabela II'!B24) | C25: =IF('Tabela II'!D24="","",'Tabela II'!D24) | D25: =IF('Tabela II'!E24="","",'Tabela II'!E24) | G25: =SUM(I25:M25) -> 0 | N25: =IF(E25="","",IF(E25="Nije ocijenjen","",IF(E25="Ocijenjen",IF(G25<10,"Član 18. stav 7. Kriterija",(L25+(M25/2))/(G25))))) | O25: =IF(E25="","",IF(E25="Nije ocijenjen","",IF(E25="Ocijenjen",IF(N25="Član 18. stav 7. Kriterija","",IF(N25>0.4,0,IF(N25>0.3,5,IF(N25>0.2,10,IF(N25>0.1,15,IF(N25>0.05,20,IF(N25<=0.05,25,)))))))))) | P25: =IF(E25="","",IF(E25="Nije ocijenjen","",IF(E25="Ocijenjen",IF(F25=0,"",((L25+K25+(M25/2))/(F25)))))) | Q25: =IF(E25="","",IF(E25="Nije ocijenjen","",IF(E25="Ocijenjen",IF(P25>0.2,0,IF(P25>0.15,1,IF(P25>0.1,2,IF(P25>0.06,3,IF(P25>0.03,4,IF(P25<=0.03,5,))))))))) | R25: =IF(E25="","",IF(E25="Nije ocijenjen","",IF(E25="Ocijenjen",IF(N25="Član 18. stav 7. Kriterija",Q25,O25+Q25))))
A26: 17 | B26: =IF('Tabela II'!B25="","",'Tabela II'!B25) | C26: =IF('Tabela II'!D25="","",'Tabela II'!D25) | D26: =IF('Tabela II'!E25="","",'Tabela II'!E25) | G26: =SUM(I26:M26) -> 0 | N26: =IF(E26="","",IF(E26="Nije ocijenjen","",IF(E26="Ocijenjen",IF(G26<10,"Član 18. stav 7. Kriterija",(L26+(M26/2))/(G26))))) | O26: =IF(E26="","",IF(E26="Nije ocijenjen","",IF(E26="Ocijenjen",IF(N26="Član 18. stav 7. Kriterija","",IF(N26>0.4,0,IF(N26>0.3,5,IF(N26>0.2,10,IF(N26>0.1,15,IF(N26>0.05,20,IF(N26<=0.05,25,)))))))))) | P26: =IF(E26="","",IF(E26="Nije ocijenjen","",IF(E26="Ocijenjen",IF(F26=0,"",((L26+K26+(M26/2))/(F26)))))) | Q26: =IF(E26="","",IF(E26="Nije ocijenjen","",IF(E26="Ocijenjen",IF(P26>0.2,0,IF(P26>0.15,1,IF(P26>0.1,2,IF(P26>0.06,3,IF(P26>0.03,4,IF(P26<=0.03,5,))))))))) | R26: =IF(E26="","",IF(E26="Nije ocijenjen","",IF(E26="Ocijenjen",IF(N26="Član 18. stav 7. Kriterija",Q26,O26+Q26))))
A27: 18 | B27: =IF('Tabela II'!B26="","",'Tabela II'!B26) | C27: =IF('Tabela II'!D26="","",'Tabela II'!D26) | D27: =IF('Tabela II'!E26="","",'Tabela II'!E26) | G27: =SUM(I27:M27) -> 0 | N27: =IF(E27="","",IF(E27="Nije ocijenjen","",IF(E27="Ocijenjen",IF(G27<10,"Član 18. stav 7. Kriterija",(L27+(M27/2))/(G27))))) | O27: =IF(E27="","",IF(E27="Nije ocijenjen","",IF(E27="Ocijenjen",IF(N27="Član 18. stav 7. Kriterija","",IF(N27>0.4,0,IF(N27>0.3,5,IF(N27>0.2,10,IF(N27>0.1,15,IF(N27>0.05,20,IF(N27<=0.05,25,)))))))))) | P27: =IF(E27="","",IF(E27="Nije ocijenjen","",IF(E27="Ocijenjen",IF(F27=0,"",((L27+K27+(M27/2))/(F27)))))) | Q27: =IF(E27="","",IF(E27="Nije ocijenjen","",IF(E27="Ocijenjen",IF(P27>0.2,0,IF(P27>0.15,1,IF(P27>0.1,2,IF(P27>0.06,3,IF(P27>0.03,4,IF(P27<=0.03,5,))))))))) | R27: =IF(E27="","",IF(E27="Nije ocijenjen","",IF(E27="Ocijenjen",IF(N27="Član 18. stav 7. Kriterija",Q27,O27+Q27))))
A28: 19 | B28: =IF('Tabela II'!B27="","",'Tabela II'!B27) | C28: =IF('Tabela II'!D27="","",'Tabela II'!D27) | D28: =IF('Tabela II'!E27="","",'Tabela II'!E27) | G28: =SUM(I28:M28) -> 0 | N28: =IF(E28="","",IF(E28="Nije ocijenjen","",IF(E28="Ocijenjen",IF(G28<10,"Član 18. stav 7. Kriterija",(L28+(M28/2))/(G28))))) | O28: =IF(E28="","",IF(E28="Nije ocijenjen","",IF(E28="Ocijenjen",IF(N28="Član 18. stav 7. Kriterija","",IF(N28>0.4,0,IF(N28>0.3,5,IF(N28>0.2,10,IF(N28>0.1,15,IF(N28>0.05,20,IF(N28<=0.05,25,)))))))))) | P28: =IF(E28="","",IF(E28="Nije ocijenjen","",IF(E28="Ocijenjen",IF(F28=0,"",((L28+K28+(M28/2))/(F28)))))) | Q28: =IF(E28="","",IF(E28="Nije ocijenjen","",IF(E28="Ocijenjen",IF(P28>0.2,0,IF(P28>0.15,1,IF(P28>0.1,2,IF(P28>0.06,3,IF(P28>0.03,4,IF(P28<=0.03,5,))))))))) | R28: =IF(E28="","",IF(E28="Nije ocijenjen","",IF(E28="Ocijenjen",IF(N28="Član 18. stav 7. Kriterija",Q28,O28+Q28))))
A29: 20 | B29: =IF('Tabela II'!B28="","",'Tabela II'!B28) | C29: =IF('Tabela II'!D28="","",'Tabela II'!D28) | D29: =IF('Tabela II'!E28="","",'Tabela II'!E28) | G29: =SUM(I29:M29) -> 0 | N29: =IF(E29="","",IF(E29="Nije ocijenjen","",IF(E29="Ocijenjen",IF(G29<10,"Član 18. stav 7. Kriterija",(L29+(M29/2))/(G29))))) | O29: =IF(E29="","",IF(E29="Nije ocijenjen","",IF(E29="Ocijenjen",IF(N29="Član 18. stav 7. Kriterija","",IF(N29>0.4,0,IF(N29>0.3,5,IF(N29>0.2,10,IF(N29>0.1,15,IF(N29>0.05,20,IF(N29<=0.05,25,)))))))))) | P29: =IF(E29="","",IF(E29="Nije ocijenjen","",IF(E29="Ocijenjen",IF(F29=0,"",((L29+K29+(M29/2))/(F29)))))) | Q29: =IF(E29="","",IF(E29="Nije ocijenjen","",IF(E29="Ocijenjen",IF(P29>0.2,0,IF(P29>0.15,1,IF(P29>0.1,2,IF(P29>0.06,3,IF(P29>0.03,4,IF(P29<=0.03,5,))))))))) | R29: =IF(E29="","",IF(E29="Nije ocijenjen","",IF(E29="Ocijenjen",IF(N29="Član 18. stav 7. Kriterija",Q29,O29+Q29))))
A30: 21 | B30: =IF('Tabela II'!B29="","",'Tabela II'!B29) | C30: =IF('Tabela II'!D29="","",'Tabela II'!D29) | D30: =IF('Tabela II'!E29="","",'Tabela II'!E29) | G30: =SUM(I30:M30) -> 0 | N30: =IF(E30="","",IF(E30="Nije ocijenjen","",IF(E30="Ocijenjen",IF(G30<10,"Član 18. stav 7. Kriterija",(L30+(M30/2))/(G30))))) | O30: =IF(E30="","",IF(E30="Nije ocijenjen","",IF(E30="Ocijenjen",IF(N30="Član 18. stav 7. Kriterija","",IF(N30>0.4,0,IF(N30>0.3,5,IF(N30>0.2,10,IF(N30>0.1,15,IF(N30>0.05,20,IF(N30<=0.05,25,)))))))))) | P30: =IF(E30="","",IF(E30="Nije ocijenjen","",IF(E30="Ocijenjen",IF(F30=0,"",((L30+K30+(M30/2))/(F30)))))) | Q30: =IF(E30="","",IF(E30="Nije ocijenjen","",IF(E30="Ocijenjen",IF(P30>0.2,0,IF(P30>0.15,1,IF(P30>0.1,2,IF(P30>0.06,3,IF(P30>0.03,4,IF(P30<=0.03,5,))))))))) | R30: =IF(E30="","",IF(E30="Nije ocijenjen","",IF(E30="Ocijenjen",IF(N30="Član 18. stav 7. Kriterija",Q30,O30+Q30))))
... A69: 60 | B69: =IF('Tabela II'!B68="","",'Tabela II'!B68) | C69: =IF('Tabela II'!D68="","",'Tabela II'!D68) | D69: =IF('Tabela II'!E68="","",'Tabela II'!E68) | G69: =SUM(I69:M69) -> 0 | N69: =IF(E69="","",IF(E69="Nije ocijenjen","",IF(E69="Ocijenjen",IF(G69<10,"Član 18. stav 7. Kriterija",(L69+(M69/2))/(G69))))) | O69: =IF(E69="","",IF(E69="Nije ocijenjen","",IF(E69="Ocijenjen",IF(N69="Član 18. stav 7. Kriterija","",IF(N69>0.4,0,IF(N69>0.3,5,IF(N69>0.2,10,IF(N69>0.1,15,IF(N69>0.05,20,IF(N69<=0.05,25,)))))))))) | P69: =IF(E69="","",IF(E69="Nije ocijenjen","",IF(E69="Ocijenjen",IF(F69=0,"",((L69+K69+(M69/2))/(F69)))))) | Q69: =IF(E69="","",IF(E69="Nije ocijenjen","",IF(E69="Ocijenjen",IF(P69>0.2,0,IF(P69>0.15,1,IF(P69>0.1,2,IF(P69>0.06,3,IF(P69>0.03,4,IF(P69<=0.03,5,))))))))) | R69: =IF(E69="","",IF(E69="Nije ocijenjen","",IF(E69="Ocijenjen",IF(N69="Član 18. stav 7. Kriterija",Q69,O69+Q69))))
A70: 61 | G70: =SUM(I70:M70) -> 0 | N70: =IF(E70="","",IF(E70="Nije ocijenjen","",IF(E70="Ocijenjen",IF(G70<10,"Član 18. stav 7. Kriterija",(L70+(M70/2))/(G70))))) | O70: =IF(E70="","",IF(E70="Nije ocijenjen","",IF(E70="Ocijenjen",IF(N70="Član 18. stav 7. Kriterija","",IF(N70>0.4,0,IF(N70>0.3,5,IF(N70>0.2,10,IF(N70>0.1,15,IF(N70>0.05,20,IF(N70<=0.05,25,)))))))))) | P70: =IF(E70="","",IF(E70="Nije ocijenjen","",IF(E70="Ocijenjen",IF(F70=0,"",((L70+K70+(M70/2))/(F70)))))) | Q70: =IF(E70="","",IF(E70="Nije ocijenjen","",IF(E70="Ocijenjen",IF(P70>0.2,0,IF(P70>0.15,1,IF(P70>0.1,2,IF(P70>0.06,3,IF(P70>0.03,4,IF(P70<=0.03,5,))))))))) | R70: =IF(E70="","",IF(E70="Nije ocijenjen","",IF(E70="Ocijenjen",IF(N70="Član 18. stav 7. Kriterija",Q70,O70+Q70))))
A71: 62 | G71: =SUM(I71:M71) -> 0 | N71: =IF(E71="","",IF(E71="Nije ocijenjen","",IF(E71="Ocijenjen",IF(G71<10,"Član 18. stav 7. Kriterija",(L71+(M71/2))/(G71))))) | O71: =IF(E71="","",IF(E71="Nije ocijenjen","",IF(E71="Ocijenjen",IF(N71="Član 18. stav 7. Kriterija","",IF(N71>0.4,0,IF(N71>0.3,5,IF(N71>0.2,10,IF(N71>0.1,15,IF(N71>0.05,20,IF(N71<=0.05,25,)))))))))) | P71: =IF(E71="","",IF(E71="Nije ocijenjen","",IF(E71="Ocijenjen",IF(F71=0,"",((L71+K71+(M71/2))/(F71)))))) | Q71: =IF(E71="","",IF(E71="Nije ocijenjen","",IF(E71="Ocijenjen",IF(P71>0.2,0,IF(P71>0.15,1,IF(P71>0.1,2,IF(P71>0.06,3,IF(P71>0.03,4,IF(P71<=0.03,5,))))))))) | R71: =IF(E71="","",IF(E71="Nije ocijenjen","",IF(E71="Ocijenjen",IF(N71="Član 18. stav 7. Kriterija",Q71,O71+Q71))))
A72: 63 | G72: =SUM(I72:M72) -> 0 | N72: =IF(E72="","",IF(E72="Nije ocijenjen","",IF(E72="Ocijenjen",IF(G72<10,"Član 18. stav 7. Kriterija",(L72+(M72/2))/(G72))))) | O72: =IF(E72="","",IF(E72="Nije ocijenjen","",IF(E72="Ocijenjen",IF(N72="Član 18. stav 7. Kriterija","",IF(N72>0.4,0,IF(N72>0.3,5,IF(N72>0.2,10,IF(N72>0.1,15,IF(N72>0.05,20,IF(N72<=0.05,25,)))))))))) | P72: =IF(E72="","",IF(E72="Nije ocijenjen","",IF(E72="Ocijenjen",IF(F72=0,"",((L72+K72+(M72/2))/(F72)))))) | Q72: =IF(E72="","",IF(E72="Nije ocijenjen","",IF(E72="Ocijenjen",IF(P72>0.2,0,IF(P72>0.15,1,IF(P72>0.1,2,IF(P72>0.06,3,IF(P72>0.03,4,IF(P72<=0.03,5,))))))))) | R72: =IF(E72="","",IF(E72="Nije ocijenjen","",IF(E72="Ocijenjen",IF(N72="Član 18. stav 7. Kriterija",Q72,O72+Q72))))
A73: 64 | G73: =SUM(I73:M73) -> 0 | N73: =IF(E73="","",IF(E73="Nije ocijenjen","",IF(E73="Ocijenjen",IF(G73<10,"Član 18. stav 7. Kriterija",(L73+(M73/2))/(G73))))) | O73: =IF(E73="","",IF(E73="Nije ocijenjen","",IF(E73="Ocijenjen",IF(N73="Član 18. stav 7. Kriterija","",IF(N73>0.4,0,IF(N73>0.3,5,IF(N73>0.2,10,IF(N73>0.1,15,IF(N73>0.05,20,IF(N73<=0.05,25,)))))))))) | P73: =IF(E73="","",IF(E73="Nije ocijenjen","",IF(E73="Ocijenjen",IF(F73=0,"",((L73+K73+(M73/2))/(F73)))))) | Q73: =IF(E73="","",IF(E73="Nije ocijenjen","",IF(E73="Ocijenjen",IF(P73>0.2,0,IF(P73>0.15,1,IF(P73>0.1,2,IF(P73>0.06,3,IF(P73>0.03,4,IF(P73<=0.03,5,))))))))) | R73: =IF(E73="","",IF(E73="Nije ocijenjen","",IF(E73="Ocijenjen",IF(N73="Član 18. stav 7. Kriterija",Q73,O73+Q73))))
A74: 65 | G74: =SUM(I74:M74) -> 0 | N74: =IF(E74="","",IF(E74="Nije ocijenjen","",IF(E74="Ocijenjen",IF(G74<10,"Član 18. stav 7. Kriterija",(L74+(M74/2))/(G74))))) | O74: =IF(E74="","",IF(E74="Nije ocijenjen","",IF(E74="Ocijenjen",IF(N74="Član 18. stav 7. Kriterija","",IF(N74>0.4,0,IF(N74>0.3,5,IF(N74>0.2,10,IF(N74>0.1,15,IF(N74>0.05,20,IF(N74<=0.05,25,)))))))))) | P74: =IF(E74="","",IF(E74="Nije ocijenjen","",IF(E74="Ocijenjen",IF(F74=0,"",((L74+K74+(M74/2))/(F74)))))) | Q74: =IF(E74="","",IF(E74="Nije ocijenjen","",IF(E74="Ocijenjen",IF(P74>0.2,0,IF(P74>0.15,1,IF(P74>0.1,2,IF(P74>0.06,3,IF(P74>0.03,4,IF(P74<=0.03,5,))))))))) | R74: =IF(E74="","",IF(E74="Nije ocijenjen","",IF(E74="Ocijenjen",IF(N74="Član 18. stav 7. Kriterija",Q74,O74+Q74))))
A76: KVALITET SUDSKIH ODLUKA ** | F76: =SUM(F10:F74) -> 448 | G76: =SUM(G10:G74) -> 90 | H76: =SUM(H10:H74) -> 47 | I76: =SUM(I10:I74) -> 75 | J76: =SUM(J10:J74) -> 5 | K76: =SUM(K10:K74) -> 0 | L76: =SUM(L10:L74) -> 10 | M76: =SUM(M10:M74) -> 0 | N76: =IF(G76=0,"",0.83*((G76-L76-(M76/2))/G76)+0.17*((F76-K76-L76-(M76/2))/F76)) -> 0.90398313
A79: Tabela IIIb - Obračun individualnog kvaliteta odluka za proces ocjenjivanja nosilaca pravosudnih funkcija koji su u periodu ocjenjivanja radili u dva suda, ako su funkciju obavljali u sudovima istog nivoa, (pogledati NAPOMENU 2) i koji su odlukom VSTV BiH privremeno upućeni na obavljanje sudijske dužnosti u drugi sud (pogledati NAPOMENU 2a)
A81: Upisati naziv Suda 1
A82: 1 | B82: Upisati naziv Suda 1 | D82: Predsjednik suda | G82: =SUM(I82:M82) -> 0
A83: Upisati naziv Suda 2
A84: =+A82 -> 1 | B84: =+B82 -> Upisati naziv Suda 1 | G84: =SUM(I84:M84) -> 0
A85: Individualni kvalitet NPF-a koji je radio u dva suda u toku perioda ocjenjivanja
A86: =+A82 -> 1 | B86: =+B82 -> Upisati naziv Suda 1 | D86: Predsjednik suda | F86: =+F82+F84 -> 0 | G86: =SUM(I86:M86) -> 0 | H86: =+H82+H84 -> 0 | I86: =+I82+I84 -> 0 | J86: =+J82+J84 -> 0 | K86: =+K82+K84 -> 0 | L86: =+L82+L84 -> 0 | M86: =+M82+M84 -> 0 | N86: =IF(E86="","",IF(E86="Nije ocijenjen ili Ne treba raditi na predmetima","",IF(E86="Ocijenjen",IF(G86<10,"Član 18. stav 7. Kriterija",(L86+(M86/2))/(G86))))) | O86: =IF(E86="","",IF(E86="Nije ocijenjen ili Ne treba raditi na predmetima","",IF(E86="Ocijenjen",IF(N86="Član 18. stav 7. Kriterija","",IF(N86>0.4,0,IF(N86>0.3,1,IF(N86>0.2,2,IF(N86>0.1,3,IF(N86>0.05,4,IF(N86<=0.05,5,)))))))))) | P86: =IF(E86="","",IF(E86="Nije ocijenjen ili Ne treba raditi na predmetima","",IF(E86="Ocijenjen",IF(F86=0,"",((L86+K86+(M86/2))/(F86)))))) | Q86: =IF(E86="","",IF(E86="Nije ocijenjen ili Ne treba raditi na predmetima","",IF(E86="Ocijenjen",IF(P86>0.2,0,IF(P86>0.15,1,IF(P86>0.1,2,IF(P86>0.06,3,IF(P86>0.03,4,IF(P86<=0.03,5,))))))))) | R86: =IF(E86="","",IF(E86="Nije ocijenjen ili Ne treba raditi na predmetima","",IF(E86="Ocijenjen",IF(N86="Član 18. stav 7. Kriterija",Q86,O86+Q86))))
A88: Županijski sud Široki Brijeg
A89: 2 | B89: Mile Zeljko | C89: sudac | E89: Ocijenjen | F89: 70 | G89: =SUM(I89:M89) -> 41 | H89: 9 | I89: 36 | J89: 2 | L89: 3
A90: Županijski sud Mostar
A91: =+A89 -> 2 | B91: =+B89 -> Mile Zeljko | E91: Nije ocijenjen | F91: 0 | G91: =SUM(I91:M91) -> 0 | H91: 0 | I91: 0 | J91: 0 | K91: 0 | L91: 0 | M91: 0
A92: Individualni kvalitet NPF-a koji je radio u dva suda u toku perioda ocjenjivanja
A93: =+A89 -> 2 | B93: =+B89 -> Mile Zeljko | E93: Ocijenjen | F93: =+F89+F91 -> 70 | G93: =SUM(I93:M93) -> 41 | H93: =+H89+H91 -> 9 | I93: =+I89+I91 -> 36 | J93: =+J89+J91 -> 2 | K93: =+K89+K91 -> 0 | L93: =+L89+L91 -> 3 | M93: =+M89+M91 -> 0 | N93: =IF(E93="","",IF(E93="Nije ocijenjen","",IF(E93="Ocijenjen",IF(G93<10,"Član 18. stav 7. Kriterija",(L93+(M93/2))/(G93))))) -> 0.073170732 | O93: =IF(E93="","",IF(E93="Nije ocijenjen","",IF(E93="Ocijenjen",IF(N93="Član 18. stav 7. Kriterija","",IF(N93>0.4,0,IF(N93>0.3,5,IF(N93>0.2,10,IF(N93>0.1,15,IF(N93>0.05,20,IF(N93<=0.05,25,)))))))))) -> 20 | P93: =IF(E93="","",IF(E93="Nije ocijenjen","",IF(E93="Ocijenjen",IF(F93=0,"",((L93+K93+(M93/2))/(F93)))))) -> 0.042857143 | Q93: =IF(E93="","",IF(E93="Nije ocijenjen","",IF(E93="Ocijenjen",IF(P93>0.2,0,IF(P93>0.15,1,IF(P93>0.1,2,IF(P93>0.06,3,IF(P93>0.03,4,IF(P93<=0.03,5,))))))))) -> 4 | R93: =IF(E93="","",IF(E93="Nije ocijenjen","",IF(E93="Ocijenjen",IF(N93="Član 18. stav 7. Kriterija",Q93,O93+Q93)))) -> 24
A95: Županijski sud Široki Brijeg
A96: 3 | B96: Gordana Pažin | C96: sudac | E96: Ocijenjen | F96: 47 | G96: =SUM(I96:M96) -> 18 | H96: 6 | I96: 12 | J96: 1 | L96: 5
A97: Županijski sud Mostar
A98: =+A96 -> 3 | B98: =+B96 -> Gordana Pažin | E98: Nije ocijenjen | F98: 0 | G98: =SUM(I98:M98) -> 0 | H98: 0 | I98: 0 | J98: 0 | L98: 0
A99: Individualni kvalitet NPF-a koji je radio u dva suda u toku perioda ocjenjivanja
A100: =+A96 -> 3 | B100: =+B96 -> Gordana Pažin | E100: Ocijenjen | F100: =+F96+F98 -> 47 | G100: =SUM(I100:M100) -> 18 | H100: =+H96+H98 -> 6 | I100: =+I96+I98 -> 12 | J100: =+J96+J98 -> 1 | K100: =+K96+K98 -> 0 | L100: =+L96+L98 -> 5 | M100: =+M96+M98 -> 0 | N100: =IF(E100="","",IF(E100="Nije ocijenjen","",IF(E100="Ocijenjen",IF(G100<10,"Član 18. stav 7. Kriterija",(L100+(M100/2))/(G100))))) -> 0.27777778 | O100: =IF(E100="","",IF(E100="Nije ocijenjen","",IF(E100="Ocijenjen",IF(N100="Član 18. stav 7. Kriterija","",IF(N100>0.4,0,IF(N100>0.3,5,IF(N100>0.2,10,IF(N100>0.1,15,IF(N100>0.05,20,IF(N100<=0.05,25,)))))))))) -> 10 | P100: =IF(E100="","",IF(E100="Nije ocijenjen","",IF(E100="Ocijenjen",IF(F100=0,"",((L100+K100+(M100/2))/(F100)))))) -> 0.10638298 | Q100: =IF(E100="","",IF(E100="Nije ocijenjen","",IF(E100="Ocijenjen",IF(P100>0.2,0,IF(P100>0.15,1,IF(P100>0.1,2,IF(P100>0.06,3,IF(P100>0.03,4,IF(P100<=0.03,5,))))))))) -> 2 | R100: =IF(E100="","",IF(E100="Nije ocijenjen","",IF(E100="Ocijenjen",IF(N100="Član 18. stav 7. Kriterija",Q100,O100+Q100)))) -> 12
A102: Županijski sud Široki Brijeg
A103: 4 | B103: Franjo Ravlija | C103: sudac | E103: Ocijenjen | F103: 88 | G103: =SUM(I103:M103) -> 6 | H103: 9 | I103: 6 | J103: 0 | K103: 0 | L103: 0
A104: Županijski sud Mostar
A105: =+A103 -> 4 | B105: =+B103 -> Franjo Ravlija | E105: Nije ocijenjen | G105: =SUM(I105:M105) -> 1 | J105: 1 | K105: 0 | L105: 0
A106: Individualni kvalitet NPF-a koji je radio u dva suda u toku perioda ocjenjivanja
A107: =+A103 -> 4 | B107: =+B103 -> Franjo Ravlija | E107: Ocijenjen | F107: =+F103+F105 -> 88 | G107: =SUM(I107:M107) -> 7 | H107: =+H103+H105 -> 9 | I107: =+I103+I105 -> 6 | J107: =+J103+J105 -> 1 | K107: =+K103+K105 -> 0 | L107: =+L103+L105 -> 0 | M107: =+M103+M105 -> 0 | N107: =IF(E107="","",IF(E107="Nije ocijenjen","",IF(E107="Ocijenjen",IF(G107<10,"Član 18. stav 7. Kriterija",(L107+(M107/2))/(G107))))) -> Član 18. stav 7. Kriterija | O107: =IF(E107="","",IF(E107="Nije ocijenjen","",IF(E107="Ocijenjen",IF(N107="Član 18. stav 7. Kriterija","",IF(N107>0.4,0,IF(N107>0.3,5,IF(N107>0.2,10,IF(N107>0.1,15,IF(N107>0.05,20,IF(N107<=0.05,25,)))))))))) | P107: =IF(E107="","",IF(E107="Nije ocijenjen","",IF(E107="Ocijenjen",IF(F107=0,"",((L107+K107+(M107/2))/(F107)))))) -> 0 | Q107: =IF(E107="","",IF(E107="Nije ocijenjen","",IF(E107="Ocijenjen",IF(P107>0.2,0,IF(P107>0.15,1,IF(P107>0.1,2,IF(P107>0.06,3,IF(P107>0.03,4,IF(P107<=0.03,5,))))))))) -> 5 | R107: =IF(E107="","",IF(E107="Nije ocijenjen","",IF(E107="Ocijenjen",IF(N107="Član 18. stav 7. Kriterija",Q107,O107+Q107)))) -> 5
A109: Upisati naziv Suda 1
A110: 5 | B110: Ime i prezime | G110: =SUM(I110:M110) -> 0
A111: Upisati naziv Suda 2
A112: =+A110 -> 5 | B112: =+B110 -> Ime i prezime | G112: =SUM(I112:M112) -> 0
A113: Individualni kvalitet NPF-a koji je radio u dva suda u toku perioda ocjenjivanja
A114: =+A110 -> 5 | B114: =+B110 -> Ime i prezime | F114: =+F110+F112 -> 0 | G114: =SUM(I114:M114) -> 0 | H114: =+H110+H112 -> 0 | I114: =+I110+I112 -> 0 | J114: =+J110+J112 -> 0 | K114: =+K110+K112 -> 0 | L114: =+L110+L112 -> 0 | M114: =+M110+M112 -> 0 | N114: =IF(E114="","",IF(E114="Nije ocijenjen","",IF(E114="Ocijenjen",IF(G114<10,"Član 18. stav 7. Kriterija",(L114+(M114/2))/(G114))))) | O114: =IF(E114="","",IF(E114="Nije ocijenjen","",IF(E114="Ocijenjen",IF(N114="Član 18. stav 7. Kriterija","",IF(N114>0.4,0,IF(N114>0.3,5,IF(N114>0.2,10,IF(N114>0.1,15,IF(N114>0.05,20,IF(N114<=0.05,25,)))))))))) | P114: =IF(E114="","",IF(E114="Nije ocijenjen","",IF(E114="Ocijenjen",IF(F114=0,"",((L114+K114+(M114/2))/(F114)))))) | Q114: =IF(E114="","",IF(E114="Nije ocijenjen","",IF(E114="Ocijenjen",IF(P114>0.2,0,IF(P114>0.15,1,IF(P114>0.1,2,IF(P114>0.06,3,IF(P114>0.03,4,IF(P114<=0.03,5,))))))))) | R114: =IF(E114="","",IF(E114="Nije ocijenjen","",IF(E114="Ocijenjen",IF(N114="Član 18. stav 7. Kriterija",Q114,O114+Q114))))
A116: Upisati naziv Suda 1
A117: 6 | B117: Ime i prezime | G117: =SUM(I117:M117) -> 0
A118: Upisati naziv Suda 2
A119: =+A117 -> 6 | B119: =+B117 -> Ime i prezime | G119: =SUM(I119:M119) -> 0
A120: Individualni kvalitet NPF-a koji je radio u dva suda u toku perioda ocjenjivanja
A121: =+A117 -> 6 | B121: =+B117 -> Ime i prezime | F121: =+F117+F119 -> 0 | G121: =SUM(I121:M121) -> 0 | H121: =+H117+H119 -> 0 | I121: =+I117+I119 -> 0 | J121: =+J117+J119 -> 0 | K121: =+K117+K119 -> 0 | L121: =+L117+L119 -> 0 | M121: =+M117+M119 -> 0 | N121: =IF(E121="","",IF(E121="Nije ocijenjen","",IF(E121="Ocijenjen",IF(G121<10,"Član 18. stav 7. Kriterija",(L121+(M121/2))/(G121))))) | O121: =IF(E121="","",IF(E121="Nije ocijenjen","",IF(E121="Ocijenjen",IF(N121="Član 18. stav 7. Kriterija","",IF(N121>0.4,0,IF(N121>0.3,5,IF(N121>0.2,10,IF(N121>0.1,15,IF(N121>0.05,20,IF(N121<=0.05,25,)))))))))) | P121: =IF(E121="","",IF(E121="Nije ocijenjen","",IF(E121="Ocijenjen",IF(F121=0,"",((L121+K121+(M121/2))/(F121)))))) | Q121: =IF(E121="","",IF(E121="Nije ocijenjen","",IF(E121="Ocijenjen",IF(P121>0.2,0,IF(P121>0.15,1,IF(P121>0.1,2,IF(P121>0.06,3,IF(P121>0.03,4,IF(P121<=0.03,5,))))))))) | R121: =IF(E121="","",IF(E121="Nije ocijenjen","",IF(E121="Ocijenjen",IF(N121="Član 18. stav 7. Kriterija",Q121,O121+Q121))))
A123: Upisati naziv Suda 1
A124: 7 | B124: Ime i prezime | G124: =SUM(I124:M124) -> 0
A125: Upisati naziv Suda 2
A126: =+A124 -> 7 | B126: =+B124 -> Ime i prezime | G126: =SUM(I126:M126) -> 0
A127: Individualni kvalitet NPF-a koji je radio u dva suda u toku perioda ocjenjivanja
A128: =+A124 -> 7 | B128: =+B124 -> Ime i prezime | F128: =+F124+F126 -> 0 | G128: =SUM(I128:M128) -> 0 | H128: =+H124+H126 -> 0 | I128: =+I124+I126 -> 0 | J128: =+J124+J126 -> 0 | K128: =+K124+K126 -> 0 | L128: =+L124+L126 -> 0 | M128: =+M124+M126 -> 0 | N128: =IF(E128="","",IF(E128="Nije ocijenjen","",IF(E128="Ocijenjen",IF(G128<10,"Član 18. stav 7. Kriterija",(L128+(M128/2))/(G128))))) | O128: =IF(E128="","",IF(E128="Nije ocijenjen","",IF(E128="Ocijenjen",IF(N128="Član 18. stav 7. Kriterija","",IF(N128>0.4,0,IF(N128>0.3,5,IF(N128>0.2,10,IF(N128>0.1,15,IF(N128>0.05,20,IF(N128<=0.05,25,)))))))))) | P128: =IF(E128="","",IF(E128="Nije ocijenjen","",IF(E128="Ocijenjen",IF(F128=0,"",((L128+K128+(M128/2))/(F128)))))) | Q128: =IF(E128="","",IF(E128="Nije ocijenjen","",IF(E128="Ocijenjen",IF(P128>0.2,0,IF(P128>0.15,1,IF(P128>0.1,2,IF(P128>0.06,3,IF(P128>0.03,4,IF(P128<=0.03,5,))))))))) | R128: =IF(E128="","",IF(E128="Nije ocijenjen","",IF(E128="Ocijenjen",IF(N128="Član 18. stav 7. Kriterija",Q128,O128+Q128))))
A130: Upisati naziv Suda 1
A131: 8 | B131: Ime i prezime | G131: =SUM(I131:M131) -> 0
A132: Upisati naziv Suda 2
A133: =+A131 -> 8 | B133: =+B131 -> Ime i prezime | G133: =SUM(I133:M133) -> 0
A134: Individualni kvalitet NPF-a koji je radio u dva suda u toku perioda ocjenjivanja
A135: =+A131 -> 8 | B135: =+B131 -> Ime i prezime | F135: =+F131+F133 -> 0 | G135: =SUM(I135:M135) -> 0 | H135: =+H131+H133 -> 0 | I135: =+I131+I133 -> 0 | J135: =+J131+J133 -> 0 | K135: =+K131+K133 -> 0 | L135: =+L131+L133 -> 0 | M135: =+M131+M133 -> 0 | N135: =IF(E135="","",IF(E135="Nije ocijenjen","",IF(E135="Ocijenjen",IF(G135<10,"Član 18. stav 7. Kriterija",(L135+(M135/2))/(G135))))) | O135: =IF(E135="","",IF(E135="Nije ocijenjen","",IF(E135="Ocijenjen",IF(N135="Član 18. stav 7. Kriterija","",IF(N135>0.4,0,IF(N135>0.3,5,IF(N135>0.2,10,IF(N135>0.1,15,IF(N135>0.05,20,IF(N135<=0.05,25,)))))))))) | P135: =IF(E135="","",IF(E135="Nije ocijenjen","",IF(E135="Ocijenjen",IF(F135=0,"",((L135+K135+(M135/2))/(F135)))))) | Q135: =IF(E135="","",IF(E135="Nije ocijenjen","",IF(E135="Ocijenjen",IF(P135>0.2,0,IF(P135>0.15,1,IF(P135>0.1,2,IF(P135>0.06,3,IF(P135>0.03,4,IF(P135<=0.03,5,))))))))) | R135: =IF(E135="","",IF(E135="Nije ocijenjen","",IF(E135="Ocijenjen",IF(N135="Član 18. stav 7. Kriterija",Q135,O135+Q135))))
A137: Upisati naziv Suda 1
A138: 9 | B138: Ime i prezime | G138: =SUM(I138:M138) -> 0
A139: Upisati naziv Suda 2
A140: =+A138 -> 9 | B140: =+B138 -> Ime i prezime | G140: =SUM(I140:M140) -> 0
A141: Individualni kvalitet NPF-a koji je radio u dva suda u toku perioda ocjenjivanja
A142: =+A138 -> 9 | B142: =+B138 -> Ime i prezime | F142: =+F138+F140 -> 0 | G142: =SUM(I142:M142) -> 0 | H142: =+H138+H140 -> 0 | I142: =+I138+I140 -> 0 | J142: =+J138+J140 -> 0 | K142: =+K138+K140 -> 0 | L142: =+L138+L140 -> 0 | M142: =+M138+M140 -> 0 | N142: =IF(E142="","",IF(E142="Nije ocijenjen","",IF(E142="Ocijenjen",IF(G142<10,"Član 18. stav 7. Kriterija",(L142+(M142/2))/(G142))))) | O142: =IF(E142="","",IF(E142="Nije ocijenjen","",IF(E142="Ocijenjen",IF(N142="Član 18. stav 7. Kriterija","",IF(N142>0.4,0,IF(N142>0.3,5,IF(N142>0.2,10,IF(N142>0.1,15,IF(N142>0.05,20,IF(N142<=0.05,25,)))))))))) | P142: =IF(E142="","",IF(E142="Nije ocijenjen","",IF(E142="Ocijenjen",IF(F142=0,"",((L142+K142+(M142/2))/(F142)))))) | Q142: =IF(E142="","",IF(E142="Nije ocijenjen","",IF(E142="Ocijenjen",IF(P142>0.2,0,IF(P142>0.15,1,IF(P142>0.1,2,IF(P142>0.06,3,IF(P142>0.03,4,IF(P142<=0.03,5,))))))))) | R142: =IF(E142="","",IF(E142="Nije ocijenjen","",IF(E142="Ocijenjen",IF(N142="Član 18. stav 7. Kriterija",Q142,O142+Q142))))
A144: Upisati naziv Suda 1
A145: 10 | B145: Ime i prezime | G145: =SUM(I145:M145) -> 0
A146: Upisati naziv Suda 2
A147: =+A145 -> 10 | B147: =+B145 -> Ime i prezime | G147: =SUM(I147:M147) -> 0
A148: Individualni kvalitet NPF-a koji je radio u dva suda u toku perioda ocjenjivanja
A149: =+A145 -> 10 | B149: =+B145 -> Ime i prezime | F149: =+F145+F147 -> 0 | G149: =SUM(I149:M149) -> 0 | H149: =+H145+H147 -> 0 | I149: =+I145+I147 -> 0 | J149: =+J145+J147 -> 0 | K149: =+K145+K147 -> 0 | L149: =+L145+L147 -> 0 | M149: =+M145+M147 -> 0 | N149: =IF(E149="","",IF(E149="Nije ocijenjen","",IF(E149="Ocijenjen",IF(G149<10,"Član 18. stav 7. Kriterija",(L149+(M149/2))/(G149))))) | O149: =IF(E149="","",IF(E149="Nije ocijenjen","",IF(E149="Ocijenjen",IF(N149="Član 18. stav 7. Kriterija","",IF(N149>0.4,0,IF(N149>0.3,5,IF(N149>0.2,10,IF(N149>0.1,15,IF(N149>0.05,20,IF(N149<=0.05,25,)))))))))) | P149: =IF(E149="","",IF(E149="Nije ocijenjen","",IF(E149="Ocijenjen",IF(F149=0,"",((L149+K149+(M149/2))/(F149)))))) | Q149: =IF(E149="","",IF(E149="Nije ocijenjen","",IF(E149="Ocijenjen",IF(P149>0.2,0,IF(P149>0.15,1,IF(P149>0.1,2,IF(P149>0.06,3,IF(P149>0.03,4,IF(P149<=0.03,5,))))))))) | R149: =IF(E149="","",IF(E149="Nije ocijenjen","",IF(E149="Ocijenjen",IF(N149="Član 18. stav 7. Kriterija",Q149,O149+Q149))))
A151: Upisati naziv Suda 1
A152: 11 | B152: Ime i prezime | G152: =SUM(I152:M152) -> 0
A153: Upisati naziv Suda 2
A154: =+A152 -> 11 | B154: =+B152 -> Ime i prezime | G154: =SUM(I154:M154) -> 0
A155: Individualni kvalitet NPF-a koji je radio u dva suda u toku perioda ocjenjivanja
...

Sheet tblIII
A1: Sud | B1: Godina | C1: ImePrezime | D1: Naziv odjela | E1: Funkcija | F1: Ocij/NijeOcij | G1: UkBrDonOdlnsmiPrLijek | H1: UkBrOzOdl | I1: BrOdbPravLijekova | J1: BrPotOdl | K1: BrPreinOdl | L1: BrPreOdlNakOdGlRas/PretPredDrugSud | M1: BrUkOdl | N1: BrDjelUkOdl | O1: KvaSudOdlČl16/1/a | P1: BrOstBodZaKvalČl16/1/a | Q1: KvalSudOdlČl16/1/b | R1: BrOstBodZaKvalČl16/1/b | S1: UkBrOstBodZaKval | T1: KvalSudOdlČl16/1/b
A2: =+'Tabela I'!$K$2 -> 0 | B2: =+'Tabela I'!$K$1 -> 2019 | C2: =+'Tabela III'!B10 -> Bosiljka Rudeš | E2: =+'Tabela III'!D10 -> Predsjednik suda * | F2: =+'Tabela III'!E10 -> Ocijenjen | G2: =+'Tabela III'!F10 -> 83 | H2: =+'Tabela III'!G10 -> 21 | I2: =+'Tabela III'!H10 -> 22 | J2: =+'Tabela III'!I10 -> 18 | K2: =+'Tabela III'!J10 -> 2 | L2: =+'Tabela III'!K10 -> 0 | ... S2: =+'Tabela III'!R10 -> 10 | W2: Ocijenjen
A3: =+'Tabela I'!$K$2 -> 0 | B3: =+'Tabela I'!$K$1 -> 2019 | C3: ='Tabela III'!B11 -> Mile Zeljko | D3: =+'Tabela III'!C11 -> Sudsko odjeljenje | E3: =+'Tabela III'!D11 -> Sudija | F3: =+'Tabela III'!E11 -> Nije ocijenjen | G3: =+'Tabela III'!F11 -> 70 | H3: =+'Tabela III'!G11 -> 41 | I3: =+'Tabela III'!H11 -> 9 | J3: =+'Tabela III'!I11 -> 36 | K3: =+'Tabela III'!J11 -> 2 | ... S3: =+'Tabela III'!R11 | U3: Sudija | W3: Nije ocijenjen
A4: =+'Tabela I'!$K$2 -> 0 | B4: =+'Tabela I'!$K$1 -> 2019 | C4: =+'Tabela III'!B12 -> Gordana Pažin | D4: =+'Tabela III'!C12 -> Sudsko odjeljenje | E4: =+'Tabela III'!D12 -> Sudija | F4: =+'Tabela III'!E12 -> Nije ocijenjen | G4: =+'Tabela III'!F12 -> 47 | H4: =+'Tabela III'!G12 -> 18 | I4: =+'Tabela III'!H12 -> 6 | J4: =+'Tabela III'!I12 -> 12 | ... S4: =+'Tabela III'!R12 | U4: Stručni saradnik
A5: =+'Tabela I'!$K$2 -> 0 | B5: =+'Tabela I'!$K$1 -> 2019 | C5: =+'Tabela III'!B13 -> Katica Artuković | D5: =+'Tabela III'!C13 -> Sudsko odjeljenje | E5: =+'Tabela III'!D13 -> Sudija | F5: =+'Tabela III'!E13 -> Ocijenjen | G5: =+'Tabela III'!F13 -> 160 | H5: =+'Tabela III'!G13 -> 4 | I5: =+'Tabela III'!H13 -> 1 | J5: =+'Tabela III'!I13 -> 3 | ... S5: =+'Tabela III'!R13 -> 5
A6: =+'Tabela I'!$K$2 -> 0 | B6: =+'Tabela I'!$K$1 -> 2019 | C6: =+'Tabela III'!B14 -> Franjo Ravlija | D6: =+'Tabela III'!C14 -> Sudsko odjeljenje | E6: =+'Tabela III'!D14 -> Sudija | F6: =+'Tabela III'!E14 -> Nije ocijenjen | G6: =+'Tabela III'!F14 -> 88 | H6: =+'Tabela III'!G14 -> 6 | I6: =+'Tabela III'!H14 -> 9 | J6: =+'Tabela III'!I14 -> 6 | ... S6: =+'Tabela III'!R14
A7: =+'Tabela I'!$K$2 -> 0 | B7: =+'Tabela I'!$K$1 -> 2019 | C7: =+'Tabela III'!B15 | D7: =+'Tabela III'!C15 | E7: =+'Tabela III'!D15 | F7: =+'Tabela III'!E15 -> 0 | G7: =+'Tabela III'!F15 -> 0 | H7: =+'Tabela III'!G15 -> 0 | I7: =+'Tabela III'!H15 -> 0 | J7: =+'Tabela III'!I15 -> 0 | ... S7: =+'Tabela III'!R15
A8: =+'Tabela I'!$K$2 -> 0 | B8: =+'Tabela I'!$K$1 -> 2019 | C8: =+'Tabela III'!B16 | D8: =+'Tabela III'!C16 | E8: =+'Tabela III'!D16 | F8: =+'Tabela III'!E16 -> 0 | G8: =+'Tabela III'!F16 -> 0 | H8: =+'Tabela III'!G16 -> 0 | I8: =+'Tabela III'!H16 -> 0 | J8: =+'Tabela III'!I16 -> 0 | ... S8: =+'Tabela III'!R16
A9: =+'Tabela I'!$K$2 -> 0 | B9: =+'Tabela I'!$K$1 -> 2019 | C9: =+'Tabela III'!B17 | D9: =+'Tabela III'!C17 | E9: =+'Tabela III'!D17 | F9: =+'Tabela III'!E17 -> 0 | G9: =+'Tabela III'!F17 -> 0 | H9: =+'Tabela III'!G17 -> 0 | I9: =+'Tabela III'!H17 -> 0 | J9: =+'Tabela III'!I17 -> 0 | ... S9: =+'Tabela III'!R17
A10: =+'Tabela I'!$K$2 -> 0 | B10: =+'Tabela I'!$K$1 -> 2019 | C10: =+'Tabela III'!B18 | D10: =+'Tabela III'!C18 | E10: =+'Tabela III'!D18 | F10: =+'Tabela III'!E18 -> 0 | G10: =+'Tabela III'!F18 -> 0 | H10: =+'Tabela III'!G18 -> 0 | I10: =+'Tabela III'!H18 -> 0 | J10: =+'Tabela III'!I18 -> 0 | ... S10: =+'Tabela III'!R18
A11: =+'Tabela I'!$K$2 -> 0 | B11: =+'Tabela I'!$K$1 -> 2019 | C11: =+'Tabela III'!B19 | D11: =+'Tabela III'!C19 | E11: =+'Tabela III'!D19 | F11: =+'Tabela III'!E19 -> 0 | G11: =+'Tabela III'!F19 -> 0 | H11: =+'Tabela III'!G19 -> 0 | I11: =+'Tabela III'!H19 -> 0 | J11: =+'Tabela III'!I19 -> 0 | ... S11: =+'Tabela III'!R19
A12: =+'Tabela I'!$K$2 -> 0 | B12: =+'Tabela I'!$K$1 -> 2019 | C12: =+'Tabela III'!B20 | D12: =+'Tabela III'!C20 | E12: =+'Tabela III'!D20 | F12: =+'Tabela III'!E20 -> 0 | G12: =+'Tabela III'!F20 -> 0 | H12: =+'Tabela III'!G20 -> 0 | I12: =+'Tabela III'!H20 -> 0 | J12: =+'Tabela III'!I20 -> 0 | ... S12: =+'Tabela III'!R20
A13: =+'Tabela I'!$K$2 -> 0 | B13: =+'Tabela I'!$K$1 -> 2019 | C13: =+'Tabela III'!B21 | D13: =+'Tabela III'!C21 | E13: =+'Tabela III'!D21 | F13: =+'Tabela III'!E21 -> 0 | G13: =+'Tabela III'!F21 -> 0 | H13: =+'Tabela III'!G21 -> 0 | I13: =+'Tabela III'!H21 -> 0 | J13: =+'Tabela III'!I21 -> 0 | ... S13: =+'Tabela III'!R21
A14: =+'Tabela I'!$K$2 -> 0 | B14: =+'Tabela I'!$K$1 -> 2019 | C14: =+'Tabela III'!B22 | D14: =+'Tabela III'!C22 | E14: =+'Tabela III'!D22 | F14: =+'Tabela III'!E22 -> 0 | G14: =+'Tabela III'!F22 -> 0 | H14: =+'Tabela III'!G22 -> 0 | I14: =+'Tabela III'!H22 -> 0 | J14: =+'Tabela III'!I22 -> 0 | ... S14: =+'Tabela III'!R22
A15: =+'Tabela I'!$K$2 -> 0 | B15: =+'Tabela I'!$K$1 -> 2019 | C15: =+'Tabela III'!B23 | D15: =+'Tabela III'!C23 | E15: =+'Tabela III'!D23 | F15: =+'Tabela III'!E23 -> 0 | G15: =+'Tabela III'!F23 -> 0 | H15: =+'Tabela III'!G23 -> 0 | I15: =+'Tabela III'!H23 -> 0 | J15: =+'Tabela III'!I23 -> 0 | ... S15: =+'Tabela III'!R23
A16: =+'Tabela I'!$K$2 -> 0 | B16: =+'Tabela I'!$K$1 -> 2019 | C16: =+'Tabela III'!B24 | D16: =+'Tabela III'!C24 | E16: =+'Tabela III'!D24 | F16: =+'Tabela III'!E24 -> 0 | G16: =+'Tabela III'!F24 -> 0 | H16: =+'Tabela III'!G24 -> 0 | I16: =+'Tabela III'!H24 -> 0 | J16: =+'Tabela III'!I24 -> 0 | ... S16: =+'Tabela III'!R24
... A66: =+'Tabela I'!$K$2 -> 0 | B66: =+'Tabela I'!$K$1 -> 2019 | C66: =+'Tabela III'!B74 -> 0 | D66: =+'Tabela III'!C74 -> 0 | E66: =+'Tabela III'!D74 -> 0 | F66: =+'Tabela III'!E74 -> 0 | G66: =+'Tabela III'!F74 -> 0 | H66: =+'Tabela III'!G74 -> 0 | I66: =+'Tabela III'!H74 -> 0 | J66: =+'Tabela III'!I74 -> 0 | ... S66: =+'Tabela III'!R74
A69: Tabela IIIb
A71: =+'Tabela I'!$K$2 -> 0 | B71: =+'Tabela I'!$K$1 -> 2019 | C71: =+'Tabela III'!B86 -> Upisati naziv Suda 1 | D71: =+'Tabela III'!C86 -> 0 | E71: =+'Tabela III'!D86 -> Predsjednik suda | F71: =+'Tabela III'!E86 -> 0 | G71: =+'Tabela III'!F86 -> 0 | H71: =+'Tabela III'!G86 -> 0 | I71: =+'Tabela III'!H86 -> 0 | J71: =+'Tabela III'!I86 -> 0 | ... S71: =+'Tabela III'!R86
A72: =+'Tabela I'!$K$2 -> 0 | B72: =+'Tabela I'!$K$1 -> 2019 | C72: =+'Tabela III'!B93 -> Mile Zeljko | D72: =+'Tabela III'!C93 -> 0 | E72: =+'Tabela III'!D93 -> 0 | F72: =+'Tabela III'!E93 -> Ocijenjen | G72: =+'Tabela III'!F93 -> 70 | H72: =+'Tabela III'!G93 -> 41 | I72: =+'Tabela III'!H93 -> 9 | J72: =+'Tabela III'!I93 -> 36 | ... S72: =+'Tabela III'!R93 -> 24
A73: =+'Tabela I'!$K$2 -> 0 | B73: =+'Tabela I'!$K$1 -> 2019 | C73: =+'Tabela III'!B100 -> Gordana Pažin | D73: =+'Tabela III'!C100 -> 0 | E73: =+'Tabela III'!D100 -> 0 | F73: =+'Tabela III'!E100 -> Ocijenjen | G73: =+'Tabela III'!F100 -> 47 | H73: =+'Tabela III'!G100 -> 18 | I73: =+'Tabela III'!H100 -> 6 | J73: =+'Tabela III'!I100 -> 12 | ... S73: =+'Tabela III'!R100 -> 12
A74: =+'Tabela I'!$K$2 -> 0 | B74: =+'Tabela I'!$K$1 -> 2019 | C74: =+'Tabela III'!B107 -> Franjo Ravlija | D74: =+'Tabela III'!C107 -> 0 | E74: =+'Tabela III'!D107 -> 0 | F74: =+'Tabela III'!E107 -> Ocijenjen | G74: =+'Tabela III'!F107 -> 88 | H74: =+'Tabela III'!G107 -> 7 | I74: =+'Tabela III'!H107 -> 9 | J74: =+'Tabela III'!I107 -> 6 | ... S74: =+'Tabela III'!R107 -> 5
A75: =+'Tabela I'!$K$2 -> 0 | B75: =+'Tabela I'!$K$1 -> 2019 | C75: =+'Tabela III'!B114 -> Ime i prezime | D75: =+'Tabela III'!C114 -> 0 | E75: =+'Tabela III'!D114 -> 0 | F75: =+'Tabela III'!E114 -> 0 | G75: =+'Tabela III'!F114 -> 0 | H75: =+'Tabela III'!G114 -> 0 | I75: =+'Tabela III'!H114 -> 0 | J75: =+'Tabela III'!I114 -> 0 | ... S75: =+'Tabela III'!R114
A76: =+'Tabela I'!$K$2 -> 0 | B76: =+'Tabela I'!$K$1 -> 2019 | C76: =+'Tabela III'!B121 -> Ime i prezime | D76: =+'Tabela III'!C121 -> 0 | E76: =+'Tabela III'!D121 -> 0 | F76: =+'Tabela III'!E121 -> 0 | G76: =+'Tabela III'!F121 -> 0 | H76: =+'Tabela III'!G121 -> 0 | I76: =+'Tabela III'!H121 -> 0 | J76: =+'Tabela III'!I121 -> 0 | ... S76: =+'Tabela III'!R121
A77: =+'Tabela I'!$K$2 -> 0 | B77: =+'Tabela I'!$K$1 -> 2019 | C77: =+'Tabela III'!B128 -> Ime i prezime | D77: =+'Tabela III'!C128 -> 0 | E77: =+'Tabela III'!D128 -> 0 | F77: =+'Tabela III'!E128 -> 0 | G77: =+'Tabela III'!F128 -> 0 | H77: =+'Tabela III'!G128 -> 0 | I77: =+'Tabela III'!H128 -> 0 | J77: =+'Tabela III'!I128 -> 0 | ... S77: =+'Tabela III'!R128
A78: =+'Tabela I'!$K$2 -> 0 | B78: =+'Tabela I'!$K$1 -> 2019 | C78: =+'Tabela III'!B135 -> Ime i prezime | D78: =+'Tabela III'!C135 -> 0 | E78: =+'Tabela III'!D135 -> 0 | F78: =+'Tabela III'!E135 -> 0 | G78: =+'Tabela III'!F135 -> 0 | H78: =+'Tabela III'!G135 -> 0 | I78: =+'Tabela III'!H135 -> 0 | J78: =+'Tabela III'!I135 -> 0 | ... S78: =+'Tabela III'!R135
A79: =+'Tabela I'!$K$2 -> 0 | B79: =+'Tabela I'!$K$1 -> 2019 | C79: =+'Tabela III'!B142 -> Ime i prezime | D79: =+'Tabela III'!C142 -> 0 | E79: =+'Tabela III'!D142 -> 0 | F79: =+'Tabela III'!E142 -> 0 | G79: =+'Tabela III'!F142 -> 0 | H79: =+'Tabela III'!G142 -> 0 | I79: =+'Tabela III'!H142 -> 0 | J79: =+'Tabela III'!I142 -> 0 | ... S79: =+'Tabela III'!R142
A80: =+'Tabela I'!$K$2 -> 0 | B80: =+'Tabela I'!$K$1 -> 2019 | C80: =+'Tabela III'!B149 -> Ime i prezime | D80: =+'Tabela III'!C149 -> 0 | E80: =+'Tabela III'!D149 -> 0 | F80: =+'Tabela III'!E149 -> 0 | G80: =+'Tabela III'!F149 -> 0 | H80: =+'Tabela III'!G149 -> 0 | I80: =+'Tabela III'!H149 -> 0 | J80: =+'Tabela III'!I149 -> 0 | ... S80: =+'Tabela III'!R149
A81: =+'Tabela I'!$K$2 -> 0 | B81: =+'Tabela I'!$K$1 -> 2019 | C81: =+'Tabela III'!B156 -> Ime i prezime | D81: =+'Tabela III'!C156 -> 0 | E81: =+'Tabela III'!D156 -> 0 | F81: =+'Tabela III'!E156 -> 0 | G81: =+'Tabela III'!F156 -> 0 | H81: =+'Tabela III'!G156 -> 0 | I81: =+'Tabela III'!H156 -> 0 | J81: =+'Tabela III'!I156 -> 0 | ... S81: =+'Tabela III'!R156
A82: =+'Tabela I'!$K$2 -> 0 | B82: =+'Tabela I'!$K$1 -> 2019 | C82: =+'Tabela III'!B163 -> Ime i prezime | D82: =+'Tabela III'!C163 -> 0 | E82: =+'Tabela III'!D163 -> 0 | F82: =+'Tabela III'!E163 -> 0 | G82: =+'Tabela III'!F163 -> 0 | H82: =+'Tabela III'!G163 -> 0 | I82: =+'Tabela III'!H163 -> 0 | J82: =+'Tabela III'!I163 -> 0 | ... S82: =+'Tabela III'!R163
A83: =+'Tabela I'!$K$2 -> 0 | B83: =+'Tabela I'!$K$1 -> 2019 | C83: =+'Tabela III'!B170 -> Ime i prezime | D83: =+'Tabela III'!C170 -> 0 | E83: =+'Tabela III'!D170 -> 0 | F83: =+'Tabela III'!E170 -> 0 | G83: =+'Tabela III'!F170 -> 0 | H83: =+'Tabela III'!G170 -> 0 | I83: =+'Tabela III'!H170 -> 0 | J83: =+'Tabela III'!I170 -> 0 | ... S83: =+'Tabela III'!R170
A84: =+'Tabela I'!$K$2 -> 0 | B84: =+'Tabela I'!$K$1 -> 2019 | C84: =+'Tabela III'!B177 -> Ime i prezime | D84: =+'Tabela III'!C177 -> 0 | E84: =+'Tabela III'!D177 -> 0 | F84: =+'Tabela III'!E177 -> 0 | G84: =+'Tabela III'!F177 -> 0 | H84: =+'Tabela III'!G177 -> 0 | I84: =+'Tabela III'!H177 -> 0 | J84: =+'Tabela III'!I177 -> 0 | ... S84: =+'Tabela III'!R177
A85: =+'Tabela I'!$K$2 -> 0 | B85: =+'Tabela I'!$K$1 -> 2019 | C85: =+'Tabela III'!B184 -> Ime i prezime | D85: =+'Tabela III'!C184 -> 0 | E85: =+'Tabela III'!D184 -> 0 | F85: =+'Tabela III'!E184 -> 0 | G85: =+'Tabela III'!F184 -> 0 | H85: =+'Tabela III'!G184 -> 0 | I85: =+'Tabela III'!H184 -> 0 | J85: =+'Tabela III'!I184 -> 0 | ... S85: =+'Tabela III'!R184
A86: =+'Tabela I'!$K$2 -> 0 | B86: =+'Tabela I'!$K$1 -> 2019 | C86: =+'Tabela III'!B191 -> Ime i prezime | D86: =+'Tabela III'!C191 -> 0 | E86: =+'Tabela III'!D191 -> 0 | F86: =+'Tabela III'!E191 -> 0 | G86: =+'Tabela III'!F191 -> 0 | H86: =+'Tabela III'!G191 -> 0 | I86: =+'Tabela III'!H191 -> 0 | J86: =+'Tabela III'!I191 -> 0 | ... S86: =+'Tabela III'!R191
A87: =+'Tabela I'!$K$2 -> 0 | B87: =+'Tabela I'!$K$1 -> 2019 | C87: =+'Tabela III'!B198 -> Ime i prezime | D87: =+'Tabela III'!C198 -> 0 | E87: =+'Tabela III'!D198 -> 0 | F87: =+'Tabela III'!E198 -> 0 | G87: =+'Tabela III'!F198 -> 0 | H87: =+'Tabela III'!G198 -> 0 | I87: =+'Tabela III'!H198 -> 0 | J87: =+'Tabela III'!I198 -> 0 | ... S87: =+'Tabela III'!R198
A88: =+'Tabela I'!$K$2 -> 0 | B88: =+'Tabela I'!$K$1 -> 2019 | C88: =+'Tabela III'!B205 -> Ime i prezime | D88: =+'Tabela III'!C205 -> 0 | E88: =+'Tabela III'!D205 -> 0 | F88: =+'Tabela III'!E205 -> 0 | G88: =+'Tabela III'!F205 -> 0 | H88: =+'Tabela III'!G205 -> 0 | I88: =+'Tabela III'!H205 -> 0 | J88: =+'Tabela III'!I205 -> 0 | ... S88: =+'Tabela III'!R205
A89: =+'Tabela I'!$K$2 -> 0 | B89: =+'Tabela I'!$K$1 -> 2019 | C89: =+'Tabela III'!B212 -> Ime i prezime | D89: =+'Tabela III'!C212 -> 0 | E89: =+'Tabela III'!D212 -> 0 | F89: =+'Tabela III'!E212 -> 0 | G89: =+'Tabela III'!F212 -> 0 | H89: =+'Tabela III'!G212 -> 0 | I89: =+'Tabela III'!H212 -> 0 | J89: =+'Tabela III'!I212 -> 0 | ... S89: =+'Tabela III'!R212
A90: =+'Tabela I'!$K$2 -> 0 | B90: =+'Tabela I'!$K$1 -> 2019 | C90: =+'Tabela III'!B219 -> Ime i prezime | D90: =+'Tabela III'!C219 -> 0 | E90: =+'Tabela III'!D219 -> 0 | F90: =+'Tabela III'!E219 -> 0 | G90: =+'Tabela III'!F219 -> 0 | H90: =+'Tabela III'!G219 -> 0 | I90: =+'Tabela III'!H219 -> 0 | J90: =+'Tabela III'!I219 -> 0 | ... S90: =+'Tabela III'!R219

Sheet Tabela IV
A1: =+'Tabela I'!A1 -> Kantonalni/Okružni sud: | B1: =+'Tabela I'!C1 -> Županijski sud Široki Brijeg
A2: Izvještajni period: | B2: =+'Tabela I'!B2 -> 1.1.2019.-31.12.2019.
A3: Tabela IV - Odluke Ustavnog suda BiH
A4: Tabela IVa - Odluke kojima se ne usvaja apelacija
A5: Broj odluka kojima se odbacuje apelacija | B5: Broj odluka kojima se obustavlja postupak pred Ustavnim sudom BiH | C5: Broj odluka kojima se odbija apelacija | D5: Ukupno
A6: I | B6: II | C6: III | D6: IV=I+II+III
D7: =IF(SUM(A7:C7)=0," ",SUM(A7:C7))
A8: Tabela IVb - Odluke kojima se usvaja apelacija
A9: Pravni osnov | B9: Broj odluka kojima se usvaja apelacija | E9: Ukupno
B10: Broj odluka kojima se preinačuju odluke suda | C10: Broj odluka kojima se ukidaju odluke suda | D10: Broj ostalih odluka kojima se usvaja apelacija
B11: I | C11: II | D11: III | E11: IV=I+II+III
A12: Čl. 13. EK (pravo na djelotvorni pravni lijek) | E12: =IF(SUM(B12:D12)=0," ",SUM(B12:D12))
A13: Čl. 3. P7 (naknada za pogrešnu presudu) | E13: =IF(SUM(B13:D13)=0," ",SUM(B13:D13))
A14: Čl. 6. EK i II/3.e) Ustava BiH (pravo na pravično suđenje) | E14: =IF(SUM(B14:D14)=0," ",SUM(B14:D14))
A15: Čl. 5.EK i II/3d Ustava (pravo na ličnu slobodu) | E15: =IF(SUM(B15:D15)=0," ",SUM(B15:D15))
A16: Čl. 1. P.1. i II/3.k) Ustava BiH (pravo na imovinu) | E16: =IF(SUM(B16:D16)=0," ",SUM(B16:D16))
A17: Čl. 1. P.7. (Proceduralne zaštite u vezi sa protjerivanjem stranaca) | E17: =IF(SUM(B17:D17)=0," ",SUM(B17:D17))
A18: Ostalo | E18: =IF(SUM(B18:D18)=0," ",SUM(B18:D18))
A19: Tabela IVc – Predmeti u kojima se nalaže sudu da okonča predmet bez odlaganja zbog kršenja prava na donošenje odluke u razumnom roku
A20: Pravni osnov | B20: Broj odluka kojima se nalaže sudu da okonča predmet bez odlaganja zbog kršenja prava na donošenje odluke u razumnom roku jer je Ustavni sud BiH zaključio da je odugovlačenju postupka najviše doprinio
B21: prvostepeni sud | C21: drugostepeni sud | D21: sud koji rješava predmet po uloženom vanrednom pravnom lijeku | E21: Ostalo | F21: Ukupno
B22: I | C22: II | D22: III | E22: IV | F22: V=I+II+III+IV
A23: Čl. 6 EK i II/3.e) Ustava BiH (pravo na pravično suđenje) | F23: =IF(SUM(B23:E23)=0," ",SUM(B23:E23))
A24: Tabela IVd - Predmeti u kojima je utvrđeno kršenje prava na donošenje odluke u razumnom roku*
A25: Broj predmeta u kojima je određena naknada nematerijalne štete zbog kršenja prava na donošenje odluke u razumnom roku
A26: Ukupan iznos određene naknade
A28: * U Tabelu IVd unose se podaci o predmetima u kojima je usvojena apelacija u odnosu na odluke Vašeg suda i određena naknada nematerijalne štete zbog kršenja prava na donošenje odluke u razumnom roku, kao i ukupan iznos naknade koji je utvrdio Ustavni sud BiH.

Sheet tbl10_ust_sud
A1: for_key | B1: godina | C1: BrOdbacApel | D1: BrObustPost | E1: BrOdbijApel
A2: =+'Tabela I'!$K$2 -> 0 | B2: =+'Tabela I'!$K$1 -> 2019 | C2: ='Tabela IV'!A7 -> 0 | D2: ='Tabela IV'!B7 -> 0 | E2: ='Tabela IV'!C7 -> 0
A5: for_key | B5: godina | C5: Pravni osnov | D5: BrPreinOdl | E5: BrUkidOdl | F5: BrUsvApel
A6: =+'Tabela I'!$K$2 -> 0 | B6: =+'Tabela I'!$K$1 -> 2019 | C6: 1 | D6: ='Tabela IV'!B12 -> 0 | E6: ='Tabela IV'!C12 -> 0 | F6: ='Tabela IV'!D12 -> 0
A7: =+'Tabela I'!$K$2 -> 0 | B7: =+'Tabela I'!$K$1 -> 2019 | C7: 2 | D7: ='Tabela IV'!B13 -> 0 | E7: ='Tabela IV'!C13 -> 0 | F7: ='Tabela IV'!D13 -> 0
A8: =+'Tabela I'!$K$2 -> 0 | B8: =+'Tabela I'!$K$1 -> 2019 | C8: 3 | D8: ='Tabela IV'!B14 -> 0 | E8: ='Tabela IV'!C14 -> 0 | F8: ='Tabela IV'!D14 -> 0
A9: =+'Tabela I'!$K$2 -> 0 | B9: =+'Tabela I'!$K$1 -> 2019 | C9: 4 | D9: ='Tabela IV'!B15 -> 0 | E9: ='Tabela IV'!C15 -> 0 | F9: ='Tabela IV'!D15 -> 0
A10: =+'Tabela I'!$K$2 -> 0 | B10: =+'Tabela I'!$K$1 -> 2019 | C10: 5 | D10: ='Tabela IV'!B16 -> 0 | E10: ='Tabela IV'!C16 -> 0 | F10: ='Tabela IV'!D16 -> 0
A11: =+'Tabela I'!$K$2 -> 0 | B11: =+'Tabela I'!$K$1 -> 2019 | C11: 6 | D11: ='Tabela IV'!B17 -> 0 | E11: ='Tabela IV'!C17 -> 0 | F11: ='Tabela IV'!D17 -> 0
A12: =+'Tabela I'!$K$2 -> 0 | B12: =+'Tabela I'!$K$1 -> 2019 | C12: 7 | D12: ='Tabela IV'!B18 -> 0 | E12: ='Tabela IV'!C18 -> 0 | F12: ='Tabela IV'!D18 -> 0
A15: for_key | B15: godina | C15: Pravni osnov | D15: PrvostSud | E15: DrugostSud | F15: SudPoUlPrLij | G15: Ostalo
A16: =+'Tabela I'!$K$2 -> 0 | B16: =+'Tabela I'!$K$1 -> 2019 | C16: 3 | D16: ='Tabela IV'!B23 -> 0 | E16: ='Tabela IV'!C23 -> 0 | F16: ='Tabela IV'!D23 -> 0 | G16: ='Tabela IV'!E23 -> 0
A19: for_key | B19: godina | C19: BrNaknNematStete | D19: UkIznosNaknade
A20: =+'Tabela I'!$K$2 -> 0 | B20: =+'Tabela I'!$K$1 -> 2019 | C20: ='Tabela IV'!B25 -> 0 | D20: ='Tabela IV'!B26 -> 0

Sheet tbl II
A1: Godina | B1: Sud | C1: ImePrezime | D1: Ocjenjen | E1: Odjel | F1: Funkcija | G1: NormaPravilnik | H1: DatumOd | I1: DatumDo | J1: BroDanaZa Normu | K1: Odsustvo | L1: NormaCMS | M1: NormaVanCMS | N1: VeceVrenovanje | O1: OstvarenaNorma | P1: PreracunataNorma | Q1: BrPredURadu | R1: BrRijPred | S1: BrNerijPredSaZakProcSmet | T1: BrNerijPredBezZakProcSmet | U1: ProcRijePred | V1: BrOStBod
A2: ='Tabela I'!$K$1 -> 2019 | B2: ='Tabela I'!$K$2 -> 0 | C2: ='Tabela II'!B8 -> Bosiljka Rudeš | D2: ='Tabela II'!C8 -> DA | E2: ='Tabela II'!D8 -> 0 | F2: ='Tabela II'!E8 -> Predsjednik suda | G2: ='Tabela II'!G8 -> 0 | H2: ='Tabela II'!H8 -> 0 | I2: ='Tabela II'!I8 -> 0 | J2: ='Tabela II'!J8 -> 261 | K2: ='Tabela II'!K8 -> 0 | L2: ='Tabela II'!L8 -> 0 | M2: ='Tabela II'!M8 -> 0 | N2: ='Tabela II'!N8 -> 0 | ... V2: ='Tabela II'!V8
A3: ='Tabela I'!$K$1 -> 2019 | B3: ='Tabela I'!$K$2 -> 0 | C3: ='Tabela II'!B9 -> 0 | D3: ='Tabela II'!C9 -> 0 | E3: ='Tabela II'!D9 -> 0 | F3: ='Tabela II'!E9 -> Predsjednik suda | G3: ='Tabela II'!G9 -> 0.5 | H3: ='Tabela II'!H9 -> 01.01.2019 | I3: ='Tabela II'!I9 -> 31.12.2019 | J3: ='Tabela II'!J9 -> 261 | K3: ='Tabela II'!K9 -> 6 | L3: ='Tabela II'!L9 -> 1.1474 | M3: ='Tabela II'!M9 -> 0 | N3: ='Tabela II'!N9 -> 0 | ... V3: ='Tabela II'!V9 -> 10
A4: ='Tabela I'!$K$1 -> 2019 | B4: ='Tabela I'!$K$2 -> 0 | C4: ='Tabela II'!B10 -> Mile Zeljko | D4: ='Tabela II'!C10 -> Ne | E4: ='Tabela II'!D10 -> Sudsko odjeljenje | F4: ='Tabela II'!E10 -> Sudija | G4: ='Tabela II'!G10 -> 1 | H4: ='Tabela II'!H10 -> 01.01.2019 | I4: ='Tabela II'!I10 -> 31.12.2019 | J4: ='Tabela II'!J10 -> 261 | K4: ='Tabela II'!K10 -> 9 | L4: ='Tabela II'!L10 -> 0.9257 | M4: ='Tabela II'!M10 -> 0 | N4: ='Tabela II'!N10 -> 0 | ... V4: ='Tabela II'!V10
A5: ='Tabela I'!$K$1 -> 2019 | B5: ='Tabela I'!$K$2 -> 0 | C5: ='Tabela II'!B11 -> Gordana Pažin | D5: ='Tabela II'!C11 -> Ne | E5: ='Tabela II'!D11 -> Sudsko odjeljenje | F5: ='Tabela II'!E11 -> Sudija | G5: ='Tabela II'!G11 -> 1 | H5: ='Tabela II'!H11 -> 01.01.2019 | I5: ='Tabela II'!I11 -> 31.12.2019 | J5: ='Tabela II'!J11 -> 261 | K5: ='Tabela II'!K11 -> 0 | L5: ='Tabela II'!L11 -> 0.9301 | M5: ='Tabela II'!M11 -> 0 | N5: ='Tabela II'!N11 -> 0 | ... V5: ='Tabela II'!V11
A6: ='Tabela I'!$K$1 -> 2019 | B6: ='Tabela I'!$K$2 -> 0 | C6: ='Tabela II'!B12 -> Katica Artuković | D6: ='Tabela II'!C12 -> DA | E6: ='Tabela II'!D12 -> Sudsko odjeljenje | F6: ='Tabela II'!E12 -> Sudija | G6: ='Tabela II'!G12 -> 1 | H6: ='Tabela II'!H12 -> 01.01.2019 | I6: ='Tabela II'!I12 -> 31.12.2019 | J6: ='Tabela II'!J12 -> 261 | K6: ='Tabela II'!K12 -> 7 | L6: ='Tabela II'!L12 -> 1.0051 | M6: ='Tabela II'!M12 -> 0 | N6: ='Tabela II'!N12 -> 0.1454 | ... V6: ='Tabela II'!V12 -> 30
A7: ='Tabela I'!$K$1 -> 2019 | B7: ='Tabela I'!$K$2 -> 0 | C7: ='Tabela II'!B13 -> Franjo Ravlija | D7: ='Tabela II'!C13 -> Ne | E7: ='Tabela II'!D13 -> Sudsko odjeljenje | F7: ='Tabela II'!E13 -> Sudija | G7: ='Tabela II'!G13 -> 1 | H7: ='Tabela II'!H13 -> 01.01.2019 | I7: ='Tabela II'!I13 -> 31.12.2019 | J7: ='Tabela II'!J13 -> 261 | K7: ='Tabela II'!K13 -> 6 | L7: ='Tabela II'!L13 -> 1.059 | M7: ='Tabela II'!M13 -> 0 | N7: ='Tabela II'!N13 -> 0 | ... V7: ='Tabela II'!V13
A8: ='Tabela I'!$K$1 -> 2019 | B8: ='Tabela I'!$K$2 -> 0 | C8: ='Tabela II'!B14 -> 0 | D8: ='Tabela II'!C14 -> 0 | E8: ='Tabela II'!D14 -> 0 | F8: ='Tabela II'!E14 -> 0 | G8: ='Tabela II'!G14 -> 0 | H8: ='Tabela II'!H14 -> 0 | I8: ='Tabela II'!I14 -> 0 | J8: ='Tabela II'!J14 -> 261 | K8: ='Tabela II'!K14 -> 0 | L8: ='Tabela II'!L14 -> 0 | M8: ='Tabela II'!M14 -> 0 | N8: ='Tabela II'!N14 -> 0 | ... V8: ='Tabela II'!V14
A9: ='Tabela I'!$K$1 -> 2019 | B9: ='Tabela I'!$K$2 -> 0 | C9: ='Tabela II'!B15 -> 0 | D9: ='Tabela II'!C15 -> 0 | E9: ='Tabela II'!D15 -> 0 | F9: ='Tabela II'!E15 -> 0 | G9: ='Tabela II'!G15 -> 0 | H9: ='Tabela II'!H15 -> 0 | I9: ='Tabela II'!I15 -> 0 | J9: ='Tabela II'!J15 -> 261 | K9: ='Tabela II'!K15 -> 0 | L9: ='Tabela II'!L15 -> 0 | M9: ='Tabela II'!M15 -> 0 | N9: ='Tabela II'!N15 -> 0 | ... V9: ='Tabela II'!V15
A10: ='Tabela I'!$K$1 -> 2019 | B10: ='Tabela I'!$K$2 -> 0 | C10: ='Tabela II'!B16 -> 0 | D10: ='Tabela II'!C16 -> 0 | E10: ='Tabela II'!D16 -> 0 | F10: ='Tabela II'!E16 -> 0 | G10: ='Tabela II'!G16 -> 0 | H10: ='Tabela II'!H16 -> 0 | I10: ='Tabela II'!I16 -> 0 | J10: ='Tabela II'!J16 -> 261 | K10: ='Tabela II'!K16 -> 0 | L10: ='Tabela II'!L16 -> 0 | M10: ='Tabela II'!M16 -> 0 | N10: ='Tabela II'!N16 -> 0 | ... V10: ='Tabela II'!V16
A11: ='Tabela I'!$K$1 -> 2019 | B11: ='Tabela I'!$K$2 -> 0 | C11: ='Tabela II'!B17 -> 0 | D11: ='Tabela II'!C17 -> 0 | E11: ='Tabela II'!D17 -> 0 | F11: ='Tabela II'!E17 -> 0 | G11: ='Tabela II'!G17 -> 0 | H11: ='Tabela II'!H17 -> 0 | I11: ='Tabela II'!I17 -> 0 | J11: ='Tabela II'!J17 -> 261 | K11: ='Tabela II'!K17 -> 0 | L11: ='Tabela II'!L17 -> 0 | M11: ='Tabela II'!M17 -> 0 | N11: ='Tabela II'!N17 -> 0 | ... V11: ='Tabela II'!V17
A12: ='Tabela I'!$K$1 -> 2019 | B12: ='Tabela I'!$K$2 -> 0 | C12: ='Tabela II'!B18 -> 0 | D12: ='Tabela II'!C18 -> 0 | E12: ='Tabela II'!D18 -> 0 | F12: ='Tabela II'!E18 -> 0 | G12: ='Tabela II'!G18 -> 0 | H12: ='Tabela II'!H18 -> 0 | I12: ='Tabela II'!I18 -> 0 | J12: ='Tabela II'!J18 -> 261 | K12: ='Tabela II'!K18 -> 0 | L12: ='Tabela II'!L18 -> 0 | M12: ='Tabela II'!M18 -> 0 | N12: ='Tabela II'!N18 -> 0 | ... V12: ='Tabela II'!V18
A13: ='Tabela I'!$K$1 -> 2019 | B13: ='Tabela I'!$K$2 -> 0 | C13: ='Tabela II'!B19 -> 0 | D13: ='Tabela II'!C19 -> 0 | E13: ='Tabela II'!D19 -> 0 | F13: ='Tabela II'!E19 -> 0 | G13: ='Tabela II'!G19 -> 0 | H13: ='Tabela II'!H19 -> 0 | I13: ='Tabela II'!I19 -> 0 | J13: ='Tabela II'!J19 -> 261 | K13: ='Tabela II'!K19 -> 0 | L13: ='Tabela II'!L19 -> 0 | M13: ='Tabela II'!M19 -> 0 | N13: ='Tabela II'!N19 -> 0 | ... V13: ='Tabela II'!V19
... A77: ='Tabela I'!$K$1 -> 2019 | B77: ='Tabela I'!$K$2 -> 0 | C77: ='Tabela II'!B83 -> 0 | D77: ='Tabela II'!C83 -> 0 | E77: ='Tabela II'!D83 -> 0 | F77: ='Tabela II'!E83 -> 0 | G77: ='Tabela II'!G83 -> 0 | H77: ='Tabela II'!H83 -> 0 | I77: ='Tabela II'!I83 -> 0 | J77: ='Tabela II'!J83 -> 261 | K77: ='Tabela II'!K83 -> 0 | L77: ='Tabela II'!L83 -> 0 | M77: ='Tabela II'!M83 -> 0 | N77: ='Tabela II'!N83 -> 0 | ... V77: ='Tabela II'!V83
A79: Godina | B79: Sud | C79: ImePrezime | D79: Ocjenjen | E79: Odjel | F79: Funkcija | G79: NormaPravilnik | H79: DatumOd | I79: DatumDo | J79: BroDanaZa Normu | K79: Odsustvo | L79: NormaCMS | M79: NormaVanCMS | N79: VeceVrenovanje | O79: OstvarenaNorma | P79: PreracunataNorma | Q79: BrPredURadu | R79: BrRijPred | S79: BrNerijPredSaZakProcSmet | T79: BrNerijPredBezZakProcSmet | U79: ProcRijePred | V79: BrOStBod | W79: Sud
A80: ='Tabela I'!$K$1 -> 2019 | B80: ='Tabela I'!$K$2 -> 0 | C80: ='Tabela II'!D109 -> 0 | D80: ='Tabela II'!C110 -> 0 | E80: ='Tabela II'!D110 -> 0 | F80: ='Tabela II'!E110 -> Predsjednik suda | G80: ='Tabela II'!G110 -> 0 | H80: ='Tabela II'!H110 -> 0 | I80: ='Tabela II'!I110 -> 0 | J80: ='Tabela II'!J110 -> 0 | K80: ='Tabela II'!K110 -> 0 | L80: ='Tabela II'!L110 -> 0 | M80: ='Tabela II'!M110 -> 0 | N80: ='Tabela II'!N110 -> 0 | ... V80: ='Tabela II'!V110 -> 0 | W80: ='Tabela II'!A110 -> Sud 1
A81: ='Tabela I'!$K$1 -> 2019 | B81: ='Tabela I'!$K$2 -> 0 | C81: ='Tabela II'!D109 -> 0 | D81: ='Tabela II'!C111 -> 0 | E81: ='Tabela II'!D111 -> 0 | F81: ='Tabela II'!E111 -> 0 | G81: ='Tabela II'!G111 -> 0 | H81: ='Tabela II'!H111 -> 0 | I81: ='Tabela II'!I111 -> 0 | J81: ='Tabela II'!J111 -> 0 | K81: ='Tabela II'!K111 -> 0 | L81: ='Tabela II'!L111 -> 0 | M81: ='Tabela II'!M111 -> 0 | N81: ='Tabela II'!N111 -> 0 | ... V81: ='Tabela II'!V111 -> 0 | W81: ='Tabela II'!A111 -> Sud 2
A82: ='Tabela I'!$K$1 -> 2019 | B82: ='Tabela I'!$K$2 -> 0 | C82: ='Tabela II'!D112 -> Mile Zeljko | D82: ='Tabela II'!C113 -> Da | E82: ='Tabela II'!D113 -> 0 | F82: ='Tabela II'!E113 -> Sudija | G82: ='Tabela II'!G113 -> 1 | H82: ='Tabela II'!H113 -> 01.01.2019 | I82: ='Tabela II'!I113 -> 31.12.2019 | J82: ='Tabela II'!J113 -> 261 | K82: ='Tabela II'!K113 -> 9 | L82: ='Tabela II'!L113 -> 0.9257 | M82: ='Tabela II'!M113 -> 0 | N82: ='Tabela II'!N113 -> 0 | ... V82: ='Tabela II'!V113 -> 30 | W82: ='Tabela II'!A113 -> Županijski sud Široki Brijeg
A83: ='Tabela I'!$K$1 -> 2019 | B83: ='Tabela I'!$K$2 -> 0 | C83: ='Tabela II'!D112 -> Mile Zeljko | D83: ='Tabela II'!C114 -> Ne | E83: ='Tabela II'!D114 -> 0 | F83: ='Tabela II'!E114 -> Sudija | G83: ='Tabela II'!G114 -> 1 | H83: ='Tabela II'!H114 -> 01.01.2019 | I83: ='Tabela II'!I114 -> 31.12.2019 | J83: ='Tabela II'!J114 -> 225 | K83: ='Tabela II'!K114 -> 0 | L83: ='Tabela II'!L114 -> 0.0738 | M83: ='Tabela II'!M114 -> 0 | N83: ='Tabela II'!N114 -> 0 | ... V83: ='Tabela II'!V114 | W83: ='Tabela II'!A114 -> Županijski sud Mostar
A84: ='Tabela I'!$K$1 -> 2019 | B84: ='Tabela I'!$K$2 -> 0 | C84: ='Tabela II'!D115 -> Gordana Pažin | D84: ='Tabela II'!C116 -> Da | E84: ='Tabela II'!D116 -> 0 | F84: ='Tabela II'!E116 -> Sudija | G84: ='Tabela II'!G116 -> 1 | H84: ='Tabela II'!H116 -> 01.01.2019 | I84: ='Tabela II'!I116 -> 31.12.2019 | J84: ='Tabela II'!J116 -> 261 | K84: ='Tabela II'!K116 -> 0 | L84: ='Tabela II'!L116 -> 0.9301 | M84: ='Tabela II'!M116 -> 0 | N84: ='Tabela II'!N116 -> 0 | ... V84: ='Tabela II'!V116 -> 30 | W84: ='Tabela II'!A116 -> Županijski sud Široki Brijeg
A85: ='Tabela I'!$K$1 -> 2019 | B85: ='Tabela I'!$K$2 -> 0 | C85: ='Tabela II'!D115 -> Gordana Pažin | D85: ='Tabela II'!C117 -> Ne | E85: ='Tabela II'!D117 -> 0 | F85: ='Tabela II'!E117 -> Sudija | G85: ='Tabela II'!G117 -> 1 | H85: ='Tabela II'!H117 -> 01.01.2019 | I85: ='Tabela II'!I117 -> 31.12.2019 | J85: ='Tabela II'!J117 -> 225 | K85: ='Tabela II'!K117 -> 0 | L85: ='Tabela II'!L117 -> 0.0829 | M85: ='Tabela II'!M117 -> 0 | N85: ='Tabela II'!N117 -> 0 | ... V85: ='Tabela II'!V117 | W85: ='Tabela II'!A117 -> Županijski sud Mostar
A86: ='Tabela I'!$K$1 -> 2019 | B86: ='Tabela I'!$K$2 -> 0 | C86: ='Tabela II'!D118 -> Franjo Ravlija | D86: ='Tabela II'!C119 -> Da | E86: ='Tabela II'!D119 -> 0 | F86: ='Tabela II'!E119 -> Sudija | G86: ='Tabela II'!G119 -> 1 | H86: ='Tabela II'!H119 -> 01.01.2019 | I86: ='Tabela II'!I119 -> 31.12.2019 | J86: ='Tabela II'!J119 -> 261 | K86: ='Tabela II'!K119 -> 6 | L86: ='Tabela II'!L119 -> 1.059 | M86: ='Tabela II'!M119 -> 0 | N86: ='Tabela II'!N119 -> 0 | ... V86: ='Tabela II'!V119 -> 30 | W86: ='Tabela II'!A119 -> Županijski sud Široki Brijeg
A87: ='Tabela I'!$K$1 -> 2019 | B87: ='Tabela I'!$K$2 -> 0 | C87: ='Tabela II'!D118 -> Franjo Ravlija | D87: ='Tabela II'!C120 -> Ne | E87: ='Tabela II'!D120 -> 0 | F87: ='Tabela II'!E120 -> Sudija | G87: ='Tabela II'!G120 -> 1 | H87: ='Tabela II'!H120 -> 01.01.2019 | I87: ='Tabela II'!I120 -> 31.12.2019 | J87: ='Tabela II'!J120 -> 225 | K87: ='Tabela II'!K120 -> 0 | L87: ='Tabela II'!L120 -> 0.093 | M87: ='Tabela II'!M120 -> 0 | N87: ='Tabela II'!N120 -> 0 | ... V87: ='Tabela II'!V120 | W87: ='Tabela II'!A120 -> Županijski sud Mostar
A88: ='Tabela I'!$K$1 -> 2019 | B88: ='Tabela I'!$K$2 -> 0 | C88: ='Tabela II'!D121 -> 0 | D88: ='Tabela II'!C122 -> 0 | E88: ='Tabela II'!D122 -> 0 | F88: ='Tabela II'!E122 -> 0 | G88: ='Tabela II'!G122 -> 0 | H88: ='Tabela II'!H122 -> 0 | I88: ='Tabela II'!I122 -> 0 | J88: ='Tabela II'!J122 -> 0 | K88: ='Tabela II'!K122 -> 0 | L88: ='Tabela II'!L122 -> 0 | M88: ='Tabela II'!M122 -> 0 | N88: ='Tabela II'!N122 -> 0 | ... V88: ='Tabela II'!V122 -> 0 | W88: ='Tabela II'!A122 -> Sud 1
A89: ='Tabela I'!$K$1 -> 2019 | B89: ='Tabela I'!$K$2 -> 0 | C89: ='Tabela II'!D121 -> 0 | D89: ='Tabela II'!C123 -> 0 | E89: ='Tabela II'!D123 -> 0 | F89: ='Tabela II'!E123 -> 0 | G89: ='Tabela II'!G123 -> 0 | H89: ='Tabela II'!H123 -> 0 | I89: ='Tabela II'!I123 -> 0 | J89: ='Tabela II'!J123 -> 0 | K89: ='Tabela II'!K123 -> 0 | L89: ='Tabela II'!L123 -> 0 | M89: ='Tabela II'!M123 -> 0 | N89: ='Tabela II'!N123 -> 0 | ... V89: ='Tabela II'!V123 -> 0 | W89: ='Tabela II'!A123 -> Sud 2
A90: ='Tabela I'!$K$1 -> 2019 | B90: ='Tabela I'!$K$2 -> 0 | C90: ='Tabela II'!D124 -> 0 | D90: ='Tabela II'!C125 -> 0 | E90: ='Tabela II'!D125 -> 0 | F90: ='Tabela II'!E125 -> 0 | G90: ='Tabela II'!G125 -> 0 | H90: ='Tabela II'!H125 -> 0 | I90: ='Tabela II'!I125 -> 0 | J90: ='Tabela II'!J125 -> 0 | K90: ='Tabela II'!K125 -> 0 | L90: ='Tabela II'!L125 -> 0 | M90: ='Tabela II'!M125 -> 0 | N90: ='Tabela II'!N125 -> 0 | ... V90: ='Tabela II'!V125 -> 0 | W90: ='Tabela II'!A125 -> Sud 1
A91: ='Tabela I'!$K$1 -> 2019 | B91: ='Tabela I'!$K$2 -> 0 | C91: ='Tabela II'!D124 -> 0 | D91: ='Tabela II'!C126 -> 0 | E91: ='Tabela II'!D126 -> 0 | F91: ='Tabela II'!E126 -> 0 | G91: ='Tabela II'!G126 -> 0 | H91: ='Tabela II'!H126 -> 0 | I91: ='Tabela II'!I126 -> 0 | J91: ='Tabela II'!J126 -> 0 | K91: ='Tabela II'!K126 -> 0 | L91: ='Tabela II'!L126 -> 0 | M91: ='Tabela II'!M126 -> 0 | N91: ='Tabela II'!N126 -> 0 | ... V91: ='Tabela II'!V126 -> 0 | W91: ='Tabela II'!A126 -> Sud 2
A92: ='Tabela I'!$K$1 -> 2019 | B92: ='Tabela I'!$K$2 -> 0 | C92: ='Tabela II'!D127 -> 0 | D92: ='Tabela II'!C128 -> 0 | E92: ='Tabela II'!D128 -> 0 | F92: ='Tabela II'!E128 -> 0 | G92: ='Tabela II'!G128 -> 0 | H92: ='Tabela II'!H128 -> 0 | I92: ='Tabela II'!I128 -> 0 | J92: ='Tabela II'!J128 -> 0 | K92: ='Tabela II'!K128 -> 0 | L92: ='Tabela II'!L128 -> 0 | M92: ='Tabela II'!M128 -> 0 | N92: ='Tabela II'!N128 -> 0 | ... V92: ='Tabela II'!V128 -> 0 | W92: ='Tabela II'!A128 -> Sud 1
A93: ='Tabela I'!$K$1 -> 2019 | B93: ='Tabela I'!$K$2 -> 0 | C93: ='Tabela II'!D127 -> 0 | D93: ='Tabela II'!C129 -> 0 | E93: ='Tabela II'!D129 -> 0 | F93: ='Tabela II'!E129 -> 0 | G93: ='Tabela II'!G129 -> 0 | H93: ='Tabela II'!H129 -> 0 | I93: ='Tabela II'!I129 -> 0 | J93: ='Tabela II'!J129 -> 0 | K93: ='Tabela II'!K129 -> 0 | L93: ='Tabela II'!L129 -> 0 | M93: ='Tabela II'!M129 -> 0 | N93: ='Tabela II'!N129 -> 0 | ... V93: ='Tabela II'!V129 -> 0 | W93: ='Tabela II'!A129 -> Sud 2
A94: ='Tabela I'!$K$1 -> 2019 | B94: ='Tabela I'!$K$2 -> 0 | C94: ='Tabela II'!D130 -> 0 | D94: ='Tabela II'!C131 -> 0 | E94: ='Tabela II'!D131 -> 0 | F94: ='Tabela II'!E131 -> 0 | G94: ='Tabela II'!G131 -> 0 | H94: ='Tabela II'!H131 -> 0 | I94: ='Tabela II'!I131 -> 0 | J94: ='Tabela II'!J131 -> 0 | K94: ='Tabela II'!K131 -> 0 | L94: ='Tabela II'!L131 -> 0 | M94: ='Tabela II'!M131 -> 0 | N94: ='Tabela II'!N131 -> 0 | ... V94: ='Tabela II'!V131 -> 0 | W94: ='Tabela II'!A131 -> Sud 1
A95: ='Tabela I'!$K$1 -> 2019 | B95: ='Tabela I'!$K$2 -> 0 | C95: ='Tabela II'!D130 -> 0 | D95: ='Tabela II'!C132 -> 0 | E95: ='Tabela II'!D132 -> 0 | F95: ='Tabela II'!E132 -> 0 | G95: ='Tabela II'!G132 -> 0 | H95: ='Tabela II'!H132 -> 0 | I95: ='Tabela II'!I132 -> 0 | J95: ='Tabela II'!J132 -> 0 | K95: ='Tabela II'!K132 -> 0 | L95: ='Tabela II'!L132 -> 0 | M95: ='Tabela II'!M132 -> 0 | N95: ='Tabela II'!N132 -> 0 | ... V95: ='Tabela II'!V132 -> 0 | W95: ='Tabela II'!A132 -> Sud 2
A96: ='Tabela I'!$K$1 -> 2019 | B96: ='Tabela I'!$K$2 -> 0 | C96: ='Tabela II'!D133 -> 0 | D96: ='Tabela II'!C134 -> 0 | E96: ='Tabela II'!D134 -> 0 | F96: ='Tabela II'!E134 -> 0 | G96: ='Tabela II'!G134 -> 0 | H96: ='Tabela II'!H134 -> 0 | I96: ='Tabela II'!I134 -> 0 | J96: ='Tabela II'!J134 -> 0 | K96: ='Tabela II'!K134 -> 0 | L96: ='Tabela II'!L134 -> 0 | M96: ='Tabela II'!M134 -> 0 | N96: ='Tabela II'!N134 -> 0 | ... V96: ='Tabela II'!V134 -> 0 | W96: ='Tabela II'!A134 -> Sud 1
A97: ='Tabela I'!$K$1 -> 2019 | B97: ='Tabela I'!$K$2 -> 0 | C97: ='Tabela II'!D133 -> 0 | D97: ='Tabela II'!C135 -> 0 | E97: ='Tabela II'!D135 -> 0 | F97: ='Tabela II'!E135 -> 0 | G97: ='Tabela II'!G135 -> 0 | H97: ='Tabela II'!H135 -> 0 | I97: ='Tabela II'!I135 -> 0 | J97: ='Tabela II'!J135 -> 0 | K97: ='Tabela II'!K135 -> 0 | L97: ='Tabela II'!L135 -> 0 | M97: ='Tabela II'!M135 -> 0 | N97: ='Tabela II'!N135 -> 0 | ... V97: ='Tabela II'!V135 -> 0 | W97: ='Tabela II'!A135 -> Sud 2
A98: ='Tabela I'!$K$1 -> 2019 | B98: ='Tabela I'!$K$2 -> 0 | C98: ='Tabela II'!D136 -> 0 | D98: ='Tabela II'!C137 -> 0 | E98: ='Tabela II'!D137 -> 0 | F98: ='Tabela II'!E137 -> 0 | G98: ='Tabela II'!G137 -> 0 | H98: ='Tabela II'!H137 -> 0 | I98: ='Tabela II'!I137 -> 0 | J98: ='Tabela II'!J137 -> 0 | K98: ='Tabela II'!K137 -> 0 | L98: ='Tabela II'!L137 -> 0 | M98: ='Tabela II'!M137 -> 0 | N98: ='Tabela II'!N137 -> 0 | ... V98: ='Tabela II'!V137 -> 0 | W98: ='Tabela II'!A137 -> Sud 1
A99: ='Tabela I'!$K$1 -> 2019 | B99: ='Tabela I'!$K$2 -> 0 | C99: ='Tabela II'!D136 -> 0 | D99: ='Tabela II'!C138 -> 0 | E99: ='Tabela II'!D138 -> 0 | F99: ='Tabela II'!E138 -> 0 | G99: ='Tabela II'!G138 -> 0 | H99: ='Tabela II'!H138 -> 0 | I99: ='Tabela II'!I138 -> 0 | J99: ='Tabela II'!J138 -> 0 | K99: ='Tabela II'!K138 -> 0 | L99: ='Tabela II'!L138 -> 0 | M99: ='Tabela II'!M138 -> 0 | N99: ='Tabela II'!N138 -> 0 | ... V99: ='Tabela II'!V138 -> 0 | W99: ='Tabela II'!A138 -> Sud 2
A100: ='Tabela I'!$K$1 -> 2019 | B100: ='Tabela I'!$K$2 -> 0 | C100: ='Tabela II'!D139 -> 0 | D100: ='Tabela II'!C140 -> 0 | E100: ='Tabela II'!D140 -> 0 | F100: ='Tabela II'!E140 -> 0 | G100: ='Tabela II'!G140 -> 0 | H100: ='Tabela II'!H140 -> 0 | I100: ='Tabela II'!I140 -> 0 | J100: ='Tabela II'!J140 -> 0 | K100: ='Tabela II'!K140 -> 0 | L100: ='Tabela II'!L140 -> 0 | M100: ='Tabela II'!M140 -> 0 | N100: ='Tabela II'!N140 -> 0 | ... V100: ='Tabela II'!V140 -> 0 | W100: ='Tabela II'!A140 -> Sud 1
A101: ='Tabela I'!$K$1 -> 2019 | B101: ='Tabela I'!$K$2 -> 0 | C101: ='Tabela II'!D139 -> 0 | D101: ='Tabela II'!C141 -> 0 | E101: ='Tabela II'!D141 -> 0 | F101: ='Tabela II'!E141 -> 0 | G101: ='Tabela II'!G141 -> 0 | H101: ='Tabela II'!H141 -> 0 | I101: ='Tabela II'!I141 -> 0 | J101: ='Tabela II'!J141 -> 0 | K101: ='Tabela II'!K141 -> 0 | L101: ='Tabela II'!L141 -> 0 | M101: ='Tabela II'!M141 -> 0 | N101: ='Tabela II'!N141 -> 0 | ... V101: ='Tabela II'!V141 -> 0 | W101: ='Tabela II'!A141 -> Sud 2
A102: ='Tabela I'!$K$1 -> 2019 | B102: ='Tabela I'!$K$2 -> 0 | C102: ='Tabela II'!D142 -> 0 | D102: ='Tabela II'!C143 -> 0 | E102: ='Tabela II'!D143 -> 0 | F102: ='Tabela II'!E143 -> 0 | G102: ='Tabela II'!G143 -> 0 | H102: ='Tabela II'!H143 -> 0 | I102: ='Tabela II'!I143 -> 0 | J102: ='Tabela II'!J143 -> 0 | K102: ='Tabela II'!K143 -> 0 | L102: ='Tabela II'!L143 -> 0 | M102: ='Tabela II'!M143 -> 0 | N102: ='Tabela II'!N143 -> 0 | ... V102: ='Tabela II'!V143 -> 0 | W102: ='Tabela II'!A143 -> Sud 1
A103: ='Tabela I'!$K$1 -> 2019 | B103: ='Tabela I'!$K$2 -> 0 | C103: ='Tabela II'!D142 -> 0 | D103: ='Tabela II'!C144 -> 0 | E103: ='Tabela II'!D144 -> 0 | F103: ='Tabela II'!E144 -> 0 | G103: ='Tabela II'!G144 -> 0 | H103: ='Tabela II'!H144 -> 0 | I103: ='Tabela II'!I144 -> 0 | J103: ='Tabela II'!J144 -> 0 | K103: ='Tabela II'!K144 -> 0 | L103: ='Tabela II'!L144 -> 0 | M103: ='Tabela II'!M144 -> 0 | N103: ='Tabela II'!N144 -> 0 | ... V103: ='Tabela II'!V144 -> 0 | W103: ='Tabela II'!A144 -> Sud 2
A104: ='Tabela I'!$K$1 -> 2019 | B104: ='Tabela I'!$K$2 -> 0 | C104: ='Tabela II'!D145 -> 0 | D104: ='Tabela II'!C146 -> 0 | E104: ='Tabela II'!D146 -> 0 | F104: ='Tabela II'!E146 -> 0 | G104: ='Tabela II'!G146 -> 0 | H104: ='Tabela II'!H146 -> 0 | I104: ='Tabela II'!I146 -> 0 | J104: ='Tabela II'!J146 -> 0 | K104: ='Tabela II'!K146 -> 0 | L104: ='Tabela II'!L146 -> 0 | M104: ='Tabela II'!M146 -> 0 | N104: ='Tabela II'!N146 -> 0 | ... V104: ='Tabela II'!V146 -> 0 | W104: ='Tabela II'!A146 -> Sud 1
A105: ='Tabela I'!$K$1 -> 2019 | B105: ='Tabela I'!$K$2 -> 0 | C105: ='Tabela II'!D145 -> 0 | D105: ='Tabela II'!C147 -> 0 | E105: ='Tabela II'!D147 -> 0 | F105: ='Tabela II'!E147 -> 0 | G105: ='Tabela II'!G147 -> 0 | H105: ='Tabela II'!H147 -> 0 | I105: ='Tabela II'!I147 -> 0 | J105: ='Tabela II'!J147 -> 0 | K105: ='Tabela II'!K147 -> 0 | L105: ='Tabela II'!L147 -> 0 | M105: ='Tabela II'!M147 -> 0 | N105: ='Tabela II'!N147 -> 0 | ... V105: ='Tabela II'!V147 -> 0 | W105: ='Tabela II'!A147 -> Sud 2
A106: ='Tabela I'!$K$1 -> 2019 | B106: ='Tabela I'!$K$2 -> 0 | C106: ='Tabela II'!D148 -> 0 | D106: ='Tabela II'!C149 -> 0 | E106: ='Tabela II'!D149 -> 0 | F106: ='Tabela II'!E149 -> 0 | G106: ='Tabela II'!G149 -> 0 | H106: ='Tabela II'!H149 -> 0 | I106: ='Tabela II'!I149 -> 0 | J106: ='Tabela II'!J149 -> 0 | K106: ='Tabela II'!K149 -> 0 | L106: ='Tabela II'!L149 -> 0 | M106: ='Tabela II'!M149 -> 0 | N106: ='Tabela II'!N149 -> 0 | ... V106: ='Tabela II'!V149 -> 0 | W106: ='Tabela II'!A149 -> Sud 1
A107: ='Tabela I'!$K$1 -> 2019 | B107: ='Tabela I'!$K$2 -> 0 | C107: ='Tabela II'!D148 -> 0 | D107: ='Tabela II'!C150 -> 0 | E107: ='Tabela II'!D150 -> 0 | F107: ='Tabela II'!E150 -> 0 | G107: ='Tabela II'!G150 -> 0 | H107: ='Tabela II'!H150 -> 0 | I107: ='Tabela II'!I150 -> 0 | J107: ='Tabela II'!J150 -> 0 | K107: ='Tabela II'!K150 -> 0 | L107: ='Tabela II'!L150 -> 0 | M107: ='Tabela II'!M150 -> 0 | N107: ='Tabela II'!N150 -> 0 | ... V107: ='Tabela II'!V150 -> 0 | W107: ='Tabela II'!A150 -> Sud 2
A108: ='Tabela I'!$K$1 -> 2019 | B108: ='Tabela I'!$K$2 -> 0 | C108: ='Tabela II'!D151 -> 0 | D108: ='Tabela II'!C152 -> 0 | E108: ='Tabela II'!D152 -> 0 | F108: ='Tabela II'!E152 -> 0 | G108: ='Tabela II'!G152 -> 0 | H108: ='Tabela II'!H152 -> 0 | I108: ='Tabela II'!I152 -> 0 | J108: ='Tabela II'!J152 -> 0 | K108: ='Tabela II'!K152 -> 0 | L108: ='Tabela II'!L152 -> 0 | M108: ='Tabela II'!M152 -> 0 | N108: ='Tabela II'!N152 -> 0 | ... V108: ='Tabela II'!V152 -> 0 | W108: ='Tabela II'!A152 -> Sud 1
A109: ='Tabela I'!$K$1 -> 2019 | B109: ='Tabela I'!$K$2 -> 0 | C109: ='Tabela II'!D151 -> 0 | D109: ='Tabela II'!C153 -> 0 | E109: ='Tabela II'!D153 -> 0 | F109: ='Tabela II'!E153 -> 0 | G109: ='Tabela II'!G153 -> 0 | H109: ='Tabela II'!H153 -> 0 | I109: ='Tabela II'!I153 -> 0 | J109: ='Tabela II'!J153 -> 0 | K109: ='Tabela II'!K153 -> 0 | L109: ='Tabela II'!L153 -> 0 | M109: ='Tabela II'!M153 -> 0 | N109: ='Tabela II'!N153 -> 0 | ... V109: ='Tabela II'!V153 -> 0 | W109: ='Tabela II'!A153 -> Sud 2
A110: ='Tabela I'!$K$1 -> 2019 | B110: ='Tabela I'!$K$2 -> 0 | C110: ='Tabela II'!D154 -> 0 | D110: ='Tabela II'!C155 -> 0 | E110: ='Tabela II'!D155 -> 0 | F110: ='Tabela II'!E155 -> 0 | G110: ='Tabela II'!G155 -> 0 | H110: ='Tabela II'!H155 -> 0 | I110: ='Tabela II'!I155 -> 0 | J110: ='Tabela II'!J155 -> 0 | K110: ='Tabela II'!K155 -> 0 | L110: ='Tabela II'!L155 -> 0 | M110: ='Tabela II'!M155 -> 0 | N110: ='Tabela II'!N155 -> 0 | ... V110: ='Tabela II'!V155 -> 0 | W110: ='Tabela II'!A155 -> Sud 1
A111: ='Tabela I'!$K$1 -> 2019 | B111: ='Tabela I'!$K$2 -> 0 | C111: ='Tabela II'!D154 -> 0 | D111: ='Tabela II'!C156 -> 0 | E111: ='Tabela II'!D156 -> 0 | F111: ='Tabela II'!E156 -> 0 | G111: ='Tabela II'!G156 -> 0 | H111: ='Tabela II'!H156 -> 0 | I111: ='Tabela II'!I156 -> 0 | J111: ='Tabela II'!J156 -> 0 | K111: ='Tabela II'!K156 -> 0 | L111: ='Tabela II'!L156 -> 0 | M111: ='Tabela II'!M156 -> 0 | N111: ='Tabela II'!N156 -> 0 | ... V111: ='Tabela II'!V156 -> 0 | W111: ='Tabela II'!A156 -> Sud 2
A112: ='Tabela I'!$K$1 -> 2019 | B112: ='Tabela I'!$K$2 -> 0 | C112: ='Tabela II'!D157 -> 0 | D112: ='Tabela II'!C158 -> 0 | E112: ='Tabela II'!D158 -> 0 | F112: ='Tabela II'!E158 -> 0 | G112: ='Tabela II'!G158 -> 0 | H112: ='Tabela II'!H158 -> 0 | I112: ='Tabela II'!I158 -> 0 | J112: ='Tabela II'!J158 -> 0 | K112: ='Tabela II'!K158 -> 0 | L112: ='Tabela II'!L158 -> 0 | M112: ='Tabela II'!M158 -> 0 | N112: ='Tabela II'!N158 -> 0 | ... V112: ='Tabela II'!V158 -> 0 | W112: ='Tabela II'!A158 -> Sud 1
A113: ='Tabela I'!$K$1 -> 2019 | B113: ='Tabela I'!$K$2 -> 0 | C113: ='Tabela II'!D157 -> 0 | D113: ='Tabela II'!C159 -> 0 | E113: ='Tabela II'!D159 -> 0 | F113: ='Tabela II'!E159 -> 0 | G113: ='Tabela II'!G159 -> 0 | H113: ='Tabela II'!H159 -> 0 | I113: ='Tabela II'!I159 -> 0 | J113: ='Tabela II'!J159 -> 0 | K113: ='Tabela II'!K159 -> 0 | L113: ='Tabela II'!L159 -> 0 | M113: ='Tabela II'!M159 -> 0 | N113: ='Tabela II'!N159 -> 0 | ... V113: ='Tabela II'!V159 -> 0 | W113: ='Tabela II'!A159 -> Sud 2
A114: ='Tabela I'!$K$1 -> 2019 | B114: ='Tabela I'!$K$2 -> 0 | C114: ='Tabela II'!D160 -> 0 | D114: ='Tabela II'!C161 -> 0 | E114: ='Tabela II'!D161 -> 0 | F114: ='Tabela II'!E161 -> 0 | G114: ='Tabela II'!G161 -> 0 | H114: ='Tabela II'!H161 -> 0 | I114: ='Tabela II'!I161 -> 0 | J114: ='Tabela II'!J161 -> 0 | K114: ='Tabela II'!K161 -> 0 | L114: ='Tabela II'!L161 -> 0 | M114: ='Tabela II'!M161 -> 0 | N114: ='Tabela II'!N161 -> 0 | ... V114: ='Tabela II'!V161 -> 0 | W114: ='Tabela II'!A161 -> Sud 1
A115: ='Tabela I'!$K$1 -> 2019 | B115: ='Tabela I'!$K$2 -> 0 | C115: ='Tabela II'!D160 -> 0 | D115: ='Tabela II'!C162 -> 0 | E115: ='Tabela II'!D162 -> 0 | F115: ='Tabela II'!E162 -> 0 | G115: ='Tabela II'!G162 -> 0 | H115: ='Tabela II'!H162 -> 0 | I115: ='Tabela II'!I162 -> 0 | J115: ='Tabela II'!J162 -> 0 | K115: ='Tabela II'!K162 -> 0 | L115: ='Tabela II'!L162 -> 0 | M115: ='Tabela II'!M162 -> 0 | N115: ='Tabela II'!N162 -> 0 | ... V115: ='Tabela II'!V162 -> 0 | W115: ='Tabela II'!A162 -> Sud 2
A116: ='Tabela I'!$K$1 -> 2019 | B116: ='Tabela I'!$K$2 -> 0 | C116: ='Tabela II'!D163 -> 0 | D116: ='Tabela II'!C164 -> 0 | E116: ='Tabela II'!D164 -> 0 | F116: ='Tabela II'!E164 -> 0 | G116: ='Tabela II'!G164 -> 0 | H116: ='Tabela II'!H164 -> 0 | I116: ='Tabela II'!I164 -> 0 | J116: ='Tabela II'!J164 -> 0 | K116: ='Tabela II'!K164 -> 0 | L116: ='Tabela II'!L164 -> 0 | M116: ='Tabela II'!M164 -> 0 | N116: ='Tabela II'!N164 -> 0 | ... V116: ='Tabela II'!V164 -> 0 | W116: ='Tabela II'!A164 -> Sud 1
A117: ='Tabela I'!$K$1 -> 2019 | B117: ='Tabela I'!$K$2 -> 0 | C117: ='Tabela II'!D163 -> 0 | D117: ='Tabela II'!C165 -> 0 | E117: ='Tabela II'!D165 -> 0 | F117: ='Tabela II'!E165 -> 0 | G117: ='Tabela II'!G165 -> 0 | H117: ='Tabela II'!H165 -> 0 | I117: ='Tabela II'!I165 -> 0 | J117: ='Tabela II'!J165 -> 0 | K117: ='Tabela II'!K165 -> 0 | L117: ='Tabela II'!L165 -> 0 | M117: ='Tabela II'!M165 -> 0 | N117: ='Tabela II'!N165 -> 0 | ... V117: ='Tabela II'!V165 -> 0 | W117: ='Tabela II'!A165 -> Sud 2
A118: ='Tabela I'!$K$1 -> 2019 | B118: ='Tabela I'!$K$2 -> 0 | C118: ='Tabela II'!D166 -> 0 | D118: ='Tabela II'!C167 -> 0 | E118: ='Tabela II'!D167 -> 0 | F118: ='Tabela II'!E167 -> 0 | G118: ='Tabela II'!G167 -> 0 | H118: ='Tabela II'!H167 -> 0 | I118: ='Tabela II'!I167 -> 0 | J118: ='Tabela II'!J167 -> 0 | K118: ='Tabela II'!K167 -> 0 | L118: ='Tabela II'!L167 -> 0 | M118: ='Tabela II'!M167 -> 0 | N118: ='Tabela II'!N167 -> 0 | ... V118: ='Tabela II'!V167 -> 0 | W118: ='Tabela II'!A167 -> Sud 1
A119: ='Tabela I'!$K$1 -> 2019 | B119: ='Tabela I'!$K$2 -> 0 | C119: ='Tabela II'!D166 -> 0 | D119: ='Tabela II'!C168 -> 0 | E119: ='Tabela II'!D168 -> 0 | F119: ='Tabela II'!E168 -> 0 | G119: ='Tabela II'!G168 -> 0 | H119: ='Tabela II'!H168 -> 0 | I119: ='Tabela II'!I168 -> 0 | J119: ='Tabela II'!J168 -> 0 | K119: ='Tabela II'!K168 -> 0 | L119: ='Tabela II'!L168 -> 0 | M119: ='Tabela II'!M168 -> 0 | N119: ='Tabela II'!N168 -> 0 | ... V119: ='Tabela II'!V168 -> 0 | W119: ='Tabela II'!A168 -> Sud 2
