Workbook

Sheet Uputstvo
B2: KANTONALNI/OKRUŽNI SUDOVI
B3: Kompletni materijali u vezi procesa izvještavanja u sudovima dostupni su na linku:
B4: https://www.pravosudje.ba/vstv/faces/vijesti.jsp?id=71178
B5: Tabele za popunjavanje podataka o radu sudova nije moguće mijenjati, niti dodavati nove redove ili kolone.
B6: Tabele se isključivo popunjavaju predviđenim redoslijedom, po redoslijedu postavljenih tabela.
B9: Podatke je potrebno upisivati samo u polja osjenčena žutom bojom.
B10: U ostala polja nije moguće upisivati vrijednosti, u ovim poljima vrijednosti će biti izračunate automatski.
B11: Molimo Vas da u Tabeli I i naslovu e-maila (subject) kojim ćete poslati popunjene tabele navedete naziv Vašeg suda.
B14: Popunjene tabele poslati na e-mail adresu: vstvstatistika@pravosudje.ba do 1.2.2021. godine.
B16: Za sva eventualna pitanja vezano za popunjavanje tabela molimo Vas da kontaktirate
B17: Odjel za pravosudnu analitiku i izvještavanje, na telefon: 033 704 616 ili 033 707 584.
B19: Tabele za izvještavanje o radu suda sadrže detaljnije napomene koje je potrebno imati u vidu prilikom popunjavanja tabela.
... B31: TABELA IV – ODLUKE USTAVNOG SUDA BIH U tabeli IV potrebno je prikazati samo podatke o odlukama Ustavnog suda BiH u kojima je izrekom obuhvaćena odluka Vašeg suda, odnosno postupak koji je u toku pred Vašim sudom (kada je riječ o apelacijama sa navodima da postoji kršenje prava na suđenje u razumnom roku). Posebna napomena: Traženi podaci se odnose na odluke iz apelacione nadležnosti Ustavnog suda BiH. Tabela IVa – Odluke kojima se ne usvaja apelacija: potrebno je prikazati podatke o odlukama Ustavnog suda BiH kojima je utvrđeno da nije osnovana apelacija izjavljena u odnosu na odluke Vašeg suda. Molimo da unesete podatake u kolone I-III prema njihovim nazivima. Podaci se automatski preračunavaju u koloni IV. Tabela IVb – Odluke kojima apelacija usvaja: “Pravni osnov” - Odluke kojima se usvaja apelacija potrebno je razvrstati prema izrekama odluka Ustavnog suda BiH kojima su utvrđene povrede Ustava BiH, Evropske konvencije o ljudskim pravima (u tabeli: EK) i njenih protokola (u tabeli:P). Svi pomenuti dokumenti i klasifikacija povreda su dostupni na zvaničnoj web stranici Ustavnog suda BiH (http://www.ccbh.ba/bos/p_stream.php?kat=83). Kolone I - IV “Broj odluka kojim se usvaja apelacija” – Potrebno je razvrstati broj odluka Ustavnog suda kojima se izjavljena apelacija usvaja u odnosu na odluku Vašeg suda, prema odgovarajućim kategorijama, u zavisnosti od izreke odluke Ustavnog suda BiH. Preostale odluke Ustavnog suda, koje ne spadaju u navedene tri kategorije, potrebno je upisati u rubriku “Broj ostalih odluka kojima se usvajaju apelacije” (npr. odluka kojom se usvaja apelacija i konstatuje povreda prava na pravično suđenje, zbog prekoračenja razumnog roka za donošenje odluke, nakon što je sudski postupak završen, a kojom se ne nalaže sudu da okonča predmet bez odlaganja, odnosno ne ukida ili ne preinačuje odluka suda). Ukoliko su izrekom odluke Ustavnog suda BiH ustanovljene dvije ili više povreda ustavom zagarantovanih prava i sloboda, molimo Vas da svaku od povreda evidentirate posebno u tabeli IVb. Molimo Vas da i djelimično usvojene apelacije prikažete u odgovarajućim kolonama tabele IVb. Tabela IVc – Predmeti u kojima se nalaže sudu da okonča predmet bez odlaganja zbog kršenja prava na donošenje odluke u razumnom roku U tabeli IVc potrebno je prikazati predmete u kojima je Ustavni sud BiH naložio sudu da okonča predmet bez odlaganja zbog kršenja prava na donošenje odluke u razumnom roku. Molimo Vas da u ovu tabelu unesete samo podatke o predmetima u kojima je Vašem sudu naloženo da okonča predmet bez odlaganja. U skladu sa obrazloženjem odluke Ustavnog suda BiH, potrebno je da naznačite u kojoj fazi postupka je Vaš sud rješavao predmet za koji je Ustavni sud utvrdio da je Vaš sud u najvećoj mjeri doprinio odugovlačenju postupka. Tabela IVd - Predmeti u kojima je utvrđeno kršenje prava na donošenje odluke u razumnom roku Takođe, potrebno je da popunite i tabelu IVd koja se odnosi na ukupan broj predmeta, u kojima je usvojena apelacija u odnosu na Vaš sud i određena naknada nematerijalne štete zbog kršenja prava na donošenje odluke u razumnom roku, kao i ukupan iznos naknade koji je utvrdio Ustavni sud BiH.

Sheet Tabela I
A1: Kantonalni/Okružni sud: | C1: ŽUPANIJSKI SUD ŠIROKI BRIJEG | K1: 2020
A2: Izvještajni period: | B2: 1.1.2020.-31.12.2020.
A4: Ostvarena kolektivna norma za sud u 2020. godini | D4: =+'Tabela II'!P84 -> 1.0366765
A5: Kvalitet sudskih odluka: | B5: =+J30 -> 0.89434636
A7: Tabela Ia - Kvalitet sudskih odluka po vrstama predmeta
A8: Vrsta predmeta | B8: Broj donesenih odluka na koje se može izjaviti pravni lijek - pogledati NAPOMENU 2 | C8: Ukupan broj ožalbenih odluka | D8: Broj odbačenih pravnih lijekova | E8: Broj potvrđenih odluka | F8: Broj preinačenih odluka | G8: Broj preinačenih odluka donijetih na raspravi ili na pretresu pred višim sudom | H8: Broj ukinutih odluka - pogledati NAPOMENU 2 | I8: Broj djelimično ukinutih odluka | J8: Kvalitet sudskih odluka | K8: Broj presuda koje su ukinute i predmet je vraćen na ponovno suđenje
E9: Odbijen pravni lijek
B10: I | C10: II=IV+V+VI+ VII+VIII) | D10: III | E10: IV | F10: V | G10: VI | H10: VII | I10: VIII | J10: IX1 | K10: X
A11: Građanski referat
A12: Gž | B12: 102 | C12: =E12+F12+G12+H12+I12 -> 18 | D12: 56 | E12: 16 | F12: 2 | G12: 0 | H12: 0 | I12: 0 | J12: =IF(C12=0,"",IF(B12=0,1,0.83*((C12-H12-I12/2)/C12)+0.17*((B12-G12-H12-I12/2)/B12))) -> 1
A13: Pž | B13: 10 | C13: =E13+F13+G13+H13+I13 -> 10 | D13: 10 | E13: 10 | F13: 0 | G13: 0 | H13: 0 | I13: 0 | J13: =IF(C13=0,"",IF(B13=0,1,0.83*((C13-H13-I13/2)/C13)+0.17*((B13-G13-H13-I13/2)/B13))) -> 1
A14: Rsž | B14: 12 | C14: =E14+F14+G14+H14+I14 -> 6 | D14: 11 | E14: 5 | F14: 0 | G14: 0 | H14: 1 | I14: 0 | J14: =IF(C14=0,"",IF(B14=0,1,0.83*((C14-H14-I14/2)/C14)+0.17*((B14-G14-H14-I14/2)/B14))) -> 0.8475
A15: Ostalo* | B15: 11 | C15: =E15+F15+G15+H15+I15 -> 1 | D15: 1 | E15: 1 | H15: 0 | J15: =IF(C15=0,"",IF(B15=0,1,0.83*((C15-H15-I15/2)/C15)+0.17*((B15-G15-H15-I15/2)/B15))) -> 1
A16: Krivični referat
A17: K | B17: 2 | C17: =E17+F17+G17+H17+I17 -> 3 | D17: 0 | E17: 2 | F17: 0 | G17: 0 | H17: 1 | I17: 0 | J17: =IF(C17=0,"",IF(B17=0,1,0.83*((C17-H17-I17/2)/C17)+0.17*((B17-G17-H17-I17/2)/B17))) -> 0.63833333
A18: Ratni zločini | C18: =E18+F18+G18+H18+I18 -> 0 | D18: 0 | E18: 0 | F18: 0 | G18: 0 | H18: 0 | I18: 0 | J18: =IF(C18=0,"",IF(B18=0,1,0.83*((C18-H18-I18/2)/C18)+0.17*((B18-G18-H18-I18/2)/B18)))
A19: Kž | B19: 4 | C19: =E19+F19+G19+H19+I19 -> 0 | D19: 0 | E19: 0 | F19: 0 | G19: 0 | H19: 0 | I19: 0 | J19: =IF(C19=0,"",IF(B19=0,1,0.83*((C19-H19-I19/2)/C19)+0.17*((B19-G19-H19-I19/2)/B19)))
A20: Kžk | C20: =E20+F20+G20+H20+I20 -> 0 | D20: 0 | E20: 0 | F20: 0 | G20: 0 | H20: 0 | I20: 0 | J20: =IF(C20=0,"",IF(B20=0,1,0.83*((C20-H20-I20/2)/C20)+0.17*((B20-G20-H20-I20/2)/B20)))
A21: Kv | B21: 4 | C21: =E21+F21+G21+H21+I21 -> 2 | D21: 0 | E21: 2 | F21: 0 | G21: 0 | H21: 0 | I21: 0 | J21: =IF(C21=0,"",IF(B21=0,1,0.83*((C21-H21-I21/2)/C21)+0.17*((B21-G21-H21-I21/2)/B21))) -> 1
A22: Kpp | C22: =E22+F22+G22+H22+I22 -> 0 | D22: 0 | E22: 0 | F22: 0 | G22: 0 | H22: 0 | I22: 0 | J22: =IF(C22=0,"",IF(B22=0,1,0.83*((C22-H22-I22/2)/C22)+0.17*((B22-G22-H22-I22/2)/B22)))
A23: Kps | C23: =E23+F23+G23+H23+I23 -> 0 | D23: 0 | E23: 0 | F23: 0 | G23: 0 | H23: 0 | I23: 0 | J23: =IF(C23=0,"",IF(B23=0,1,0.83*((C23-H23-I23/2)/C23)+0.17*((B23-G23-H23-I23/2)/B23)))
A24: Kmž | C24: =E24+F24+G24+H24+I24 -> 0 | D24: 0 | E24: 0 | F24: 0 | G24: 0 | H24: 0 | I24: 0 | J24: =IF(C24=0,"",IF(B24=0,1,0.83*((C24-H24-I24/2)/C24)+0.17*((B24-G24-H24-I24/2)/B24)))
A25: Ostalo* | C25: =E25+F25+G25+H25+I25 -> 0 | D25: 0 | E25: 0 | F25: 0 | G25: 0 | H25: 0 | I25: 0 | J25: =IF(C25=0,"",IF(B25=0,1,0.83*((C25-H25-I25/2)/C25)+0.17*((B25-G25-H25-I25/2)/B25)))
A26: Upravni referat
A27: U | B27: 11 | C27: =E27+F27+G27+H27+I27 -> 34 | D27: 3 | E27: 18 | F27: 9 | G27: 0 | H27: 7 | I27: 0 | J27: =IF(C27=0,"",IF(B27=0,1,0.83*((C27-H27-I27/2)/C27)+0.17*((B27-G27-H27-I27/2)/B27))) -> 0.72093583
A28: Ostalo | B28: 169 | C28: =E28+F28+G28+H28+I28 -> 0 | D28: 0 | E28: 0 | F28: 0 | H28: 0 | J28: =IF(C28=0,"",IF(B28=0,1,0.83*((C28-H28-I28/2)/C28)+0.17*((B28-G28-H28-I28/2)/B28)))
A30: Ukupno | B30: =SUM(B12:B15)+SUM(B17:B25)+SUM(B27:B28) -> 325 | C30: =SUM(C12:C15)+SUM(C17:C25)+SUM(C27:C28) -> 74 | D30: =SUM(D12:D15)+SUM(D17:D25)+SUM(D27:D28) -> 81 | E30: =SUM(E12:E15)+SUM(E17:E25)+SUM(E27:E28) -> 54 | F30: =SUM(F12:F15)+SUM(F17:F25)+SUM(F27:F28) -> 11 | G30: =SUM(G12:G15)+SUM(G17:G25)+SUM(G27:G28) -> 0 | H30: =SUM(H12:H15)+SUM(H17:H25)+SUM(H27:H28) -> 9 | I30: =SUM(I12:I15)+SUM(I17:I25)+SUM(I27:I28) -> 0 | J30: =IF(C30=0,"",IF(B30=0,1,0.83*((C30-H30-I30/2)/C30)+0.17*((B30-G30-H30-I30/2)/B30))) -> 0.89434636 | K30: =SUM(K12:K15)+SUM(K17:K25)+SUM(K27:K28) -> 0
A32: Ukupno 2019* | B32: 448 | C32: Obrazloženje: Temeljni uzrok razlike u broju donesenih odluka na koje se može izjaviti pravni lijek u odnosu na 2019.godinu je posljedica obustave rada u periodu od kraja ožujka i travnja mjeseca koja se odrazila i na cijeli period do kraja tekuće 2020. godine, zbog epidemiološke situacije vezano za zarazu virusom Covid 19, te uzimajući u obzir i činjenicu da je jedan sudac još uvijek na bolovanju zbog posljedica zaraze virusom Covid 19.
A33: * Unesite podatak o Ukupnom broju donesenih odluka na koje se može izjaviti pravni lijek iz izvještaja koji ste dostavili za 2019. godinu. Ukoliko je razlika u Ukupnom broju donesenih odluka na koje se može izjaviti pravni lijek u periodu 2019/2020 veća od 20% aktiviraće se kontrolnik i potrebno je da obrazložite uzroke za nastanak te razlike.
A40: 1 Kvalitet rada sudskih odluka se automatski obračunava. Slijedi tekst za pojašnjenje formule za obračun kvaliteta sudskih odluka: (83% * (Ukupan broj ožalbenih odluka - Broj ukinutih odluka - Broj djelimično ukinutih odluka/2) / Ukupan broj ožalbenih odluka) + (17% * (Broj donesenih odluka na koje se može izjaviti pravni lijek - Broj preinačenih odluka donijetih nakon održane glavne raspave ili pretresa pred drugostepenim sudom - Broj ukinutih odluka - Broj djelimično ukinutih odluka/2) / Broj donesenih odluka na koje se može izjaviti pravni lijek).
A42: NAPOMENA 1: U Tabelu Ia se unose podaci o kvalitetu odluka za sve nosioce pravosudne funkcije koji su u toku godine obavljali funkciju u sudu, bez obzira na period obavljanja funkcije u sudu. U Tabelu se unose podaci za sve nosioce pravosudne funkcije: koji su obavljali funkciju u sudu cijelu godinu, koji su imenovani u sud u toku godine, koji su prešli u drugi sud u toku godine, kao i podaci za nosioce pravosudne funkcije koji su prestali obavljati funkciju u sudu zbog odlaska u penziju u 2020. godini ili iz drugih razloga (ostavke, razrješenja), a u 2020. godini su donosili odluke na koje se može izjaviti pravni lijek, i/ili sud je nakon prestanka obavljanja funkcije zaprimio žalbene odluke od strane višeg suda po izjavljenom pravnom lijeku na odluke bivšeg nosioca pravosudne funckije. Na taj način se pravilno obračunava kolektivni kvalitet odluka u sudu.
A49: NAPOMENA 2: U broj donesenih odluka na koje se može izjaviti pravni lijek (Kolona I) i broj ukinutih odluka (Kolona VII) prilikom računanja procenta ukinutih odluka neće se uzimati u obračun odluke koje su ukinute u sadržajno nebitnom dijelu odnosno ako je odluka ukinuta ili se smatra ukinutom zbog toga što je instancioni sud nakon donošenja ispitivane odluke izmijenio sudsku praksu. Odlukama ukinutim u sadržajno nebitnom dijelu smatraju se odluke ukinute u pogledu odluke o troškovima i zakonskoj kamati. Sud više instance će u popratnom aktu naznačiti ako je odluka ukinuta ili preinačena zbog toga što je instancioni sud izmijenio sudsku praksu nakon donošenja ispitivane odluke. NAPOMENA 3: Preinačena odluka donesena na raspravi ili na pretresu pred višim sudom (Kolona VI) računa se kao jedna ukinuta odluka, ako je zakonom propisano da sud više instance ne smije povodom žalbe ukinuti prvostepenu odluku i vratiti predmet nižestepenom sudu na ponovno odlučivanje, izuzev ako je rasprava ili pretres pred višim sudom održana zbog novih činjenica i novih dokaza iznesenih u žalbi.
A50: Tabela Ib - Kvalitet sudskih odluka po odjeljenjima - (Ukoliko sud nema formirana odjeljenja nije potrebno popunjavati Tabelu Ib - zanemariti kontrolnike)*
A51: Kontrolnik | C51: =SUM(C55:C69) -> 0 | D51: =SUM(D55:D69) -> 0 | E51: =SUM(E55:E69) -> 0 | F51: =SUM(F55:F69) -> 0 | G51: =SUM(G55:G69) -> 0 | H51: =SUM(H55:H69) -> 0 | I51: =SUM(I55:I69) -> 0 | J51: =SUM(J55:J69) -> 0 | K51: =IF(D51=0,"",IF(C51=0,1,0.83*((D51-I51-J51/2)/D51)+0.17*((C51-H51-I51-J51/2)/C51))) | L51: =SUM(L55:L69) -> 0
A53: Naziv odjeljenja ** | C53: Broj donesenih odluka na koje se može izjaviti pravni lijek | D53: Ukupan broj ožalbenih odluka | E53: Broj odbačenih pravnih lijekova | F53: Broj potvrđenih odluka | G53: Broj preinačenih odluka | H53: Broj preinačenih odluka donijetih na raspravi ili na pretresu pred višim sudom | I53: Broj ukinutih odluka | J53: Broj djelimično ukinutih odluka | K53: Kvalitet sudskih odluka | L53: Broj presuda koje su ukinute i predmet je vraćen na ponovno suđenje | M53: Broj bodova koji se dodjeljuje predsjedniku sudskog odjeljenja
C54: I | D54: II=IV+V+VI+ VII+VIII) | E54: III | F54: IV | G54: V | H54: VI | I54: VII | J54: VIII | K54: IX1 | L54: X | M54: XI
D55: =F55+G55+H55+I55+J55 -> 0 | K55: =IF(D55=0,"",IF(C55=0,1,0.83*((D55-I55-J55/2)/D55)+0.17*((C55-H55-I55-J55/2)/C55))) | M55: =IF(A55="","",IF(B55="Ocijenjen",IF(K55>0.95,5,IF(K55>0.9,4,IF(K55>0.8,3,IF(K55>0.7,2,IF(K55>0.6,1,0))))),"")) | O55: Ocijenjen
D56: =F56+G56+H56+I56+J56 -> 0 | K56: =IF(D56=0,"",IF(C56=0,1,0.83*((D56-I56-J56/2)/D56)+0.17*((C56-H56-I56-J56/2)/C56))) | M56: =IF(A56="","",IF(B56="Ocijenjen",IF(K56>0.95,5,IF(K56>0.9,4,IF(K56>0.8,3,IF(K56>0.7,2,IF(K56>0.6,1,0))))),"")) | O56: Nije ocijenjen
D57: =F57+G57+H57+I57+J57 -> 0 | K57: =IF(D57=0,"",IF(C57=0,1,0.83*((D57-I57-J57/2)/D57)+0.17*((C57-H57-I57-J57/2)/C57))) | M57: =IF(A57="","",IF(B57="Ocijenjen",IF(K57>0.95,5,IF(K57>0.9,4,IF(K57>0.8,3,IF(K57>0.7,2,IF(K57>0.6,1,0))))),""))
D58: =F58+G58+H58+I58+J58 -> 0 | K58: =IF(D58=0,"",IF(C58=0,1,0.83*((D58-I58-J58/2)/D58)+0.17*((C58-H58-I58-J58/2)/C58))) | M58: =IF(A58="","",IF(B58="Ocijenjen",IF(K58>0.95,5,IF(K58>0.9,4,IF(K58>0.8,3,IF(K58>0.7,2,IF(K58>0.6,1,0))))),""))
...

Sheet tbl1_kvalitet_rada
A1: for_key | B1: godina | C1: lista_referata | D1: DonesOdluke | E1: OdbPrLijek | F1: PotvOdluke | G1: PreinOdluke | H1: PreinOdlukeNakonRasp | I1: UkinOdluke | J1: DjelimUkin | K1: UkinVracPonSud
A2: =+'Tabela I'!$K$2 -> 0 | B2: =+'Tabela I'!$K$1 -> 2020 | C2: 34 | D2: ='Tabela I'!B12 -> 102 | E2: ='Tabela I'!D12 -> 56 | F2: ='Tabela I'!E12 -> 16 | G2: ='Tabela I'!F12 -> 2 | H2: ='Tabela I'!G12 -> 0 | I2: ='Tabela I'!H12 -> 0 | J2: ='Tabela I'!I12 -> 0 | K2: ='Tabela I'!K12 -> 0
A3: =+'Tabela I'!$K$2 -> 0 | B3: =+'Tabela I'!$K$1 -> 2020 | C3: 35 | D3: ='Tabela I'!B13 -> 10 | E3: ='Tabela I'!D13 -> 10 | F3: ='Tabela I'!E13 -> 10 | G3: ='Tabela I'!F13 -> 0 | H3: ='Tabela I'!G13 -> 0 | I3: ='Tabela I'!H13 -> 0 | J3: ='Tabela I'!I13 -> 0 | K3: ='Tabela I'!K13 -> 0
A4: =+'Tabela I'!$K$2 -> 0 | B4: =+'Tabela I'!$K$1 -> 2020 | C4: 90 | D4: ='Tabela I'!B14 -> 12 | E4: ='Tabela I'!D14 -> 11 | F4: ='Tabela I'!E14 -> 5 | G4: ='Tabela I'!F14 -> 0 | H4: ='Tabela I'!G14 -> 0 | I4: ='Tabela I'!H14 -> 1 | J4: ='Tabela I'!I14 -> 0 | K4: ='Tabela I'!K14 -> 0
A5: =+'Tabela I'!$K$2 -> 0 | B5: =+'Tabela I'!$K$1 -> 2020 | C5: 36 | D5: ='Tabela I'!B15 -> 11 | E5: ='Tabela I'!D15 -> 1 | F5: ='Tabela I'!E15 -> 1 | G5: ='Tabela I'!F15 -> 0 | H5: ='Tabela I'!G15 -> 0 | I5: ='Tabela I'!H15 -> 0 | J5: ='Tabela I'!I15 -> 0 | K5: ='Tabela I'!K15 -> 0
A6: =+'Tabela I'!$K$2 -> 0 | B6: =+'Tabela I'!$K$1 -> 2020 | C6: 11 | D6: ='Tabela I'!B17 -> 2 | E6: ='Tabela I'!D17 -> 0 | F6: ='Tabela I'!E17 -> 2 | G6: ='Tabela I'!F17 -> 0 | H6: ='Tabela I'!G17 -> 0 | I6: ='Tabela I'!H17 -> 1 | J6: ='Tabela I'!I17 -> 0 | K6: ='Tabela I'!K17 -> 0
A7: =+'Tabela I'!$K$2 -> 0 | B7: =+'Tabela I'!$K$1 -> 2020 | C7: 37 | D7: ='Tabela I'!B18 -> 0 | E7: ='Tabela I'!D18 -> 0 | F7: ='Tabela I'!E18 -> 0 | G7: ='Tabela I'!F18 -> 0 | H7: ='Tabela I'!G18 -> 0 | I7: ='Tabela I'!H18 -> 0 | J7: ='Tabela I'!I18 -> 0 | K7: ='Tabela I'!K18 -> 0
A8: =+'Tabela I'!$K$2 -> 0 | B8: =+'Tabela I'!$K$1 -> 2020 | C8: 38 | D8: ='Tabela I'!B19 -> 4 | E8: ='Tabela I'!D19 -> 0 | F8: ='Tabela I'!E19 -> 0 | G8: ='Tabela I'!F19 -> 0 | H8: ='Tabela I'!G19 -> 0 | I8: ='Tabela I'!H19 -> 0 | J8: ='Tabela I'!I19 -> 0 | K8: ='Tabela I'!K19 -> 0
A9: =+'Tabela I'!$K$2 -> 0 | B9: =+'Tabela I'!$K$1 -> 2020 | C9: 40 | D9: ='Tabela I'!B20 -> 0 | E9: ='Tabela I'!D20 -> 0 | F9: ='Tabela I'!E20 -> 0 | G9: ='Tabela I'!F20 -> 0 | H9: ='Tabela I'!G20 -> 0 | I9: ='Tabela I'!H20 -> 0 | J9: ='Tabela I'!I20 -> 0 | K9: ='Tabela I'!K20 -> 0
A10: =+'Tabela I'!$K$2 -> 0 | B10: =+'Tabela I'!$K$1 -> 2020 | C10: 16 | D10: ='Tabela I'!B21 -> 4 | E10: ='Tabela I'!D21 -> 0 | F10: ='Tabela I'!E21 -> 2 | G10: ='Tabela I'!F21 -> 0 | H10: ='Tabela I'!G21 -> 0 | I10: ='Tabela I'!H21 -> 0 | J10: ='Tabela I'!I21 -> 0 | K10: ='Tabela I'!K21 -> 0
A11: =+'Tabela I'!$K$2 -> 0 | B11: =+'Tabela I'!$K$1 -> 2020 | C11: 13 | D11: ='Tabela I'!B22 -> 0 | E11: ='Tabela I'!D22 -> 0 | F11: ='Tabela I'!E22 -> 0 | G11: ='Tabela I'!F22 -> 0 | H11: ='Tabela I'!G22 -> 0 | I11: ='Tabela I'!H22 -> 0 | J11: ='Tabela I'!I22 -> 0 | K11: ='Tabela I'!K22 -> 0
A12: =+'Tabela I'!$K$2 -> 0 | B12: =+'Tabela I'!$K$1 -> 2020 | C12: 12 | D12: ='Tabela I'!B23 -> 0 | E12: ='Tabela I'!D23 -> 0 | F12: ='Tabela I'!E23 -> 0 | G12: ='Tabela I'!F23 -> 0 | H12: ='Tabela I'!G23 -> 0 | I12: ='Tabela I'!H23 -> 0 | J12: ='Tabela I'!I23 -> 0 | K12: ='Tabela I'!K23 -> 0
A13: =+'Tabela I'!$K$2 -> 0 | B13: =+'Tabela I'!$K$1 -> 2020 | C13: 39 | D13: ='Tabela I'!B24 -> 0 | E13: ='Tabela I'!D24 -> 0 | F13: ='Tabela I'!E24 -> 0 | G13: ='Tabela I'!F24 -> 0 | H13: ='Tabela I'!G24 -> 0 | I13: ='Tabela I'!H24 -> 0 | J13: ='Tabela I'!I24 -> 0 | K13: ='Tabela I'!K24 -> 0
A14: =+'Tabela I'!$K$2 -> 0 | B14: =+'Tabela I'!$K$1 -> 2020 | C14: 19 | D14: ='Tabela I'!B25 -> 0 | E14: ='Tabela I'!D25 -> 0 | F14: ='Tabela I'!E25 -> 0 | G14: ='Tabela I'!F25 -> 0 | H14: ='Tabela I'!G25 -> 0 | I14: ='Tabela I'!H25 -> 0 | J14: ='Tabela I'!I25 -> 0 | K14: ='Tabela I'!K25 -> 0
A15: =+'Tabela I'!$K$2 -> 0 | B15: =+'Tabela I'!$K$1 -> 2020 | C15: 52 | D15: ='Tabela I'!B27 -> 11 | E15: ='Tabela I'!D27 -> 3 | F15: ='Tabela I'!E27 -> 18 | G15: ='Tabela I'!F27 -> 9 | H15: ='Tabela I'!G27 -> 0 | I15: ='Tabela I'!H27 -> 7 | J15: ='Tabela I'!I27 -> 0 | K15: ='Tabela I'!K27 -> 0
A16: =+'Tabela I'!$K$2 -> 0 | B16: =+'Tabela I'!$K$1 -> 2020 | C16: 56 | D16: ='Tabela I'!B28 -> 169 | E16: ='Tabela I'!D28 -> 0 | F16: ='Tabela I'!E28 -> 0 | G16: ='Tabela I'!F28 -> 0 | H16: ='Tabela I'!G28 -> 0 | I16: ='Tabela I'!H28 -> 0 | J16: ='Tabela I'!I28 -> 0 | K16: ='Tabela I'!K28 -> 0
D17: =SUM(D2:D16) -> 325 | E17: =SUM(E2:E16) -> 81 | F17: =SUM(F2:F16) -> 54 | G17: =SUM(G2:G16) -> 11 | H17: =SUM(H2:H16) -> 0 | I17: =SUM(I2:I16) -> 9 | J17: =SUM(J2:J16) -> 0 | K17: =SUM(K2:K16) -> 0
A21: for_key | B21: godina | C21: Odjel | D21: DonesOdluke | E21: OdbPrLijek | F21: PotvOdluke | G21: PreinOdluke | H21: PreinOdlukeNakonRasp | I21: UkinOdluke | J21: DjelimUkin | K21: UkinVracPonSud
A22: =+'Tabela I'!$K$2 -> 0 | B22: =+'Tabela I'!$K$1 -> 2020 | C22: =+'Tabela I'!A55 -> 0 | D22: =+'Tabela I'!C55 -> 0 | E22: =+'Tabela I'!E55 -> 0 | F22: =+'Tabela I'!F55 -> 0 | G22: =+'Tabela I'!G55 -> 0 | H22: =+'Tabela I'!H55 -> 0 | I22: =+'Tabela I'!I55 -> 0 | J22: =+'Tabela I'!J55 -> 0 | K22: =+'Tabela I'!L55 -> 0
A23: =+'Tabela I'!$K$2 -> 0 | B23: =+'Tabela I'!$K$1 -> 2020 | C23: =+'Tabela I'!A56 -> 0 | D23: =+'Tabela I'!C56 -> 0 | E23: =+'Tabela I'!E56 -> 0 | F23: =+'Tabela I'!F56 -> 0 | G23: =+'Tabela I'!G56 -> 0 | H23: =+'Tabela I'!H56 -> 0 | I23: =+'Tabela I'!I56 -> 0 | J23: =+'Tabela I'!J56 -> 0 | K23: =+'Tabela I'!L56 -> 0
A24: =+'Tabela I'!$K$2 -> 0 | B24: =+'Tabela I'!$K$1 -> 2020 | C24: =+'Tabela I'!A57 -> 0 | D24: =+'Tabela I'!C57 -> 0 | E24: =+'Tabela I'!E57 -> 0 | F24: =+'Tabela I'!F57 -> 0 | G24: =+'Tabela I'!G57 -> 0 | H24: =+'Tabela I'!H57 -> 0 | I24: =+'Tabela I'!I57 -> 0 | J24: =+'Tabela I'!J57 -> 0 | K24: =+'Tabela I'!L57 -> 0
A25: =+'Tabela I'!$K$2 -> 0 | B25: =+'Tabela I'!$K$1 -> 2020 | C25: =+'Tabela I'!A58 -> 0 | D25: =+'Tabela I'!C58 -> 0 | E25: =+'Tabela I'!E58 -> 0 | F25: =+'Tabela I'!F58 -> 0 | G25: =+'Tabela I'!G58 -> 0 | H25: =+'Tabela I'!H58 -> 0 | I25: =+'Tabela I'!I58 -> 0 | J25: =+'Tabela I'!J58 -> 0 | K25: =+'Tabela I'!L58 -> 0
A26: =+'Tabela I'!$K$2 -> 0 | B26: =+'Tabela I'!$K$1 -> 2020 | C26: =+'Tabela I'!A59 -> 0 | D26: =+'Tabela I'!C59 -> 0 | E26: =+'Tabela I'!E59 -> 0 | F26: =+'Tabela I'!F59 -> 0 | G26: =+'Tabela I'!G59 -> 0 | H26: =+'Tabela I'!H59 -> 0 | I26: =+'Tabela I'!I59 -> 0 | J26: =+'Tabela I'!J59 -> 0 | K26: =+'Tabela I'!L59 -> 0
A27: =+'Tabela I'!$K$2 -> 0 | B27: =+'Tabela I'!$K$1 -> 2020 | C27: =+'Tabela I'!A60 -> 0 | D27: =+'Tabela I'!C60 -> 0 | E27: =+'Tabela I'!E60 -> 0 | F27: =+'Tabela I'!F60 -> 0 | G27: =+'Tabela I'!G60 -> 0 | H27: =+'Tabela I'!H60 -> 0 | I27: =+'Tabela I'!I60 -> 0 | J27: =+'Tabela I'!J60 -> 0 | K27: =+'Tabela I'!L60 -> 0
A28: =+'Tabela I'!$K$2 -> 0 | B28: =+'Tabela I'!$K$1 -> 2020 | C28: =+'Tabela I'!A61 -> 0 | D28: =+'Tabela I'!C61 -> 0 | E28: =+'Tabela I'!E61 -> 0 | F28: =+'Tabela I'!F61 -> 0 | G28: =+'Tabela I'!G61 -> 0 | H28: =+'Tabela I'!H61 -> 0 | I28: =+'Tabela I'!I61 -> 0 | J28: =+'Tabela I'!J61 -> 0 | K28: =+'Tabela I'!L61 -> 0
A29: =+'Tabela I'!$K$2 -> 0 | B29: =+'Tabela I'!$K$1 -> 2020 | C29: =+'Tabela I'!A62 -> 0 | D29: =+'Tabela I'!C62 -> 0 | E29: =+'Tabela I'!E62 -> 0 | F29: =+'Tabela I'!F62 -> 0 | G29: =+'Tabela I'!G62 -> 0 | H29: =+'Tabela I'!H62 -> 0 | I29: =+'Tabela I'!I62 -> 0 | J29: =+'Tabela I'!J62 -> 0 | K29: =+'Tabela I'!L62 -> 0
A30: =+'Tabela I'!$K$2 -> 0 | B30: =+'Tabela I'!$K$1 -> 2020 | C30: =+'Tabela I'!A63 -> 0 | D30: =+'Tabela I'!C63 -> 0 | E30: =+'Tabela I'!E63 -> 0 | F30: =+'Tabela I'!F63 -> 0 | G30: =+'Tabela I'!G63 -> 0 | H30: =+'Tabela I'!H63 -> 0 | I30: =+'Tabela I'!I63 -> 0 | J30: =+'Tabela I'!J63 -> 0 | K30: =+'Tabela I'!L63 -> 0
A31: =+'Tabela I'!$K$2 -> 0 | B31: =+'Tabela I'!$K$1 -> 2020 | C31: =+'Tabela I'!A64 -> 0 | D31: =+'Tabela I'!C64 -> 0 | E31: =+'Tabela I'!E64 -> 0 | F31: =+'Tabela I'!F64 -> 0 | G31: =+'Tabela I'!G64 -> 0 | H31: =+'Tabela I'!H64 -> 0 | I31: =+'Tabela I'!I64 -> 0 | J31: =+'Tabela I'!J64 -> 0 | K31: =+'Tabela I'!L64 -> 0
A32: =+'Tabela I'!$K$2 -> 0 | B32: =+'Tabela I'!$K$1 -> 2020 | C32: =+'Tabela I'!A65 -> 0 | D32: =+'Tabela I'!C65 -> 0 | E32: =+'Tabela I'!E65 -> 0 | F32: =+'Tabela I'!F65 -> 0 | G32: =+'Tabela I'!G65 -> 0 | H32: =+'Tabela I'!H65 -> 0 | I32: =+'Tabela I'!I65 -> 0 | J32: =+'Tabela I'!J65 -> 0 | K32: =+'Tabela I'!L65 -> 0
A33: =+'Tabela I'!$K$2 -> 0 | B33: =+'Tabela I'!$K$1 -> 2020 | C33: =+'Tabela I'!A66 -> 0 | D33: =+'Tabela I'!C66 -> 0 | E33: =+'Tabela I'!E66 -> 0 | F33: =+'Tabela I'!F66 -> 0 | G33: =+'Tabela I'!G66 -> 0 | H33: =+'Tabela I'!H66 -> 0 | I33: =+'Tabela I'!I66 -> 0 | J33: =+'Tabela I'!J66 -> 0 | K33: =+'Tabela I'!L66 -> 0
... A36: =+'Tabela I'!$K$2 -> 0 | B36: =+'Tabela I'!$K$1 -> 2020 | C36: =+'Tabela I'!A69 -> 0 | D36: =+'Tabela I'!C69 -> 0 | E36: =+'Tabela I'!E69 -> 0 | F36: =+'Tabela I'!F69 -> 0 | G36: =+'Tabela I'!G69 -> 0 | H36: =+'Tabela I'!H69 -> 0 | I36: =+'Tabela I'!I69 -> 0 | J36: =+'Tabela I'!J69 -> 0 | K36: =+'Tabela I'!L69 -> 0
D37: =SUM(D22:D36) -> 0 | E37: =SUM(E22:E36) -> 0 | F37: =SUM(F22:F36) -> 0 | G37: =SUM(G22:G36) -> 0 | H37: =SUM(H22:H36) -> 0 | I37: =SUM(I22:I36) -> 0 | J37: =SUM(J22:J36) -> 0 | K37: =SUM(K22:K36) -> 0

Sheet Tabela II
A1: ='Tabela I'!A1 -> Kantonalni/Okružni sud: | E1: ='Tabela I'!C1 -> ŽUPANIJSKI SUD ŠIROKI BRIJEG
A2: Izvještajni period: | C2: 1.1.2020.-31.12.2020. | D2: ='Tabela I'!B2 -> 1.1.2020.-31.12.2020.
A3: Tabela IIa – Ostvarena orijentaciona norma - Elektronski obrazac za obračun ostvarene orijentacione norme (pogledati NAPOMENU 4)
A5: Redni broj | B5: Ime i prezime - evidentirani podatak se automatski prenosi u Tabelu IIIa | C5: Ocjenjen u sudu | D5: Naziv odjela | E5: Pravosudna funkcija | G5: Procenat orijentacijske norme koju je nosilac pravosudne funkcije dužan ostvariti - Ukoliko procenat orijenatcijske norme nije predviđen u padajućem meniju pogledati NAPOMENU 3 | H5: Period obavljanja pravosudne funkcije u instituciji koja popunjava tabelu Ia | J5: Ukupan broj dana za obračun norme - pogledati NAPOMENU 2 | K5: Broj dana opravdanog odsustva (pogledati NAPOMENU 9) | L5: Ostvarena orijentaciona norma iz CMS-a | M5: Ostvarena orijentaciona norma na predmetima van CMS-a - pogledati NAPOMENU 6 | N5: Procenat ostvarene orijentacione norme prema članu 9. Pravilnika o orijentacijskim mjerilima - pogledati NAPOMENU 7 | O5: Procenat ostvarene propisane godišnje orijentacijske norme u 2020. godini | P5: Ukupno ostvarena orijentacijska norma u 2020. godini | Q5: Nedovoljan broj predmeta u radu - pogledati NAPOMENU 5 | V5: Broj ostvarenih bodova | W5: Sudija | X5: Stručni saradnik | Y5: Predsjednik odjela | Z5: Predsjednik sudskog vijeća vrhovnog suda entiteta | AA5: Član VSTV-a
H6: Datum od | I6: Datum do | Q6: broj predmeta u radu | R6: broj riješenih predmeta | S6: broj neriješenih predmeta sa zakonskim i procesnim smetnjama | T6: broj neriješenih predmeta bez zakonskih i procesnih smetnji | U6: procenat riješenih predmeta
A7: I | B7: II | C7: III | D7: III | E7: IV | G7: V | H7: VI | I7: VII | J7: VIII | K7: IX | L7: X | M7: XI | N7: XII | O7: XIII | P7: XIV | Q7: XV | R7: XVI | S7: XVII | T7: XVIII | U7: XIX | V7: XXI | W7: 1 | X7: 0.9 | Y7: 0.8 | Z7: 0.5 | AA7: 0.25 | AB7: Ne treba raditi na predm.
A8: 1 | B8: Bosiljka Rudeš | E8: Predsjednik suda | G8: 0.5 | H8: 01.01.2020. | I8: 31.12.2020. | J8: 262 | K8: 15 | L8: 0.8906 | O8: =IF(G8="","",IF(G8="Ne treba raditi na predm.",1+SUM(L8:N8),(SUM(L8:N8)/G8))) -> 1.7812 | P8: =IF(K8>0,O8*(J8/(J8-K8)),O8) -> 1.88937 | U8: =IF(Q8="","",R8/(Q8-S8)) | V8: =IF(P8="","",IF(C8="Ne","",IF(G8="Ne treba raditi na predm.","",IF(P8>1,10,IF(U8="",IF(P8>0.9,8,IF(P8>0.8,6,IF(P8>0.7,4,IF(P8>0.6,2,0)))),IF(U8=1,10,IF(U8>0.9,8,IF(U8>0.8,6,IF(U8>0.7,5,IF(U8>0.6,4,IF(U8>0.5,2,0))))))))))) -> 10 | W8: 0.7 | X8: 0.5 | Y8: 0.4 | Z8: 0.3 | AA8: Ne treba raditi na predm.
E9: Predsjednik suda | J9: 262 | O9: =IF(G9="","",IF(G9="Ne treba raditi na predm.",1+SUM(L9:N9),(SUM(L9:N9)/G9))) | P9: =IF(K9>0,O9*(J9/(J9-K9)),O9) | U9: =IF(Q9="","",R9/(Q9-S9)) | V9: =IF(P9="","",IF(C9="Ne","",IF(G9="Ne treba raditi na predm.","",IF(P9>1,10,IF(U9="",IF(P9>0.9,8,IF(P9>0.8,6,IF(P9>0.7,4,IF(P9>0.6,2,0)))),IF(U9=1,10,IF(U9>0.9,8,IF(U9>0.8,6,IF(U9>0.7,5,IF(U9>0.6,4,IF(U9>0.5,2,0)))))))))))
A10: 2 | B10: Mile Zeljko | D10: sudsko odjeljenje | E10: sudija | F10: =IF(E10="Sudija",1,IF(E10="Stručni saradnik",1,"")) -> 1 | G10: 1 | H10: 01.01.2020. | I10: 31.12.2020. | J10: 262 | K10: 101 | L10: 0.408 | O10: =IF(G10="","",IF(G10="Ne treba raditi na predm.",1+SUM(L10:N10),(SUM(L10:N10)/G10))) -> 0.408 | P10: =IF(K10>0,O10*(J10/(J10-K10)),O10) -> 0.66395031 | U10: =IF(Q10="","",R10/(Q10-S10)) | V10: =IF(P10="","",IF(C10="Ne","",IF(G10="Ne treba raditi na predm.","", IF(P10>1,30,IF(U10="",IF(P10>0.9,25,IF(P10>0.8,20,IF(P10>0.7,16,IF(P10>0.6,10,IF(P10>0.5,4,0))))),IF(U10=1,30,IF(U10>0.9,25,IF(U10>0.8,20,IF(U10>0.7,15,IF(U10>0.6,10,IF(U10>0.5,5,0))))))))))) -> 10 | W10: Da | X10: Ne
A11: 3 | B11: Gordana Pažin | D11: sudsko odjeljenje | E11: Sudija | F11: =IF(E11="Sudija",1,IF(E11="Stručni saradnik",1,"")) -> 1 | G11: 1 | H11: 01.01.2020. | I11: 31.12.2020. | J11: 262 | K11: 11 | L11: 0.6417 | O11: =IF(G11="","",IF(G11="Ne treba raditi na predm.",1+SUM(L11:N11),(SUM(L11:N11)/G11))) -> 0.6417 | P11: =IF(K11>0,O11*(J11/(J11-K11)),O11) -> 0.66982231 | U11: =IF(Q11="","",R11/(Q11-S11)) | V11: =IF(P11="","",IF(C11="Ne","",IF(G11="Ne treba raditi na predm.","", IF(P11>1,30,IF(U11="",IF(P11>0.9,25,IF(P11>0.8,20,IF(P11>0.7,16,IF(P11>0.6,10,IF(P11>0.5,4,0))))),IF(U11=1,30,IF(U11>0.9,25,IF(U11>0.8,20,IF(U11>0.7,15,IF(U11>0.6,10,IF(U11>0.5,5,0))))))))))) -> 10
A12: 4 | B12: Katica Artuković | D12: sudsko odjeljenje | E12: Sudija | F12: =IF(E12="Sudija",1,IF(E12="Stručni saradnik",1,"")) -> 1 | G12: 1 | H12: 01.01.2020. | I12: 31.12.2020. | J12: 262 | K12: 47 | L12: 0.85 | N12: 0.0727 | O12: =IF(G12="","",IF(G12="Ne treba raditi na predm.",1+SUM(L12:N12),(SUM(L12:N12)/G12))) -> 0.9227 | P12: =IF(K12>0,O12*(J12/(J12-K12)),O12) -> 1.1244065 | U12: =IF(Q12="","",R12/(Q12-S12)) | V12: =IF(P12="","",IF(C12="Ne","",IF(G12="Ne treba raditi na predm.","", IF(P12>1,30,IF(U12="",IF(P12>0.9,25,IF(P12>0.8,20,IF(P12>0.7,16,IF(P12>0.6,10,IF(P12>0.5,4,0))))),IF(U12=1,30,IF(U12>0.9,25,IF(U12>0.8,20,IF(U12>0.7,15,IF(U12>0.6,10,IF(U12>0.5,5,0))))))))))) -> 30
A13: 5 | B13: Franjo Ravlija | D13: sudsko odjeljenje | E13: Sudija | F13: =IF(E13="Sudija",1,IF(E13="Stručni saradnik",1,"")) -> 1 | G13: 1 | H13: 01.01.2020. | I13: 31.12.2020. | J13: 262 | K13: 17 | L13: 0.7816 | O13: =IF(G13="","",IF(G13="Ne treba raditi na predm.",1+SUM(L13:N13),(SUM(L13:N13)/G13))) -> 0.7816 | P13: =IF(K13>0,O13*(J13/(J13-K13)),O13) -> 0.83583347 | U13: =IF(Q13="","",R13/(Q13-S13)) | V13: =IF(P13="","",IF(C13="Ne","",IF(G13="Ne treba raditi na predm.","", IF(P13>1,30,IF(U13="",IF(P13>0.9,25,IF(P13>0.8,20,IF(P13>0.7,16,IF(P13>0.6,10,IF(P13>0.5,4,0))))),IF(U13=1,30,IF(U13>0.9,25,IF(U13>0.8,20,IF(U13>0.7,15,IF(U13>0.6,10,IF(U13>0.5,5,0))))))))))) -> 20
A14: 6 | F14: =IF(E14="Sudija",1,IF(E14="Stručni saradnik",1,"")) | J14: 262 | O14: =IF(G14="","",IF(G14="Ne treba raditi na predm.",1+SUM(L14:N14),(SUM(L14:N14)/G14))) | P14: =IF(K14>0,O14*(J14/(J14-K14)),O14) | U14: =IF(Q14="","",R14/(Q14-S14)) | V14: =IF(P14="","",IF(C14="Ne","",IF(G14="Ne treba raditi na predm.","", IF(P14>1,30,IF(U14="",IF(P14>0.9,25,IF(P14>0.8,20,IF(P14>0.7,16,IF(P14>0.6,10,IF(P14>0.5,4,0))))),IF(U14=1,30,IF(U14>0.9,25,IF(U14>0.8,20,IF(U14>0.7,15,IF(U14>0.6,10,IF(U14>0.5,5,0)))))))))))
A15: 7 | F15: =IF(E15="Sudija",1,IF(E15="Stručni saradnik",1,"")) | J15: 262 | O15: =IF(G15="","",IF(G15="Ne treba raditi na predm.",1+SUM(L15:N15),(SUM(L15:N15)/G15))) | P15: =IF(K15>0,O15*(J15/(J15-K15)),O15) | U15: =IF(Q15="","",R15/(Q15-S15)) | V15: =IF(P15="","",IF(C15="Ne","",IF(G15="Ne treba raditi na predm.","", IF(P15>1,30,IF(U15="",IF(P15>0.9,25,IF(P15>0.8,20,IF(P15>0.7,16,IF(P15>0.6,10,IF(P15>0.5,4,0))))),IF(U15=1,30,IF(U15>0.9,25,IF(U15>0.8,20,IF(U15>0.7,15,IF(U15>0.6,10,IF(U15>0.5,5,0)))))))))))
A16: 8 | F16: =IF(E16="Sudija",1,IF(E16="Stručni saradnik",1,"")) | J16: 262 | O16: =IF(G16="","",IF(G16="Ne treba raditi na predm.",1+SUM(L16:N16),(SUM(L16:N16)/G16))) | P16: =IF(K16>0,O16*(J16/(J16-K16)),O16) | U16: =IF(Q16="","",R16/(Q16-S16)) | V16: =IF(P16="","",IF(C16="Ne","",IF(G16="Ne treba raditi na predm.","", IF(P16>1,30,IF(U16="",IF(P16>0.9,25,IF(P16>0.8,20,IF(P16>0.7,16,IF(P16>0.6,10,IF(P16>0.5,4,0))))),IF(U16=1,30,IF(U16>0.9,25,IF(U16>0.8,20,IF(U16>0.7,15,IF(U16>0.6,10,IF(U16>0.5,5,0)))))))))))
A17: 9 | F17: =IF(E17="Sudija",1,IF(E17="Stručni saradnik",1,"")) | J17: 262 | O17: =IF(G17="","",IF(G17="Ne treba raditi na predm.",1+SUM(L17:N17),(SUM(L17:N17)/G17))) | P17: =IF(K17>0,O17*(J17/(J17-K17)),O17) | U17: =IF(Q17="","",R17/(Q17-S17)) | V17: =IF(P17="","",IF(C17="Ne","",IF(G17="Ne treba raditi na predm.","", IF(P17>1,30,IF(U17="",IF(P17>0.9,25,IF(P17>0.8,20,IF(P17>0.7,16,IF(P17>0.6,10,IF(P17>0.5,4,0))))),IF(U17=1,30,IF(U17>0.9,25,IF(U17>0.8,20,IF(U17>0.7,15,IF(U17>0.6,10,IF(U17>0.5,5,0)))))))))))
A18: 10 | F18: =IF(E18="Sudija",1,IF(E18="Stručni saradnik",1,"")) | J18: 262 | O18: =IF(G18="","",IF(G18="Ne treba raditi na predm.",1+SUM(L18:N18),(SUM(L18:N18)/G18))) | P18: =IF(K18>0,O18*(J18/(J18-K18)),O18) | U18: =IF(Q18="","",R18/(Q18-S18)) | V18: =IF(P18="","",IF(C18="Ne","",IF(G18="Ne treba raditi na predm.","", IF(P18>1,30,IF(U18="",IF(P18>0.9,25,IF(P18>0.8,20,IF(P18>0.7,16,IF(P18>0.6,10,IF(P18>0.5,4,0))))),IF(U18=1,30,IF(U18>0.9,25,IF(U18>0.8,20,IF(U18>0.7,15,IF(U18>0.6,10,IF(U18>0.5,5,0)))))))))))
A19: 11 | F19: =IF(E19="Sudija",1,IF(E19="Stručni saradnik",1,"")) | J19: 262 | O19: =IF(G19="","",IF(G19="Ne treba raditi na predm.",1+SUM(L19:N19),(SUM(L19:N19)/G19))) | P19: =IF(K19>0,O19*(J19/(J19-K19)),O19) | U19: =IF(Q19="","",R19/(Q19-S19)) | V19: =IF(P19="","",IF(C19="Ne","",IF(G19="Ne treba raditi na predm.","", IF(P19>1,30,IF(U19="",IF(P19>0.9,25,IF(P19>0.8,20,IF(P19>0.7,16,IF(P19>0.6,10,IF(P19>0.5,4,0))))),IF(U19=1,30,IF(U19>0.9,25,IF(U19>0.8,20,IF(U19>0.7,15,IF(U19>0.6,10,IF(U19>0.5,5,0)))))))))))
A20: 12 | F20: =IF(E20="Sudija",1,IF(E20="Stručni saradnik",1,"")) | J20: 262 | O20: =IF(G20="","",IF(G20="Ne treba raditi na predm.",1+SUM(L20:N20),(SUM(L20:N20)/G20))) | P20: =IF(K20>0,O20*(J20/(J20-K20)),O20) | U20: =IF(Q20="","",R20/(Q20-S20)) | V20: =IF(P20="","",IF(C20="Ne","",IF(G20="Ne treba raditi na predm.","", IF(P20>1,30,IF(U20="",IF(P20>0.9,25,IF(P20>0.8,20,IF(P20>0.7,16,IF(P20>0.6,10,IF(P20>0.5,4,0))))),IF(U20=1,30,IF(U20>0.9,25,IF(U20>0.8,20,IF(U20>0.7,15,IF(U20>0.6,10,IF(U20>0.5,5,0)))))))))))
A21: 13 | F21: =IF(E21="Sudija",1,IF(E21="Stručni saradnik",1,"")) | J21: 262 | O21: =IF(G21="","",IF(G21="Ne treba raditi na predm.",1+SUM(L21:N21),(SUM(L21:N21)/G21))) | P21: =IF(K21>0,O21*(J21/(J21-K21)),O21) | U21: =IF(Q21="","",R21/(Q21-S21)) | V21: =IF(P21="","",IF(C21="Ne","",IF(G21="Ne treba raditi na predm.","", IF(P21>1,30,IF(U21="",IF(P21>0.9,25,IF(P21>0.8,20,IF(P21>0.7,16,IF(P21>0.6,10,IF(P21>0.5,4,0))))),IF(U21=1,30,IF(U21>0.9,25,IF(U21>0.8,20,IF(U21>0.7,15,IF(U21>0.6,10,IF(U21>0.5,5,0)))))))))))
A22: 14 | F22: =IF(E22="Sudija",1,IF(E22="Stručni saradnik",1,"")) | J22: 262 | O22: =IF(G22="","",IF(G22="Ne treba raditi na predm.",1+SUM(L22:N22),(SUM(L22:N22)/G22))) | P22: =IF(K22>0,O22*(J22/(J22-K22)),O22) | U22: =IF(Q22="","",R22/(Q22-S22)) | V22: =IF(P22="","",IF(C22="Ne","",IF(G22="Ne treba raditi na predm.","", IF(P22>1,30,IF(U22="",IF(P22>0.9,25,IF(P22>0.8,20,IF(P22>0.7,16,IF(P22>0.6,10,IF(P22>0.5,4,0))))),IF(U22=1,30,IF(U22>0.9,25,IF(U22>0.8,20,IF(U22>0.7,15,IF(U22>0.6,10,IF(U22>0.5,5,0)))))))))))
A23: 15 | F23: =IF(E23="Sudija",1,IF(E23="Stručni saradnik",1,"")) | J23: 262 | O23: =IF(G23="","",IF(G23="Ne treba raditi na predm.",1+SUM(L23:N23),(SUM(L23:N23)/G23))) | P23: =IF(K23>0,O23*(J23/(J23-K23)),O23) | U23: =IF(Q23="","",R23/(Q23-S23)) | V23: =IF(P23="","",IF(C23="Ne","",IF(G23="Ne treba raditi na predm.","", IF(P23>1,30,IF(U23="",IF(P23>0.9,25,IF(P23>0.8,20,IF(P23>0.7,16,IF(P23>0.6,10,IF(P23>0.5,4,0))))),IF(U23=1,30,IF(U23>0.9,25,IF(U23>0.8,20,IF(U23>0.7,15,IF(U23>0.6,10,IF(U23>0.5,5,0)))))))))))
A24: 16 | F24: =IF(E24="Sudija",1,IF(E24="Stručni saradnik",1,"")) | J24: 262 | O24: =IF(G24="","",IF(G24="Ne treba raditi na predm.",1+SUM(L24:N24),(SUM(L24:N24)/G24))) | P24: =IF(K24>0,O24*(J24/(J24-K24)),O24) | U24: =IF(Q24="","",R24/(Q24-S24)) | V24: =IF(P24="","",IF(C24="Ne","",IF(G24="Ne treba raditi na predm.","", IF(P24>1,30,IF(U24="",IF(P24>0.9,25,IF(P24>0.8,20,IF(P24>0.7,16,IF(P24>0.6,10,IF(P24>0.5,4,0))))),IF(U24=1,30,IF(U24>0.9,25,IF(U24>0.8,20,IF(U24>0.7,15,IF(U24>0.6,10,IF(U24>0.5,5,0)))))))))))
A25: 17 | F25: =IF(E25="Sudija",1,IF(E25="Stručni saradnik",1,"")) | J25: 262 | O25: =IF(G25="","",IF(G25="Ne treba raditi na predm.",1+SUM(L25:N25),(SUM(L25:N25)/G25))) | P25: =IF(K25>0,O25*(J25/(J25-K25)),O25) | U25: =IF(Q25="","",R25/(Q25-S25)) | V25: =IF(P25="","",IF(C25="Ne","",IF(G25="Ne treba raditi na predm.","", IF(P25>1,30,IF(U25="",IF(P25>0.9,25,IF(P25>0.8,20,IF(P25>0.7,16,IF(P25>0.6,10,IF(P25>0.5,4,0))))),IF(U25=1,30,IF(U25>0.9,25,IF(U25>0.8,20,IF(U25>0.7,15,IF(U25>0.6,10,IF(U25>0.5,5,0)))))))))))
... A73: 65 | F73: =IF(E73="Sudija",1,IF(E73="Stručni saradnik",1,"")) | J73: 262 | O73: =IF(G73="","",IF(G73="Ne treba raditi na predm.",1+SUM(L73:N73),(SUM(L73:N73)/G73))) | P73: =IF(K73>0,O73*(J73/(J73-K73)),O73) | U73: =IF(Q73="","",R73/(Q73-S73)) | V73: =IF(P73="","",IF(C73="Ne","",IF(G73="Ne treba raditi na predm.","", IF(P73>1,30,IF(U73="",IF(P73>0.9,25,IF(P73>0.8,20,IF(P73>0.7,16,IF(P73>0.6,10,IF(P73>0.5,4,0))))),IF(U73=1,30,IF(U73>0.9,25,IF(U73>0.8,20,IF(U73>0.7,15,IF(U73>0.6,10,IF(U73>0.5,5,0)))))))))))
F74: =IF(E74="Sudija",1,IF(E74="Stručni saradnik",1,"")) | J74: 262 | O74: =IF(G74="","",IF(G74="Ne treba raditi na predm.",1+SUM(L74:N74),(SUM(L74:N74)/G74))) | P74: =IF(K74>0,O74*(J74/(J74-K74)),O74) | U74: =IF(Q74="","",R74/(Q74-S74)) | V74: =IF(P74="","",IF(C74="Ne","",IF(G74="Ne treba raditi na predm.","", IF(P74>1,30,IF(U74="",IF(P74>0.9,25,IF(P74>0.8,20,IF(P74>0.7,16,IF(P74>0.6,10,IF(P74>0.5,4,0))))),IF(U74=1,30,IF(U74>0.9,25,IF(U74>0.8,20,IF(U74>0.7,15,IF(U74>0.6,10,IF(U74>0.5,5,0)))))))))))
F75: =IF(E75="Sudija",1,IF(E75="Stručni saradnik",1,"")) | J75: 262 | O75: =IF(G75="","",IF(G75="Ne treba raditi na predm.",1+SUM(L75:N75),(SUM(L75:N75)/G75))) | P75: =IF(K75>0,O75*(J75/(J75-K75)),O75) | U75: =IF(Q75="","",R75/(Q75-S75)) | V75: =IF(P75="","",IF(C75="Ne","",IF(G75="Ne treba raditi na predm.","", IF(P75>1,30,IF(U75="",IF(P75>0.9,25,IF(P75>0.8,20,IF(P75>0.7,16,IF(P75>0.6,10,IF(P75>0.5,4,0))))),IF(U75=1,30,IF(U75>0.9,25,IF(U75>0.8,20,IF(U75>0.7,15,IF(U75>0.6,10,IF(U75>0.5,5,0)))))))))))
F76: =IF(E76="Sudija",1,IF(E76="Stručni saradnik",1,"")) | J76: 262 | O76: =IF(G76="","",IF(G76="Ne treba raditi na predm.",1+SUM(L76:N76),(SUM(L76:N76)/G76))) | P76: =IF(K76>0,O76*(J76/(J76-K76)),O76) | U76: =IF(Q76="","",R76/(Q76-S76)) | V76: =IF(P76="","",IF(C76="Ne","",IF(G76="Ne treba raditi na predm.","", IF(P76>1,30,IF(U76="",IF(P76>0.9,25,IF(P76>0.8,20,IF(P76>0.7,16,IF(P76>0.6,10,IF(P76>0.5,4,0))))),IF(U76=1,30,IF(U76>0.9,25,IF(U76>0.8,20,IF(U76>0.7,15,IF(U76>0.6,10,IF(U76>0.5,5,0)))))))))))
F77: =IF(E77="Sudija",1,IF(E77="Stručni saradnik",1,"")) | J77: 262 | O77: =IF(G77="","",IF(G77="Ne treba raditi na predm.",1+SUM(L77:N77),(SUM(L77:N77)/G77))) | P77: =IF(K77>0,O77*(J77/(J77-K77)),O77) | U77: =IF(Q77="","",R77/(Q77-S77)) | V77: =IF(P77="","",IF(C77="Ne","",IF(G77="Ne treba raditi na predm.","", IF(P77>1,30,IF(U77="",IF(P77>0.9,25,IF(P77>0.8,20,IF(P77>0.7,16,IF(P77>0.6,10,IF(P77>0.5,4,0))))),IF(U77=1,30,IF(U77>0.9,25,IF(U77>0.8,20,IF(U77>0.7,15,IF(U77>0.6,10,IF(U77>0.5,5,0)))))))))))
F78: =IF(E78="Sudija",1,IF(E78="Stručni saradnik",1,"")) | J78: 262 | O78: =IF(G78="","",IF(G78="Ne treba raditi na predm.",1+SUM(L78:N78),(SUM(L78:N78)/G78))) | P78: =IF(K78>0,O78*(J78/(J78-K78)),O78) | U78: =IF(Q78="","",R78/(Q78-S78)) | V78: =IF(P78="","",IF(C78="Ne","",IF(G78="Ne treba raditi na predm.","", IF(P78>1,30,IF(U78="",IF(P78>0.9,25,IF(P78>0.8,20,IF(P78>0.7,16,IF(P78>0.6,10,IF(P78>0.5,4,0))))),IF(U78=1,30,IF(U78>0.9,25,IF(U78>0.8,20,IF(U78>0.7,15,IF(U78>0.6,10,IF(U78>0.5,5,0)))))))))))
F79: =IF(E79="Sudija",1,IF(E79="Stručni saradnik",1,"")) | J79: 262 | O79: =IF(G79="","",IF(G79="Ne treba raditi na predm.",1+SUM(L79:N79),(SUM(L79:N79)/G79))) | P79: =IF(K79>0,O79*(J79/(J79-K79)),O79) | U79: =IF(Q79="","",R79/(Q79-S79)) | V79: =IF(P79="","",IF(C79="Ne","",IF(G79="Ne treba raditi na predm.","", IF(P79>1,30,IF(U79="",IF(P79>0.9,25,IF(P79>0.8,20,IF(P79>0.7,16,IF(P79>0.6,10,IF(P79>0.5,4,0))))),IF(U79=1,30,IF(U79>0.9,25,IF(U79>0.8,20,IF(U79>0.7,15,IF(U79>0.6,10,IF(U79>0.5,5,0)))))))))))
F80: =IF(E80="Sudija",1,IF(E80="Stručni saradnik",1,"")) | J80: 262 | O80: =IF(G80="","",IF(G80="Ne treba raditi na predm.",1+SUM(L80:N80),(SUM(L80:N80)/G80))) | P80: =IF(K80>0,O80*(J80/(J80-K80)),O80) | U80: =IF(Q80="","",R80/(Q80-S80)) | V80: =IF(P80="","",IF(C80="Ne","",IF(G80="Ne treba raditi na predm.","", IF(P80>1,30,IF(U80="",IF(P80>0.9,25,IF(P80>0.8,20,IF(P80>0.7,16,IF(P80>0.6,10,IF(P80>0.5,4,0))))),IF(U80=1,30,IF(U80>0.9,25,IF(U80>0.8,20,IF(U80>0.7,15,IF(U80>0.6,10,IF(U80>0.5,5,0)))))))))))
F81: =IF(E81="Sudija",1,IF(E81="Stručni saradnik",1,"")) | J81: 262 | O81: =IF(G81="","",IF(G81="Ne treba raditi na predm.",1+SUM(L81:N81),(SUM(L81:N81)/G81))) | P81: =IF(K81>0,O81*(J81/(J81-K81)),O81) | U81: =IF(Q81="","",R81/(Q81-S81)) | V81: =IF(P81="","",IF(C81="Ne","",IF(G81="Ne treba raditi na predm.","", IF(P81>1,30,IF(U81="",IF(P81>0.9,25,IF(P81>0.8,20,IF(P81>0.7,16,IF(P81>0.6,10,IF(P81>0.5,4,0))))),IF(U81=1,30,IF(U81>0.9,25,IF(U81>0.8,20,IF(U81>0.7,15,IF(U81>0.6,10,IF(U81>0.5,5,0)))))))))))
F82: =IF(E82="Sudija",1,IF(E82="Stručni saradnik",1,"")) | J82: 262 | O82: =IF(G82="","",IF(G82="Ne treba raditi na predm.",1+SUM(L82:N82),(SUM(L82:N82)/G82))) | P82: =IF(K82>0,O82*(J82/(J82-K82)),O82) | U82: =IF(Q82="","",R82/(Q82-S82)) | V82: =IF(P82="","",IF(C82="Ne","",IF(G82="Ne treba raditi na predm.","", IF(P82>1,30,IF(U82="",IF(P82>0.9,25,IF(P82>0.8,20,IF(P82>0.7,16,IF(P82>0.6,10,IF(P82>0.5,4,0))))),IF(U82=1,30,IF(U82>0.9,25,IF(U82>0.8,20,IF(U82>0.7,15,IF(U82>0.6,10,IF(U82>0.5,5,0)))))))))))
F83: =IF(E83="Sudija",1,IF(E83="Stručni saradnik",1,"")) | J83: 262 | O83: =IF(G83="","",IF(G83="Ne treba raditi na predm.",1+SUM(L83:N83),(SUM(L83:N83)/G83))) | P83: =IF(K83>0,O83*(J83/(J83-K83)),O83) | U83: =IF(Q83="","",R83/(Q83-S83)) | V83: =IF(P83="","",IF(C83="Ne","",IF(G83="Ne treba raditi na predm.","", IF(P83>1,30,IF(U83="",IF(P83>0.9,25,IF(P83>0.8,20,IF(P83>0.7,16,IF(P83>0.6,10,IF(P83>0.5,4,0))))),IF(U83=1,30,IF(U83>0.9,25,IF(U83>0.8,20,IF(U83>0.7,15,IF(U83>0.6,10,IF(U83>0.5,5,0)))))))))))
O84: KOLEKTIVNA NORMA SUDA | P84: =IF(P8="",IF(P9="","",AVERAGE(P8:P83)),AVERAGE(P8:P83)) -> 1.0366765 | Q84: =SUM(Q8:Q83) -> 0 | R84: =SUM(R8:R83) -> 0 | S84: =SUM(S8:S83) -> 0 | T84: =SUM(T8:T83) -> 0 | U84: =IF(Q84=0,"",R84/(Q84-S84))
O85: BODOVANJE ZA OSTVARENU KOLEKTIVNU NORMU SUDA U SKLADU SA ČLANOM 11. STAV (2) KRITERIJA ZA OCJENJIVANJE RADA PREDSJEDNIKA SUDOVA I PREDSJEDNIKA SUDSKIH ODJELJENJA U BiH | P85: =IF(P84="","",IF(P84>1,30,IF(P84>0.95,28,IF(P84>0.9,24,IF(P84>0.85,20,IF(P84>0.8,16,IF(P84>0.75,12,IF(P84>0.7,8,IF(P84>0.5,4,0))))))))) -> 30
O86: BODOVANJE ZA OSTVARENU KOLEKTIVNU NORMU SUDA U SKLADU SA ČLANOM 11. STAV (3) KRITERIJA ZA OCJENJIVANJE RADA PREDSJEDNIKA SUDOVA I PREDSJEDNIKA SUDSKIH ODJELJENJA U BiH | P86: =IF(P84="","",IF(P84>1,60,IF(P84>0.95,56,IF(P84>0.9,48,IF(P84>0.85,40,IF(P84>0.8,32,IF(P84>0.75,24,IF(P84>0.7,16,IF(P84>0.5,8,0))))))))) -> 60
B88: Obrazloženje norme NPF-a unesene u plava polja
B89: Primjer - Sudija 1 | D89: 8 mjeseci sudija, 4 mjeseca šef odjela (90% norme sudije) | G89: 0.97
...

Sheet Tabela III
A1: =+'Tabela I'!A1 -> Kantonalni/Okružni sud: | C1: =+'Tabela I'!C1 -> ŽUPANIJSKI SUD ŠIROKI BRIJEG | E1: =+'Tabela I'!C1 -> ŽUPANIJSKI SUD ŠIROKI BRIJEG
A2: Izvještajni period: | C2: =+'Tabela I'!B2 -> 1.1.2020.-31.12.2020. | E2: =+'Tabela I'!B2 -> 1.1.2020.-31.12.2020.
A3: Tabela IIIa - Kvalitet sudskih odluka po nosiocima pravosudnih funkcija - Elektronski obrazac za obračun kvaliteta odluka (pogledati NAPOMENU 2 i 3)
A6: Redni broj | B6: Ime i prezime - podatak je automatski prenesen iz Tabele IIa - OBAVEZNO ZADRŽATI REDOSLIJED NPF-a iz Tabele IIa | C6: Naziv odjela - podatak je automatski prenesen iz Tabele IIa - OBAVEZNO ZADRŽATI REDOSLIJED NPF-a iz Tabele IIa | D6: Pravosudna funkcija - podatak je automatski prenesen iz Tabele IIa - OBAVEZNO ZADRŽATI REDOSLIJED NPF-a iz Tabele IIa | E6: Ocijenjen / Nije ocijenjen u sudu | F6: Ukupan broj donesenih odluka na koje se može izjaviti pravni lijek | G6: Ukupan broj ožalbenih odluka | H6: Broj odbačenih pravnih lijekova*** | I6: Broj potvrđenih odluka | J6: Broj preinačenih odluka | K6: Broj preinačenih odluka donijetih na raspravi ili na pretresu pred višim sudom**** | L6: Broj ukinutih odluka | M6: Broj djelimično ukinutih odluka | N6: Kvalitet sudskih odluka prema članu 18. stav (1) tačka a) Kriterija (S) i članu 17. stav (1) Kriterija (PS i PSO) | O6: Broj ostvarenih bodova za kvalitet prema članu 18. stav (1) tačka a) Kriterija (S) i članu 17. stav (1) Kriterija (PS i PSO) | P6: Kvalitet sudskih odluka prema članu 18. stav (1) tačka b) Kriterija (S) i članu 17. stav (2) Kriterija (PS i PSO) | Q6: Broj ostvarenih bodova za kvalitet prema članu 18. stav 1. tačka b) Kriterija (S) i članu 17. stav (2) Kriterija (PS i PSO) | R6: UKUPAN broj ostvarenih bodova za kvalitet sudskih odluka | S6: Kvalitet sudskih odluka
I7: Odbijen pravni lijek
A8: I | B8: II | C8: III | D8: IV | E8: V | F8: V | G8: VI | H8: VII | I8: VIII | J8: IX | K8: X | L8: XI | M8: XII | N8: XIV | O8: XV | P8: XVI | Q8: XVII | R8: XVIII | S8: XIII
A10: 1 | B10: =IF('Tabela II'!B8="","",'Tabela II'!B8) -> Bosiljka Rudeš | D10: Predsjednik suda * | F10: 57 | G10: =SUM(I10:M10) -> 10 | H10: 25 | I10: 10 | J10: 0 | K10: 0 | L10: 0 | M10: 0 | N10: =IF(E10="","",IF(E10="Nije ocijenjen ili Ne treba raditi na predmetima","",IF(E10="Ocijenjen",IF(G10<10,"Član 18. stav 7. Kriterija",(L10+(M10/2))/(G10))))) | O10: =IF(E10="","",IF(E10="Nije ocijenjen ili Ne treba raditi na predmetima","",IF(E10="Ocijenjen",IF(N10="Član 18. stav 7. Kriterija","",IF(N10>0.4,0,IF(N10>0.3,1,IF(N10>0.2,2,IF(N10>0.1,3,IF(N10>0.05,4,IF(N10<=0.05,5,)))))))))) | P10: =IF(E10="","",IF(E10="Nije ocijenjen ili Ne treba raditi na predmetima","",IF(E10="Ocijenjen",IF(F10=0,"",((L10+K10+(M10/2))/(F10)))))) | Q10: =IF(E10="","",IF(E10="Nije ocijenjen ili Ne treba raditi na predmetima","",IF(E10="Ocijenjen",IF(P10>0.2,0,IF(P10>0.15,1,IF(P10>0.1,2,IF(P10>0.06,3,IF(P10>0.03,4,IF(P10<=0.03,5,))))))))) | R10: =IF(E10="","",IF(E10="Nije ocijenjen ili Ne treba raditi na predmetima","",IF(E10="Ocijenjen",IF(N10="Član 18. stav 7. Kriterija",Q10,O10+Q10)))) | S10: =IF(F10=0,"",IF(F10=0,1,0.83*((G10-L10-M10/2)/G10)+0.17*((F10-K10-L10-M10/2)/F10))) -> 1 | V10: Ocijenjen
A11: 2 | B11: =IF('Tabela II'!B10="","",'Tabela II'!B10) -> Mile Zeljko | C11: =IF('Tabela II'!D10="","",'Tabela II'!D10) -> sudsko odjeljenje | D11: =IF('Tabela II'!E10="","",'Tabela II'!E10) -> sudija | F11: 16 | G11: =SUM(I11:M11) -> 29 | H11: 18 | I11: 16 | J11: 6 | K11: 0 | L11: 7 | M11: 0 | N11: =IF(E11="","",IF(E11="Nije ocijenjen","",IF(E11="Ocijenjen",IF(G11<10,"Član 18. stav 7. Kriterija",(L11+(M11/2))/(G11))))) | O11: =IF(E11="","",IF(E11="Nije ocijenjen","",IF(E11="Ocijenjen",IF(N11="Član 18. stav 7. Kriterija","",IF(N11>0.4,0,IF(N11>0.3,5,IF(N11>0.2,10,IF(N11>0.1,15,IF(N11>0.05,20,IF(N11<=0.05,25,)))))))))) | P11: =IF(E11="","",IF(E11="Nije ocijenjen","",IF(E11="Ocijenjen",IF(F11=0,"",((L11+K11+(M11/2))/(F11)))))) | Q11: =IF(E11="","",IF(E11="Nije ocijenjen","",IF(E11="Ocijenjen",IF(P11>0.2,0,IF(P11>0.15,1,IF(P11>0.1,2,IF(P11>0.06,3,IF(P11>0.03,4,IF(P11<=0.03,5,))))))))) | R11: =IF(E11="","",IF(E11="Nije ocijenjen","",IF(E11="Ocijenjen",IF(N11="Član 18. stav 7. Kriterija",Q11,O11+Q11)))) | S11: =IF(F11=0,"",IF(F11=0,1,0.83*((G11-L11-M11/2)/G11)+0.17*((F11-K11-L11-M11/2)/F11))) -> 0.72528017 | T11: Sudija | V11: Nije ocijenjen
A12: 3 | B12: =IF('Tabela II'!B11="","",'Tabela II'!B11) -> Gordana Pažin | C12: =IF('Tabela II'!D11="","",'Tabela II'!D11) -> sudsko odjeljenje | D12: =IF('Tabela II'!E11="","",'Tabela II'!E11) -> Sudija | F12: 12 | G12: =SUM(I12:M12) -> 22 | H12: 10 | I12: 18 | J12: 3 | K12: 0 | L12: 1 | M12: 0 | N12: =IF(E12="","",IF(E12="Nije ocijenjen","",IF(E12="Ocijenjen",IF(G12<10,"Član 18. stav 7. Kriterija",(L12+(M12/2))/(G12))))) | O12: =IF(E12="","",IF(E12="Nije ocijenjen","",IF(E12="Ocijenjen",IF(N12="Član 18. stav 7. Kriterija","",IF(N12>0.4,0,IF(N12>0.3,5,IF(N12>0.2,10,IF(N12>0.1,15,IF(N12>0.05,20,IF(N12<=0.05,25,)))))))))) | P12: =IF(E12="","",IF(E12="Nije ocijenjen","",IF(E12="Ocijenjen",IF(F12=0,"",((L12+K12+(M12/2))/(F12)))))) | Q12: =IF(E12="","",IF(E12="Nije ocijenjen","",IF(E12="Ocijenjen",IF(P12>0.2,0,IF(P12>0.15,1,IF(P12>0.1,2,IF(P12>0.06,3,IF(P12>0.03,4,IF(P12<=0.03,5,))))))))) | R12: =IF(E12="","",IF(E12="Nije ocijenjen","",IF(E12="Ocijenjen",IF(N12="Član 18. stav 7. Kriterija",Q12,O12+Q12)))) | S12: =IF(F12=0,"",IF(F12=0,1,0.83*((G12-L12-M12/2)/G12)+0.17*((F12-K12-L12-M12/2)/F12))) -> 0.94810606 | T12: Stručni saradnik
A13: 4 | B13: =IF('Tabela II'!B12="","",'Tabela II'!B12) -> Katica Artuković | C13: =IF('Tabela II'!D12="","",'Tabela II'!D12) -> sudsko odjeljenje | D13: =IF('Tabela II'!E12="","",'Tabela II'!E12) -> Sudija | F13: 169 | G13: =SUM(I13:M13) -> 4 | H13: 4 | I13: 2 | J13: 1 | K13: 0 | L13: 1 | M13: 0 | N13: =IF(E13="","",IF(E13="Nije ocijenjen","",IF(E13="Ocijenjen",IF(G13<10,"Član 18. stav 7. Kriterija",(L13+(M13/2))/(G13))))) | O13: =IF(E13="","",IF(E13="Nije ocijenjen","",IF(E13="Ocijenjen",IF(N13="Član 18. stav 7. Kriterija","",IF(N13>0.4,0,IF(N13>0.3,5,IF(N13>0.2,10,IF(N13>0.1,15,IF(N13>0.05,20,IF(N13<=0.05,25,)))))))))) | P13: =IF(E13="","",IF(E13="Nije ocijenjen","",IF(E13="Ocijenjen",IF(F13=0,"",((L13+K13+(M13/2))/(F13)))))) | Q13: =IF(E13="","",IF(E13="Nije ocijenjen","",IF(E13="Ocijenjen",IF(P13>0.2,0,IF(P13>0.15,1,IF(P13>0.1,2,IF(P13>0.06,3,IF(P13>0.03,4,IF(P13<=0.03,5,))))))))) | R13: =IF(E13="","",IF(E13="Nije ocijenjen","",IF(E13="Ocijenjen",IF(N13="Član 18. stav 7. Kriterija",Q13,O13+Q13)))) | S13: =IF(F13=0,"",IF(F13=0,1,0.83*((G13-L13-M13/2)/G13)+0.17*((F13-K13-L13-M13/2)/F13))) -> 0.79149408 | T13: Predsjednik odjela
A14: 5 | B14: =IF('Tabela II'!B13="","",'Tabela II'!B13) -> Franjo Ravlija | C14: =IF('Tabela II'!D13="","",'Tabela II'!D13) -> sudsko odjeljenje | D14: =IF('Tabela II'!E13="","",'Tabela II'!E13) -> Sudija | F14: 47 | G14: =SUM(I14:M14) -> 8 | H14: 24 | I14: 7 | J14: 1 | K14: 0 | L14: 0 | M14: 0 | N14: =IF(E14="","",IF(E14="Nije ocijenjen","",IF(E14="Ocijenjen",IF(G14<10,"Član 18. stav 7. Kriterija",(L14+(M14/2))/(G14))))) | O14: =IF(E14="","",IF(E14="Nije ocijenjen","",IF(E14="Ocijenjen",IF(N14="Član 18. stav 7. Kriterija","",IF(N14>0.4,0,IF(N14>0.3,5,IF(N14>0.2,10,IF(N14>0.1,15,IF(N14>0.05,20,IF(N14<=0.05,25,)))))))))) | P14: =IF(E14="","",IF(E14="Nije ocijenjen","",IF(E14="Ocijenjen",IF(F14=0,"",((L14+K14+(M14/2))/(F14)))))) | Q14: =IF(E14="","",IF(E14="Nije ocijenjen","",IF(E14="Ocijenjen",IF(P14>0.2,0,IF(P14>0.15,1,IF(P14>0.1,2,IF(P14>0.06,3,IF(P14>0.03,4,IF(P14<=0.03,5,))))))))) | R14: =IF(E14="","",IF(E14="Nije ocijenjen","",IF(E14="Ocijenjen",IF(N14="Član 18. stav 7. Kriterija",Q14,O14+Q14)))) | S14: =IF(F14=0,"",IF(F14=0,1,0.83*((G14-L14-M14/2)/G14)+0.17*((F14-K14-L14-M14/2)/F14))) -> 1 | T14: Predsjednik sudskog vijeća vrhovnog suda entiteta
A15: 6 | B15: =IF('Tabela II'!B14="","",'Tabela II'!B14) | C15: =IF('Tabela II'!D14="","",'Tabela II'!D14) | D15: =IF('Tabela II'!E14="","",'Tabela II'!E14) | G15: =SUM(I15:M15) -> 0 | N15: =IF(E15="","",IF(E15="Nije ocijenjen","",IF(E15="Ocijenjen",IF(G15<10,"Član 18. stav 7. Kriterija",(L15+(M15/2))/(G15))))) | O15: =IF(E15="","",IF(E15="Nije ocijenjen","",IF(E15="Ocijenjen",IF(N15="Član 18. stav 7. Kriterija","",IF(N15>0.4,0,IF(N15>0.3,5,IF(N15>0.2,10,IF(N15>0.1,15,IF(N15>0.05,20,IF(N15<=0.05,25,)))))))))) | P15: =IF(E15="","",IF(E15="Nije ocijenjen","",IF(E15="Ocijenjen",IF(F15=0,"",((L15+K15+(M15/2))/(F15)))))) | Q15: =IF(E15="","",IF(E15="Nije ocijenjen","",IF(E15="Ocijenjen",IF(P15>0.2,0,IF(P15>0.15,1,IF(P15>0.1,2,IF(P15>0.06,3,IF(P15>0.03,4,IF(P15<=0.03,5,))))))))) | R15: =IF(E15="","",IF(E15="Nije ocijenjen","",IF(E15="Ocijenjen",IF(N15="Član 18. stav 7. Kriterija",Q15,O15+Q15)))) | S15: =IF(F15=0,"",IF(F15=0,1,0.83*((G15-L15-M15/2)/G15)+0.17*((F15-K15-L15-M15/2)/F15))) | T15: Član VSTV-a
A16: 7 | B16: =IF('Tabela II'!B15="","",'Tabela II'!B15) | C16: =IF('Tabela II'!D15="","",'Tabela II'!D15) | D16: =IF('Tabela II'!E15="","",'Tabela II'!E15) | G16: =SUM(I16:M16) -> 0 | N16: =IF(E16="","",IF(E16="Nije ocijenjen","",IF(E16="Ocijenjen",IF(G16<10,"Član 18. stav 7. Kriterija",(L16+(M16/2))/(G16))))) | O16: =IF(E16="","",IF(E16="Nije ocijenjen","",IF(E16="Ocijenjen",IF(N16="Član 18. stav 7. Kriterija","",IF(N16>0.4,0,IF(N16>0.3,5,IF(N16>0.2,10,IF(N16>0.1,15,IF(N16>0.05,20,IF(N16<=0.05,25,)))))))))) | P16: =IF(E16="","",IF(E16="Nije ocijenjen","",IF(E16="Ocijenjen",IF(F16=0,"",((L16+K16+(M16/2))/(F16)))))) | Q16: =IF(E16="","",IF(E16="Nije ocijenjen","",IF(E16="Ocijenjen",IF(P16>0.2,0,IF(P16>0.15,1,IF(P16>0.1,2,IF(P16>0.06,3,IF(P16>0.03,4,IF(P16<=0.03,5,))))))))) | R16: =IF(E16="","",IF(E16="Nije ocijenjen","",IF(E16="Ocijenjen",IF(N16="Član 18. stav 7. Kriterija",Q16,O16+Q16)))) | S16: =IF(F16=0,"",IF(F16=0,1,0.83*((G16-L16-M16/2)/G16)+0.17*((F16-K16-L16-M16/2)/F16)))
A17: 8 | B17: =IF('Tabela II'!B16="","",'Tabela II'!B16) | C17: =IF('Tabela II'!D16="","",'Tabela II'!D16) | D17: =IF('Tabela II'!E16="","",'Tabela II'!E16) | G17: =SUM(I17:M17) -> 0 | N17: =IF(E17="","",IF(E17="Nije ocijenjen","",IF(E17="Ocijenjen",IF(G17<10,"Član 18. stav 7. Kriterija",(L17+(M17/2))/(G17))))) | O17: =IF(E17="","",IF(E17="Nije ocijenjen","",IF(E17="Ocijenjen",IF(N17="Član 18. stav 7. Kriterija","",IF(N17>0.4,0,IF(N17>0.3,5,IF(N17>0.2,10,IF(N17>0.1,15,IF(N17>0.05,20,IF(N17<=0.05,25,)))))))))) | P17: =IF(E17="","",IF(E17="Nije ocijenjen","",IF(E17="Ocijenjen",IF(F17=0,"",((L17+K17+(M17/2))/(F17)))))) | Q17: =IF(E17="","",IF(E17="Nije ocijenjen","",IF(E17="Ocijenjen",IF(P17>0.2,0,IF(P17>0.15,1,IF(P17>0.1,2,IF(P17>0.06,3,IF(P17>0.03,4,IF(P17<=0.03,5,))))))))) | R17: =IF(E17="","",IF(E17="Nije ocijenjen","",IF(E17="Ocijenjen",IF(N17="Član 18. stav 7. Kriterija",Q17,O17+Q17)))) | S17: =IF(F17=0,"",IF(F17=0,1,0.83*((G17-L17-M17/2)/G17)+0.17*((F17-K17-L17-M17/2)/F17))) | V17: Ocijenjen
A18: 9 | B18: =IF('Tabela II'!B17="","",'Tabela II'!B17) | C18: =IF('Tabela II'!D17="","",'Tabela II'!D17) | D18: =IF('Tabela II'!E17="","",'Tabela II'!E17) | G18: =SUM(I18:M18) -> 0 | N18: =IF(E18="","",IF(E18="Nije ocijenjen","",IF(E18="Ocijenjen",IF(G18<10,"Član 18. stav 7. Kriterija",(L18+(M18/2))/(G18))))) | O18: =IF(E18="","",IF(E18="Nije ocijenjen","",IF(E18="Ocijenjen",IF(N18="Član 18. stav 7. Kriterija","",IF(N18>0.4,0,IF(N18>0.3,5,IF(N18>0.2,10,IF(N18>0.1,15,IF(N18>0.05,20,IF(N18<=0.05,25,)))))))))) | P18: =IF(E18="","",IF(E18="Nije ocijenjen","",IF(E18="Ocijenjen",IF(F18=0,"",((L18+K18+(M18/2))/(F18)))))) | Q18: =IF(E18="","",IF(E18="Nije ocijenjen","",IF(E18="Ocijenjen",IF(P18>0.2,0,IF(P18>0.15,1,IF(P18>0.1,2,IF(P18>0.06,3,IF(P18>0.03,4,IF(P18<=0.03,5,))))))))) | R18: =IF(E18="","",IF(E18="Nije ocijenjen","",IF(E18="Ocijenjen",IF(N18="Član 18. stav 7. Kriterija",Q18,O18+Q18)))) | S18: =IF(F18=0,"",IF(F18=0,1,0.83*((G18-L18-M18/2)/G18)+0.17*((F18-K18-L18-M18/2)/F18))) | V18: Nije ocijenjen ili Ne treba raditi na predmetima
A19: 10 | B19: =IF('Tabela II'!B18="","",'Tabela II'!B18) | C19: =IF('Tabela II'!D18="","",'Tabela II'!D18) | D19: =IF('Tabela II'!E18="","",'Tabela II'!E18) | G19: =SUM(I19:M19) -> 0 | N19: =IF(E19="","",IF(E19="Nije ocijenjen","",IF(E19="Ocijenjen",IF(G19<10,"Član 18. stav 7. Kriterija",(L19+(M19/2))/(G19))))) | O19: =IF(E19="","",IF(E19="Nije ocijenjen","",IF(E19="Ocijenjen",IF(N19="Član 18. stav 7. Kriterija","",IF(N19>0.4,0,IF(N19>0.3,5,IF(N19>0.2,10,IF(N19>0.1,15,IF(N19>0.05,20,IF(N19<=0.05,25,)))))))))) | P19: =IF(E19="","",IF(E19="Nije ocijenjen","",IF(E19="Ocijenjen",IF(F19=0,"",((L19+K19+(M19/2))/(F19)))))) | Q19: =IF(E19="","",IF(E19="Nije ocijenjen","",IF(E19="Ocijenjen",IF(P19>0.2,0,IF(P19>0.15,1,IF(P19>0.1,2,IF(P19>0.06,3,IF(P19>0.03,4,IF(P19<=0.03,5,))))))))) | R19: =IF(E19="","",IF(E19="Nije ocijenjen","",IF(E19="Ocijenjen",IF(N19="Član 18. stav 7. Kriterija",Q19,O19+Q19)))) | S19: =IF(F19=0,"",IF(F19=0,1,0.83*((G19-L19-M19/2)/G19)+0.17*((F19-K19-L19-M19/2)/F19)))
A20: 11 | B20: =IF('Tabela II'!B19="","",'Tabela II'!B19) | C20: =IF('Tabela II'!D19="","",'Tabela II'!D19) | D20: =IF('Tabela II'!E19="","",'Tabela II'!E19) | G20: =SUM(I20:M20) -> 0 | N20: =IF(E20="","",IF(E20="Nije ocijenjen","",IF(E20="Ocijenjen",IF(G20<10,"Član 18. stav 7. Kriterija",(L20+(M20/2))/(G20))))) | O20: =IF(E20="","",IF(E20="Nije ocijenjen","",IF(E20="Ocijenjen",IF(N20="Član 18. stav 7. Kriterija","",IF(N20>0.4,0,IF(N20>0.3,5,IF(N20>0.2,10,IF(N20>0.1,15,IF(N20>0.05,20,IF(N20<=0.05,25,)))))))))) | P20: =IF(E20="","",IF(E20="Nije ocijenjen","",IF(E20="Ocijenjen",IF(F20=0,"",((L20+K20+(M20/2))/(F20)))))) | Q20: =IF(E20="","",IF(E20="Nije ocijenjen","",IF(E20="Ocijenjen",IF(P20>0.2,0,IF(P20>0.15,1,IF(P20>0.1,2,IF(P20>0.06,3,IF(P20>0.03,4,IF(P20<=0.03,5,))))))))) | R20: =IF(E20="","",IF(E20="Nije ocijenjen","",IF(E20="Ocijenjen",IF(N20="Član 18. stav 7. Kriterija",Q20,O20+Q20)))) | S20: =IF(F20=0,"",IF(F20=0,1,0.83*((G20-L20-M20/2)/G20)+0.17*((F20-K20-L20-M20/2)/F20)))
A21: 12 | B21: =IF('Tabela II'!B20="","",'Tabela II'!B20) | C21: =IF('Tabela II'!D20="","",'Tabela II'!D20) | D21: =IF('Tabela II'!E20="","",'Tabela II'!E20) | G21: =SUM(I21:M21) -> 0 | N21: =IF(E21="","",IF(E21="Nije ocijenjen","",IF(E21="Ocijenjen",IF(G21<10,"Član 18. stav 7. Kriterija",(L21+(M21/2))/(G21))))) | O21: =IF(E21="","",IF(E21="Nije ocijenjen","",IF(E21="Ocijenjen",IF(N21="Član 18. stav 7. Kriterija","",IF(N21>0.4,0,IF(N21>0.3,5,IF(N21>0.2,10,IF(N21>0.1,15,IF(N21>0.05,20,IF(N21<=0.05,25,)))))))))) | P21: =IF(E21="","",IF(E21="Nije ocijenjen","",IF(E21="Ocijenjen",IF(F21=0,"",((L21+K21+(M21/2))/(F21)))))) | Q21: =IF(E21="","",IF(E21="Nije ocijenjen","",IF(E21="Ocijenjen",IF(P21>0.2,0,IF(P21>0.15,1,IF(P21>0.1,2,IF(P21>0.06,3,IF(P21>0.03,4,IF(P21<=0.03,5,))))))))) | R21: =IF(E21="","",IF(E21="Nije ocijenjen","",IF(E21="Ocijenjen",IF(N21="Član 18. stav 7. Kriterija",Q21,O21+Q21)))) | S21: =IF(F21=0,"",IF(F21=0,1,0.83*((G21-L21-M21/2)/G21)+0.17*((F21-K21-L21-M21/2)/F21)))
A22: 13 | B22: =IF('Tabela II'!B21="","",'Tabela II'!B21) | C22: =IF('Tabela II'!D21="","",'Tabela II'!D21) | D22: =IF('Tabela II'!E21="","",'Tabela II'!E21) | G22: =SUM(I22:M22) -> 0 | N22: =IF(E22="","",IF(E22="Nije ocijenjen","",IF(E22="Ocijenjen",IF(G22<10,"Član 18. stav 7. Kriterija",(L22+(M22/2))/(G22))))) | O22: =IF(E22="","",IF(E22="Nije ocijenjen","",IF(E22="Ocijenjen",IF(N22="Član 18. stav 7. Kriterija","",IF(N22>0.4,0,IF(N22>0.3,5,IF(N22>0.2,10,IF(N22>0.1,15,IF(N22>0.05,20,IF(N22<=0.05,25,)))))))))) | P22: =IF(E22="","",IF(E22="Nije ocijenjen","",IF(E22="Ocijenjen",IF(F22=0,"",((L22+K22+(M22/2))/(F22)))))) | Q22: =IF(E22="","",IF(E22="Nije ocijenjen","",IF(E22="Ocijenjen",IF(P22>0.2,0,IF(P22>0.15,1,IF(P22>0.1,2,IF(P22>0.06,3,IF(P22>0.03,4,IF(P22<=0.03,5,))))))))) | R22: =IF(E22="","",IF(E22="Nije ocijenjen","",IF(E22="Ocijenjen",IF(N22="Član 18. stav 7. Kriterija",Q22,O22+Q22)))) | S22: =IF(F22=0,"",IF(F22=0,1,0.83*((G22-L22-M22/2)/G22)+0.17*((F22-K22-L22-M22/2)/F22)))
A23: 14 | B23: =IF('Tabela II'!B22="","",'Tabela II'!B22) | C23: =IF('Tabela II'!D22="","",'Tabela II'!D22) | D23: =IF('Tabela II'!E22="","",'Tabela II'!E22) | G23: =SUM(I23:M23) -> 0 | N23: =IF(E23="","",IF(E23="Nije ocijenjen","",IF(E23="Ocijenjen",IF(G23<10,"Član 18. stav 7. Kriterija",(L23+(M23/2))/(G23))))) | O23: =IF(E23="","",IF(E23="Nije ocijenjen","",IF(E23="Ocijenjen",IF(N23="Član 18. stav 7. Kriterija","",IF(N23>0.4,0,IF(N23>0.3,5,IF(N23>0.2,10,IF(N23>0.1,15,IF(N23>0.05,20,IF(N23<=0.05,25,)))))))))) | P23: =IF(E23="","",IF(E23="Nije ocijenjen","",IF(E23="Ocijenjen",IF(F23=0,"",((L23+K23+(M23/2))/(F23)))))) | Q23: =IF(E23="","",IF(E23="Nije ocijenjen","",IF(E23="Ocijenjen",IF(P23>0.2,0,IF(P23>0.15,1,IF(P23>0.1,2,IF(P23>0.06,3,IF(P23>0.03,4,IF(P23<=0.03,5,))))))))) | R23: =IF(E23="","",IF(E23="Nije ocijenjen","",IF(E23="Ocijenjen",IF(N23="Član 18. stav 7. Kriterija",Q23,O23+Q23)))) | S23: =IF(F23=0,"",IF(F23=0,1,0.83*((G23-L23-M23/2)/G23)+0.17*((F23-K23-L23-M23/2)/F23)))
