Workbook

Sheet Uputstvo
B2: OPĆINSKI/OSNOVNI SUDOVI
B4: Kompletni materijali u vezi procesa izvještavanja i ocjenjivanja rada u sudovima za 2022. godinu dostupni su na linku:
B5: https://vstv.pravosudje.ba/vstvfo/B/141/article/106391
B6: Tabele za popunjavanje podataka o radu sudova nije moguće mijenjati, niti dodavati nove redove ili kolone.
B7: Tabele se isključivo popunjavaju predviđenim redoslijedom, po redoslijedu postavljenih tabela.
B10: Podatke je potrebno upisivati samo u polja osjenčena žutom bojom.
B11: U ostala polja nije moguće upisivati vrijednosti, u ovim poljima vrijednosti će biti izračunate automatski.
B12: Molimo Vas da u Tabeli I i naslovu e-maila (subject) kojim ćete poslati popunjene obrasce navedete naziv Vašeg suda.
B15: Popunjene obrasce poslati na e-mail adresu: vstvstatistika@pravosudje.ba do 01.02.2023. godine.
B17: Za sva eventualna pitanja vezano za popunjavanje obrazaca molimo Vas da kontaktirate
B18: Odjel za pravosudnu analitiku i izvještavanje, na telefon: 033 704 616 ili 033 707 584.
B20: Tabele za ocjenjivanje NPF u sudu sadrže detaljnije napomene koje je potrebno imati u vidu prilikom popunjavanja tabela.
... B36: TABELA I – PROTOK PREDMETA U SUDU KOJI NISU EVIDENTIRANI U CMS-U Napomena za prikazivanje podataka o tzv. komunalnim predmetima: Prema pojašnjenju ove kategorije predmeta, koja je Vijeće pružilo u dopisu broj VSTV-08-0027-10012007 od 10.01.2007.godine, pod komunalnim predmetima se smatraju svi predmeti u kojima su povjerilac preduzeća, a odnose se na neplaćene komunalne usluge. Prema tome, u ovu kategoriju predmeta spadaju predmeti koji se odnose na naplatu potraživanja nastalih na osnovu isporuke vode, toplotne energije, odvoza smeća, električne energije, telefonskih usluga, održavanje zajedničkih prostorija, RTV takse i slično.

Sheet Tabela I
A1: Općinski/Osnovni sud: | C1: Bugojno | F1: 2022
A2: Izvještajni period: | C2: 1.1.2022.- 31.12.2022.
A3: Ostvarena kolektivna norma za sud u 2022. godini: | E3: =+'Tabela II'!P89 -> 1.0478786
A4: Kvalitet rada suda: | C4: ='Tabela III'!J47 -> 0.90355342
A5: Tabela I - Protok predmeta u sudu koji nisu evidentirani u sistemu CMS (pogledati NAPOMENU 1)
A6: Vrsta predmeta | B6: Broj neriješenih predmeta na početku izvještajnog perioda | C6: Broj primljenih predmeta | D6: Ukupan broj svih predmeta u radu | E6: Broj riješenih predmeta | F6: Broj neriješenih predmeta na kraju izvještajnog perioda
B7: I | C7: II | D7: III=I+II | E7: IV | F7: V=III-IV
A8: Predmeti za naplatu komunalnih usluga
A9: Mal | D9: =IF((B9+C9)=0," ",(B9+C9)) | F9: =IF((B9+C9-E9)=0," ",(B9+C9-E9))
A10: Mals | D10: =IF((B10+C10)=0," ",(B10+C10)) | F10: =IF((B10+C10-E10)=0," ",(B10+C10-E10))
A11: I | B11: 3071 | C11: 1282 | D11: =IF((B11+C11)=0," ",(B11+C11)) -> 4353 | E11: 2148 | F11: =IF((B11+C11-E11)=0," ",(B11+C11-E11)) -> 2205
A12: Ip | B12: 64 | C12: 23 | D12: =IF((B12+C12)=0," ",(B12+C12)) -> 87 | E12: 74 | F12: =IF((B12+C12-E12)=0," ",(B12+C12-E12)) -> 13
A13: Ukupno | B13: =SUM(B9:B12) -> 3135 | C13: =SUM(C9:C12) -> 1305 | D13: =SUM(D9:D12) -> 4440 | E13: =SUM(E9:E12) -> 2222 | F13: =SUM(F9:F12) -> 2218
A14: Predmeti registracije
A15: Reg | D15: =IF((B15+C15)=0," ",(B15+C15)) | F15: =IF((B15+C15-E15)=0," ",(B15+C15-E15))
A16: RegZ | D16: =IF((B16+C16)=0," ",(B16+C16)) | F16: =IF((B16+C16-E16)=0," ",(B16+C16-E16))
A17: F1 | D17: =IF((B17+C17)=0," ",(B17+C17)) | F17: =IF((B17+C17-E17)=0," ",(B17+C17-E17))
A18: F2 | D18: =IF((B18+C18)=0," ",(B18+C18)) | F18: =IF((B18+C18-E18)=0," ",(B18+C18-E18))
A19: F3 | D19: =IF((B19+C19)=0," ",(B19+C19)) | F19: =IF((B19+C19-E19)=0," ",(B19+C19-E19))
A20: Ostalo | D20: =IF((B20+C20)=0," ",(B20+C20)) | F20: =IF((B20+C20-E20)=0," ",(B20+C20-E20))
A21: Ukupno | B21: =SUM(B15:B20) -> 0 | C21: =SUM(C15:C20) -> 0 | D21: =SUM(D15:D20) -> 0 | E21: =SUM(E15:E20) -> 0 | F21: =SUM(F15:F20) -> 0
A22: ZK predmeti
A23: Dn | B23: 29 | C23: 2720 | D23: =IF((B23+C23)=0," ",(B23+C23)) -> 2749 | E23: 2540 | F23: =IF((B23+C23-E23)=0," ",(B23+C23-E23)) -> 209
A24: Nar | C24: 9297 | D24: =IF((B24+C24)=0," ",(B24+C24)) -> 9297 | E24: 9297 | F24: =IF((B24+C24-E24)=0," ",(B24+C24-E24))
A25: Rz | C25: 1699 | D25: =IF((B25+C25)=0," ",(B25+C25)) -> 1699 | E25: 1699 | F25: =IF((B25+C25-E25)=0," ",(B25+C25-E25))
A26: Kpu | C26: 74 | D26: =IF((B26+C26)=0," ",(B26+C26)) -> 74 | E26: 70 | F26: =IF((B26+C26-E26)=0," ",(B26+C26-E26)) -> 4
A27: Ostalo | D27: =IF((B27+C27)=0," ",(B27+C27)) | F27: =IF((B27+C27-E27)=0," ",(B27+C27-E27))
A28: Ukupno | B28: =SUM(B23:B27) -> 29 | C28: =SUM(C23:C27) -> 13790 | D28: =SUM(D23:D27) -> 13819 | E28: =SUM(E23:E27) -> 13606 | F28: =SUM(F23:F27) -> 213
A30: Medijacija | D30: =B30+C30 -> 0 | F30: =B30+C30-E30 -> 0
A32: UKUPNO | B32: =B13+B21+B28+B30 -> 3164 | C32: =C13+C21+C28+C30 -> 15095 | D32: =D13+D21+D28+D30 -> 18259 | E32: =E13+E21+E28+E30 -> 15828 | F32: =F13+F21+F28+F30 -> 2431
A34: Napomena 1: Molimo Vas da obratite pažnju da podaci koji se iskazuju u Tabeli I - Protok predmeta u sudu koji nisu evidentirani u CMS Kolona I – Broj neriješenih predmeta na početku izvještajnog perioda trebaju biti jednaki podacima o broju neriješenih predmeta na kraju izvještajnog perioda koje ste iskazali u Tabeli za izvještavanje o radu suda za 2021. godinu (Tabela I - Protok predmeta u sudu koji nisu evidentirani u CMS Kolona V – Broj neriješenih predmeta na kraju izvještajnog perioda). | D34: Ukoliko, ipak, postoji razlika u broju neriješenih predmeta na početku 2022. godine u odnosu na kraj 2021. godine, molimo da unesete detaljno obrazloženje te razlike. Takođe, ukoliko je tokom godine došlo do značajnog povećanja priliva neke vrste predmeta navedene u ovoj izvještajnoj tabeli, molimo da unesete obrazloženje.
A36: Pomoći radi, na linku iz sheet-a "Uputstvo" nalazi se tabela "4. Pomoćna tabela: Ukupan broj neriješenih predmeta VAN CMS-a na kraju 2021.godine" sa podacima o ukupnom broju neriješenih predmeta koji nisu evidentirani u CMS-u na kraju 2021. godine, koje ste VSTV-u BiH dostavili putem Tabele za izvještavanje o radu suda za 2021. godinu (Tabela I - Protok predmeta u sudu koji nisu evidentirani u CMS Kolona V – Broj neriješenih predmeta na kraju izvještajnog perioda).

Sheet Tabela Ia
A1: Općinski/Osnovni sud: | B1: ='Tabela I'!C1 -> Bugojno
A2: Izvještajni period: | B2: ='Tabela I'!C2 -> 1.1.2022.- 31.12.2022.
A3: Tabela Ia - Protok ZK predmeta
A4: Vrsta predmeta | B4: Broj neriješenih predmeta na početku izvještajnog perioda | C4: Broj primljenih predmeta | D4: Ukupan broj svih predmeta u radu | E4: Broj riješenih predmeta | F4: Broj neriješenih predmeta na kraju izvještajnog perioda
B5: I | C5: II | D5: III=I+II | E5: IV | F5: V=III-IV
A6: ZK predmeti
A7: Zahtjevi za upis | B7: 29 | C7: 2720 | D7: =IF(B7+C7=0," ",(B7+C7)) -> 2749 | E7: 2540 | F7: =IF((B7+C7-E7)=0," ",(B7+C7-E7)) -> 209
A8: Zahtjevi za ZK izvadke | C8: 9297 | D8: =IF(B8+C8=0," ",(B8+C8)) -> 9297 | E8: 9297 | F8: =IF((B8+C8-E8)=0," ",(B8+C8-E8))
A9: Zahtjevi za uspostavljanje ZK uložaka | C9: 74 | D9: =IF(B9+C9=0," ",(B9+C9)) -> 74 | E9: 70 | F9: =IF((B9+C9-E9)=0," ",(B9+C9-E9)) -> 4
A10: Ostalo (uvjerenja, potvrde i dr.) | C10: 1699 | D10: =IF(B10+C10=0," ",(B10+C10)) -> 1699 | E10: 1699 | F10: =IF((B10+C10-E10)=0," ",(B10+C10-E10))
A11: Ukupno | B11: =(B7+B8+B9+B10) -> 29 | C11: =(C7+C8+C9+C10) -> 13790 | D11: =SUM(B7:C10) -> 13819 | E11: =(E7+E8+E9+E10) -> 13606 | F11: =(SUM(B7:C10)-SUM(E7:E10)) -> 213

Sheet Tabela II
A1: ='Tabela I'!A1 -> Općinski/Osnovni sud: | D1: ='Tabela I'!C1 -> Bugojno
A2: Izvještajni period: | C2: 1.1.2022.-31.12.2022.
A3: Tabela IIa – Ostvarena orijentaciona norma - Elektronski obrazac za obračun ostvarene orijentacione norme (pogledati NAPOMENU 4)
A5: Redni broj | B5: Ime i prezime - evidentirani podatak se automatski prenosi u Tabelu IIIa | C5: Ocjenjen u sudu | D5: Naziv odjela | E5: Pravosudna funkcija | G5: Procenat orijentacijske norme koju je nosilac pravosudne funkcije dužan ostvariti - Ukoliko procenat orijenatcijske norme nije predviđen u padajućem meniju pogledati NAPOMENU 3 | H5: Period obavljanja pravosudne funkcije u instituciji koja popunjava tabelu Ia | J5: Ukupan broj dana za obračun norme - pogledati NAPOMENU 2 | K5: Broj dana opravdanog odsustva iz člana 13. Kriterija za ocjenjivanje rada (pogledati NAPOMENU 9) | L5: Ostvarena orijentaciona norma iz CMS-a | M5: Ostvarena orijentaciona norma na predmetima van CMS-a - pogledati NAPOMENU 6 | N5: Procenat ostvarene orijentacione norme prema članu 9. Pravilnika o orijentacijskim mjerilima - pogledati NAPOMENU 7 | O5: Procenat ostvarene propisane godišnje orijentacijske norme u 2022. godini | P5: Ukupno ostvarena orijentacijska norma u 2022. godini | Q5: Nedovoljan broj predmeta u radu - pogledati NAPOMENU 5 | V5: Broj ostvarenih bodova | W5: Sudija | X5: Stručni saradnik | Y5: Predsjednik odjela | Z5: Predsjednik sudskog vijeća vrhovnog suda entiteta
H6: Datum od | I6: Datum do | Q6: broj predmeta u radu | R6: broj riješenih predmeta | S6: broj neriješenih predmeta sa zakonskim i procesnim smetnjama | T6: broj neriješenih predmeta bez zakonskih i procesnih smetnji | U6: procenat riješenih predmeta
A7: I | B7: II | C7: III | D7: IV | E7: V | G7: VI | H7: VII | I7: VIII | J7: IX | K7: X | L7: XI | M7: XII | N7: XIII | O7: XIV | P7: XV | Q7: XVI | R7: XVII | S7: XVIII | T7: XIX | U7: XX | V7: XXI | W7: 1 | X7: 0.9 | Y7: 0.8 | Z7: 0.5 | AA7: 0.25 | AB7: Ne treba raditi na predm.
A8: 1 | B8: Randžana Hadžibegović-Haračić | C8: Da | E8: Predsjednik suda | G8: 0.3 | H8: 01.01.2022 | I8: 31.12.2022 | J8: 260 | K8: 1 | L8: 0.3856 | O8: =IF(G8="","",IF(G8="Ne treba raditi na predm.",1+SUM(L8:N8),(SUM(L8:N8)/G8))) -> 1.2853333 | P8: =IF(K8>0,IF(G8="Ne treba raditi na predm.",O8,O8*(J8/(J8-K8))),O8) -> 1.290296 | U8: =IF(Q8="","",R8/(Q8-S8)) | V8: =IF(P8="","",IF(C8="Ne","",IF(G8="Ne treba raditi na predm.","",IF(P8>1,20,IF(U8="",IF(P8>0.95,18,IF(P8>0.9,15,IF(P8>0.85,13,IF(P8>0.8,10,IF(P8>0.75,8,IF(P8>0.7,5,IF(P8>0.5,3,0))))))),IF(U8=1,20,IF(U8>0.95,18,IF(U8>0.9,15,IF(U8>0.85,13,IF(U8>0.8,10,IF(U8>0.75,8,IF(U8>0.7,5,IF(U8>0.5,3,0))))))))))))) -> 20 | W8: 0.7 | X8: 0.5 | Y8: 0.4 | Z8: 0.3 | AA8: Ne treba raditi na predm.
E9: Predsjednik suda | O9: =IF(G9="","",IF(G9="Ne treba raditi na predm.",1+SUM(L9:N9),(SUM(L9:N9)/G9))) | P9: =IF(K9>0,IF(G9="Ne treba raditi na predm.",O9,O9*(J9/(J9-K9))),O9) | U9: =IF(Q9="","",R9/(Q9-S9)) | V9: =IF(P9="","",IF(C9="Ne","",IF(G9="Ne treba raditi na predm.","",IF(P9>1,20,IF(U9="",IF(P9>0.95,18,IF(P9>0.9,15,IF(P9>0.85,13,IF(P9>0.8,10,IF(P9>0.75,8,IF(P9>0.7,5,IF(P9>0.5,3,0))))))),IF(U9=1,20,IF(U9>0.95,18,IF(U9>0.9,15,IF(U9>0.85,13,IF(U9>0.8,10,IF(U9>0.75,8,IF(U9>0.7,5,IF(U9>0.5,3,0)))))))))))))
A10: 2 | B10: Amira Ždralović | C10: Da | D10: Građanski | E10: Predsjednik odjela | F10: =IF(E10="Sudija",1,IF(E10="Stručni saradnik",1,"")) | G10: 0.9 | H10: 01.01.2022 | I10: 31.12.2022 | J10: 260 | K10: 12 | L10: 0.9092 | O10: =IF(G10="","",IF(G10="Ne treba raditi na predm.",1+SUM(L10:N10),(SUM(L10:N10)/G10))) -> 1.0102222 | P10: =IF(K10>0,IF(G10="Ne treba raditi na predm.",O10,O10*(J10/(J10-K10))),O10) -> 1.0591039 | U10: =IF(Q10="","",R10/(Q10-S10)) | V10: =IF(P10="","",IF(C10="Ne","",IF(G10="Ne treba raditi na predm.","",IF(P10>1,40,IF(U10="",IF(P10>0.95,35,IF(P10>0.9,30,IF(P10>0.85,25,IF(P10>0.8,20,IF(P10>0.75,15,IF(P10>0.7,10,IF(P10>0.5,5,0))))))),IF(U10=1,40,IF(U10>0.95,35,IF(U10>0.9,30,IF(U10>0.85,25,IF(U10>0.8,20,IF(U10>0.75,15,IF(U10>0.7,10,IF(U10>0.5,5,0))))))))))))) -> 40 | W10: Da | X10: Ne
A11: 3 | B11: Darko Solomun | C11: Da | D11: Krivično-prekršajni | E11: Predsjednik odjela | F11: =IF(E11="Sudija",1,IF(E11="Stručni saradnik",1,"")) | G11: 0.9 | H11: 01.01.2022 | I11: 31.12.2022 | J11: 260 | K11: 44 | L11: 0.7483 | O11: =IF(G11="","",IF(G11="Ne treba raditi na predm.",1+SUM(L11:N11),(SUM(L11:N11)/G11))) -> 0.83144444 | P11: =IF(K11>0,IF(G11="Ne treba raditi na predm.",O11,O11*(J11/(J11-K11))),O11) -> 1.0008128 | U11: =IF(Q11="","",R11/(Q11-S11)) | V11: =IF(P11="","",IF(C11="Ne","",IF(G11="Ne treba raditi na predm.","",IF(P11>1,40,IF(U11="",IF(P11>0.95,35,IF(P11>0.9,30,IF(P11>0.85,25,IF(P11>0.8,20,IF(P11>0.75,15,IF(P11>0.7,10,IF(P11>0.5,5,0))))))),IF(U11=1,40,IF(U11>0.95,35,IF(U11>0.9,30,IF(U11>0.85,25,IF(U11>0.8,20,IF(U11>0.75,15,IF(U11>0.7,10,IF(U11>0.5,5,0))))))))))))) -> 40
A12: 4 | B12: Samil Ramić | C12: Da | D12: Izvršni | E12: Predsjednik odjela | F12: =IF(E12="Sudija",1,IF(E12="Stručni saradnik",1,"")) | G12: 0.9 | H12: 01.01.2022 | I12: 31.12.2022 | J12: 260 | K12: 1 | L12: 0.9134 | M12: 0.0154 | O12: =IF(G12="","",IF(G12="Ne treba raditi na predm.",1+SUM(L12:N12),(SUM(L12:N12)/G12))) -> 1.032 | P12: =IF(K12>0,IF(G12="Ne treba raditi na predm.",O12,O12*(J12/(J12-K12))),O12) -> 1.0359846 | U12: =IF(Q12="","",R12/(Q12-S12)) | V12: =IF(P12="","",IF(C12="Ne","",IF(G12="Ne treba raditi na predm.","",IF(P12>1,40,IF(U12="",IF(P12>0.95,35,IF(P12>0.9,30,IF(P12>0.85,25,IF(P12>0.8,20,IF(P12>0.75,15,IF(P12>0.7,10,IF(P12>0.5,5,0))))))),IF(U12=1,40,IF(U12>0.95,35,IF(U12>0.9,30,IF(U12>0.85,25,IF(U12>0.8,20,IF(U12>0.75,15,IF(U12>0.7,10,IF(U12>0.5,5,0))))))))))))) -> 40
A13: 5 | B13: Safet Žuljko | C13: Da | D13: Krivično-prekršajni | E13: Sudija | F13: =IF(E13="Sudija",1,IF(E13="Stručni saradnik",1,"")) -> 1 | G13: 1 | H13: 01.01.2022 | I13: 31.12.2022 | J13: 260 | L13: 1.0873 | O13: =IF(G13="","",IF(G13="Ne treba raditi na predm.",1+SUM(L13:N13),(SUM(L13:N13)/G13))) -> 1.0873 | P13: =IF(K13>0,IF(G13="Ne treba raditi na predm.",O13,O13*(J13/(J13-K13))),O13) -> 1.0873 | U13: =IF(Q13="","",R13/(Q13-S13)) | V13: =IF(P13="","",IF(C13="Ne","",IF(G13="Ne treba raditi na predm.","",IF(P13>1,40,IF(U13="",IF(P13>0.95,35,IF(P13>0.9,30,IF(P13>0.85,25,IF(P13>0.8,20,IF(P13>0.75,15,IF(P13>0.7,10,IF(P13>0.5,5,0))))))),IF(U13=1,40,IF(U13>0.95,35,IF(U13>0.9,30,IF(U13>0.85,25,IF(U13>0.8,20,IF(U13>0.75,15,IF(U13>0.7,10,IF(U13>0.5,5,0))))))))))))) -> 40
A14: 6 | B14: Lejla Nurikić | C14: Da | D14: Građanski | E14: Sudija | F14: =IF(E14="Sudija",1,IF(E14="Stručni saradnik",1,"")) -> 1 | G14: 1 | H14: 01.01.2022 | I14: 31.12.2022 | J14: 260 | K14: 5 | L14: 1.0186 | O14: =IF(G14="","",IF(G14="Ne treba raditi na predm.",1+SUM(L14:N14),(SUM(L14:N14)/G14))) -> 1.0186 | P14: =IF(K14>0,IF(G14="Ne treba raditi na predm.",O14,O14*(J14/(J14-K14))),O14) -> 1.0385725 | U14: =IF(Q14="","",R14/(Q14-S14)) | V14: =IF(P14="","",IF(C14="Ne","",IF(G14="Ne treba raditi na predm.","",IF(P14>1,40,IF(U14="",IF(P14>0.95,35,IF(P14>0.9,30,IF(P14>0.85,25,IF(P14>0.8,20,IF(P14>0.75,15,IF(P14>0.7,10,IF(P14>0.5,5,0))))))),IF(U14=1,40,IF(U14>0.95,35,IF(U14>0.9,30,IF(U14>0.85,25,IF(U14>0.8,20,IF(U14>0.75,15,IF(U14>0.7,10,IF(U14>0.5,5,0))))))))))))) -> 40
A15: 7 | B15: Katica Soldo | C15: Da | D15: Građanski | E15: Sudija | F15: =IF(E15="Sudija",1,IF(E15="Stručni saradnik",1,"")) -> 1 | G15: 1 | H15: 01.01.2022 | I15: 31.12.2022 | J15: 260 | K15: 9 | L15: 1.1321 | O15: =IF(G15="","",IF(G15="Ne treba raditi na predm.",1+SUM(L15:N15),(SUM(L15:N15)/G15))) -> 1.1321 | P15: =IF(K15>0,IF(G15="Ne treba raditi na predm.",O15,O15*(J15/(J15-K15))),O15) -> 1.1726932 | U15: =IF(Q15="","",R15/(Q15-S15)) | V15: =IF(P15="","",IF(C15="Ne","",IF(G15="Ne treba raditi na predm.","",IF(P15>1,40,IF(U15="",IF(P15>0.95,35,IF(P15>0.9,30,IF(P15>0.85,25,IF(P15>0.8,20,IF(P15>0.75,15,IF(P15>0.7,10,IF(P15>0.5,5,0))))))),IF(U15=1,40,IF(U15>0.95,35,IF(U15>0.9,30,IF(U15>0.85,25,IF(U15>0.8,20,IF(U15>0.75,15,IF(U15>0.7,10,IF(U15>0.5,5,0))))))))))))) -> 40
A16: 8 | B16: Janja Pilić | C16: Ne | D16: Građanski | E16: Sudija | F16: =IF(E16="Sudija",1,IF(E16="Stručni saradnik",1,"")) -> 1 | G16: 1 | H16: 01.01.2022 | I16: 09.09.2022 | J16: 180 | K16: 31 | L16: 0.7498 | O16: =IF(G16="","",IF(G16="Ne treba raditi na predm.",1+SUM(L16:N16),(SUM(L16:N16)/G16))) -> 0.7498 | P16: =IF(K16>0,IF(G16="Ne treba raditi na predm.",O16,O16*(J16/(J16-K16))),O16) -> 0.90579866 | U16: =IF(Q16="","",R16/(Q16-S16)) | V16: =IF(P16="","",IF(C16="Ne","",IF(G16="Ne treba raditi na predm.","",IF(P16>1,40,IF(U16="",IF(P16>0.95,35,IF(P16>0.9,30,IF(P16>0.85,25,IF(P16>0.8,20,IF(P16>0.75,15,IF(P16>0.7,10,IF(P16>0.5,5,0))))))),IF(U16=1,40,IF(U16>0.95,35,IF(U16>0.9,30,IF(U16>0.85,25,IF(U16>0.8,20,IF(U16>0.75,15,IF(U16>0.7,10,IF(U16>0.5,5,0)))))))))))))
A17: 9 | B17: Nebojša Vrhovac | C17: Da | D17: Izvršni | E17: Sudija | F17: =IF(E17="Sudija",1,IF(E17="Stručni saradnik",1,"")) -> 1 | G17: 1 | H17: 01.01.2022 | I17: 31.12.2022 | J17: 260 | K17: 29 | L17: 0.9271 | M17: 0.0184 | O17: =IF(G17="","",IF(G17="Ne treba raditi na predm.",1+SUM(L17:N17),(SUM(L17:N17)/G17))) -> 0.9455 | P17: =IF(K17>0,IF(G17="Ne treba raditi na predm.",O17,O17*(J17/(J17-K17))),O17) -> 1.0641991 | U17: =IF(Q17="","",R17/(Q17-S17)) | V17: =IF(P17="","",IF(C17="Ne","",IF(G17="Ne treba raditi na predm.","",IF(P17>1,40,IF(U17="",IF(P17>0.95,35,IF(P17>0.9,30,IF(P17>0.85,25,IF(P17>0.8,20,IF(P17>0.75,15,IF(P17>0.7,10,IF(P17>0.5,5,0))))))),IF(U17=1,40,IF(U17>0.95,35,IF(U17>0.9,30,IF(U17>0.85,25,IF(U17>0.8,20,IF(U17>0.75,15,IF(U17>0.7,10,IF(U17>0.5,5,0))))))))))))) -> 40
A18: 10 | B18: Aldina Rebihić-Topoljak | C18: Da | D18: Krivično-prekršajni | E18: Sudija | F18: =IF(E18="Sudija",1,IF(E18="Stručni saradnik",1,"")) -> 1 | G18: 1 | H18: 01.01.2022 | I18: 31.12.2022 | J18: 260 | L18: 1.0136 | O18: =IF(G18="","",IF(G18="Ne treba raditi na predm.",1+SUM(L18:N18),(SUM(L18:N18)/G18))) -> 1.0136 | P18: =IF(K18>0,IF(G18="Ne treba raditi na predm.",O18,O18*(J18/(J18-K18))),O18) -> 1.0136 | U18: =IF(Q18="","",R18/(Q18-S18)) | V18: =IF(P18="","",IF(C18="Ne","",IF(G18="Ne treba raditi na predm.","",IF(P18>1,40,IF(U18="",IF(P18>0.95,35,IF(P18>0.9,30,IF(P18>0.85,25,IF(P18>0.8,20,IF(P18>0.75,15,IF(P18>0.7,10,IF(P18>0.5,5,0))))))),IF(U18=1,40,IF(U18>0.95,35,IF(U18>0.9,30,IF(U18>0.85,25,IF(U18>0.8,20,IF(U18>0.75,15,IF(U18>0.7,10,IF(U18>0.5,5,0))))))))))))) -> 40
A19: 11 | B19: Sonsirej Radivojević | C19: Da | D19: Krivično-prekršajni | E19: Sudija | F19: =IF(E19="Sudija",1,IF(E19="Stručni saradnik",1,"")) -> 1 | G19: 1 | H19: 01.01.2022 | I19: 31.12.2022 | J19: 260 | K19: 37 | L19: 1.0059 | O19: =IF(G19="","",IF(G19="Ne treba raditi na predm.",1+SUM(L19:N19),(SUM(L19:N19)/G19))) -> 1.0059 | P19: =IF(K19>0,IF(G19="Ne treba raditi na predm.",O19,O19*(J19/(J19-K19))),O19) -> 1.1727982 | U19: =IF(Q19="","",R19/(Q19-S19)) | V19: =IF(P19="","",IF(C19="Ne","",IF(G19="Ne treba raditi na predm.","",IF(P19>1,40,IF(U19="",IF(P19>0.95,35,IF(P19>0.9,30,IF(P19>0.85,25,IF(P19>0.8,20,IF(P19>0.75,15,IF(P19>0.7,10,IF(P19>0.5,5,0))))))),IF(U19=1,40,IF(U19>0.95,35,IF(U19>0.9,30,IF(U19>0.85,25,IF(U19>0.8,20,IF(U19>0.75,15,IF(U19>0.7,10,IF(U19>0.5,5,0))))))))))))) -> 40
A20: 12 | B20: Ivan Gudelj | C20: Da | D20: Izvršni | E20: Sudija | F20: =IF(E20="Sudija",1,IF(E20="Stručni saradnik",1,"")) -> 1 | G20: 1 | H20: 01.01.2022 | I20: 31.12.2022 | J20: 260 | L20: 1.0015 | O20: =IF(G20="","",IF(G20="Ne treba raditi na predm.",1+SUM(L20:N20),(SUM(L20:N20)/G20))) -> 1.0015 | P20: =IF(K20>0,IF(G20="Ne treba raditi na predm.",O20,O20*(J20/(J20-K20))),O20) -> 1.0015 | U20: =IF(Q20="","",R20/(Q20-S20)) | V20: =IF(P20="","",IF(C20="Ne","",IF(G20="Ne treba raditi na predm.","",IF(P20>1,40,IF(U20="",IF(P20>0.95,35,IF(P20>0.9,30,IF(P20>0.85,25,IF(P20>0.8,20,IF(P20>0.75,15,IF(P20>0.7,10,IF(P20>0.5,5,0))))))),IF(U20=1,40,IF(U20>0.95,35,IF(U20>0.9,30,IF(U20>0.85,25,IF(U20>0.8,20,IF(U20>0.75,15,IF(U20>0.7,10,IF(U20>0.5,5,0))))))))))))) -> 40
A21: 13 | B21: Amela Agić | C21: Ne | D21: Izvršni | E21: Stručni saradnik | F21: =IF(E21="Sudija",1,IF(E21="Stručni saradnik",1,"")) -> 1 | G21: 1 | H21: 01.01.2022 | I21: 31.12.2022 | J21: 260 | K21: 19 | L21: 0.7551 | M21: 0.2227 | O21: =IF(G21="","",IF(G21="Ne treba raditi na predm.",1+SUM(L21:N21),(SUM(L21:N21)/G21))) -> 0.9778 | P21: =IF(K21>0,IF(G21="Ne treba raditi na predm.",O21,O21*(J21/(J21-K21))),O21) -> 1.054888 | U21: =IF(Q21="","",R21/(Q21-S21)) | V21: =IF(P21="","",IF(C21="Ne","",IF(G21="Ne treba raditi na predm.","",IF(P21>1,40,IF(U21="",IF(P21>0.95,35,IF(P21>0.9,30,IF(P21>0.85,25,IF(P21>0.8,20,IF(P21>0.75,15,IF(P21>0.7,10,IF(P21>0.5,5,0))))))),IF(U21=1,40,IF(U21>0.95,35,IF(U21>0.9,30,IF(U21>0.85,25,IF(U21>0.8,20,IF(U21>0.75,15,IF(U21>0.7,10,IF(U21>0.5,5,0)))))))))))))
A22: 14 | B22: Marin Kajić | C22: Ne | D22: Izvršni | E22: Stručni saradnik | F22: =IF(E22="Sudija",1,IF(E22="Stručni saradnik",1,"")) -> 1 | G22: 1 | H22: 01.01.2022 | I22: 31.12.2022 | J22: 260 | K22: 5 | L22: 0.6145 | M22: 0.1969 | O22: =IF(G22="","",IF(G22="Ne treba raditi na predm.",1+SUM(L22:N22),(SUM(L22:N22)/G22))) -> 0.8114 | P22: =IF(K22>0,IF(G22="Ne treba raditi na predm.",O22,O22*(J22/(J22-K22))),O22) -> 0.8273098 | U22: =IF(Q22="","",R22/(Q22-S22)) | V22: =IF(P22="","",IF(C22="Ne","",IF(G22="Ne treba raditi na predm.","",IF(P22>1,40,IF(U22="",IF(P22>0.95,35,IF(P22>0.9,30,IF(P22>0.85,25,IF(P22>0.8,20,IF(P22>0.75,15,IF(P22>0.7,10,IF(P22>0.5,5,0))))))),IF(U22=1,40,IF(U22>0.95,35,IF(U22>0.9,30,IF(U22>0.85,25,IF(U22>0.8,20,IF(U22>0.75,15,IF(U22>0.7,10,IF(U22>0.5,5,0)))))))))))))
A23: 15 | B23: Ivan Sokanović | C23: Ne | D23: Izvršni | E23: Stručni saradnik | F23: =IF(E23="Sudija",1,IF(E23="Stručni saradnik",1,"")) -> 1 | G23: 1 | H23: 01.01.2022 | I23: 31.12.2022 | J23: 260 | K23: 6 | L23: 0.7508 | M23: 0.2196 | O23: =IF(G23="","",IF(G23="Ne treba raditi na predm.",1+SUM(L23:N23),(SUM(L23:N23)/G23))) -> 0.9704 | P23: =IF(K23>0,IF(G23="Ne treba raditi na predm.",O23,O23*(J23/(J23-K23))),O23) -> 0.99332283 | U23: =IF(Q23="","",R23/(Q23-S23)) | V23: =IF(P23="","",IF(C23="Ne","",IF(G23="Ne treba raditi na predm.","",IF(P23>1,40,IF(U23="",IF(P23>0.95,35,IF(P23>0.9,30,IF(P23>0.85,25,IF(P23>0.8,20,IF(P23>0.75,15,IF(P23>0.7,10,IF(P23>0.5,5,0))))))),IF(U23=1,40,IF(U23>0.95,35,IF(U23>0.9,30,IF(U23>0.85,25,IF(U23>0.8,20,IF(U23>0.75,15,IF(U23>0.7,10,IF(U23>0.5,5,0)))))))))))))
A24: 16 | F24: =IF(E24="Sudija",1,IF(E24="Stručni saradnik",1,"")) | J24: 260 | O24: =IF(G24="","",IF(G24="Ne treba raditi na predm.",1+SUM(L24:N24),(SUM(L24:N24)/G24))) | P24: =IF(K24>0,IF(G24="Ne treba raditi na predm.",O24,O24*(J24/(J24-K24))),O24) | U24: =IF(Q24="","",R24/(Q24-S24)) | V24: =IF(P24="","",IF(C24="Ne","",IF(G24="Ne treba raditi na predm.","",IF(P24>1,40,IF(U24="",IF(P24>0.95,35,IF(P24>0.9,30,IF(P24>0.85,25,IF(P24>0.8,20,IF(P24>0.75,15,IF(P24>0.7,10,IF(P24>0.5,5,0))))))),IF(U24=1,40,IF(U24>0.95,35,IF(U24>0.9,30,IF(U24>0.85,25,IF(U24>0.8,20,IF(U24>0.75,15,IF(U24>0.7,10,IF(U24>0.5,5,0)))))))))))))
A25: 17 | F25: =IF(E25="Sudija",1,IF(E25="Stručni saradnik",1,"")) | J25: 260 | O25: =IF(G25="","",IF(G25="Ne treba raditi na predm.",1+SUM(L25:N25),(SUM(L25:N25)/G25))) | P25: =IF(K25>0,IF(G25="Ne treba raditi na predm.",O25,O25*(J25/(J25-K25))),O25) | U25: =IF(Q25="","",R25/(Q25-S25)) | V25: =IF(P25="","",IF(C25="Ne","",IF(G25="Ne treba raditi na predm.","",IF(P25>1,40,IF(U25="",IF(P25>0.95,35,IF(P25>0.9,30,IF(P25>0.85,25,IF(P25>0.8,20,IF(P25>0.75,15,IF(P25>0.7,10,IF(P25>0.5,5,0))))))),IF(U25=1,40,IF(U25>0.95,35,IF(U25>0.9,30,IF(U25>0.85,25,IF(U25>0.8,20,IF(U25>0.75,15,IF(U25>0.7,10,IF(U25>0.5,5,0)))))))))))))
A26: 18 | F26: =IF(E26="Sudija",1,IF(E26="Stručni saradnik",1,"")) | J26: 260 | O26: =IF(G26="","",IF(G26="Ne treba raditi na predm.",1+SUM(L26:N26),(SUM(L26:N26)/G26))) | P26: =IF(K26>0,IF(G26="Ne treba raditi na predm.",O26,O26*(J26/(J26-K26))),O26) | U26: =IF(Q26="","",R26/(Q26-S26)) | V26: =IF(P26="","",IF(C26="Ne","",IF(G26="Ne treba raditi na predm.","",IF(P26>1,40,IF(U26="",IF(P26>0.95,35,IF(P26>0.9,30,IF(P26>0.85,25,IF(P26>0.8,20,IF(P26>0.75,15,IF(P26>0.7,10,IF(P26>0.5,5,0))))))),IF(U26=1,40,IF(U26>0.95,35,IF(U26>0.9,30,IF(U26>0.85,25,IF(U26>0.8,20,IF(U26>0.75,15,IF(U26>0.7,10,IF(U26>0.5,5,0)))))))))))))
A27: 19 | F27: =IF(E27="Sudija",1,IF(E27="Stručni saradnik",1,"")) | J27: 260 | O27: =IF(G27="","",IF(G27="Ne treba raditi na predm.",1+SUM(L27:N27),(SUM(L27:N27)/G27))) | P27: =IF(K27>0,IF(G27="Ne treba raditi na predm.",O27,O27*(J27/(J27-K27))),O27) | U27: =IF(Q27="","",R27/(Q27-S27)) | V27: =IF(P27="","",IF(C27="Ne","",IF(G27="Ne treba raditi na predm.","",IF(P27>1,40,IF(U27="",IF(P27>0.95,35,IF(P27>0.9,30,IF(P27>0.85,25,IF(P27>0.8,20,IF(P27>0.75,15,IF(P27>0.7,10,IF(P27>0.5,5,0))))))),IF(U27=1,40,IF(U27>0.95,35,IF(U27>0.9,30,IF(U27>0.85,25,IF(U27>0.8,20,IF(U27>0.75,15,IF(U27>0.7,10,IF(U27>0.5,5,0)))))))))))))
A28: 20 | F28: =IF(E28="Sudija",1,IF(E28="Stručni saradnik",1,"")) | J28: 260 | O28: =IF(G28="","",IF(G28="Ne treba raditi na predm.",1+SUM(L28:N28),(SUM(L28:N28)/G28))) | P28: =IF(K28>0,IF(G28="Ne treba raditi na predm.",O28,O28*(J28/(J28-K28))),O28) | U28: =IF(Q28="","",R28/(Q28-S28)) | V28: =IF(P28="","",IF(C28="Ne","",IF(G28="Ne treba raditi na predm.","",IF(P28>1,40,IF(U28="",IF(P28>0.95,35,IF(P28>0.9,30,IF(P28>0.85,25,IF(P28>0.8,20,IF(P28>0.75,15,IF(P28>0.7,10,IF(P28>0.5,5,0))))))),IF(U28=1,40,IF(U28>0.95,35,IF(U28>0.9,30,IF(U28>0.85,25,IF(U28>0.8,20,IF(U28>0.75,15,IF(U28>0.7,10,IF(U28>0.5,5,0)))))))))))))
A29: 21 | F29: =IF(E29="Sudija",1,IF(E29="Stručni saradnik",1,"")) | J29: 260 | O29: =IF(G29="","",IF(G29="Ne treba raditi na predm.",1+SUM(L29:N29),(SUM(L29:N29)/G29))) | P29: =IF(K29>0,IF(G29="Ne treba raditi na predm.",O29,O29*(J29/(J29-K29))),O29) | U29: =IF(Q29="","",R29/(Q29-S29)) | V29: =IF(P29="","",IF(C29="Ne","",IF(G29="Ne treba raditi na predm.","",IF(P29>1,40,IF(U29="",IF(P29>0.95,35,IF(P29>0.9,30,IF(P29>0.85,25,IF(P29>0.8,20,IF(P29>0.75,15,IF(P29>0.7,10,IF(P29>0.5,5,0))))))),IF(U29=1,40,IF(U29>0.95,35,IF(U29>0.9,30,IF(U29>0.85,25,IF(U29>0.8,20,IF(U29>0.75,15,IF(U29>0.7,10,IF(U29>0.5,5,0)))))))))))))
A30: 22 | F30: =IF(E30="Sudija",1,IF(E30="Stručni saradnik",1,"")) | J30: 260 | O30: =IF(G30="","",IF(G30="Ne treba raditi na predm.",1+SUM(L30:N30),(SUM(L30:N30)/G30))) | P30: =IF(K30>0,IF(G30="Ne treba raditi na predm.",O30,O30*(J30/(J30-K30))),O30) | U30: =IF(Q30="","",R30/(Q30-S30)) | V30: =IF(P30="","",IF(C30="Ne","",IF(G30="Ne treba raditi na predm.","",IF(P30>1,40,IF(U30="",IF(P30>0.95,35,IF(P30>0.9,30,IF(P30>0.85,25,IF(P30>0.8,20,IF(P30>0.75,15,IF(P30>0.7,10,IF(P30>0.5,5,0))))))),IF(U30=1,40,IF(U30>0.95,35,IF(U30>0.9,30,IF(U30>0.85,25,IF(U30>0.8,20,IF(U30>0.75,15,IF(U30>0.7,10,IF(U30>0.5,5,0)))))))))))))
A31: 23 | F31: =IF(E31="Sudija",1,IF(E31="Stručni saradnik",1,"")) | J31: 260 | O31: =IF(G31="","",IF(G31="Ne treba raditi na predm.",1+SUM(L31:N31),(SUM(L31:N31)/G31))) | P31: =IF(K31>0,IF(G31="Ne treba raditi na predm.",O31,O31*(J31/(J31-K31))),O31) | U31: =IF(Q31="","",R31/(Q31-S31)) | V31: =IF(P31="","",IF(C31="Ne","",IF(G31="Ne treba raditi na predm.","",IF(P31>1,40,IF(U31="",IF(P31>0.95,35,IF(P31>0.9,30,IF(P31>0.85,25,IF(P31>0.8,20,IF(P31>0.75,15,IF(P31>0.7,10,IF(P31>0.5,5,0))))))),IF(U31=1,40,IF(U31>0.95,35,IF(U31>0.9,30,IF(U31>0.85,25,IF(U31>0.8,20,IF(U31>0.75,15,IF(U31>0.7,10,IF(U31>0.5,5,0)))))))))))))
A32: 24 | F32: =IF(E32="Sudija",1,IF(E32="Stručni saradnik",1,"")) | J32: 260 | O32: =IF(G32="","",IF(G32="Ne treba raditi na predm.",1+SUM(L32:N32),(SUM(L32:N32)/G32))) | P32: =IF(K32>0,IF(G32="Ne treba raditi na predm.",O32,O32*(J32/(J32-K32))),O32) | U32: =IF(Q32="","",R32/(Q32-S32)) | V32: =IF(P32="","",IF(C32="Ne","",IF(G32="Ne treba raditi na predm.","",IF(P32>1,40,IF(U32="",IF(P32>0.95,35,IF(P32>0.9,30,IF(P32>0.85,25,IF(P32>0.8,20,IF(P32>0.75,15,IF(P32>0.7,10,IF(P32>0.5,5,0))))))),IF(U32=1,40,IF(U32>0.95,35,IF(U32>0.9,30,IF(U32>0.85,25,IF(U32>0.8,20,IF(U32>0.75,15,IF(U32>0.7,10,IF(U32>0.5,5,0)))))))))))))
A33: 25 | F33: =IF(E33="Sudija",1,IF(E33="Stručni saradnik",1,"")) | J33: 260 | O33: =IF(G33="","",IF(G33="Ne treba raditi na predm.",1+SUM(L33:N33),(SUM(L33:N33)/G33))) | P33: =IF(K33>0,IF(G33="Ne treba raditi na predm.",O33,O33*(J33/(J33-K33))),O33) | U33: =IF(Q33="","",R33/(Q33-S33)) | V33: =IF(P33="","",IF(C33="Ne","",IF(G33="Ne treba raditi na predm.","",IF(P33>1,40,IF(U33="",IF(P33>0.95,35,IF(P33>0.9,30,IF(P33>0.85,25,IF(P33>0.8,20,IF(P33>0.75,15,IF(P33>0.7,10,IF(P33>0.5,5,0))))))),IF(U33=1,40,IF(U33>0.95,35,IF(U33>0.9,30,IF(U33>0.85,25,IF(U33>0.8,20,IF(U33>0.75,15,IF(U33>0.7,10,IF(U33>0.5,5,0)))))))))))))
A34: 26 | F34: =IF(E34="Sudija",1,IF(E34="Stručni saradnik",1,"")) | J34: 260 | O34: =IF(G34="","",IF(G34="Ne treba raditi na predm.",1+SUM(L34:N34),(SUM(L34:N34)/G34))) | P34: =IF(K34>0,IF(G34="Ne treba raditi na predm.",O34,O34*(J34/(J34-K34))),O34) | U34: =IF(Q34="","",R34/(Q34-S34)) | V34: =IF(P34="","",IF(C34="Ne","",IF(G34="Ne treba raditi na predm.","",IF(P34>1,40,IF(U34="",IF(P34>0.95,35,IF(P34>0.9,30,IF(P34>0.85,25,IF(P34>0.8,20,IF(P34>0.75,15,IF(P34>0.7,10,IF(P34>0.5,5,0))))))),IF(U34=1,40,IF(U34>0.95,35,IF(U34>0.9,30,IF(U34>0.85,25,IF(U34>0.8,20,IF(U34>0.75,15,IF(U34>0.7,10,IF(U34>0.5,5,0)))))))))))))
A35: 27 | F35: =IF(E35="Sudija",1,IF(E35="Stručni saradnik",1,"")) | J35: 260 | O35: =IF(G35="","",IF(G35="Ne treba raditi na predm.",1+SUM(L35:N35),(SUM(L35:N35)/G35))) | P35: =IF(K35>0,IF(G35="Ne treba raditi na predm.",O35,O35*(J35/(J35-K35))),O35) | U35: =IF(Q35="","",R35/(Q35-S35)) | V35: =IF(P35="","",IF(C35="Ne","",IF(G35="Ne treba raditi na predm.","",IF(P35>1,40,IF(U35="",IF(P35>0.95,35,IF(P35>0.9,30,IF(P35>0.85,25,IF(P35>0.8,20,IF(P35>0.75,15,IF(P35>0.7,10,IF(P35>0.5,5,0))))))),IF(U35=1,40,IF(U35>0.95,35,IF(U35>0.9,30,IF(U35>0.85,25,IF(U35>0.8,20,IF(U35>0.75,15,IF(U35>0.7,10,IF(U35>0.5,5,0)))))))))))))
... A73: 65 | F73: =IF(E73="Sudija",1,IF(E73="Stručni saradnik",1,"")) | J73: 260 | O73: =IF(G73="","",IF(G73="Ne treba raditi na predm.",1+SUM(L73:N73),(SUM(L73:N73)/G73))) | P73: =IF(K73>0,IF(G73="Ne treba raditi na predm.",O73,O73*(J73/(J73-K73))),O73) | U73: =IF(Q73="","",R73/(Q73-S73)) | V73: =IF(P73="","",IF(C73="Ne","",IF(G73="Ne treba raditi na predm.","",IF(P73>1,40,IF(U73="",IF(P73>0.95,35,IF(P73>0.9,30,IF(P73>0.85,25,IF(P73>0.8,20,IF(P73>0.75,15,IF(P73>0.7,10,IF(P73>0.5,5,0))))))),IF(U73=1,40,IF(U73>0.95,35,IF(U73>0.9,30,IF(U73>0.85,25,IF(U73>0.8,20,IF(U73>0.75,15,IF(U73>0.7,10,IF(U73>0.5,5,0)))))))))))))
F74: =IF(E74="Sudija",1,IF(E74="Stručni saradnik",1,"")) | J74: 260 | O74: =IF(G74="","",IF(G74="Ne treba raditi na predm.",1+SUM(L74:N74),(SUM(L74:N74)/G74))) | P74: =IF(K74>0,IF(G74="Ne treba raditi na predm.",O74,O74*(J74/(J74-K74))),O74) | U74: =IF(Q74="","",R74/(Q74-S74)) | V74: =IF(P74="","",IF(C74="Ne","",IF(G74="Ne treba raditi na predm.","",IF(P74>1,40,IF(U74="",IF(P74>0.95,35,IF(P74>0.9,30,IF(P74>0.85,25,IF(P74>0.8,20,IF(P74>0.75,15,IF(P74>0.7,10,IF(P74>0.5,5,0))))))),IF(U74=1,40,IF(U74>0.95,35,IF(U74>0.9,30,IF(U74>0.85,25,IF(U74>0.8,20,IF(U74>0.75,15,IF(U74>0.7,10,IF(U74>0.5,5,0)))))))))))))
F75: =IF(E75="Sudija",1,IF(E75="Stručni saradnik",1,"")) | J75: 260 | O75: =IF(G75="","",IF(G75="Ne treba raditi na predm.",1+SUM(L75:N75),(SUM(L75:N75)/G75))) | P75: =IF(K75>0,IF(G75="Ne treba raditi na predm.",O75,O75*(J75/(J75-K75))),O75) | U75: =IF(Q75="","",R75/(Q75-S75)) | V75: =IF(P75="","",IF(C75="Ne","",IF(G75="Ne treba raditi na predm.","",IF(P75>1,40,IF(U75="",IF(P75>0.95,35,IF(P75>0.9,30,IF(P75>0.85,25,IF(P75>0.8,20,IF(P75>0.75,15,IF(P75>0.7,10,IF(P75>0.5,5,0))))))),IF(U75=1,40,IF(U75>0.95,35,IF(U75>0.9,30,IF(U75>0.85,25,IF(U75>0.8,20,IF(U75>0.75,15,IF(U75>0.7,10,IF(U75>0.5,5,0)))))))))))))
F76: =IF(E76="Sudija",1,IF(E76="Stručni saradnik",1,"")) | J76: 260 | O76: =IF(G76="","",IF(G76="Ne treba raditi na predm.",1+SUM(L76:N76),(SUM(L76:N76)/G76))) | P76: =IF(K76>0,IF(G76="Ne treba raditi na predm.",O76,O76*(J76/(J76-K76))),O76) | U76: =IF(Q76="","",R76/(Q76-S76)) | V76: =IF(P76="","",IF(C76="Ne","",IF(G76="Ne treba raditi na predm.","",IF(P76>1,40,IF(U76="",IF(P76>0.95,35,IF(P76>0.9,30,IF(P76>0.85,25,IF(P76>0.8,20,IF(P76>0.75,15,IF(P76>0.7,10,IF(P76>0.5,5,0))))))),IF(U76=1,40,IF(U76>0.95,35,IF(U76>0.9,30,IF(U76>0.85,25,IF(U76>0.8,20,IF(U76>0.75,15,IF(U76>0.7,10,IF(U76>0.5,5,0)))))))))))))
F77: =IF(E77="Sudija",1,IF(E77="Stručni saradnik",1,"")) | J77: 260 | O77: =IF(G77="","",IF(G77="Ne treba raditi na predm.",1+SUM(L77:N77),(SUM(L77:N77)/G77))) | P77: =IF(K77>0,IF(G77="Ne treba raditi na predm.",O77,O77*(J77/(J77-K77))),O77) | U77: =IF(Q77="","",R77/(Q77-S77)) | V77: =IF(P77="","",IF(C77="Ne","",IF(G77="Ne treba raditi na predm.","",IF(P77>1,40,IF(U77="",IF(P77>0.95,35,IF(P77>0.9,30,IF(P77>0.85,25,IF(P77>0.8,20,IF(P77>0.75,15,IF(P77>0.7,10,IF(P77>0.5,5,0))))))),IF(U77=1,40,IF(U77>0.95,35,IF(U77>0.9,30,IF(U77>0.85,25,IF(U77>0.8,20,IF(U77>0.75,15,IF(U77>0.7,10,IF(U77>0.5,5,0)))))))))))))
F78: =IF(E78="Sudija",1,IF(E78="Stručni saradnik",1,"")) | J78: 260 | O78: =IF(G78="","",IF(G78="Ne treba raditi na predm.",1+SUM(L78:N78),(SUM(L78:N78)/G78))) | P78: =IF(K78>0,IF(G78="Ne treba raditi na predm.",O78,O78*(J78/(J78-K78))),O78) | U78: =IF(Q78="","",R78/(Q78-S78)) | V78: =IF(P78="","",IF(C78="Ne","",IF(G78="Ne treba raditi na predm.","",IF(P78>1,40,IF(U78="",IF(P78>0.95,35,IF(P78>0.9,30,IF(P78>0.85,25,IF(P78>0.8,20,IF(P78>0.75,15,IF(P78>0.7,10,IF(P78>0.5,5,0))))))),IF(U78=1,40,IF(U78>0.95,35,IF(U78>0.9,30,IF(U78>0.85,25,IF(U78>0.8,20,IF(U78>0.75,15,IF(U78>0.7,10,IF(U78>0.5,5,0)))))))))))))
...

Sheet Tabela III
A1: Općinski/Osnovni sud: | B1: ='Tabela I'!C1 -> Bugojno
A2: Izvještajni period: | B2: ='Tabela I'!C2 -> 1.1.2022.- 31.12.2022.
A3: Tabela III - Kvalitet sudskih odluka po vrstama predmeta
A4: Vrsta predmeta | B4: Broj donesenih odluka na koje se može izjaviti pravni lijek | C4: Ukupan broj ožalbenih odluka | D4: Broj odbačenih pravnih lijekova | E4: Broj potvrđenih odluka | F4: Broj preinačenih odluka | G4: Broj preinačenih odluka donijetih nakon održane glavne rasprave ili pretresa pred drugostepenim sudom | H4: Broj ukinutih odluka | I4: Broj djelimično ukinutih odluka | J4: Kvalitet sudskih odluka | K4: Broj presuda koje su ukinute i predmet vraćen na ponovno suđenje
E5: Odbijen pravni lijek
B6: I | C6: II=IV+V+VI+ VII+VIII) | D6: III | E6: IV | F6: V | G6: VI | H6: VII | I6: VIII | J6: IX1 | K6: X
A7: Parnični referat
A8: P | B8: 385 | C8: =E8+F8+G8+H8+I8 -> 65 | E8: 49 | F8: 3 | H8: 12 | I8: 1 | J8: =IF(C8=0,"",IF(B8=0,1,0.75*((C8-H8-I8/2)/C8)+0.25*((B8-G8-H8-I8/2)/B8))) -> 0.84765235
A9: Mal | B9: 536 | C9: =E9+F9+G9+H9+I9 -> 20 | E9: 13 | F9: 4 | H9: 3 | J9: =IF(C9=0,"",IF(B9=0,1,0.75*((C9-H9-I9/2)/C9)+0.25*((B9-G9-H9-I9/2)/B9))) -> 0.88610075
A10: Radni sporovi | B10: 101 | C10: =E10+F10+G10+H10+I10 -> 27 | E10: 24 | F10: 1 | H10: 2 | J10: =IF(C10=0,"",IF(B10=0,1,0.75*((C10-H10-I10/2)/C10)+0.25*((B10-G10-H10-I10/2)/B10))) -> 0.93949395
A11: Pom | C11: =E11+F11+G11+H11+I11 -> 0 | J11: =IF(C11=0,"",IF(B11=0,1,0.75*((C11-H11-I11/2)/C11)+0.25*((B11-G11-H11-I11/2)/B11)))
A12: Ostalo | B12: 6 | C12: =E12+F12+G12+H12+I12 -> 6 | E12: 6 | J12: =IF(C12=0,"",IF(B12=0,1,0.75*((C12-H12-I12/2)/C12)+0.25*((B12-G12-H12-I12/2)/B12))) -> 1
A13: Privredni referat
A14: Ps | C14: =E14+F14+G14+H14+I14 -> 0 | J14: =IF(C14=0,"",IF(B14=0,1,0.75*((C14-H14-I14/2)/C14)+0.25*((B14-G14-H14-I14/2)/B14)))
A15: Mals | C15: =E15+F15+G15+H15+I15 -> 0 | J15: =IF(C15=0,"",IF(B15=0,1,0.75*((C15-H15-I15/2)/C15)+0.25*((B15-G15-H15-I15/2)/B15)))
A16: L | C16: =E16+F16+G16+H16+I16 -> 0 | J16: =IF(C16=0,"",IF(B16=0,1,0.75*((C16-H16-I16/2)/C16)+0.25*((B16-G16-H16-I16/2)/B16)))
A17: Ls | C17: =E17+F17+G17+H17+I17 -> 0 | J17: =IF(C17=0,"",IF(B17=0,1,0.75*((C17-H17-I17/2)/C17)+0.25*((B17-G17-H17-I17/2)/B17)))
A18: St | C18: =E18+F18+G18+H18+I18 -> 0 | J18: =IF(C18=0,"",IF(B18=0,1,0.75*((C18-H18-I18/2)/C18)+0.25*((B18-G18-H18-I18/2)/B18)))
A19: Ostalo | C19: =E19+F19+G19+H19+I19 -> 0 | J19: =IF(C19=0,"",IF(B19=0,1,0.75*((C19-H19-I19/2)/C19)+0.25*((B19-G19-H19-I19/2)/B19)))
A20: Krivični referat
A21: K | B21: 147 | C21: =E21+F21+G21+H21+I21 -> 66 | E21: 43 | F21: 10 | H21: 12 | I21: 1 | J21: =IF(C21=0,"",IF(B21=0,1,0.75*((C21-H21-I21/2)/C21)+0.25*((B21-G21-H21-I21/2)/B21))) -> 0.83669604
A22: Kpp | B22: 12 | C22: =E22+F22+G22+H22+I22 -> 0 | J22: =IF(C22=0,"",IF(B22=0,1,0.75*((C22-H22-I22/2)/C22)+0.25*((B22-G22-H22-I22/2)/B22)))
A23: Kps | B23: 115 | C23: =E23+F23+G23+H23+I23 -> 0 | J23: =IF(C23=0,"",IF(B23=0,1,0.75*((C23-H23-I23/2)/C23)+0.25*((B23-G23-H23-I23/2)/B23)))
A24: Kzs | C24: =E24+F24+G24+H24+I24 -> 0 | J24: =IF(C24=0,"",IF(B24=0,1,0.75*((C24-H24-I24/2)/C24)+0.25*((B24-G24-H24-I24/2)/B24)))
A25: Kbs | B25: 55 | C25: =E25+F25+G25+H25+I25 -> 0 | J25: =IF(C25=0,"",IF(B25=0,1,0.75*((C25-H25-I25/2)/C25)+0.25*((B25-G25-H25-I25/2)/B25)))
A26: Km | B26: 11 | C26: =E26+F26+G26+H26+I26 -> 0 | J26: =IF(C26=0,"",IF(B26=0,1,0.75*((C26-H26-I26/2)/C26)+0.25*((B26-G26-H26-I26/2)/B26)))
A27: Kv | B27: 57 | C27: =E27+F27+G27+H27+I27 -> 20 | E27: 16 | F27: 2 | H27: 2 | J27: =IF(C27=0,"",IF(B27=0,1,0.75*((C27-H27-I27/2)/C27)+0.25*((B27-G27-H27-I27/2)/B27))) -> 0.91622807
A28: Kvl | C28: =E28+F28+G28+H28+I28 -> 0 | J28: =IF(C28=0,"",IF(B28=0,1,0.75*((C28-H28-I28/2)/C28)+0.25*((B28-G28-H28-I28/2)/B28)))
A29: Kp | C29: =E29+F29+G29+H29+I29 -> 0 | J29: =IF(C29=0,"",IF(B29=0,1,0.75*((C29-H29-I29/2)/C29)+0.25*((B29-G29-H29-I29/2)/B29)))
A30: Iks | B30: 83 | C30: =E30+F30+G30+H30+I30 -> 1 | E30: 1 | J30: =IF(C30=0,"",IF(B30=0,1,0.75*((C30-H30-I30/2)/C30)+0.25*((B30-G30-H30-I30/2)/B30))) -> 1
A31: Pom | C31: =E31+F31+G31+H31+I31 -> 0 | J31: =IF(C31=0,"",IF(B31=0,1,0.75*((C31-H31-I31/2)/C31)+0.25*((B31-G31-H31-I31/2)/B31)))
A32: Ostalo | C32: =E32+F32+G32+H32+I32 -> 0 | J32: =IF(C32=0,"",IF(B32=0,1,0.75*((C32-H32-I32/2)/C32)+0.25*((B32-G32-H32-I32/2)/B32)))
A33: Izvršni referat
A34: I | B34: 4463 | C34: =E34+F34+G34+H34+I34 -> 114 | E34: 102 | H34: 12 | J34: =IF(C34=0,"",IF(B34=0,1,0.75*((C34-H34-I34/2)/C34)+0.25*((B34-G34-H34-I34/2)/B34))) -> 0.92038044
A35: Ip | B35: 190 | C35: =E35+F35+G35+H35+I35 -> 4 | E35: 4 | J35: =IF(C35=0,"",IF(B35=0,1,0.75*((C35-H35-I35/2)/C35)+0.25*((B35-G35-H35-I35/2)/B35))) -> 1
A36: Ostalo | C36: =E36+F36+G36+H36+I36 -> 0 | J36: =IF(C36=0,"",IF(B36=0,1,0.75*((C36-H36-I36/2)/C36)+0.25*((B36-G36-H36-I36/2)/B36)))
A37: Vanparnični referat
A38: V | B38: 213 | C38: =E38+F38+G38+H38+I38 -> 8 | E38: 6 | H38: 2 | J38: =IF(C38=0,"",IF(B38=0,1,0.75*((C38-H38-I38/2)/C38)+0.25*((B38-G38-H38-I38/2)/B38))) -> 0.81015258
A39: O | B39: 47 | C39: =E39+F39+G39+H39+I39 -> 1 | E39: 1 | J39: =IF(C39=0,"",IF(B39=0,1,0.75*((C39-H39-I39/2)/C39)+0.25*((B39-G39-H39-I39/2)/B39))) -> 1
A40: Ostalo | C40: =E40+F40+G40+H40+I40 -> 0 | J40: =IF(C40=0,"",IF(B40=0,1,0.75*((C40-H40-I40/2)/C40)+0.25*((B40-G40-H40-I40/2)/B40)))
...

Sheet Tabela IIIa
A1: =+'Tabela I'!A1 -> Općinski/Osnovni sud: | D1: =+'Tabela I'!C1 -> Bugojno
A2: Izvještajni period: | D2: =+'Tabela I'!C2 -> 1.1.2022.- 31.12.2022.
A3: Tabela IIIa - Kvalitet sudskih odluka po nosiocima pravosudnih funkcija - Elektronski obrazac za obračun kvaliteta odluka (pogledati NAPOMENU 2 i 3)
A5: Redni broj | B5: Ime i prezime - podatak je automatski prenesen iz Tabele IIa - OBAVEZNO ZADRŽATI REDOSLIJED NPF-a iz Tabele IIa | C5: Pravosudna funkcija | D5: Ocijenjen / Nije ocijenjen u sudu | E5: Ukupan broj donesenih odluka na koje se može izjaviti pravni lijek | F5: Ukupan broj ožalbenih odluka | G5: Broj odbačenih pravnih lijekova*** | H5: Broj potvrđenih odluka | I5: Broj preinačenih odluka | J5: Broj preinačenih odluka donijetih nakon održane glavne rasprave ili pretresa pred drugostepenim sudom | K5: Broj ukinutih odluka | L5: Broj djelimično ukinutih odluka | M5: Kvalitet sudskih odluka prema članu 17. stav 1. tačka a) | N5: Broj ostvarenih bodova za kvalitet prema članu 17. stav 1. tačka a) | O5: Kvalitet sudskih odluka prema članu 17. stav 1. tačka b) | P5: Broj ostvarenih bodova za kvalitet prema članu 17. stav 1. tačka b) | Q5: UKUPAN broj ostvarenih bodova za kvalitet sudskih odluka
H6: Odbijen pravni lijek
A7: I | B7: II | C7: III | D7: IV | E7: V | F7: VI | G7: VII | H7: VIII | I7: IX | J7: X | K7: XI | L7: XII | M7: XIII | N7: XIV | O7: XV | P7: XVI | Q7: XVII
A9: 1 | B9: =IF('Tabela II'!B8="","",'Tabela II'!B8) -> Randžana Hadžibegović-Haračić | C9: Predsjednik suda * | D9: Ocijenjen | E9: 252 | F9: =SUM(H9:L9) -> 10 | H9: 7 | I9: 2 | K9: 1 | M9: =IF(D9="","",IF(D9="Nije ocijenjen ili Ne treba raditi na predmetima","",IF(D9="Ocijenjen",IF(F9<10,"Član 20. stav 7. Kriterija",(K9+(L9/2))/(F9))))) -> 0.1 | N9: =IF(D9="","",IF(D9="Nije ocijenjen ili Ne treba raditi na predmetima","",IF(D9="Ocijenjen",IF(M9="Član 20. stav 7. Kriterija","",IF(M9>0.4,0,IF(M9>0.3,4,IF(M9>0.2,8,IF(M9>0.1,12,IF(M9<=0.1,15,))))))))) -> 15 | O9: =IF(D9="","",IF(D9="Nije ocijenjen ili Ne treba raditi na predmetima","",IF(D9="Ocijenjen",IF(E9=0,"",((K9+J9+(L9/2))/(E9)))))) -> 0.003968254 | P9: =IF(D9="","",IF(D9="Nije ocijenjen ili Ne treba raditi na predmetima","",IF(D9="Ocijenjen",IF(O9>0.2,0,IF(O9>0.15,1,IF(O9>0.1,2,IF(O9>0.06,3,IF(O9>0.03,4,IF(O9<=0.03,5,))))))))) -> 5 | Q9: =IF(D9="","",IF(D9="Nije ocijenjen ili Ne treba raditi na predmetima","",IF(D9="Ocijenjen",IF(M9="Član 20. stav 7. Kriterija",P9,N9+P9)))) -> 20 | U9: Ocijenjen
A10: 2 | B10: =IF('Tabela II'!B10="","",'Tabela II'!B10) -> Amira Ždralović | C10: Predsjednik odjela | D10: Ocijenjen | E10: 503 | F10: =SUM(H10:L10) -> 32 | H10: 24 | I10: 3 | K10: 5 | M10: =IF(D10="","",IF(D10="Nije ocijenjen","",IF(D10="Ocijenjen",IF(F10<10,"Član 17. stav 7. Kriterija",(K10+(L10/2))/(F10))))) -> 0.15625 | N10: =IF(D10="","",IF(D10="Nije ocijenjen","",IF(D10="Ocijenjen",IF(M10="Član 17. stav 7. Kriterija","",IF(M10>0.4,0,IF(M10>0.3,8,IF(M10>0.2,16,IF(M10>0.1,24,IF(M10<=0.1,30,))))))))) -> 24 | O10: =IF(D10="","",IF(D10="Nije ocijenjen","",IF(D10="Ocijenjen",IF(E10=0,"",((K10+J10+(L10/2))/(E10)))))) -> 0.0099403579 | P10: =IF(D10="","",IF(D10="Nije ocijenjen","",IF(D10="Ocijenjen",IF(O10>0.2,0,IF(O10>0.15,2,IF(O10>0.1,4,IF(O10>0.06,6,IF(O10>0.03,8,IF(O10<=0.03,10,))))))))) -> 10 | Q10: =IF(D10="","",IF(D10="Nije ocijenjen","",IF(D10="Ocijenjen",IF(M10="Član 17. stav 7. Kriterija",P10,N10+P10)))) -> 34 | S10: Sudija | U10: Nije ocijenjen
A11: 3 | B11: =IF('Tabela II'!B11="","",'Tabela II'!B11) -> Darko Solomun | C11: Predsjednik odjela | D11: Ocijenjen | E11: 385 | F11: =SUM(H11:L11) -> 53 | H11: 38 | I11: 7 | K11: 7 | L11: 1 | M11: =IF(D11="","",IF(D11="Nije ocijenjen","",IF(D11="Ocijenjen",IF(F11<10,"Član 17. stav 7. Kriterija",(K11+(L11/2))/(F11))))) -> 0.14150943 | N11: =IF(D11="","",IF(D11="Nije ocijenjen","",IF(D11="Ocijenjen",IF(M11="Član 17. stav 7. Kriterija","",IF(M11>0.4,0,IF(M11>0.3,8,IF(M11>0.2,16,IF(M11>0.1,24,IF(M11<=0.1,30,))))))))) -> 24 | O11: =IF(D11="","",IF(D11="Nije ocijenjen","",IF(D11="Ocijenjen",IF(E11=0,"",((K11+J11+(L11/2))/(E11)))))) -> 0.019480519 | P11: =IF(D11="","",IF(D11="Nije ocijenjen","",IF(D11="Ocijenjen",IF(O11>0.2,0,IF(O11>0.15,2,IF(O11>0.1,4,IF(O11>0.06,6,IF(O11>0.03,8,IF(O11<=0.03,10,))))))))) -> 10 | Q11: =IF(D11="","",IF(D11="Nije ocijenjen","",IF(D11="Ocijenjen",IF(M11="Član 17. stav 7. Kriterija",P11,N11+P11)))) -> 34 | S11: Stručni saradnik
A12: 4 | B12: =IF('Tabela II'!B12="","",'Tabela II'!B12) -> Samil Ramić | C12: Predsjednik odjela | D12: Ocijenjen | E12: 721 | F12: =SUM(H12:L12) -> 7 | H12: 6 | I12: 1 | M12: =IF(D12="","",IF(D12="Nije ocijenjen","",IF(D12="Ocijenjen",IF(F12<10,"Član 17. stav 7. Kriterija",(K12+(L12/2))/(F12))))) -> Član 17. stav 7. Kriterija | N12: =IF(D12="","",IF(D12="Nije ocijenjen","",IF(D12="Ocijenjen",IF(M12="Član 17. stav 7. Kriterija","",IF(M12>0.4,0,IF(M12>0.3,8,IF(M12>0.2,16,IF(M12>0.1,24,IF(M12<=0.1,30,))))))))) | O12: =IF(D12="","",IF(D12="Nije ocijenjen","",IF(D12="Ocijenjen",IF(E12=0,"",((K12+J12+(L12/2))/(E12)))))) -> 0 | P12: =IF(D12="","",IF(D12="Nije ocijenjen","",IF(D12="Ocijenjen",IF(O12>0.2,0,IF(O12>0.15,2,IF(O12>0.1,4,IF(O12>0.06,6,IF(O12>0.03,8,IF(O12<=0.03,10,))))))))) -> 10 | Q12: =IF(D12="","",IF(D12="Nije ocijenjen","",IF(D12="Ocijenjen",IF(M12="Član 17. stav 7. Kriterija",P12,N12+P12)))) -> 10 | S12: Predsjednik odjela
A13: 5 | B13: =IF('Tabela II'!B13="","",'Tabela II'!B13) -> Safet Žuljko | C13: Sudija | D13: Ocijenjen | E13: 917 | F13: =SUM(H13:L13) -> 21 | H13: 18 | K13: 3 | M13: =IF(D13="","",IF(D13="Nije ocijenjen","",IF(D13="Ocijenjen",IF(F13<10,"Član 17. stav 7. Kriterija",(K13+(L13/2))/(F13))))) -> 0.14285714 | N13: =IF(D13="","",IF(D13="Nije ocijenjen","",IF(D13="Ocijenjen",IF(M13="Član 17. stav 7. Kriterija","",IF(M13>0.4,0,IF(M13>0.3,8,IF(M13>0.2,16,IF(M13>0.1,24,IF(M13<=0.1,30,))))))))) -> 24 | O13: =IF(D13="","",IF(D13="Nije ocijenjen","",IF(D13="Ocijenjen",IF(E13=0,"",((K13+J13+(L13/2))/(E13)))))) -> 0.0032715376 | P13: =IF(D13="","",IF(D13="Nije ocijenjen","",IF(D13="Ocijenjen",IF(O13>0.2,0,IF(O13>0.15,2,IF(O13>0.1,4,IF(O13>0.06,6,IF(O13>0.03,8,IF(O13<=0.03,10,))))))))) -> 10 | Q13: =IF(D13="","",IF(D13="Nije ocijenjen","",IF(D13="Ocijenjen",IF(M13="Član 17. stav 7. Kriterija",P13,N13+P13)))) -> 34 | S13: Predsjednik sudskog vijeća vrhovnog suda entiteta
A14: 6 | B14: =IF('Tabela II'!B14="","",'Tabela II'!B14) -> Lejla Nurikić | C14: Sudija | D14: Ocijenjen | E14: 482 | F14: =SUM(H14:L14) -> 43 | H14: 37 | I14: 2 | K14: 3 | L14: 1 | M14: =IF(D14="","",IF(D14="Nije ocijenjen","",IF(D14="Ocijenjen",IF(F14<10,"Član 17. stav 7. Kriterija",(K14+(L14/2))/(F14))))) -> 0.081395349 | N14: =IF(D14="","",IF(D14="Nije ocijenjen","",IF(D14="Ocijenjen",IF(M14="Član 17. stav 7. Kriterija","",IF(M14>0.4,0,IF(M14>0.3,8,IF(M14>0.2,16,IF(M14>0.1,24,IF(M14<=0.1,30,))))))))) -> 30 | O14: =IF(D14="","",IF(D14="Nije ocijenjen","",IF(D14="Ocijenjen",IF(E14=0,"",((K14+J14+(L14/2))/(E14)))))) -> 0.0072614108 | P14: =IF(D14="","",IF(D14="Nije ocijenjen","",IF(D14="Ocijenjen",IF(O14>0.2,0,IF(O14>0.15,2,IF(O14>0.1,4,IF(O14>0.06,6,IF(O14>0.03,8,IF(O14<=0.03,10,))))))))) -> 10 | Q14: =IF(D14="","",IF(D14="Nije ocijenjen","",IF(D14="Ocijenjen",IF(M14="Član 17. stav 7. Kriterija",P14,N14+P14)))) -> 40
A15: 7 | B15: =IF('Tabela II'!B15="","",'Tabela II'!B15) -> Katica Soldo | C15: Sudija | D15: Ocijenjen | E15: 485 | F15: =SUM(H15:L15) -> 46 | H15: 41 | I15: 1 | K15: 4 | M15: =IF(D15="","",IF(D15="Nije ocijenjen","",IF(D15="Ocijenjen",IF(F15<10,"Član 17. stav 7. Kriterija",(K15+(L15/2))/(F15))))) -> 0.086956522 | N15: =IF(D15="","",IF(D15="Nije ocijenjen","",IF(D15="Ocijenjen",IF(M15="Član 17. stav 7. Kriterija","",IF(M15>0.4,0,IF(M15>0.3,8,IF(M15>0.2,16,IF(M15>0.1,24,IF(M15<=0.1,30,))))))))) -> 30 | O15: =IF(D15="","",IF(D15="Nije ocijenjen","",IF(D15="Ocijenjen",IF(E15=0,"",((K15+J15+(L15/2))/(E15)))))) -> 0.0082474227 | P15: =IF(D15="","",IF(D15="Nije ocijenjen","",IF(D15="Ocijenjen",IF(O15>0.2,0,IF(O15>0.15,2,IF(O15>0.1,4,IF(O15>0.06,6,IF(O15>0.03,8,IF(O15<=0.03,10,))))))))) -> 10 | Q15: =IF(D15="","",IF(D15="Nije ocijenjen","",IF(D15="Ocijenjen",IF(M15="Član 17. stav 7. Kriterija",P15,N15+P15)))) -> 40
A16: 8 | B16: =IF('Tabela II'!B16="","",'Tabela II'!B16) -> Janja Pilić | C16: Sudija | D16: Nije ocijenjen | E16: 254 | F16: =SUM(H16:L16) -> 29 | H16: 22 | K16: 7 | M16: =IF(D16="","",IF(D16="Nije ocijenjen","",IF(D16="Ocijenjen",IF(F16<10,"Član 17. stav 7. Kriterija",(K16+(L16/2))/(F16))))) | N16: =IF(D16="","",IF(D16="Nije ocijenjen","",IF(D16="Ocijenjen",IF(M16="Član 17. stav 7. Kriterija","",IF(M16>0.4,0,IF(M16>0.3,8,IF(M16>0.2,16,IF(M16>0.1,24,IF(M16<=0.1,30,))))))))) | O16: =IF(D16="","",IF(D16="Nije ocijenjen","",IF(D16="Ocijenjen",IF(E16=0,"",((K16+J16+(L16/2))/(E16)))))) | P16: =IF(D16="","",IF(D16="Nije ocijenjen","",IF(D16="Ocijenjen",IF(O16>0.2,0,IF(O16>0.15,2,IF(O16>0.1,4,IF(O16>0.06,6,IF(O16>0.03,8,IF(O16<=0.03,10,))))))))) | Q16: =IF(D16="","",IF(D16="Nije ocijenjen","",IF(D16="Ocijenjen",IF(M16="Član 17. stav 7. Kriterija",P16,N16+P16)))) | U16: Ocijenjen
A17: 9 | B17: Nebojša Vrhovac | C17: Sudija | D17: Ocijenjen | E17: 578 | F17: =SUM(H17:L17) -> 42 | H17: 39 | K17: 3 | M17: =IF(D17="","",IF(D17="Nije ocijenjen","",IF(D17="Ocijenjen",IF(F17<10,"Član 17. stav 7. Kriterija",(K17+(L17/2))/(F17))))) -> 0.071428571 | N17: =IF(D17="","",IF(D17="Nije ocijenjen","",IF(D17="Ocijenjen",IF(M17="Član 17. stav 7. Kriterija","",IF(M17>0.4,0,IF(M17>0.3,8,IF(M17>0.2,16,IF(M17>0.1,24,IF(M17<=0.1,30,))))))))) -> 30 | O17: =IF(D17="","",IF(D17="Nije ocijenjen","",IF(D17="Ocijenjen",IF(E17=0,"",((K17+J17+(L17/2))/(E17)))))) -> 0.0051903114 | P17: =IF(D17="","",IF(D17="Nije ocijenjen","",IF(D17="Ocijenjen",IF(O17>0.2,0,IF(O17>0.15,2,IF(O17>0.1,4,IF(O17>0.06,6,IF(O17>0.03,8,IF(O17<=0.03,10,))))))))) -> 10 | Q17: =IF(D17="","",IF(D17="Nije ocijenjen","",IF(D17="Ocijenjen",IF(M17="Član 17. stav 7. Kriterija",P17,N17+P17)))) -> 40 | U17: Nije ocijenjen ili Ne treba raditi na predmetima
A18: 10 | B18: =IF('Tabela II'!B18="","",'Tabela II'!B18) -> Aldina Rebihić-Topoljak | C18: Sudija | D18: Ocijenjen | E18: 931 | F18: =SUM(H18:L18) -> 13 | H18: 11 | I18: 1 | K18: 1 | M18: =IF(D18="","",IF(D18="Nije ocijenjen","",IF(D18="Ocijenjen",IF(F18<10,"Član 17. stav 7. Kriterija",(K18+(L18/2))/(F18))))) -> 0.076923077 | N18: =IF(D18="","",IF(D18="Nije ocijenjen","",IF(D18="Ocijenjen",IF(M18="Član 17. stav 7. Kriterija","",IF(M18>0.4,0,IF(M18>0.3,8,IF(M18>0.2,16,IF(M18>0.1,24,IF(M18<=0.1,30,))))))))) -> 30 | O18: =IF(D18="","",IF(D18="Nije ocijenjen","",IF(D18="Ocijenjen",IF(E18=0,"",((K18+J18+(L18/2))/(E18)))))) -> 0.0010741139 | P18: =IF(D18="","",IF(D18="Nije ocijenjen","",IF(D18="Ocijenjen",IF(O18>0.2,0,IF(O18>0.15,2,IF(O18>0.1,4,IF(O18>0.06,6,IF(O18>0.03,8,IF(O18<=0.03,10,))))))))) -> 10 | Q18: =IF(D18="","",IF(D18="Nije ocijenjen","",IF(D18="Ocijenjen",IF(M18="Član 17. stav 7. Kriterija",P18,N18+P18)))) -> 40
A19: 11 | B19: =IF('Tabela II'!B19="","",'Tabela II'!B19) -> Sonsirej Radivojević | C19: Sudija | D19: Ocijenjen | E19: 490 | F19: =SUM(H19:L19) -> 35 | H19: 24 | I19: 5 | K19: 6 | M19: =IF(D19="","",IF(D19="Nije ocijenjen","",IF(D19="Ocijenjen",IF(F19<10,"Član 17. stav 7. Kriterija",(K19+(L19/2))/(F19))))) -> 0.17142857 | N19: =IF(D19="","",IF(D19="Nije ocijenjen","",IF(D19="Ocijenjen",IF(M19="Član 17. stav 7. Kriterija","",IF(M19>0.4,0,IF(M19>0.3,8,IF(M19>0.2,16,IF(M19>0.1,24,IF(M19<=0.1,30,))))))))) -> 24 | O19: =IF(D19="","",IF(D19="Nije ocijenjen","",IF(D19="Ocijenjen",IF(E19=0,"",((K19+J19+(L19/2))/(E19)))))) -> 0.012244898 | P19: =IF(D19="","",IF(D19="Nije ocijenjen","",IF(D19="Ocijenjen",IF(O19>0.2,0,IF(O19>0.15,2,IF(O19>0.1,4,IF(O19>0.06,6,IF(O19>0.03,8,IF(O19<=0.03,10,))))))))) -> 10 | Q19: =IF(D19="","",IF(D19="Nije ocijenjen","",IF(D19="Ocijenjen",IF(M19="Član 17. stav 7. Kriterija",P19,N19+P19)))) -> 34
A20: 12 | B20: =IF('Tabela II'!B20="","",'Tabela II'!B20) -> Ivan Gudelj | C20: Sudija | D20: Ocijenjen | E20: 825 | F20: =SUM(H20:L20) -> 21 | H20: 18 | I20: 2 | K20: 1 | M20: =IF(D20="","",IF(D20="Nije ocijenjen","",IF(D20="Ocijenjen",IF(F20<10,"Član 17. stav 7. Kriterija",(K20+(L20/2))/(F20))))) -> 0.047619048 | N20: =IF(D20="","",IF(D20="Nije ocijenjen","",IF(D20="Ocijenjen",IF(M20="Član 17. stav 7. Kriterija","",IF(M20>0.4,0,IF(M20>0.3,8,IF(M20>0.2,16,IF(M20>0.1,24,IF(M20<=0.1,30,))))))))) -> 30 | O20: =IF(D20="","",IF(D20="Nije ocijenjen","",IF(D20="Ocijenjen",IF(E20=0,"",((K20+J20+(L20/2))/(E20)))))) -> 0.0012121212 | P20: =IF(D20="","",IF(D20="Nije ocijenjen","",IF(D20="Ocijenjen",IF(O20>0.2,0,IF(O20>0.15,2,IF(O20>0.1,4,IF(O20>0.06,6,IF(O20>0.03,8,IF(O20<=0.03,10,))))))))) -> 10 | Q20: =IF(D20="","",IF(D20="Nije ocijenjen","",IF(D20="Ocijenjen",IF(M20="Član 17. stav 7. Kriterija",P20,N20+P20)))) -> 40
A21: 13 | B21: =IF('Tabela II'!B21="","",'Tabela II'!B21) -> Amela Agić | C21: Stručni saradnik | D21: Nije ocijenjen | E21: 481 | F21: =SUM(H21:L21) -> 5 | H21: 4 | K21: 1 | M21: =IF(D21="","",IF(D21="Nije ocijenjen","",IF(D21="Ocijenjen",IF(F21<10,"Član 17. stav 7. Kriterija",(K21+(L21/2))/(F21))))) | N21: =IF(D21="","",IF(D21="Nije ocijenjen","",IF(D21="Ocijenjen",IF(M21="Član 17. stav 7. Kriterija","",IF(M21>0.4,0,IF(M21>0.3,8,IF(M21>0.2,16,IF(M21>0.1,24,IF(M21<=0.1,30,))))))))) | O21: =IF(D21="","",IF(D21="Nije ocijenjen","",IF(D21="Ocijenjen",IF(E21=0,"",((K21+J21+(L21/2))/(E21)))))) | P21: =IF(D21="","",IF(D21="Nije ocijenjen","",IF(D21="Ocijenjen",IF(O21>0.2,0,IF(O21>0.15,2,IF(O21>0.1,4,IF(O21>0.06,6,IF(O21>0.03,8,IF(O21<=0.03,10,))))))))) | Q21: =IF(D21="","",IF(D21="Nije ocijenjen","",IF(D21="Ocijenjen",IF(M21="Član 17. stav 7. Kriterija",P21,N21+P21))))
A22: 14 | B22: =IF('Tabela II'!B22="","",'Tabela II'!B22) -> Marin Kajić | C22: Stručni saradnik | D22: Nije ocijenjen | E22: 443 | F22: =SUM(H22:L22) -> 11 | H22: 7 | I22: 1 | K22: 3 | M22: =IF(D22="","",IF(D22="Nije ocijenjen","",IF(D22="Ocijenjen",IF(F22<10,"Član 17. stav 7. Kriterija",(K22+(L22/2))/(F22))))) | N22: =IF(D22="","",IF(D22="Nije ocijenjen","",IF(D22="Ocijenjen",IF(M22="Član 17. stav 7. Kriterija","",IF(M22>0.4,0,IF(M22>0.3,8,IF(M22>0.2,16,IF(M22>0.1,24,IF(M22<=0.1,30,))))))))) | O22: =IF(D22="","",IF(D22="Nije ocijenjen","",IF(D22="Ocijenjen",IF(E22=0,"",((K22+J22+(L22/2))/(E22)))))) | P22: =IF(D22="","",IF(D22="Nije ocijenjen","",IF(D22="Ocijenjen",IF(O22>0.2,0,IF(O22>0.15,2,IF(O22>0.1,4,IF(O22>0.06,6,IF(O22>0.03,8,IF(O22<=0.03,10,))))))))) | Q22: =IF(D22="","",IF(D22="Nije ocijenjen","",IF(D22="Ocijenjen",IF(M22="Član 17. stav 7. Kriterija",P22,N22+P22))))
A23: 15 | B23: =IF('Tabela II'!B23="","",'Tabela II'!B23) -> Ivan Sokanović | C23: Stručni saradnik | D23: Nije ocijenjen | E23: 452 | F23: =SUM(H23:L23) -> 3 | H23: 1 | I23: 1 | K23: 1 | M23: =IF(D23="","",IF(D23="Nije ocijenjen","",IF(D23="Ocijenjen",IF(F23<10,"Član 17. stav 7. Kriterija",(K23+(L23/2))/(F23))))) | N23: =IF(D23="","",IF(D23="Nije ocijenjen","",IF(D23="Ocijenjen",IF(M23="Član 17. stav 7. Kriterija","",IF(M23>0.4,0,IF(M23>0.3,8,IF(M23>0.2,16,IF(M23>0.1,24,IF(M23<=0.1,30,))))))))) | O23: =IF(D23="","",IF(D23="Nije ocijenjen","",IF(D23="Ocijenjen",IF(E23=0,"",((K23+J23+(L23/2))/(E23)))))) | P23: =IF(D23="","",IF(D23="Nije ocijenjen","",IF(D23="Ocijenjen",IF(O23>0.2,0,IF(O23>0.15,2,IF(O23>0.1,4,IF(O23>0.06,6,IF(O23>0.03,8,IF(O23<=0.03,10,))))))))) | Q23: =IF(D23="","",IF(D23="Nije ocijenjen","",IF(D23="Ocijenjen",IF(M23="Član 17. stav 7. Kriterija",P23,N23+P23))))
A24: 16 | B24: =IF('Tabela II'!B24="","",'Tabela II'!B24) | F24: =SUM(H24:L24) -> 0 | M24: =IF(D24="","",IF(D24="Nije ocijenjen","",IF(D24="Ocijenjen",IF(F24<10,"Član 17. stav 7. Kriterija",(K24+(L24/2))/(F24))))) | N24: =IF(D24="","",IF(D24="Nije ocijenjen","",IF(D24="Ocijenjen",IF(M24="Član 17. stav 7. Kriterija","",IF(M24>0.4,0,IF(M24>0.3,8,IF(M24>0.2,16,IF(M24>0.1,24,IF(M24<=0.1,30,))))))))) | O24: =IF(D24="","",IF(D24="Nije ocijenjen","",IF(D24="Ocijenjen",IF(E24=0,"",((K24+J24+(L24/2))/(E24)))))) | P24: =IF(D24="","",IF(D24="Nije ocijenjen","",IF(D24="Ocijenjen",IF(O24>0.2,0,IF(O24>0.15,2,IF(O24>0.1,4,IF(O24>0.06,6,IF(O24>0.03,8,IF(O24<=0.03,10,))))))))) | Q24: =IF(D24="","",IF(D24="Nije ocijenjen","",IF(D24="Ocijenjen",IF(M24="Član 17. stav 7. Kriterija",P24,N24+P24))))
A25: 17 | B25: =IF('Tabela II'!B25="","",'Tabela II'!B25) | F25: =SUM(H25:L25) -> 0 | M25: =IF(D25="","",IF(D25="Nije ocijenjen","",IF(D25="Ocijenjen",IF(F25<10,"Član 17. stav 7. Kriterija",(K25+(L25/2))/(F25))))) | N25: =IF(D25="","",IF(D25="Nije ocijenjen","",IF(D25="Ocijenjen",IF(M25="Član 17. stav 7. Kriterija","",IF(M25>0.4,0,IF(M25>0.3,8,IF(M25>0.2,16,IF(M25>0.1,24,IF(M25<=0.1,30,))))))))) | O25: =IF(D25="","",IF(D25="Nije ocijenjen","",IF(D25="Ocijenjen",IF(E25=0,"",((K25+J25+(L25/2))/(E25)))))) | P25: =IF(D25="","",IF(D25="Nije ocijenjen","",IF(D25="Ocijenjen",IF(O25>0.2,0,IF(O25>0.15,2,IF(O25>0.1,4,IF(O25>0.06,6,IF(O25>0.03,8,IF(O25<=0.03,10,))))))))) | Q25: =IF(D25="","",IF(D25="Nije ocijenjen","",IF(D25="Ocijenjen",IF(M25="Član 17. stav 7. Kriterija",P25,N25+P25))))
A26: 18 | B26: =IF('Tabela II'!B26="","",'Tabela II'!B26) | F26: =SUM(H26:L26) -> 0 | M26: =IF(D26="","",IF(D26="Nije ocijenjen","",IF(D26="Ocijenjen",IF(F26<10,"Član 17. stav 7. Kriterija",(K26+(L26/2))/(F26))))) | N26: =IF(D26="","",IF(D26="Nije ocijenjen","",IF(D26="Ocijenjen",IF(M26="Član 17. stav 7. Kriterija","",IF(M26>0.4,0,IF(M26>0.3,8,IF(M26>0.2,16,IF(M26>0.1,24,IF(M26<=0.1,30,))))))))) | O26: =IF(D26="","",IF(D26="Nije ocijenjen","",IF(D26="Ocijenjen",IF(E26=0,"",((K26+J26+(L26/2))/(E26)))))) | P26: =IF(D26="","",IF(D26="Nije ocijenjen","",IF(D26="Ocijenjen",IF(O26>0.2,0,IF(O26>0.15,2,IF(O26>0.1,4,IF(O26>0.06,6,IF(O26>0.03,8,IF(O26<=0.03,10,))))))))) | Q26: =IF(D26="","",IF(D26="Nije ocijenjen","",IF(D26="Ocijenjen",IF(M26="Član 17. stav 7. Kriterija",P26,N26+P26))))
A27: 19 | B27: =IF('Tabela II'!B27="","",'Tabela II'!B27) | F27: =SUM(H27:L27) -> 0 | M27: =IF(D27="","",IF(D27="Nije ocijenjen","",IF(D27="Ocijenjen",IF(F27<10,"Član 17. stav 7. Kriterija",(K27+(L27/2))/(F27))))) | N27: =IF(D27="","",IF(D27="Nije ocijenjen","",IF(D27="Ocijenjen",IF(M27="Član 17. stav 7. Kriterija","",IF(M27>0.4,0,IF(M27>0.3,8,IF(M27>0.2,16,IF(M27>0.1,24,IF(M27<=0.1,30,))))))))) | O27: =IF(D27="","",IF(D27="Nije ocijenjen","",IF(D27="Ocijenjen",IF(E27=0,"",((K27+J27+(L27/2))/(E27)))))) | P27: =IF(D27="","",IF(D27="Nije ocijenjen","",IF(D27="Ocijenjen",IF(O27>0.2,0,IF(O27>0.15,2,IF(O27>0.1,4,IF(O27>0.06,6,IF(O27>0.03,8,IF(O27<=0.03,10,))))))))) | Q27: =IF(D27="","",IF(D27="Nije ocijenjen","",IF(D27="Ocijenjen",IF(M27="Član 17. stav 7. Kriterija",P27,N27+P27))))
A28: 20 | B28: =IF('Tabela II'!B28="","",'Tabela II'!B28) | F28: =SUM(H28:L28) -> 0 | M28: =IF(D28="","",IF(D28="Nije ocijenjen","",IF(D28="Ocijenjen",IF(F28<10,"Član 17. stav 7. Kriterija",(K28+(L28/2))/(F28))))) | N28: =IF(D28="","",IF(D28="Nije ocijenjen","",IF(D28="Ocijenjen",IF(M28="Član 17. stav 7. Kriterija","",IF(M28>0.4,0,IF(M28>0.3,8,IF(M28>0.2,16,IF(M28>0.1,24,IF(M28<=0.1,30,))))))))) | O28: =IF(D28="","",IF(D28="Nije ocijenjen","",IF(D28="Ocijenjen",IF(E28=0,"",((K28+J28+(L28/2))/(E28)))))) | P28: =IF(D28="","",IF(D28="Nije ocijenjen","",IF(D28="Ocijenjen",IF(O28>0.2,0,IF(O28>0.15,2,IF(O28>0.1,4,IF(O28>0.06,6,IF(O28>0.03,8,IF(O28<=0.03,10,))))))))) | Q28: =IF(D28="","",IF(D28="Nije ocijenjen","",IF(D28="Ocijenjen",IF(M28="Član 17. stav 7. Kriterija",P28,N28+P28))))
A29: 21 | B29: =IF('Tabela II'!B29="","",'Tabela II'!B29) | F29: =SUM(H29:L29) -> 0 | M29: =IF(D29="","",IF(D29="Nije ocijenjen","",IF(D29="Ocijenjen",IF(F29<10,"Član 17. stav 7. Kriterija",(K29+(L29/2))/(F29))))) | N29: =IF(D29="","",IF(D29="Nije ocijenjen","",IF(D29="Ocijenjen",IF(M29="Član 17. stav 7. Kriterija","",IF(M29>0.4,0,IF(M29>0.3,8,IF(M29>0.2,16,IF(M29>0.1,24,IF(M29<=0.1,30,))))))))) | O29: =IF(D29="","",IF(D29="Nije ocijenjen","",IF(D29="Ocijenjen",IF(E29=0,"",((K29+J29+(L29/2))/(E29)))))) | P29: =IF(D29="","",IF(D29="Nije ocijenjen","",IF(D29="Ocijenjen",IF(O29>0.2,0,IF(O29>0.15,2,IF(O29>0.1,4,IF(O29>0.06,6,IF(O29>0.03,8,IF(O29<=0.03,10,))))))))) | Q29: =IF(D29="","",IF(D29="Nije ocijenjen","",IF(D29="Ocijenjen",IF(M29="Član 17. stav 7. Kriterija",P29,N29+P29))))
A30: 22 | B30: =IF('Tabela II'!B30="","",'Tabela II'!B30) | F30: =SUM(H30:L30) -> 0 | M30: =IF(D30="","",IF(D30="Nije ocijenjen","",IF(D30="Ocijenjen",IF(F30<10,"Član 17. stav 7. Kriterija",(K30+(L30/2))/(F30))))) | N30: =IF(D30="","",IF(D30="Nije ocijenjen","",IF(D30="Ocijenjen",IF(M30="Član 17. stav 7. Kriterija","",IF(M30>0.4,0,IF(M30>0.3,8,IF(M30>0.2,16,IF(M30>0.1,24,IF(M30<=0.1,30,))))))))) | O30: =IF(D30="","",IF(D30="Nije ocijenjen","",IF(D30="Ocijenjen",IF(E30=0,"",((K30+J30+(L30/2))/(E30)))))) | P30: =IF(D30="","",IF(D30="Nije ocijenjen","",IF(D30="Ocijenjen",IF(O30>0.2,0,IF(O30>0.15,2,IF(O30>0.1,4,IF(O30>0.06,6,IF(O30>0.03,8,IF(O30<=0.03,10,))))))))) | Q30: =IF(D30="","",IF(D30="Nije ocijenjen","",IF(D30="Ocijenjen",IF(M30="Član 17. stav 7. Kriterija",P30,N30+P30))))
A31: 23 | B31: =IF('Tabela II'!B31="","",'Tabela II'!B31) | F31: =SUM(H31:L31) -> 0 | M31: =IF(D31="","",IF(D31="Nije ocijenjen","",IF(D31="Ocijenjen",IF(F31<10,"Član 17. stav 7. Kriterija",(K31+(L31/2))/(F31))))) | N31: =IF(D31="","",IF(D31="Nije ocijenjen","",IF(D31="Ocijenjen",IF(M31="Član 17. stav 7. Kriterija","",IF(M31>0.4,0,IF(M31>0.3,8,IF(M31>0.2,16,IF(M31>0.1,24,IF(M31<=0.1,30,))))))))) | O31: =IF(D31="","",IF(D31="Nije ocijenjen","",IF(D31="Ocijenjen",IF(E31=0,"",((K31+J31+(L31/2))/(E31)))))) | P31: =IF(D31="","",IF(D31="Nije ocijenjen","",IF(D31="Ocijenjen",IF(O31>0.2,0,IF(O31>0.15,2,IF(O31>0.1,4,IF(O31>0.06,6,IF(O31>0.03,8,IF(O31<=0.03,10,))))))))) | Q31: =IF(D31="","",IF(D31="Nije ocijenjen","",IF(D31="Ocijenjen",IF(M31="Član 17. stav 7. Kriterija",P31,N31+P31))))
