Workbook

Sheet Uputstvo
B2: OPĆINSKI/OSNOVNI SUDOVI
B4: Kompletni materijali u vezi procesa izvještavanja i ocjenjivanja rada u sudovima za 2022. godinu dostupni su na linku:
B5: https://vstv.pravosudje.ba/vstvfo/B/141/article/106391
B6: Tabele za popunjavanje podataka o radu sudova nije moguće mijenjati, niti dodavati nove redove ili kolone.
B7: Tabele se isključivo popunjavaju predviđenim redoslijedom, po redoslijedu postavljenih tabela.
B10: Podatke je potrebno upisivati samo u polja osjenčena žutom bojom.
B11: U ostala polja nije moguće upisivati vrijednosti, u ovim poljima vrijednosti će biti izračunate automatski.
B12: Molimo Vas da u Tabeli I i naslovu e-maila (subject) kojim ćete poslati popunjene obrasce navedete naziv Vašeg suda.
B15: Popunjene obrasce poslati na e-mail adresu: vstvstatistika@pravosudje.ba do 01.02.2023. godine.
B17: Za sva eventualna pitanja vezano za popunjavanje obrazaca molimo Vas da kontaktirate
B18: Odjel za pravosudnu analitiku i izvještavanje, na telefon: 033 704 616 ili 033 707 584.
B20: Tabele za ocjenjivanje NPF u sudu sadrže detaljnije napomene koje je potrebno imati u vidu prilikom popunjavanja tabela.
... B36: TABELA I – PROTOK PREDMETA U SUDU KOJI NISU EVIDENTIRANI U CMS-U Napomena za prikazivanje podataka o tzv. komunalnim predmetima: Prema pojašnjenju ove kategorije predmeta, koja je Vijeće pružilo u dopisu broj VSTV-08-0027-10012007 od 10.01.2007.godine, pod komunalnim predmetima se smatraju svi predmeti u kojima su povjerilac preduzeća, a odnose se na neplaćene komunalne usluge. Prema tome, u ovu kategoriju predmeta spadaju predmeti koji se odnose na naplatu potraživanja nastalih na osnovu isporuke vode, toplotne energije, odvoza smeća, električne energije, telefonskih usluga, održavanje zajedničkih prostorija, RTV takse i slično.

Sheet Tabela I
A1: Općinski/Osnovni sud: | C1: Bugojno | F1: 2022
A2: Izvještajni period: | C2: 1.1.2022.- 31.12.2022.
A3: Ostvarena kolektivna norma za sud u 2022. godini: | E3: =+'Tabela II'!P89 -> 1.0478786
A4: Kvalitet rada suda: | C4: ='Tabela III'!J47 -> 0.90355342
A5: Tabela I - Protok predmeta u sudu koji nisu evidentirani u sistemu CMS (pogledati NAPOMENU 1)
A6: Vrsta predmeta | B6: Broj neriješenih predmeta na početku izvještajnog perioda | C6: Broj primljenih predmeta | D6: Ukupan broj svih predmeta u radu | E6: Broj riješenih predmeta | F6: Broj neriješenih predmeta na kraju izvještajnog perioda
B7: I | C7: II | D7: III=I+II | E7: IV | F7: V=III-IV
A8: Predmeti za naplatu komunalnih usluga
A9: Mal | D9: =IF((B9+C9)=0," ",(B9+C9)) | F9: =IF((B9+C9-E9)=0," ",(B9+C9-E9))
A10: Mals | D10: =IF((B10+C10)=0," ",(B10+C10)) | F10: =IF((B10+C10-E10)=0," ",(B10+C10-E10))
A11: I | B11: 3071 | C11: 1282 | D11: =IF((B11+C11)=0," ",(B11+C11)) -> 4353 | E11: 2148 | F11: =IF((B11+C11-E11)=0," ",(B11+C11-E11)) -> 2205
A12: Ip | B12: 64 | C12: 23 | D12: =IF((B12+C12)=0," ",(B12+C12)) -> 87 | E12: 74 | F12: =IF((B12+C12-E12)=0," ",(B12+C12-E12)) -> 13
A13: Ukupno | B13: =SUM(B9:B12) -> 3135 | C13: =SUM(C9:C12) -> 1305 | D13: =SUM(D9:D12) -> 4440 | E13: =SUM(E9:E12) -> 2222 | F13: =SUM(F9:F12) -> 2218
A14: Predmeti registracije
A15: Reg | D15: =IF((B15+C15)=0," ",(B15+C15)) | F15: =IF((B15+C15-E15)=0," ",(B15+C15-E15))
A16: RegZ | D16: =IF((B16+C16)=0," ",(B16+C16)) | F16: =IF((B16+C16-E16)=0," ",(B16+C16-E16))
A17: F1 | D17: =IF((B17+C17)=0," ",(B17+C17)) | F17: =IF((B17+C17-E17)=0," ",(B17+C17-E17))
A18: F2 | D18: =IF((B18+C18)=0," ",(B18+C18)) | F18: =IF((B18+C18-E18)=0," ",(B18+C18-E18))
A19: F3 | D19: =IF((B19+C19)=0," ",(B19+C19)) | F19: =IF((B19+C19-E19)=0," ",(B19+C19-E19))
A20: Ostalo | D20: =IF((B20+C20)=0," ",(B20+C20)) | F20: =IF((B20+C20-E20)=0," ",(B20+C20-E20))
A21: Ukupno | B21: =SUM(B15:B20) -> 0 | C21: =SUM(C15:C20) -> 0 | D21: =SUM(D15:D20) -> 0 | E21: =SUM(E15:E20) -> 0 | F21: =SUM(F15:F20) -> 0
A22: ZK predmeti
A23: Dn | B23: 29 | C23: 2720 | D23: =IF((B23+C23)=0," ",(B23+C23)) -> 2749 | E23: 2540 | F23: =IF((B23+C23-E23)=0," ",(B23+C23-E23)) -> 209
A24: Nar | C24: 9297 | D24: =IF((B24+C24)=0," ",(B24+C24)) -> 9297 | E24: 9297 | F24: =IF((B24+C24-E24)=0," ",(B24+C24-E24))
A25: Rz | C25: 1699 | D25: =IF((B25+C25)=0," ",(B25+C25)) -> 1699 | E25: 1699 | F25: =IF((B25+C25-E25)=0," ",(B25+C25-E25))
A26: Kpu | C26: 74 | D26: =IF((B26+C26)=0," ",(B26+C26)) -> 74 | E26: 70 | F26: =IF((B26+C26-E26)=0," ",(B26+C26-E26)) -> 4
A27: Ostalo | D27: =IF((B27+C27)=0," ",(B27+C27)) | F27: =IF((B27+C27-E27)=0," ",(B27+C27-E27))
A28: Ukupno | B28: =SUM(B23:B27) -> 29 | C28: =SUM(C23:C27) -> 13790 | D28: =SUM(D23:D27) -> 13819 | E28: =SUM(E23:E27) -> 13606 | F28: =SUM(F23:F27) -> 213
A30: Medijacija | D30: =B30+C30 -> 0 | F30: =B30+C30-E30 -> 0
A32: UKUPNO | B32: =B13+B21+B28+B30 -> 3164 | C32: =C13+C21+C28+C30 -> 15095 | D32: =D13+D21+D28+D30 -> 18259 | E32: =E13+E21+E28+E30 -> 15828 | F32: =F13+F21+F28+F30 -> 2431
A34: Napomena 1: Molimo Vas da obratite pažnju da podaci koji se iskazuju u Tabeli I - Protok predmeta u sudu koji nisu evidentirani u CMS Kolona I – Broj neriješenih predmeta na početku izvještajnog perioda trebaju biti jednaki podacima o broju neriješenih predmeta na kraju izvještajnog perioda koje ste iskazali u Tabeli za izvještavanje o radu suda za 2021. godinu (Tabela I - Protok predmeta u sudu koji nisu evidentirani u CMS Kolona V – Broj neriješenih predmeta na kraju izvještajnog perioda). | D34: Ukoliko, ipak, postoji razlika u broju neriješenih predmeta na početku 2022. godine u odnosu na kraj 2021. godine, molimo da unesete detaljno obrazloženje te razlike. Takođe, ukoliko je tokom godine došlo do značajnog povećanja priliva neke vrste predmeta navedene u ovoj izvještajnoj tabeli, molimo da unesete obrazloženje.
A36: Pomoći radi, na linku iz sheet-a "Uputstvo" nalazi se tabela "4. Pomoćna tabela: Ukupan broj neriješenih predmeta VAN CMS-a na kraju 2021.godine" sa podacima o ukupnom broju neriješenih predmeta koji nisu evidentirani u CMS-u na kraju 2021. godine, koje ste VSTV-u BiH dostavili putem Tabele za izvještavanje o radu suda za 2021. godinu (Tabela I - Protok predmeta u sudu koji nisu evidentirani u CMS Kolona V – Broj neriješenih predmeta na kraju izvještajnog perioda).

Sheet Tabela Ia
A1: Općinski/Osnovni sud: | B1: ='Tabela I'!C1 -> Bugojno
A2: Izvještajni period: | B2: ='Tabela I'!C2 -> 1.1.2022.- 31.12.2022.
A3: Tabela Ia - Protok ZK predmeta
A4: Vrsta predmeta | B4: Broj neriješenih predmeta na početku izvještajnog perioda | C4: Broj primljenih predmeta | D4: Ukupan broj svih predmeta u radu | E4: Broj riješenih predmeta | F4: Broj neriješenih predmeta na kraju izvještajnog perioda
B5: I | C5: II | D5: III=I+II | E5: IV | F5: V=III-IV
A6: ZK predmeti
A7: Zahtjevi za upis | B7: 29 | C7: 2720 | D7: =IF(B7+C7=0," ",(B7+C7)) -> 2749 | E7: 2540 | F7: =IF((B7+C7-E7)=0," ",(B7+C7-E7)) -> 209
A8: Zahtjevi za ZK izvadke | C8: 9297 | D8: =IF(B8+C8=0," ",(B8+C8)) -> 9297 | E8: 9297 | F8: =IF((B8+C8-E8)=0," ",(B8+C8-E8))
A9: Zahtjevi za uspostavljanje ZK uložaka | C9: 74 | D9: =IF(B9+C9=0," ",(B9+C9)) -> 74 | E9: 70 | F9: =IF((B9+C9-E9)=0," ",(B9+C9-E9)) -> 4
A10: Ostalo (uvjerenja, potvrde i dr.) | C10: 1699 | D10: =IF(B10+C10=0," ",(B10+C10)) -> 1699 | E10: 1699 | F10: =IF((B10+C10-E10)=0," ",(B10+C10-E10))
A11: Ukupno | B11: =(B7+B8+B9+B10) -> 29 | C11: =(C7+C8+C9+C10) -> 13790 | D11: =SUM(B7:C10) -> 13819 | E11: =(E7+E8+E9+E10) -> 13606 | F11: =(SUM(B7:C10)-SUM(E7:E10)) -> 213

Sheet Tabela II
A1: ='Tabela I'!A1 -> Općinski/Osnovni sud: | D1: ='Tabela I'!C1 -> Bugojno
A2: Izvještajni period: | C2: 1.1.2022.-31.12.2022.
A3: Tabela IIa – Ostvarena orijentaciona norma - Elektronski obrazac za obračun ostvarene orijentacione norme (pogledati NAPOMENU 4)
A5: Redni broj | B5: Ime i prezime - evidentirani podatak se automatski prenosi u Tabelu IIIa | C5: Ocjenjen u sudu | D5: Naziv odjela | E5: Pravosudna funkcija | G5: Procenat orijentacijske norme koju je nosilac pravosudne funkcije dužan ostvariti - Ukoliko procenat orijenatcijske norme nije predviđen u padajućem meniju pogledati NAPOMENU 3 | H5: Period obavljanja pravosudne funkcije u instituciji koja popunjava tabelu Ia | J5: Ukupan broj dana za obračun norme - pogledati NAPOMENU 2 | K5: Broj dana opravdanog odsustva iz člana 13. Kriterija za ocjenjivanje rada (pogledati NAPOMENU 9) | L5: Ostvarena orijentaciona norma iz CMS-a | M5: Ostvarena orijentaciona norma na predmetima van CMS-a - pogledati NAPOMENU 6 | N5: Procenat ostvarene orijentacione norme prema članu 9. Pravilnika o orijentacijskim mjerilima - pogledati NAPOMENU 7 | O5: Procenat ostvarene propisane godišnje orijentacijske norme u 2022. godini | P5: Ukupno ostvarena orijentacijska norma u 2022. godini | Q5: Nedovoljan broj predmeta u radu - pogledati NAPOMENU 5 | V5: Broj ostvarenih bodova | W5: Sudija | X5: Stručni saradnik | Y5: Predsjednik odjela | Z5: Predsjednik sudskog vijeća vrhovnog suda entiteta
H6: Datum od | I6: Datum do | Q6: broj predmeta u radu | R6: broj riješenih predmeta | S6: broj neriješenih predmeta sa zakonskim i procesnim smetnjama | T6: broj neriješenih predmeta bez zakonskih i procesnih smetnji | U6: procenat riješenih predmeta
A7: I | B7: II | C7: III | D7: IV | E7: V | G7: VI | H7: VII | I7: VIII | J7: IX | K7: X | L7: XI | M7: XII | N7: XIII | O7: XIV | P7: XV | Q7: XVI | R7: XVII | S7: XVIII | T7: XIX | U7: XX | V7: XXI | W7: 1 | X7: 0.9 | Y7: 0.8 | Z7: 0.5 | AA7: 0.25 | AB7: Ne treba raditi na predm.
A8: 1 | B8: Randžana Hadžibegović-Haračić | C8: Da | E8: Predsjednik suda | G8: 0.3 | H8: 01.01.2022 | I8: 31.12.2022 | J8: 260 | K8: 1 | L8: 0.3856 | O8: =IF(G8="","",IF(G8="Ne treba raditi na predm.",1+SUM(L8:N8),(SUM(L8:N8)/G8))) -> 1.2853333 | P8: =IF(K8>0,IF(G8="Ne treba raditi na predm.",O8,O8*(J8/(J8-K8))),O8) -> 1.290296 | U8: =IF(Q8="","",R8/(Q8-S8)) | V8: =IF(P8="","",IF(C8="Ne","",IF(G8="Ne treba raditi na predm.","",IF(P8>1,20,IF(U8="",IF(P8>0.95,18,IF(P8>0.9,15,IF(P8>0.85,13,IF(P8>0.8,10,IF(P8>0.75,8,IF(P8>0.7,5,IF(P8>0.5,3,0))))))),IF(U8=1,20,IF(U8>0.95,18,IF(U8>0.9,15,IF(U8>0.85,13,IF(U8>0.8,10,IF(U8>0.75,8,IF(U8>0.7,5,IF(U8>0.5,3,0))))))))))))) -> 20 | W8: 0.7 | X8: 0.5 | Y8: 0.4 | Z8: 0.3 | AA8: Ne treba raditi na predm.
E9: Predsjednik suda | O9: =IF(G9="","",IF(G9="Ne treba raditi na predm.",1+SUM(L9:N9),(SUM(L9:N9)/G9))) | P9: =IF(K9>0,IF(G9="Ne treba raditi na predm.",O9,O9*(J9/(J9-K9))),O9) | U9: =IF(Q9="","",R9/(Q9-S9)) | V9: =IF(P9="","",IF(C9="Ne","",IF(G9="Ne treba raditi na predm.","",IF(P9>1,20,IF(U9="",IF(P9>0.95,18,IF(P9>0.9,15,IF(P9>0.85,13,IF(P9>0.8,10,IF(P9>0.75,8,IF(P9>0.7,5,IF(P9>0.5,3,0))))))),IF(U9=1,20,IF(U9>0.95,18,IF(U9>0.9,15,IF(U9>0.85,13,IF(U9>0.8,10,IF(U9>0.75,8,IF(U9>0.7,5,IF(U9>0.5,3,0)))))))))))))
A10: 2 | B10: Amira Ždralović | C10: Da | D10: Građanski | E10: Predsjednik odjela | F10: =IF(E10="Sudija",1,IF(E10="Stručni saradnik",1,"")) | G10: 0.9 | H10: 01.01.2022 | I10: 31.12.2022 | J10: 260 | K10: 12 | L10: 0.9092 | O10: =IF(G10="","",IF(G10="Ne treba raditi na predm.",1+SUM(L10:N10),(SUM(L10:N10)/G10))) -> 1.0102222 | P10: =IF(K10>0,IF(G10="Ne treba raditi na predm.",O10,O10*(J10/(J10-K10))),O10) -> 1.0591039 | U10: =IF(Q10="","",R10/(Q10-S10)) | V10: =IF(P10="","",IF(C10="Ne","",IF(G10="Ne treba raditi na predm.","",IF(P10>1,40,IF(U10="",IF(P10>0.95,35,IF(P10>0.9,30,IF(P10>0.85,25,IF(P10>0.8,20,IF(P10>0.75,15,IF(P10>0.7,10,IF(P10>0.5,5,0))))))),IF(U10=1,40,IF(U10>0.95,35,IF(U10>0.9,30,IF(U10>0.85,25,IF(U10>0.8,20,IF(U10>0.75,15,IF(U10>0.7,10,IF(U10>0.5,5,0))))))))))))) -> 40 | W10: Da | X10: Ne
A11: 3 | B11: Darko Solomun | C11: Da | D11: Krivično-prekršajni | E11: Predsjednik odjela | F11: =IF(E11="Sudija",1,IF(E11="Stručni saradnik",1,"")) | G11: 0.9 | H11: 01.01.2022 | I11: 31.12.2022 | J11: 260 | K11: 44 | L11: 0.7483 | O11: =IF(G11="","",IF(G11="Ne treba raditi na predm.",1+SUM(L11:N11),(SUM(L11:N11)/G11))) -> 0.83144444 | P11: =IF(K11>0,IF(G11="Ne treba raditi na predm.",O11,O11*(J11/(J11-K11))),O11) -> 1.0008128 | U11: =IF(Q11="","",R11/(Q11-S11)) | V11: =IF(P11="","",IF(C11="Ne","",IF(G11="Ne treba raditi na predm.","",IF(P11>1,40,IF(U11="",IF(P11>0.95,35,IF(P11>0.9,30,IF(P11>0.85,25,IF(P11>0.8,20,IF(P11>0.75,15,IF(P11>0.7,10,IF(P11>0.5,5,0))))))),IF(U11=1,40,IF(U11>0.95,35,IF(U11>0.9,30,IF(U11>0.85,25,IF(U11>0.8,20,IF(U11>0.75,15,IF(U11>0.7,10,IF(U11>0.5,5,0))))))))))))) -> 40
A12: 4 | B12: Samil Ramić | C12: Da | D12: Izvršni | E12: Predsjednik odjela | F12: =IF(E12="Sudija",1,IF(E12="Stručni saradnik",1,"")) | G12: 0.9 | H12: 01.01.2022 | I12: 31.12.2022 | J12: 260 | K12: 1 | L12: 0.9134 | M12: 0.0154 | O12: =IF(G12="","",IF(G12="Ne treba raditi na predm.",1+SUM(L12:N12),(SUM(L12:N12)/G12))) -> 1.032 | P12: =IF(K12>0,IF(G12="Ne treba raditi na predm.",O12,O12*(J12/(J12-K12))),O12) -> 1.0359846 | U12: =IF(Q12="","",R12/(Q12-S12)) | V12: =IF(P12="","",IF(C12="Ne","",IF(G12="Ne treba raditi na predm.","",IF(P12>1,40,IF(U12="",IF(P12>0.95,35,IF(P12>0.9,30,IF(P12>0.85,25,IF(P12>0.8,20,IF(P12>0.75,15,IF(P12>0.7,10,IF(P12>0.5,5,0))))))),IF(U12=1,40,IF(U12>0.95,35,IF(U12>0.9,30,IF(U12>0.85,25,IF(U12>0.8,20,IF(U12>0.75,15,IF(U12>0.7,10,IF(U12>0.5,5,0))))))))))))) -> 40
A13: 5 | B13: Safet Žuljko | C13: Da | D13: Krivično-prekršajni | E13: Sudija | F13: =IF(E13="Sudija",1,IF(E13="Stručni saradnik",1,"")) -> 1 | G13: 1 | H13: 01.01.2022 | I13: 31.12.2022 | J13: 260 | L13: 1.0873 | O13: =IF(G13="","",IF(G13="Ne treba raditi na predm.",1+SUM(L13:N13),(SUM(L13:N13)/G13))) -> 1.0873 | P13: =IF(K13>0,IF(G13="Ne treba raditi na predm.",O13,O13*(J13/(J13-K13))),O13) -> 1.0873 | U13: =IF(Q13="","",R13/(Q13-S13)) | V13: =IF(P13="","",IF(C13="Ne","",IF(G13="Ne treba raditi na predm.","",IF(P13>1,40,IF(U13="",IF(P13>0.95,35,IF(P13>0.9,30,IF(P13>0.85,25,IF(P13>0.8,20,IF(P13>0.75,15,IF(P13>0.7,10,IF(P13>0.5,5,0))))))),IF(U13=1,40,IF(U13>0.95,35,IF(U13>0.9,30,IF(U13>0.85,25,IF(U13>0.8,20,IF(U13>0.75,15,IF(U13>0.7,10,IF(U13>0.5,5,0))))))))))))) -> 40
A14: 6 | B14: Lejla Nurikić | C14: Da | D14: Građanski | E14: Sudija | F14: =IF(E14="Sudija",1,IF(E14="Stručni saradnik",1,"")) -> 1 | G14: 1 | H14: 01.01.2022 | I14: 31.12.2022 | J14: 260 | K14: 5 | L14: 1.0186 | O14: =IF(G14="","",IF(G14="Ne treba raditi na predm.",1+SUM(L14:N14),(SUM(L14:N14)/G14))) -> 1.0186 | P14: =IF(K14>0,IF(G14="Ne treba raditi na predm.",O14,O14*(J14/(J14-K14))),O14) -> 1.0385725 | U14: =IF(Q14="","",R14/(Q14-S14)) | V14: =IF(P14="","",IF(C14="Ne","",IF(G14="Ne treba raditi na predm.","",IF(P14>1,40,IF(U14="",IF(P14>0.95,35,IF(P14>0.9,30,IF(P14>0.85,25,IF(P14>0.8,20,IF(P14>0.75,15,IF(P14>0.7,10,IF(P14>0.5,5,0))))))),IF(U14=1,40,IF(U14>0.95,35,IF(U14>0.9,30,IF(U14>0.85,25,IF(U14>0.8,20,IF(U14>0.75,15,IF(U14>0.7,10,IF(U14>0.5,5,0))))))))))))) -> 40
A15: 7 | B15: Katica Soldo | C15: Da | D15: Građanski | E15: Sudija | F15: =IF(E15="Sudija",1,IF(E15="Stručni saradnik",1,"")) -> 1 | G15: 1 | H15: 01.01.2022 | I15: 31.12.2022 | J15: 260 | K15: 9 | L15: 1.1321 | O15: =IF(G15="","",IF(G15="Ne treba raditi na predm.",1+SUM(L15:N15),(SUM(L15:N15)/G15))) -> 1.1321 | P15: =IF(K15>0,IF(G15="Ne treba raditi na predm.",O15,O15*(J15/(J15-K15))),O15) -> 1.1726932 | U15: =IF(Q15="","",R15/(Q15-S15)) | V15: =IF(P15="","",IF(C15="Ne","",IF(G15="Ne treba raditi na predm.","",IF(P15>1,40,IF(U15="",IF(P15>0.95,35,IF(P15>0.9,30,IF(P15>0.85,25,IF(P15>0.8,20,IF(P15>0.75,15,IF(P15>0.7,10,IF(P15>0.5,5,0))))))),IF(U15=1,40,IF(U15>0.95,35,IF(U15>0.9,30,IF(U15>0.85,25,IF(U15>0.8,20,IF(U15>0.75,15,IF(U15>0.7,10,IF(U15>0.5,5,0))))))))))))) -> 40
A16: 8 | B16: Janja Pilić | C16: Ne | D16: Građanski | E16: Sudija | F16: =IF(E16="Sudija",1,IF(E16="Stručni saradnik",1,"")) -> 1 | G16: 1 | H16: 01.01.2022 | I16: 09.09.2022 | J16: 180 | K16: 31 | L16: 0.7498 | O16: =IF(G16="","",IF(G16="Ne treba raditi na predm.",1+SUM(L16:N16),(SUM(L16:N16)/G16))) -> 0.7498 | P16: =IF(K16>0,IF(G16="Ne treba raditi na predm.",O16,O16*(J16/(J16-K16))),O16) -> 0.90579866 | U16: =IF(Q16="","",R16/(Q16-S16)) | V16: =IF(P16="","",IF(C16="Ne","",IF(G16="Ne treba raditi na predm.","",IF(P16>1,40,IF(U16="",IF(P16>0.95,35,IF(P16>0.9,30,IF(P16>0.85,25,IF(P16>0.8,20,IF(P16>0.75,15,IF(P16>0.7,10,IF(P16>0.5,5,0))))))),IF(U16=1,40,IF(U16>0.95,35,IF(U16>0.9,30,IF(U16>0.85,25,IF(U16>0.8,20,IF(U16>0.75,15,IF(U16>0.7,10,IF(U16>0.5,5,0)))))))))))))
A17: 9 | B17: Nebojša Vrhovac | C17: Da | D17: Izvršni | E17: Sudija | F17: =IF(E17="Sudija",1,IF(E17="Stručni saradnik",1,"")) -> 1 | G17: 1 | H17: 01.01.2022 | I17: 31.12.2022 | J17: 260 | K17: 29 | L17: 0.9271 | M17: 0.0184 | O17: =IF(G17="","",IF(G17="Ne treba raditi na predm.",1+SUM(L17:N17),(SUM(L17:N17)/G17))) -> 0.9455 | P17: =IF(K17>0,IF(G17="Ne treba raditi na predm.",O17,O17*(J17/(J17-K17))),O17) -> 1.0641991 | U17: =IF(Q17="","",R17/(Q17-S17)) | V17: =IF(P17="","",IF(C17="Ne","",IF(G17="Ne treba raditi na predm.","",IF(P17>1,40,IF(U17="",IF(P17>0.95,35,IF(P17>0.9,30,IF(P17>0.85,25,IF(P17>0.8,20,IF(P17>0.75,15,IF(P17>0.7,10,IF(P17>0.5,5,0))))))),IF(U17=1,40,IF(U17>0.95,35,IF(U17>0.9,30,IF(U17>0.85,25,IF(U17>0.8,20,IF(U17>0.75,15,IF(U17>0.7,10,IF(U17>0.5,5,0))))))))))))) -> 40
A18: 10 | B18: Aldina Rebihić-Topoljak | C18: Da | D18: Krivično-prekršajni | E18: Sudija | F18: =IF(E18="Sudija",1,IF(E18="Stručni saradnik",1,"")) -> 1 | G18: 1 | H18: 01.01.2022 | I18: 31.12.2022 | J18: 260 | L18: 1.0136 | O18: =IF(G18="","",IF(G18="Ne treba raditi na predm.",1+SUM(L18:N18),(SUM(L18:N18)/G18))) -> 1.0136 | P18: =IF(K18>0,IF(G18="Ne treba raditi na predm.",O18,O18*(J18/(J18-K18))),O18) -> 1.0136 | U18: =IF(Q18="","",R18/(Q18-S18)) | V18: =IF(P18="","",IF(C18="Ne","",IF(G18="Ne treba raditi na predm.","",IF(P18>1,40,IF(U18="",IF(P18>0.95,35,IF(P18>0.9,30,IF(P18>0.85,25,IF(P18>0.8,20,IF(P18>0.75,15,IF(P18>0.7,10,IF(P18>0.5,5,0))))))),IF(U18=1,40,IF(U18>0.95,35,IF(U18>0.9,30,IF(U18>0.85,25,IF(U18>0.8,20,IF(U18>0.75,15,IF(U18>0.7,10,IF(U18>0.5,5,0))))))))))))) -> 40
A19: 11 | B19: Sonsirej Radivojević | C19: Da | D19: Krivično-prekršajni | E19: Sudija | F19: =IF(E19="Sudija",1,IF(E19="Stručni saradnik",1,"")) -> 1 | G19: 1 | H19: 01.01.2022 | I19: 31.12.2022 | J19: 260 | K19: 37 | L19: 1.0059 | O19: =IF(G19="","",IF(G19="Ne treba raditi na predm.",1+SUM(L19:N19),(SUM(L19:N19)/G19))) -> 1.0059 | P19: =IF(K19>0,IF(G19="Ne treba raditi na predm.",O19,O19*(J19/(J19-K19))),O19) -> 1.1727982 | U19: =IF(Q19="","",R19/(Q19-S19)) | V19: =IF(P19="","",IF(C19="Ne","",IF(G19="Ne treba raditi na predm.","",IF(P19>1,40,IF(U19="",IF(P19>0.95,35,IF(P19>0.9,30,IF(P19>0.85,25,IF(P19>0.8,20,IF(P19>0.75,15,IF(P19>0.7,10,IF(P19>0.5,5,0))))))),IF(U19=1,40,IF(U19>0.95,35,IF(U19>0.9,30,IF(U19>0.85,25,IF(U19>0.8,20,IF(U19>0.75,15,IF(U19>0.7,10,IF(U19>0.5,5,0))))))))))))) -> 40
A20: 12 | B20: Ivan Gudelj | C20: Da | D20: Izvršni | E20: Sudija | F20: =IF(E20="Sudija",1,IF(E20="Stručni saradnik",1,"")) -> 1 | G20: 1 | H20: 01.01.2022 | I20: 31.12.2022 | J20: 260 | L20: 1.0015 | O20: =IF(G20="","",IF(G20="Ne treba raditi na predm.",1+SUM(L20:N20),(SUM(L20:N20)/G20))) -> 1.0015 | P20: =IF(K20>0,IF(G20="Ne treba raditi na predm.",O20,O20*(J20/(J20-K20))),O20) -> 1.0015 | U20: =IF(Q20="","",R20/(Q20-S20)) | V20: =IF(P20="","",IF(C20="Ne","",IF(G20="Ne treba raditi na predm.","",IF(P20>1,40,IF(U20="",IF(P20>0.95,35,IF(P20>0.9,30,IF(P20>0.85,25,IF(P20>0.8,20,IF(P20>0.75,15,IF(P20>0.7,10,IF(P20>0.5,5,0))))))),IF(U20=1,40,IF(U20>0.95,35,IF(U20>0.9,30,IF(U20>0.85,25,IF(U20>0.8,20,IF(U20>0.75,15,IF(U20>0.7,10,IF(U20>0.5,5,0))))))))))))) -> 40
A21: 13 | B21: Amela Agić | C21: Ne | D21: Izvršni | E21: Stručni saradnik | F21: =IF(E21="Sudija",1,IF(E21="Stručni saradnik",1,"")) -> 1 | G21: 1 | H21: 01.01.2022 | I21: 31.12.2022 | J21: 260 | K21: 19 | L21: 0.7551 | M21: 0.2227 | O21: =IF(G21="","",IF(G21="Ne treba raditi na predm.",1+SUM(L21:N21),(SUM(L21:N21)/G21))) -> 0.9778 | P21: =IF(K21>0,IF(G21="Ne treba raditi na predm.",O21,O21*(J21/(J21-K21))),O21) -> 1.054888 | U21: =IF(Q21="","",R21/(Q21-S21)) | V21: =IF(P21="","",IF(C21="Ne","",IF(G21="Ne treba raditi na predm.","",IF(P21>1,40,IF(U21="",IF(P21>0.95,35,IF(P21>0.9,30,IF(P21>0.85,25,IF(P21>0.8,20,IF(P21>0.75,15,IF(P21>0.7,10,IF(P21>0.5,5,0))))))),IF(U21=1,40,IF(U21>0.95,35,IF(U21>0.9,30,IF(U21>0.85,25,IF(U21>0.8,20,IF(U21>0.75,15,IF(U21>0.7,10,IF(U21>0.5,5,0)))))))))))))
A22: 14 | B22: Marin Kajić | C22: Ne | D22: Izvršni | E22: Stručni saradnik | F22: =IF(E22="Sudija",1,IF(E22="Stručni saradnik",1,"")) -> 1 | G22: 1 | H22: 01.01.2022 | I22: 31.12.2022 | J22: 260 | K22: 5 | L22: 0.6145 | M22: 0.1969 | O22: =IF(G22="","",IF(G22="Ne treba raditi na predm.",1+SUM(L22:N22),(SUM(L22:N22)/G22))) -> 0.8114 | P22: =IF(K22>0,IF(G22="Ne treba raditi na predm.",O22,O22*(J22/(J22-K22))),O22) -> 0.8273098 | U22: =IF(Q22="","",R22/(Q22-S22)) | V22: =IF(P22="","",IF(C22="Ne","",IF(G22="Ne treba raditi na predm.","",IF(P22>1,40,IF(U22="",IF(P22>0.95,35,IF(P22>0.9,30,IF(P22>0.85,25,IF(P22>0.8,20,IF(P22>0.75,15,IF(P22>0.7,10,IF(P22>0.5,5,0))))))),IF(U22=1,40,IF(U22>0.95,35,IF(U22>0.9,30,IF(U22>0.85,25,IF(U22>0.8,20,IF(U22>0.75,15,IF(U22>0.7,10,IF(U22>0.5,5,0)))))))))))))
A23: 15 | B23: Ivan Sokanović | C23: Ne | D23: Izvršni | E23: Stručni saradnik | F23: =IF(E23="Sudija",1,IF(E23="Stručni saradnik",1,"")) -> 1 | G23: 1 | H23: 01.01.2022 | I23: 31.12.2022 | J23: 260 | K23: 6 | L23: 0.7508 | M23: 0.2196 | O23: =IF(G23="","",IF(G23="Ne treba raditi na predm.",1+SUM(L23:N23),(SUM(L23:N23)/G23))) -> 0.9704 | P23: =IF(K23>0,IF(G23="Ne treba raditi na predm.",O23,O23*(J23/(J23-K23))),O23) -> 0.99332283 | U23: =IF(Q23="","",R23/(Q23-S23)) | V23: =IF(P23="","",IF(C23="Ne","",IF(G23="Ne treba raditi na predm.","",IF(P23>1,40,IF(U23="",IF(P23>0.95,35,IF(P23>0.9,30,IF(P23>0.85,25,IF(P23>0.8,20,IF(P23>0.75,15,IF(P23>0.7,10,IF(P23>0.5,5,0))))))),IF(U23=1,40,IF(U23>0.95,35,IF(U23>0.9,30,IF(U23>0.85,25,IF(U23>0.8,20,IF(U23>0.75,15,IF(U23>0.7,10,IF(U23>0.5,5,0)))))))))))))
A24: 16 | F24: =IF(E24="Sudija",1,IF(E24="Stručni saradnik",1,"")) | J24: 260 | O24: =IF(G24="","",IF(G24="Ne treba raditi na predm.",1+SUM(L24:N24),(SUM(L24:N24)/G24))) | P24: =IF(K24>0,IF(G24="Ne treba raditi na predm.",O24,O24*(J24/(J24-K24))),O24) | U24: =IF(Q24="","",R24/(Q24-S24)) | V24: =IF(P24="","",IF(C24="Ne","",IF(G24="Ne treba raditi na predm.","",IF(P24>1,40,IF(U24="",IF(P24>0.95,35,IF(P24>0.9,30,IF(P24>0.85,25,IF(P24>0.8,20,IF(P24>0.75,15,IF(P24>0.7,10,IF(P24>0.5,5,0))))))),IF(U24=1,40,IF(U24>0.95,35,IF(U24>0.9,30,IF(U24>0.85,25,IF(U24>0.8,20,IF(U24>0.75,15,IF(U24>0.7,10,IF(U24>0.5,5,0)))))))))))))
A25: 17 | F25: =IF(E25="Sudija",1,IF(E25="Stručni saradnik",1,"")) | J25: 260 | O25: =IF(G25="","",IF(G25="Ne treba raditi na predm.",1+SUM(L25:N25),(SUM(L25:N25)/G25))) | P25: =IF(K25>0,IF(G25="Ne treba raditi na predm.",O25,O25*(J25/(J25-K25))),O25) | U25: =IF(Q25="","",R25/(Q25-S25)) | V25: =IF(P25="","",IF(C25="Ne","",IF(G25="Ne treba raditi na predm.","",IF(P25>1,40,IF(U25="",IF(P25>0.95,35,IF(P25>0.9,30,IF(P25>0.85,25,IF(P25>0.8,20,IF(P25>0.75,15,IF(P25>0.7,10,IF(P25>0.5,5,0))))))),IF(U25=1,40,IF(U25>0.95,35,IF(U25>0.9,30,IF(U25>0.85,25,IF(U25>0.8,20,IF(U25>0.75,15,IF(U25>0.7,10,IF(U25>0.5,5,0)))))))))))))
A26: 18 | F26: =IF(E26="Sudija",1,IF(E26="Stručni saradnik",1,"")) | J26: 260 | O26: =IF(G26="","",IF(G26="Ne treba raditi na predm.",1+SUM(L26:N26),(SUM(L26:N26)/G26))) | P26: =IF(K26>0,IF(G26="Ne treba raditi na predm.",O26,O26*(J26/(J26-K26))),O26) | U26: =IF(Q26="","",R26/(Q26-S26)) | V26: =IF(P26="","",IF(C26="Ne","",IF(G26="Ne treba raditi na predm.","",IF(P26>1,40,IF(U26="",IF(P26>0.95,35,IF(P26>0.9,30,IF(P26>0.85,25,IF(P26>0.8,20,IF(P26>0.75,15,IF(P26>0.7,10,IF(P26>0.5,5,0))))))),IF(U26=1,40,IF(U26>0.95,35,IF(U26>0.9,30,IF(U26>0.85,25,IF(U26>0.8,20,IF(U26>0.75,15,IF(U26>0.7,10,IF(U26>0.5,5,0)))))))))))))
A27: 19 | F27: =IF(E27="Sudija",1,IF(E27="Stručni saradnik",1,"")) | J27: 260 | O27: =IF(G27="","",IF(G27="Ne treba raditi na predm.",1+SUM(L27:N27),(SUM(L27:N27)/G27))) | P27: =IF(K27>0,IF(G27="Ne treba raditi na predm.",O27,O27*(J27/(J27-K27))),O27) | U27: =IF(Q27="","",R27/(Q27-S27)) | V27: =IF(P27="","",IF(C27="Ne","",IF(G27="Ne treba raditi na predm.","",IF(P27>1,40,IF(U27="",IF(P27>0.95,35,IF(P27>0.9,30,IF(P27>0.85,25,IF(P27>0.8,20,IF(P27>0.75,15,IF(P27>0.7,10,IF(P27>0.5,5,0))))))),IF(U27=1,40,IF(U27>0.95,35,IF(U27>0.9,30,IF(U27>0.85,25,IF(U27>0.8,20,IF(U27>0.75,15,IF(U27>0.7,10,IF(U27>0.5,5,0)))))))))))))
A28: 20 | F28: =IF(E28="Sudija",1,IF(E28="Stručni saradnik",1,"")) | J28: 260 | O28: =IF(G28="","",IF(G28="Ne treba raditi na predm.",1+SUM(L28:N28),(SUM(L28:N28)/G28))) | P28: =IF(K28>0,IF(G28="Ne treba raditi na predm.",O28,O28*(J28/(J28-K28))),O28) | U28: =IF(Q28="","",R28/(Q28-S28)) | V28: =IF(P28="","",IF(C28="Ne","",IF(G28="Ne treba raditi na predm.","",IF(P28>1,40,IF(U28="",IF(P28>0.95,35,IF(P28>0.9,30,IF(P28>0.85,25,IF(P28>0.8,20,IF(P28>0.75,15,IF(P28>0.7,10,IF(P28>0.5,5,0))))))),IF(U28=1,40,IF(U28>0.95,35,IF(U28>0.9,30,IF(U28>0.85,25,IF(U28>0.8,20,IF(U28>0.75,15,IF(U28>0.7,10,IF(U28>0.5,5,0)))))))))))))
A29: 21 | F29: =IF(E29="Sudija",1,IF(E29="Stručni saradnik",1,"")) | J29: 260 | O29: =IF(G29="","",IF(G29="Ne treba raditi na predm.",1+SUM(L29:N29),(SUM(L29:N29)/G29))) | P29: =IF(K29>0,IF(G29="Ne treba raditi na predm.",O29,O29*(J29/(J29-K29))),O29) | U29: =IF(Q29="","",R29/(Q29-S29)) | V29: =IF(P29="","",IF(C29="Ne","",IF(G29="Ne treba raditi na predm.","",IF(P29>1,40,IF(U29="",IF(P29>0.95,35,IF(P29>0.9,30,IF(P29>0.85,25,IF(P29>0.8,20,IF(P29>0.75,15,IF(P29>0.7,10,IF(P29>0.5,5,0))))))),IF(U29=1,40,IF(U29>0.95,35,IF(U29>0.9,30,IF(U29>0.85,25,IF(U29>0.8,20,IF(U29>0.75,15,IF(U29>0.7,10,IF(U29>0.5,5,0)))))))))))))
A30: 22 | F30: =IF(E30="Sudija",1,IF(E30="Stručni saradnik",1,"")) | J30: 260 | O30: =IF(G30="","",IF(G30="Ne treba raditi na predm.",1+SUM(L30:N30),(SUM(L30:N30)/G30))) | P30: =IF(K30>0,IF(G30="Ne treba raditi na predm.",O30,O30*(J30/(J30-K30))),O30) | U30: =IF(Q30="","",R30/(Q30-S30)) | V30: =IF(P30="","",IF(C30="Ne","",IF(G30="Ne treba raditi na predm.","",IF(P30>1,40,IF(U30="",IF(P30>0.95,35,IF(P30>0.9,30,IF(P30>0.85,25,IF(P30>0.8,20,IF(P30>0.75,15,IF(P30>0.7,10,IF(P30>0.5,5,0))))))),IF(U30=1,40,IF(U30>0.95,35,IF(U30>0.9,30,IF(U30>0.85,25,IF(U30>0.8,20,IF(U30>0.75,15,IF(U30>0.7,10,IF(U30>0.5,5,0)))))))))))))
A31: 23 | F31: =IF(E31="Sudija",1,IF(E31="Stručni saradnik",1,"")) | J31: 260 | O31: =IF(G31="","",IF(G31="Ne treba raditi na predm.",1+SUM(L31:N31),(SUM(L31:N31)/G31))) | P31: =IF(K31>0,IF(G31="Ne treba raditi na predm.",O31,O31*(J31/(J31-K31))),O31) | U31: =IF(Q31="","",R31/(Q31-S31)) | V31: =IF(P31="","",IF(C31="Ne","",IF(G31="Ne treba raditi na predm.","",IF(P31>1,40,IF(U31="",IF(P31>0.95,35,IF(P31>0.9,30,IF(P31>0.85,25,IF(P31>0.8,20,IF(P31>0.75,15,IF(P31>0.7,10,IF(P31>0.5,5,0))))))),IF(U31=1,40,IF(U31>0.95,35,IF(U31>0.9,30,IF(U31>0.85,25,IF(U31>0.8,20,IF(U31>0.75,15,IF(U31>0.7,10,IF(U31>0.5,5,0)))))))))))))
A32: 24 | F32: =IF(E32="Sudija",1,IF(E32="Stručni saradnik",1,"")) | J32: 260 | O32: =IF(G32="","",IF(G32="Ne treba raditi na predm.",1+SUM(L32:N32),(SUM(L32:N32)/G32))) | P32: =IF(K32>0,IF(G32="Ne treba raditi na predm.",O32,O32*(J32/(J32-K32))),O32) | U32: =IF(Q32="","",R32/(Q32-S32)) | V32: =IF(P32="","",IF(C32="Ne","",IF(G32="Ne treba raditi na predm.","",IF(P32>1,40,IF(U32="",IF(P32>0.95,35,IF(P32>0.9,30,IF(P32>0.85,25,IF(P32>0.8,20,IF(P32>0.75,15,IF(P32>0.7,10,IF(P32>0.5,5,0))))))),IF(U32=1,40,IF(U32>0.95,35,IF(U32>0.9,30,IF(U32>0.85,25,IF(U32>0.8,20,IF(U32>0.75,15,IF(U32>0.7,10,IF(U32>0.5,5,0)))))))))))))
A33: 25 | F33: =IF(E33="Sudija",1,IF(E33="Stručni saradnik",1,"")) | J33: 260 | O33: =IF(G33="","",IF(G33="Ne treba raditi na predm.",1+SUM(L33:N33),(SUM(L33:N33)/G33))) | P33: =IF(K33>0,IF(G33="Ne treba raditi na predm.",O33,O33*(J33/(J33-K33))),O33) | U33: =IF(Q33="","",R33/(Q33-S33)) | V33: =IF(P33="","",IF(C33="Ne","",IF(G33="Ne treba raditi na predm.","",IF(P33>1,40,IF(U33="",IF(P33>0.95,35,IF(P33>0.9,30,IF(P33>0.85,25,IF(P33>0.8,20,IF(P33>0.75,15,IF(P33>0.7,10,IF(P33>0.5,5,0))))))),IF(U33=1,40,IF(U33>0.95,35,IF(U33>0.9,30,IF(U33>0.85,25,IF(U33>0.8,20,IF(U33>0.75,15,IF(U33>0.7,10,IF(U33>0.5,5,0)))))))))))))
A34: 26 | F34: =IF(E34="Sudija",1,IF(E34="Stručni saradnik",1,"")) | J34: 260 | O34: =IF(G34="","",IF(G34="Ne treba raditi na predm.",1+SUM(L34:N34),(SUM(L34:N34)/G34))) | P34: =IF(K34>0,IF(G34="Ne treba raditi na predm.",O34,O34*(J34/(J34-K34))),O34) | U34: =IF(Q34="","",R34/(Q34-S34)) | V34: =IF(P34="","",IF(C34="Ne","",IF(G34="Ne treba raditi na predm.","",IF(P34>1,40,IF(U34="",IF(P34>0.95,35,IF(P34>0.9,30,IF(P34>0.85,25,IF(P34>0.8,20,IF(P34>0.75,15,IF(P34>0.7,10,IF(P34>0.5,5,0))))))),IF(U34=1,40,IF(U34>0.95,35,IF(U34>0.9,30,IF(U34>0.85,25,IF(U34>0.8,20,IF(U34>0.75,15,IF(U34>0.7,10,IF(U34>0.5,5,0)))))))))))))
A35: 27 | F35: =IF(E35="Sudija",1,IF(E35="Stručni saradnik",1,"")) | J35: 260 | O35: =IF(G35="","",IF(G35="Ne treba raditi na predm.",1+SUM(L35:N35),(SUM(L35:N35)/G35))) | P35: =IF(K35>0,IF(G35="Ne treba raditi na predm.",O35,O35*(J35/(J35-K35))),O35) | U35: =IF(Q35="","",R35/(Q35-S35)) | V35: =IF(P35="","",IF(C35="Ne","",IF(G35="Ne treba raditi na predm.","",IF(P35>1,40,IF(U35="",IF(P35>0.95,35,IF(P35>0.9,30,IF(P35>0.85,25,IF(P35>0.8,20,IF(P35>0.75,15,IF(P35>0.7,10,IF(P35>0.5,5,0))))))),IF(U35=1,40,IF(U35>0.95,35,IF(U35>0.9,30,IF(U35>0.85,25,IF(U35>0.8,20,IF(U35>0.75,15,IF(U35>0.7,10,IF(U35>0.5,5,0)))))))))))))
... A73: 65 | F73: =IF(E73="Sudija",1,IF(E73="Stručni saradnik",1,"")) | J73: 260 | O73: =IF(G73="","",IF(G73="Ne treba raditi na predm.",1+SUM(L73:N73),(SUM(L73:N73)/G73))) | P73: =IF(K73>0,IF(G73="Ne treba raditi na predm.",O73,O73*(J73/(J73-K73))),O73) | U73: =IF(Q73="","",R73/(Q73-S73)) | V73: =IF(P73="","",IF(C73="Ne","",IF(G73="Ne treba raditi na predm.","",IF(P73>1,40,IF(U73="",IF(P73>0.95,35,IF(P73>0.9,30,IF(P73>0.85,25,IF(P73>0.8,20,IF(P73>0.75,15,IF(P73>0.7,10,IF(P73>0.5,5,0))))))),IF(U73=1,40,IF(U73>0.95,35,IF(U73>0.9,30,IF(U73>0.85,25,IF(U73>0.8,20,IF(U73>0.75,15,IF(U73>0.7,10,IF(U73>0.5,5,0)))))))))))))
F74: =IF(E74="Sudija",1,IF(E74="Stručni saradnik",1,"")) | J74: 260 | O74: =IF(G74="","",IF(G74="Ne treba raditi na predm.",1+SUM(L74:N74),(SUM(L74:N74)/G74))) | P74: =IF(K74>0,IF(G74="Ne treba raditi na predm.",O74,O74*(J74/(J74-K74))),O74) | U74: =IF(Q74="","",R74/(Q74-S74)) | V74: =IF(P74="","",IF(C74="Ne","",IF(G74="Ne treba raditi na predm.","",IF(P74>1,40,IF(U74="",IF(P74>0.95,35,IF(P74>0.9,30,IF(P74>0.85,25,IF(P74>0.8,20,IF(P74>0.75,15,IF(P74>0.7,10,IF(P74>0.5,5,0))))))),IF(U74=1,40,IF(U74>0.95,35,IF(U74>0.9,30,IF(U74>0.85,25,IF(U74>0.8,20,IF(U74>0.75,15,IF(U74>0.7,10,IF(U74>0.5,5,0)))))))))))))
F75: =IF(E75="Sudija",1,IF(E75="Stručni saradnik",1,"")) | J75: 260 | O75: =IF(G75="","",IF(G75="Ne treba raditi na predm.",1+SUM(L75:N75),(SUM(L75:N75)/G75))) | P75: =IF(K75>0,IF(G75="Ne treba raditi na predm.",O75,O75*(J75/(J75-K75))),O75) | U75: =IF(Q75="","",R75/(Q75-S75)) | V75: =IF(P75="","",IF(C75="Ne","",IF(G75="Ne treba raditi na predm.","",IF(P75>1,40,IF(U75="",IF(P75>0.95,35,IF(P75>0.9,30,IF(P75>0.85,25,IF(P75>0.8,20,IF(P75>0.75,15,IF(P75>0.7,10,IF(P75>0.5,5,0))))))),IF(U75=1,40,IF(U75>0.95,35,IF(U75>0.9,30,IF(U75>0.85,25,IF(U75>0.8,20,IF(U75>0.75,15,IF(U75>0.7,10,IF(U75>0.5,5,0)))))))))))))
F76: =IF(E76="Sudija",1,IF(E76="Stručni saradnik",1,"")) | J76: 260 | O76: =IF(G76="","",IF(G76="Ne treba raditi na predm.",1+SUM(L76:N76),(SUM(L76:N76)/G76))) | P76: =IF(K76>0,IF(G76="Ne treba raditi na predm.",O76,O76*(J76/(J76-K76))),O76) | U76: =IF(Q76="","",R76/(Q76-S76)) | V76: =IF(P76="","",IF(C76="Ne","",IF(G76="Ne treba raditi na predm.","",IF(P76>1,40,IF(U76="",IF(P76>0.95,35,IF(P76>0.9,30,IF(P76>0.85,25,IF(P76>0.8,20,IF(P76>0.75,15,IF(P76>0.7,10,IF(P76>0.5,5,0))))))),IF(U76=1,40,IF(U76>0.95,35,IF(U76>0.9,30,IF(U76>0.85,25,IF(U76>0.8,20,IF(U76>0.75,15,IF(U76>0.7,10,IF(U76>0.5,5,0)))))))))))))
F77: =IF(E77="Sudija",1,IF(E77="Stručni saradnik",1,"")) | J77: 260 | O77: =IF(G77="","",IF(G77="Ne treba raditi na predm.",1+SUM(L77:N77),(SUM(L77:N77)/G77))) | P77: =IF(K77>0,IF(G77="Ne treba raditi na predm.",O77,O77*(J77/(J77-K77))),O77) | U77: =IF(Q77="","",R77/(Q77-S77)) | V77: =IF(P77="","",IF(C77="Ne","",IF(G77="Ne treba raditi na predm.","",IF(P77>1,40,IF(U77="",IF(P77>0.95,35,IF(P77>0.9,30,IF(P77>0.85,25,IF(P77>0.8,20,IF(P77>0.75,15,IF(P77>0.7,10,IF(P77>0.5,5,0))))))),IF(U77=1,40,IF(U77>0.95,35,IF(U77>0.9,30,IF(U77>0.85,25,IF(U77>0.8,20,IF(U77>0.75,15,IF(U77>0.7,10,IF(U77>0.5,5,0)))))))))))))
F78: =IF(E78="Sudija",1,IF(E78="Stručni saradnik",1,"")) | J78: 260 | O78: =IF(G78="","",IF(G78="Ne treba raditi na predm.",1+SUM(L78:N78),(SUM(L78:N78)/G78))) | P78: =IF(K78>0,IF(G78="Ne treba raditi na predm.",O78,O78*(J78/(J78-K78))),O78) | U78: =IF(Q78="","",R78/(Q78-S78)) | V78: =IF(P78="","",IF(C78="Ne","",IF(G78="Ne treba raditi na predm.","",IF(P78>1,40,IF(U78="",IF(P78>0.95,35,IF(P78>0.9,30,IF(P78>0.85,25,IF(P78>0.8,20,IF(P78>0.75,15,IF(P78>0.7,10,IF(P78>0.5,5,0))))))),IF(U78=1,40,IF(U78>0.95,35,IF(U78>0.9,30,IF(U78>0.85,25,IF(U78>0.8,20,IF(U78>0.75,15,IF(U78>0.7,10,IF(U78>0.5,5,0)))))))))))))
F79: =IF(E79="Sudija",1,IF(E79="Stručni saradnik",1,"")) | J79: 260 | O79: =IF(G79="","",IF(G79="Ne treba raditi na predm.",1+SUM(L79:N79),(SUM(L79:N79)/G79))) | P79: =IF(K79>0,IF(G79="Ne treba raditi na predm.",O79,O79*(J79/(J79-K79))),O79) | U79: =IF(Q79="","",R79/(Q79-S79)) | V79: =IF(P79="","",IF(C79="Ne","",IF(G79="Ne treba raditi na predm.","",IF(P79>1,40,IF(U79="",IF(P79>0.95,35,IF(P79>0.9,30,IF(P79>0.85,25,IF(P79>0.8,20,IF(P79>0.75,15,IF(P79>0.7,10,IF(P79>0.5,5,0))))))),IF(U79=1,40,IF(U79>0.95,35,IF(U79>0.9,30,IF(U79>0.85,25,IF(U79>0.8,20,IF(U79>0.75,15,IF(U79>0.7,10,IF(U79>0.5,5,0)))))))))))))
F80: =IF(E80="Sudija",1,IF(E80="Stručni saradnik",1,"")) | J80: 260 | O80: =IF(G80="","",IF(G80="Ne treba raditi na predm.",1+SUM(L80:N80),(SUM(L80:N80)/G80))) | P80: =IF(K80>0,IF(G80="Ne treba raditi na predm.",O80,O80*(J80/(J80-K80))),O80) | U80: =IF(Q80="","",R80/(Q80-S80)) | V80: =IF(P80="","",IF(C80="Ne","",IF(G80="Ne treba raditi na predm.","",IF(P80>1,40,IF(U80="",IF(P80>0.95,35,IF(P80>0.9,30,IF(P80>0.85,25,IF(P80>0.8,20,IF(P80>0.75,15,IF(P80>0.7,10,IF(P80>0.5,5,0))))))),IF(U80=1,40,IF(U80>0.95,35,IF(U80>0.9,30,IF(U80>0.85,25,IF(U80>0.8,20,IF(U80>0.75,15,IF(U80>0.7,10,IF(U80>0.5,5,0)))))))))))))
F81: =IF(E81="Sudija",1,IF(E81="Stručni saradnik",1,"")) | J81: 260 | O81: =IF(G81="","",IF(G81="Ne treba raditi na predm.",1+SUM(L81:N81),(SUM(L81:N81)/G81))) | P81: =IF(K81>0,IF(G81="Ne treba raditi na predm.",O81,O81*(J81/(J81-K81))),O81) | U81: =IF(Q81="","",R81/(Q81-S81)) | V81: =IF(P81="","",IF(C81="Ne","",IF(G81="Ne treba raditi na predm.","",IF(P81>1,40,IF(U81="",IF(P81>0.95,35,IF(P81>0.9,30,IF(P81>0.85,25,IF(P81>0.8,20,IF(P81>0.75,15,IF(P81>0.7,10,IF(P81>0.5,5,0))))))),IF(U81=1,40,IF(U81>0.95,35,IF(U81>0.9,30,IF(U81>0.85,25,IF(U81>0.8,20,IF(U81>0.75,15,IF(U81>0.7,10,IF(U81>0.5,5,0)))))))))))))
F82: =IF(E82="Sudija",1,IF(E82="Stručni saradnik",1,"")) | J82: 260 | O82: =IF(G82="","",IF(G82="Ne treba raditi na predm.",1+SUM(L82:N82),(SUM(L82:N82)/G82))) | P82: =IF(K82>0,IF(G82="Ne treba raditi na predm.",O82,O82*(J82/(J82-K82))),O82) | U82: =IF(Q82="","",R82/(Q82-S82)) | V82: =IF(P82="","",IF(C82="Ne","",IF(G82="Ne treba raditi na predm.","",IF(P82>1,40,IF(U82="",IF(P82>0.95,35,IF(P82>0.9,30,IF(P82>0.85,25,IF(P82>0.8,20,IF(P82>0.75,15,IF(P82>0.7,10,IF(P82>0.5,5,0))))))),IF(U82=1,40,IF(U82>0.95,35,IF(U82>0.9,30,IF(U82>0.85,25,IF(U82>0.8,20,IF(U82>0.75,15,IF(U82>0.7,10,IF(U82>0.5,5,0)))))))))))))
F83: =IF(E83="Sudija",1,IF(E83="Stručni saradnik",1,"")) | J83: 260 | O83: =IF(G83="","",IF(G83="Ne treba raditi na predm.",1+SUM(L83:N83),(SUM(L83:N83)/G83))) | P83: =IF(K83>0,IF(G83="Ne treba raditi na predm.",O83,O83*(J83/(J83-K83))),O83) | U83: =IF(Q83="","",R83/(Q83-S83)) | V83: =IF(P83="","",IF(C83="Ne","",IF(G83="Ne treba raditi na predm.","",IF(P83>1,40,IF(U83="",IF(P83>0.95,35,IF(P83>0.9,30,IF(P83>0.85,25,IF(P83>0.8,20,IF(P83>0.75,15,IF(P83>0.7,10,IF(P83>0.5,5,0))))))),IF(U83=1,40,IF(U83>0.95,35,IF(U83>0.9,30,IF(U83>0.85,25,IF(U83>0.8,20,IF(U83>0.75,15,IF(U83>0.7,10,IF(U83>0.5,5,0)))))))))))))
F84: =IF(E84="Sudija",1,IF(E84="Stručni saradnik",1,"")) | J84: 260 | O84: =IF(G84="","",IF(G84="Ne treba raditi na predm.",1+SUM(L84:N84),(SUM(L84:N84)/G84))) | P84: =IF(K84>0,IF(G84="Ne treba raditi na predm.",O84,O84*(J84/(J84-K84))),O84) | U84: =IF(Q84="","",R84/(Q84-S84)) | V84: =IF(P84="","",IF(C84="Ne","",IF(G84="Ne treba raditi na predm.","",IF(P84>1,40,IF(U84="",IF(P84>0.95,35,IF(P84>0.9,30,IF(P84>0.85,25,IF(P84>0.8,20,IF(P84>0.75,15,IF(P84>0.7,10,IF(P84>0.5,5,0))))))),IF(U84=1,40,IF(U84>0.95,35,IF(U84>0.9,30,IF(U84>0.85,25,IF(U84>0.8,20,IF(U84>0.75,15,IF(U84>0.7,10,IF(U84>0.5,5,0)))))))))))))
F85: =IF(E85="Sudija",1,IF(E85="Stručni saradnik",1,"")) | J85: 260 | O85: =IF(G85="","",IF(G85="Ne treba raditi na predm.",1+SUM(L85:N85),(SUM(L85:N85)/G85))) | P85: =IF(K85>0,IF(G85="Ne treba raditi na predm.",O85,O85*(J85/(J85-K85))),O85) | U85: =IF(Q85="","",R85/(Q85-S85)) | V85: =IF(P85="","",IF(C85="Ne","",IF(G85="Ne treba raditi na predm.","",IF(P85>1,40,IF(U85="",IF(P85>0.95,35,IF(P85>0.9,30,IF(P85>0.85,25,IF(P85>0.8,20,IF(P85>0.75,15,IF(P85>0.7,10,IF(P85>0.5,5,0))))))),IF(U85=1,40,IF(U85>0.95,35,IF(U85>0.9,30,IF(U85>0.85,25,IF(U85>0.8,20,IF(U85>0.75,15,IF(U85>0.7,10,IF(U85>0.5,5,0)))))))))))))
... F88: =IF(E88="Sudija",1,IF(E88="Stručni saradnik",1,"")) | J88: 260 | O88: =IF(G88="","",IF(G88="Ne treba raditi na predm.",1+SUM(L88:N88),(SUM(L88:N88)/G88))) | P88: =IF(K88>0,IF(G88="Ne treba raditi na predm.",O88,O88*(J88/(J88-K88))),O88) | U88: =IF(Q88="","",R88/(Q88-S88)) | V88: =IF(P88="","",IF(C88="Ne","",IF(G88="Ne treba raditi na predm.","",IF(P88>1,40,IF(U88="",IF(P88>0.95,35,IF(P88>0.9,30,IF(P88>0.85,25,IF(P88>0.8,20,IF(P88>0.75,15,IF(P88>0.7,10,IF(P88>0.5,5,0))))))),IF(U88=1,40,IF(U88>0.95,35,IF(U88>0.9,30,IF(U88>0.85,25,IF(U88>0.8,20,IF(U88>0.75,15,IF(U88>0.7,10,IF(U88>0.5,5,0)))))))))))))
O89: KOLEKTIVNA NORMA SUDA | P89: =IF(P8="",IF(P9="","",AVERAGEIF(P8:P88,">0,2")),AVERAGEIF(P8:P88,">0,2")) -> 1.0478786 | Q89: =SUM(Q8:Q88) -> 0 | R89: =SUM(R8:R88) -> 0 | S89: =SUM(S8:S88) -> 0 | T89: =SUM(T8:T88) -> 0 | U89: =IF(Q89=0,"",R89/(Q89-S89))
O90: BODOVANJE ZA OSTVARENU KOLEKTIVNU NORMU SUDA U SKLADU SA ČLANOM 22. KRITERIJA ZA OCJENJIVANJE RADA PREDSJEDNIKA SUDOVA | P90: =IF(P89="","",IF(P89>1,20,IF(P89>0.95,18,IF(P89>0.9,15,IF(P89>0.85,13,IF(P89>0.8,10,IF(P89>0.75,8,IF(P89>0.7,5,IF(P89>0.5,3,0))))))))) -> 20
B92: Obrazloženje norme NPF-a unesene u plava polja
B93: Primjer - Sudija 1 | C93: 8 mjeseci sudija, 4 mjeseca šef odjela (90% norme sudije) | G93: 0.97
Q110: Nedovoljan broj predmeta u radu
A111: NAPOMENA 1: U Tabelu IIa se unose podaci o ostvarenoj orijentacijskoj normi za sve nosioce pravosudnih funkcija, uključujući i one kod kojih je ukupno ostvarenje norme ispod 20%: novoimenovane sudije/stručni saradnici, sudije/stručni saradnici koji su imenovani u drugu instituciju, kao i sudije/stručni saradnici koji su prestali sa radom zbog: penzionisanja, podnošenja ostavke, smrti, gubitka radne sposobnosti, razrješenja od dužnosti, privremenog ili trajnog udaljenja od vršenja dužnosti itd. (član 5. Uputstva za primjenu Kriterija za ocjenjivanje rada predsjednika sudova u Bosni i Hercegovini i Kriterija za ocjenjivanje rada sudija u Bosni i Hercegovini). Ostvarena kolektivna norma suda automatski će se obračunati i predsjedniku suda će se dodijeliti odgovarajući broj bodova u skladu sa članom 22. Kriterija za ocjenjivanje rada predsjednika sudova u Bosni i Hercegovini. Ukoliko sud nije imao dovoljan broj predmeta u radu za ostvarenje orijentacijske norme, potrebno je manuelno unijeti ukupan broj predmeta koji su bili u radu u sudu kao i ukupan broj riješenih predmeta u sudu u periodu izvještavanja, kao i podatke o broju neriješenih predmeta sa zakonskim i procesnim smetnjama i broju neriješenih predmeta bez zakonskih i procesnih smetnji. Procenat riješenih predmeta automatski će se obračunati, te predsjedniku suda dodijeliti odgovarajući broj bodova u skladu sa članom 23. Kriterija za ocjenjivanje rada predsjednika sudova u Bosni i Hercegovini. | Q111: broj predmeta u radu | R111: broj riješenih predmeta | S111: broj neriješenih predmeta sa zakonskim i procesnim smetnjama | T111: broj neriješenih predmeta bez zakonskih i procesnih smetnji | U111: procenat riješenih predmeta
U112: =IF(Q112="","",R112/(Q112-S112))
T113: BODOVANJE ZA BROJ RIJEŠENIH PREDMETA U SUDU U SKLADU SA ČLANOM 23. KRITERIJA ZA OCJENJIVANJE RADA PREDSJEDNIKA SUDOVA | U113: =IF(U112="","",IF(U112=1,20,IF(U112>0.95,18,IF(U112>0.9,15,IF(U112>0.85,13,IF(U112>0.8,10,IF(U112>0.75,8,IF(U112>0.7,5,IF(U112>0.5,3,0)))))))))
A116: Tabela IIb -Obračun norme za proces ocjenjivanja za nosioce pravosudne funkcije koji su u toku godine prešli iz jednog suda u drugi sud - Obračun prema Instrukciji dio: II POSEBNI SLUČAJEVI OCJENJIVANJA 3) a) (pogledati NAPOMENU 4)
A117: Ime i prezime predsjednika suda | O117: Ukupna ostvarena orijentacijska norma koja se unosi u Obrazac za ocjenjivanje = | P117: =P118+P119 -> 0
A118: Sud 1 | E118: Predsjednik suda | O118: =IF(G118="",0,IF(G118="Ne treba raditi na predm.",1+SUM(L118:N118),(SUM(L118:N118)/G118))) -> 0 | P118: =IF(K118>0,IF(G118="Ne treba raditi na predm.",O118,O118*(J118/(J118-K118))),O118) -> 0 | U118: =IF(Q117="","",R117/(Q117-S117)) | V118: =IF(P118="","",IF(C118="Ne","",IF(G118="Ne treba raditi na predm.","",IF((P118+P119)>1,20,IF(U118="",IF((P118+P119)>0.95,18,IF((P118+P119)>0.9,15,IF((P118+P119)>0.85,13,IF((P118+P119)>0.8,10,IF((P118+P119)>0.75,8,IF((P118+P119)>0.7,5,IF((P118+P119)>0.5,3,0))))))),IF((U118+U119)=1,20,IF((U118+U119)>0.95,18,IF((U118+U119)>0.9,15,IF((U118+U119)>0.85,13,IF((U118+U119)>0.8,10,IF((U118+U119)>0.75,8,IF((U118+U119)>0.7,5,IF((U118+U119)>0.5,3,0))))))))))))) -> 0
A119: Sud 2 | F119: =IF(E119="Sudija",1,IF(E119="Stručni saradnik",1,"")) | O119: =IF(G119="",0,IF(G119="Ne treba raditi na predm.",1+SUM(L119:N119),(SUM(L119:N119)/G119))) -> 0 | P119: =IF(K119>0,IF(G119="Ne treba raditi na predm.",O119,O119*(J119/(J119-K119))),O119) -> 0 | U119: =IF(Q119="","",R119/(Q119-S119)) | V119: =IF(P119="","",IF(C119="Ne","",IF(G119="Ne treba raditi na predm.","",IF((P118+P119)>1,40,IF(U119="",IF((P118+P119)>0.95,35,IF((P118+P119)>0.9,30,IF((P118+P119)>0.85,25,IF((P118+P119)>0.8,20,IF((P118+P119)>0.75,15,IF((P118+P119)>0.7,10,IF((P118+P119)>0.5,5,0))))))),IF((U118+U119)=1,40,IF((U118+U119)>0.95,35,IF((U118+U119)>0.9,30,IF((U118+U119)>0.85,25,IF((U118+U119)>0.8,20,IF((U118+U119)>0.75,15,IF((U118+U119)>0.7,10,IF((U118+U119)>0.5,5,0))))))))))))) -> 0
A120: Ime i prezime nosioca pravosudne funkcije | O120: Ukupna ostvarena orijentacijska norma koja se unosi u Obrazac za ocjenjivanje = | P120: =P121+P122 -> 0
A121: Sud 1 | F121: =IF(E121="Sudija",1,IF(E121="Stručni saradnik",1,"")) | O121: =IF(G121="",0,IF(G121="Ne treba raditi na predm.",1+SUM(L121:N121),(SUM(L121:N121)/G121))) -> 0 | P121: =IF(K121>0,IF(G121="Ne treba raditi na predm.",O121,O121*(J121/(J121-K121))),O121) -> 0 | U121: =IF(Q121="","",R121/(Q121-S121)) | V121: =IF(P121="","",IF(C121="Ne","",IF(G121="Ne treba raditi na predm.","",IF((P121+P122)>1,40,IF(U121="",IF((P121+P122)>0.95,35,IF((P121+P122)>0.9,30,IF((P121+P122)>0.85,25,IF((P121+P122)>0.8,20,IF((P121+P122)>0.75,15,IF((P121+P122)>0.7,10,IF((P121+P122)>0.5,5,0))))))),IF((U121+U122)=1,40,IF((U121+U122)>0.95,35,IF((U121+U122)>0.9,30,IF((U121+U122)>0.85,25,IF((U121+U122)>0.8,20,IF((U121+U122)>0.75,15,IF((U121+U122)>0.7,10,IF((U121+U122)>0.5,5,0))))))))))))) -> 0
A122: Sud 2 | F122: =IF(E122="Sudija",1,IF(E122="Stručni saradnik",1,"")) | O122: =IF(G122="",0,IF(G122="Ne treba raditi na predm.",1+SUM(L122:N122),(SUM(L122:N122)/G122))) -> 0 | P122: =IF(K122>0,IF(G122="Ne treba raditi na predm.",O122,O122*(J122/(J122-K122))),O122) -> 0 | U122: =IF(Q122="","",R122/(Q122-S122)) | V122: =IF(P122="","",IF(C122="Ne","",IF(G122="Ne treba raditi na predm.","",IF((P121+P122)>1,40,IF(U122="",IF((P121+P122)>0.95,35,IF((P121+P122)>0.9,30,IF((P121+P122)>0.85,25,IF((P121+P122)>0.8,20,IF((P121+P122)>0.75,15,IF((P121+P122)>0.7,10,IF((P121+P122)>0.5,5,0))))))),IF((U121+U122)=1,40,IF((U121+U122)>0.95,35,IF((U121+U122)>0.9,30,IF((U121+U122)>0.85,25,IF((U121+U122)>0.8,20,IF((U121+U122)>0.75,15,IF((U121+U122)>0.7,10,IF((U121+U122)>0.5,5,0))))))))))))) -> 0
A123: Ime i prezime nosioca pravosudne funkcije | O123: Ukupna ostvarena orijentacijska norma koja se unosi u Obrazac za ocjenjivanje = | P123: =P124+P125 -> 0
A124: Sud 1 | F124: =IF(E124="Sudija",1,IF(E124="Stručni saradnik",1,"")) | O124: =IF(G124="",0,IF(G124="Ne treba raditi na predm.",1+SUM(L124:N124),(SUM(L124:N124)/G124))) -> 0 | P124: =IF(K124>0,IF(G124="Ne treba raditi na predm.",O124,O124*(J124/(J124-K124))),O124) -> 0 | U124: =IF(Q124="","",R124/(Q124-S124)) | V124: =IF(P124="","",IF(C124="Ne","",IF(G124="Ne treba raditi na predm.","",IF((P124+P125)>1,40,IF(U124="",IF((P124+P125)>0.95,35,IF((P124+P125)>0.9,30,IF((P124+P125)>0.85,25,IF((P124+P125)>0.8,20,IF((P124+P125)>0.75,15,IF((P124+P125)>0.7,10,IF((P124+P125)>0.5,5,0))))))),IF((U124+U125)=1,40,IF((U124+U125)>0.95,35,IF((U124+U125)>0.9,30,IF((U124+U125)>0.85,25,IF((U124+U125)>0.8,20,IF((U124+U125)>0.75,15,IF((U124+U125)>0.7,10,IF((U124+U125)>0.5,5,0))))))))))))) -> 0
A125: Sud 2 | F125: =IF(E125="Sudija",1,IF(E125="Stručni saradnik",1,"")) | O125: =IF(G125="",0,IF(G125="Ne treba raditi na predm.",1+SUM(L125:N125),(SUM(L125:N125)/G125))) -> 0 | P125: =IF(K125>0,IF(G125="Ne treba raditi na predm.",O125,O125*(J125/(J125-K125))),O125) -> 0 | U125: =IF(Q125="","",R125/(Q125-S125)) | V125: =IF(P125="","",IF(C125="Ne","",IF(G125="Ne treba raditi na predm.","",IF((P124+P125)>1,40,IF(U125="",IF((P124+P125)>0.95,35,IF((P124+P125)>0.9,30,IF((P124+P125)>0.85,25,IF((P124+P125)>0.8,20,IF((P124+P125)>0.75,15,IF((P124+P125)>0.7,10,IF((P124+P125)>0.5,5,0))))))),IF((U124+U125)=1,40,IF((U124+U125)>0.95,35,IF((U124+U125)>0.9,30,IF((U124+U125)>0.85,25,IF((U124+U125)>0.8,20,IF((U124+U125)>0.75,15,IF((U124+U125)>0.7,10,IF((U124+U125)>0.5,5,0))))))))))))) -> 0
A126: Ime i prezime nosioca pravosudne funkcije | O126: Ukupna ostvarena orijentacijska norma koja se unosi u Obrazac za ocjenjivanje = | P126: =P127+P128 -> 0
A127: Sud 1 | F127: =IF(E127="Sudija",1,IF(E127="Stručni saradnik",1,"")) | O127: =IF(G127="",0,IF(G127="Ne treba raditi na predm.",1+SUM(L127:N127),(SUM(L127:N127)/G127))) -> 0 | P127: =IF(K127>0,IF(G127="Ne treba raditi na predm.",O127,O127*(J127/(J127-K127))),O127) -> 0 | U127: =IF(Q127="","",R127/(Q127-S127)) | V127: =IF(P127="","",IF(C127="Ne","",IF(G127="Ne treba raditi na predm.","",IF((P127+P128)>1,40,IF(U127="",IF((P127+P128)>0.95,35,IF((P127+P128)>0.9,30,IF((P127+P128)>0.85,25,IF((P127+P128)>0.8,20,IF((P127+P128)>0.75,15,IF((P127+P128)>0.7,10,IF((P127+P128)>0.5,5,0))))))),IF((U127+U128)=1,40,IF((U127+U128)>0.95,35,IF((U127+U128)>0.9,30,IF((U127+U128)>0.85,25,IF((U127+U128)>0.8,20,IF((U127+U128)>0.75,15,IF((U127+U128)>0.7,10,IF((U127+U128)>0.5,5,0))))))))))))) -> 0
A128: Sud 2 | F128: =IF(E128="Sudija",1,IF(E128="Stručni saradnik",1,"")) | O128: =IF(G128="",0,IF(G128="Ne treba raditi na predm.",1+SUM(L128:N128),(SUM(L128:N128)/G128))) -> 0 | P128: =IF(K128>0,IF(G128="Ne treba raditi na predm.",O128,O128*(J128/(J128-K128))),O128) -> 0 | U128: =IF(Q128="","",R128/(Q128-S128)) | V128: =IF(P128="","",IF(C128="Ne","",IF(G128="Ne treba raditi na predm.","",IF((P127+P128)>1,40,IF(U128="",IF((P127+P128)>0.95,35,IF((P127+P128)>0.9,30,IF((P127+P128)>0.85,25,IF((P127+P128)>0.8,20,IF((P127+P128)>0.75,15,IF((P127+P128)>0.7,10,IF((P127+P128)>0.5,5,0))))))),IF((U127+U128)=1,40,IF((U127+U128)>0.95,35,IF((U127+U128)>0.9,30,IF((U127+U128)>0.85,25,IF((U127+U128)>0.8,20,IF((U127+U128)>0.75,15,IF((U127+U128)>0.7,10,IF((U127+U128)>0.5,5,0))))))))))))) -> 0
A129: Ime i prezime nosioca pravosudne funkcije | O129: Ukupna ostvarena orijentacijska norma koja se unosi u Obrazac za ocjenjivanje = | P129: =P130+P131 -> 0
A130: Sud 1 | F130: =IF(E130="Sudija",1,IF(E130="Stručni saradnik",1,"")) | O130: =IF(G130="",0,IF(G130="Ne treba raditi na predm.",1+SUM(L130:N130),(SUM(L130:N130)/G130))) -> 0 | P130: =IF(K130>0,IF(G130="Ne treba raditi na predm.",O130,O130*(J130/(J130-K130))),O130) -> 0 | U130: =IF(Q130="","",R130/(Q130-S130)) | V130: =IF(P130="","",IF(C130="Ne","",IF(G130="Ne treba raditi na predm.","",IF((P130+P131)>1,40,IF(U130="",IF((P130+P131)>0.95,35,IF((P130+P131)>0.9,30,IF((P130+P131)>0.85,25,IF((P130+P131)>0.8,20,IF((P130+P131)>0.75,15,IF((P130+P131)>0.7,10,IF((P130+P131)>0.5,5,0))))))),IF((U130+U131)=1,40,IF((U130+U131)>0.95,35,IF((U130+U131)>0.9,30,IF((U130+U131)>0.85,25,IF((U130+U131)>0.8,20,IF((U130+U131)>0.75,15,IF((U130+U131)>0.7,10,IF((U130+U131)>0.5,5,0))))))))))))) -> 0
A131: Sud 2 | F131: =IF(E131="Sudija",1,IF(E131="Stručni saradnik",1,"")) | O131: =IF(G131="",0,IF(G131="Ne treba raditi na predm.",1+SUM(L131:N131),(SUM(L131:N131)/G131))) -> 0 | P131: =IF(K131>0,IF(G131="Ne treba raditi na predm.",O131,O131*(J131/(J131-K131))),O131) -> 0 | U131: =IF(Q131="","",R131/(Q131-S131)) | V131: =IF(P131="","",IF(C131="Ne","",IF(G131="Ne treba raditi na predm.","",IF((P130+P131)>1,40,IF(U131="",IF((P130+P131)>0.95,35,IF((P130+P131)>0.9,30,IF((P130+P131)>0.85,25,IF((P130+P131)>0.8,20,IF((P130+P131)>0.75,15,IF((P130+P131)>0.7,10,IF((P130+P131)>0.5,5,0))))))),IF((U130+U131)=1,40,IF((U130+U131)>0.95,35,IF((U130+U131)>0.9,30,IF((U130+U131)>0.85,25,IF((U130+U131)>0.8,20,IF((U130+U131)>0.75,15,IF((U130+U131)>0.7,10,IF((U130+U131)>0.5,5,0))))))))))))) -> 0
A132: Ime i prezime nosioca pravosudne funkcije | O132: Ukupna ostvarena orijentacijska norma koja se unosi u Obrazac za ocjenjivanje = | P132: =P133+P134 -> 0
A133: Sud 1 | F133: =IF(E133="Sudija",1,IF(E133="Stručni saradnik",1,"")) | O133: =IF(G133="",0,IF(G133="Ne treba raditi na predm.",1+SUM(L133:N133),(SUM(L133:N133)/G133))) -> 0 | P133: =IF(K133>0,IF(G133="Ne treba raditi na predm.",O133,O133*(J133/(J133-K133))),O133) -> 0 | U133: =IF(Q133="","",R133/(Q133-S133)) | V133: =IF(P133="","",IF(C133="Ne","",IF(G133="Ne treba raditi na predm.","",IF((P133+P134)>1,40,IF(U133="",IF((P133+P134)>0.95,35,IF((P133+P134)>0.9,30,IF((P133+P134)>0.85,25,IF((P133+P134)>0.8,20,IF((P133+P134)>0.75,15,IF((P133+P134)>0.7,10,IF((P133+P134)>0.5,5,0))))))),IF((U133+U134)=1,40,IF((U133+U134)>0.95,35,IF((U133+U134)>0.9,30,IF((U133+U134)>0.85,25,IF((U133+U134)>0.8,20,IF((U133+U134)>0.75,15,IF((U133+U134)>0.7,10,IF((U133+U134)>0.5,5,0))))))))))))) -> 0
A134: Sud 2 | F134: =IF(E134="Sudija",1,IF(E134="Stručni saradnik",1,"")) | O134: =IF(G134="",0,IF(G134="Ne treba raditi na predm.",1+SUM(L134:N134),(SUM(L134:N134)/G134))) -> 0 | P134: =IF(K134>0,IF(G134="Ne treba raditi na predm.",O134,O134*(J134/(J134-K134))),O134) -> 0 | U134: =IF(Q134="","",R134/(Q134-S134)) | V134: =IF(P134="","",IF(C134="Ne","",IF(G134="Ne treba raditi na predm.","",IF((P133+P134)>1,40,IF(U134="",IF((P133+P134)>0.95,35,IF((P133+P134)>0.9,30,IF((P133+P134)>0.85,25,IF((P133+P134)>0.8,20,IF((P133+P134)>0.75,15,IF((P133+P134)>0.7,10,IF((P133+P134)>0.5,5,0))))))),IF((U133+U134)=1,40,IF((U133+U134)>0.95,35,IF((U133+U134)>0.9,30,IF((U133+U134)>0.85,25,IF((U133+U134)>0.8,20,IF((U133+U134)>0.75,15,IF((U133+U134)>0.7,10,IF((U133+U134)>0.5,5,0))))))))))))) -> 0
A135: Ime i prezime nosioca pravosudne funkcije | O135: Ukupna ostvarena orijentacijska norma koja se unosi u Obrazac za ocjenjivanje = | P135: =P136+P137 -> 0
A136: Sud 1 | F136: =IF(E136="Sudija",1,IF(E136="Stručni saradnik",1,"")) | O136: =IF(G136="",0,IF(G136="Ne treba raditi na predm.",1+SUM(L136:N136),(SUM(L136:N136)/G136))) -> 0 | P136: =IF(K136>0,IF(G136="Ne treba raditi na predm.",O136,O136*(J136/(J136-K136))),O136) -> 0 | U136: =IF(Q136="","",R136/(Q136-S136)) | V136: =IF(P136="","",IF(C136="Ne","",IF(G136="Ne treba raditi na predm.","",IF((P136+P137)>1,40,IF(U136="",IF((P136+P137)>0.95,35,IF((P136+P137)>0.9,30,IF((P136+P137)>0.85,25,IF((P136+P137)>0.8,20,IF((P136+P137)>0.75,15,IF((P136+P137)>0.7,10,IF((P136+P137)>0.5,5,0))))))),IF((U136+U137)=1,40,IF((U136+U137)>0.95,35,IF((U136+U137)>0.9,30,IF((U136+U137)>0.85,25,IF((U136+U137)>0.8,20,IF((U136+U137)>0.75,15,IF((U136+U137)>0.7,10,IF((U136+U137)>0.5,5,0))))))))))))) -> 0
A137: Sud 2 | F137: =IF(E137="Sudija",1,IF(E137="Stručni saradnik",1,"")) | O137: =IF(G137="",0,IF(G137="Ne treba raditi na predm.",1+SUM(L137:N137),(SUM(L137:N137)/G137))) -> 0 | P137: =IF(K137>0,IF(G137="Ne treba raditi na predm.",O137,O137*(J137/(J137-K137))),O137) -> 0 | U137: =IF(Q137="","",R137/(Q137-S137)) | V137: =IF(P137="","",IF(C137="Ne","",IF(G137="Ne treba raditi na predm.","",IF((P136+P137)>1,40,IF(U137="",IF((P136+P137)>0.95,35,IF((P136+P137)>0.9,30,IF((P136+P137)>0.85,25,IF((P136+P137)>0.8,20,IF((P136+P137)>0.75,15,IF((P136+P137)>0.7,10,IF((P136+P137)>0.5,5,0))))))),IF((U136+U137)=1,40,IF((U136+U137)>0.95,35,IF((U136+U137)>0.9,30,IF((U136+U137)>0.85,25,IF((U136+U137)>0.8,20,IF((U136+U137)>0.75,15,IF((U136+U137)>0.7,10,IF((U136+U137)>0.5,5,0))))))))))))) -> 0
A138: Ime i prezime nosioca pravosudne funkcije | O138: Ukupna ostvarena orijentacijska norma koja se unosi u Obrazac za ocjenjivanje = | P138: =P139+P140 -> 0
A139: Sud 1 | F139: =IF(E139="Sudija",1,IF(E139="Stručni saradnik",1,"")) | O139: =IF(G139="",0,IF(G139="Ne treba raditi na predm.",1+SUM(L139:N139),(SUM(L139:N139)/G139))) -> 0 | P139: =IF(K139>0,IF(G139="Ne treba raditi na predm.",O139,O139*(J139/(J139-K139))),O139) -> 0 | U139: =IF(Q139="","",R139/(Q139-S139)) | V139: =IF(P139="","",IF(C139="Ne","",IF(G139="Ne treba raditi na predm.","",IF((P139+P140)>1,40,IF(U139="",IF((P139+P140)>0.95,35,IF((P139+P140)>0.9,30,IF((P139+P140)>0.85,25,IF((P139+P140)>0.8,20,IF((P139+P140)>0.75,15,IF((P139+P140)>0.7,10,IF((P139+P140)>0.5,5,0))))))),IF((U139+U140)=1,40,IF((U139+U140)>0.95,35,IF((U139+U140)>0.9,30,IF((U139+U140)>0.85,25,IF((U139+U140)>0.8,20,IF((U139+U140)>0.75,15,IF((U139+U140)>0.7,10,IF((U139+U140)>0.5,5,0))))))))))))) -> 0
A140: Sud 2 | F140: =IF(E140="Sudija",1,IF(E140="Stručni saradnik",1,"")) | O140: =IF(G140="",0,IF(G140="Ne treba raditi na predm.",1+SUM(L140:N140),(SUM(L140:N140)/G140))) -> 0 | P140: =IF(K140>0,IF(G140="Ne treba raditi na predm.",O140,O140*(J140/(J140-K140))),O140) -> 0 | U140: =IF(Q140="","",R140/(Q140-S140)) | V140: =IF(P140="","",IF(C140="Ne","",IF(G140="Ne treba raditi na predm.","",IF((P139+P140)>1,40,IF(U140="",IF((P139+P140)>0.95,35,IF((P139+P140)>0.9,30,IF((P139+P140)>0.85,25,IF((P139+P140)>0.8,20,IF((P139+P140)>0.75,15,IF((P139+P140)>0.7,10,IF((P139+P140)>0.5,5,0))))))),IF((U139+U140)=1,40,IF((U139+U140)>0.95,35,IF((U139+U140)>0.9,30,IF((U139+U140)>0.85,25,IF((U139+U140)>0.8,20,IF((U139+U140)>0.75,15,IF((U139+U140)>0.7,10,IF((U139+U140)>0.5,5,0))))))))))))) -> 0
A141: Ime i prezime nosioca pravosudne funkcije | O141: Ukupna ostvarena orijentacijska norma koja se unosi u Obrazac za ocjenjivanje = | P141: =P142+P143 -> 0
A142: Sud 1 | F142: =IF(E142="Sudija",1,IF(E142="Stručni saradnik",1,"")) | O142: =IF(G142="",0,IF(G142="Ne treba raditi na predm.",1+SUM(L142:N142),(SUM(L142:N142)/G142))) -> 0 | P142: =IF(K142>0,IF(G142="Ne treba raditi na predm.",O142,O142*(J142/(J142-K142))),O142) -> 0 | U142: =IF(Q142="","",R142/(Q142-S142)) | V142: =IF(P142="","",IF(C142="Ne","",IF(G142="Ne treba raditi na predm.","",IF((P142+P143)>1,40,IF(U142="",IF((P142+P143)>0.95,35,IF((P142+P143)>0.9,30,IF((P142+P143)>0.85,25,IF((P142+P143)>0.8,20,IF((P142+P143)>0.75,15,IF((P142+P143)>0.7,10,IF((P142+P143)>0.5,5,0))))))),IF((U142+U143)=1,40,IF((U142+U143)>0.95,35,IF((U142+U143)>0.9,30,IF((U142+U143)>0.85,25,IF((U142+U143)>0.8,20,IF((U142+U143)>0.75,15,IF((U142+U143)>0.7,10,IF((U142+U143)>0.5,5,0))))))))))))) -> 0
A143: Sud 2 | F143: =IF(E143="Sudija",1,IF(E143="Stručni saradnik",1,"")) | O143: =IF(G143="",0,IF(G143="Ne treba raditi na predm.",1+SUM(L143:N143),(SUM(L143:N143)/G143))) -> 0 | P143: =IF(K143>0,IF(G143="Ne treba raditi na predm.",O143,O143*(J143/(J143-K143))),O143) -> 0 | U143: =IF(Q143="","",R143/(Q143-S143)) | V143: =IF(P143="","",IF(C143="Ne","",IF(G143="Ne treba raditi na predm.","",IF((P142+P143)>1,40,IF(U143="",IF((P142+P143)>0.95,35,IF((P142+P143)>0.9,30,IF((P142+P143)>0.85,25,IF((P142+P143)>0.8,20,IF((P142+P143)>0.75,15,IF((P142+P143)>0.7,10,IF((P142+P143)>0.5,5,0))))))),IF((U142+U143)=1,40,IF((U142+U143)>0.95,35,IF((U142+U143)>0.9,30,IF((U142+U143)>0.85,25,IF((U142+U143)>0.8,20,IF((U142+U143)>0.75,15,IF((U142+U143)>0.7,10,IF((U142+U143)>0.5,5,0))))))))))))) -> 0
A144: Ime i prezime nosioca pravosudne funkcije | O144: Ukupna ostvarena orijentacijska norma koja se unosi u Obrazac za ocjenjivanje = | P144: =P145+P146 -> 0
A145: Sud 1 | F145: =IF(E145="Sudija",1,IF(E145="Stručni saradnik",1,"")) | O145: =IF(G145="",0,IF(G145="Ne treba raditi na predm.",1+SUM(L145:N145),(SUM(L145:N145)/G145))) -> 0 | P145: =IF(K145>0,IF(G145="Ne treba raditi na predm.",O145,O145*(J145/(J145-K145))),O145) -> 0 | U145: =IF(Q145="","",R145/(Q145-S145)) | V145: =IF(P145="","",IF(C145="Ne","",IF(G145="Ne treba raditi na predm.","",IF((P145+P146)>1,40,IF(U145="",IF((P145+P146)>0.95,35,IF((P145+P146)>0.9,30,IF((P145+P146)>0.85,25,IF((P145+P146)>0.8,20,IF((P145+P146)>0.75,15,IF((P145+P146)>0.7,10,IF((P145+P146)>0.5,5,0))))))),IF((U145+U146)=1,40,IF((U145+U146)>0.95,35,IF((U145+U146)>0.9,30,IF((U145+U146)>0.85,25,IF((U145+U146)>0.8,20,IF((U145+U146)>0.75,15,IF((U145+U146)>0.7,10,IF((U145+U146)>0.5,5,0))))))))))))) -> 0
A146: Sud 2 | F146: =IF(E146="Sudija",1,IF(E146="Stručni saradnik",1,"")) | O146: =IF(G146="",0,IF(G146="Ne treba raditi na predm.",1+SUM(L146:N146),(SUM(L146:N146)/G146))) -> 0 | P146: =IF(K146>0,IF(G146="Ne treba raditi na predm.",O146,O146*(J146/(J146-K146))),O146) -> 0 | U146: =IF(Q146="","",R146/(Q146-S146)) | V146: =IF(P146="","",IF(C146="Ne","",IF(G146="Ne treba raditi na predm.","",IF((P145+P146)>1,40,IF(U146="",IF((P145+P146)>0.95,35,IF((P145+P146)>0.9,30,IF((P145+P146)>0.85,25,IF((P145+P146)>0.8,20,IF((P145+P146)>0.75,15,IF((P145+P146)>0.7,10,IF((P145+P146)>0.5,5,0))))))),IF((U145+U146)=1,40,IF((U145+U146)>0.95,35,IF((U145+U146)>0.9,30,IF((U145+U146)>0.85,25,IF((U145+U146)>0.8,20,IF((U145+U146)>0.75,15,IF((U145+U146)>0.7,10,IF((U145+U146)>0.5,5,0))))))))))))) -> 0
A147: Ime i prezime nosioca pravosudne funkcije | O147: Ukupna ostvarena orijentacijska norma koja se unosi u Obrazac za ocjenjivanje = | P147: =P148+P149 -> 0
A148: Sud 1 | F148: =IF(E148="Sudija",1,IF(E148="Stručni saradnik",1,"")) | O148: =IF(G148="",0,IF(G148="Ne treba raditi na predm.",1+SUM(L148:N148),(SUM(L148:N148)/G148))) -> 0 | P148: =IF(K148>0,IF(G148="Ne treba raditi na predm.",O148,O148*(J148/(J148-K148))),O148) -> 0 | U148: =IF(Q148="","",R148/(Q148-S148)) | V148: =IF(P148="","",IF(C148="Ne","",IF(G148="Ne treba raditi na predm.","",IF((P148+P149)>1,40,IF(U148="",IF((P148+P149)>0.95,35,IF((P148+P149)>0.9,30,IF((P148+P149)>0.85,25,IF((P148+P149)>0.8,20,IF((P148+P149)>0.75,15,IF((P148+P149)>0.7,10,IF((P148+P149)>0.5,5,0))))))),IF((U148+U149)=1,40,IF((U148+U149)>0.95,35,IF((U148+U149)>0.9,30,IF((U148+U149)>0.85,25,IF((U148+U149)>0.8,20,IF((U148+U149)>0.75,15,IF((U148+U149)>0.7,10,IF((U148+U149)>0.5,5,0))))))))))))) -> 0
A149: Sud 2 | F149: =IF(E149="Sudija",1,IF(E149="Stručni saradnik",1,"")) | O149: =IF(G149="",0,IF(G149="Ne treba raditi na predm.",1+SUM(L149:N149),(SUM(L149:N149)/G149))) -> 0 | P149: =IF(K149>0,IF(G149="Ne treba raditi na predm.",O149,O149*(J149/(J149-K149))),O149) -> 0 | U149: =IF(Q149="","",R149/(Q149-S149)) | V149: =IF(P149="","",IF(C149="Ne","",IF(G149="Ne treba raditi na predm.","",IF((P148+P149)>1,40,IF(U149="",IF((P148+P149)>0.95,35,IF((P148+P149)>0.9,30,IF((P148+P149)>0.85,25,IF((P148+P149)>0.8,20,IF((P148+P149)>0.75,15,IF((P148+P149)>0.7,10,IF((P148+P149)>0.5,5,0))))))),IF((U148+U149)=1,40,IF((U148+U149)>0.95,35,IF((U148+U149)>0.9,30,IF((U148+U149)>0.85,25,IF((U148+U149)>0.8,20,IF((U148+U149)>0.75,15,IF((U148+U149)>0.7,10,IF((U148+U149)>0.5,5,0))))))))))))) -> 0
A150: Ime i prezime nosioca pravosudne funkcije | O150: Ukupna ostvarena orijentacijska norma koja se unosi u Obrazac za ocjenjivanje = | P150: =P151+P152 -> 0
A151: Sud 1 | F151: =IF(E151="Sudija",1,IF(E151="Stručni saradnik",1,"")) | O151: =IF(G151="",0,IF(G151="Ne treba raditi na predm.",1+SUM(L151:N151),(SUM(L151:N151)/G151))) -> 0 | P151: =IF(K151>0,IF(G151="Ne treba raditi na predm.",O151,O151*(J151/(J151-K151))),O151) -> 0 | U151: =IF(Q151="","",R151/(Q151-S151)) | V151: =IF(P151="","",IF(C151="Ne","",IF(G151="Ne treba raditi na predm.","",IF((P151+P152)>1,40,IF(U151="",IF((P151+P152)>0.95,35,IF((P151+P152)>0.9,30,IF((P151+P152)>0.85,25,IF((P151+P152)>0.8,20,IF((P151+P152)>0.75,15,IF((P151+P152)>0.7,10,IF((P151+P152)>0.5,5,0))))))),IF((U151+U152)=1,40,IF((U151+U152)>0.95,35,IF((U151+U152)>0.9,30,IF((U151+U152)>0.85,25,IF((U151+U152)>0.8,20,IF((U151+U152)>0.75,15,IF((U151+U152)>0.7,10,IF((U151+U152)>0.5,5,0))))))))))))) -> 0
A152: Sud 2 | F152: =IF(E152="Sudija",1,IF(E152="Stručni saradnik",1,"")) | O152: =IF(G152="",0,IF(G152="Ne treba raditi na predm.",1+SUM(L152:N152),(SUM(L152:N152)/G152))) -> 0 | P152: =IF(K152>0,IF(G152="Ne treba raditi na predm.",O152,O152*(J152/(J152-K152))),O152) -> 0 | U152: =IF(Q152="","",R152/(Q152-S152)) | V152: =IF(P152="","",IF(C152="Ne","",IF(G152="Ne treba raditi na predm.","",IF((P151+P152)>1,40,IF(U152="",IF((P151+P152)>0.95,35,IF((P151+P152)>0.9,30,IF((P151+P152)>0.85,25,IF((P151+P152)>0.8,20,IF((P151+P152)>0.75,15,IF((P151+P152)>0.7,10,IF((P151+P152)>0.5,5,0))))))),IF((U151+U152)=1,40,IF((U151+U152)>0.95,35,IF((U151+U152)>0.9,30,IF((U151+U152)>0.85,25,IF((U151+U152)>0.8,20,IF((U151+U152)>0.75,15,IF((U151+U152)>0.7,10,IF((U151+U152)>0.5,5,0))))))))))))) -> 0
A153: Ime i prezime nosioca pravosudne funkcije | O153: Ukupna ostvarena orijentacijska norma koja se unosi u Obrazac za ocjenjivanje = | P153: =P154+P155 -> 0
A154: Sud 1 | F154: =IF(E154="Sudija",1,IF(E154="Stručni saradnik",1,"")) | O154: =IF(G154="",0,IF(G154="Ne treba raditi na predm.",1+SUM(L154:N154),(SUM(L154:N154)/G154))) -> 0 | P154: =IF(K154>0,IF(G154="Ne treba raditi na predm.",O154,O154*(J154/(J154-K154))),O154) -> 0 | U154: =IF(Q154="","",R154/(Q154-S154)) | V154: =IF(P154="","",IF(C154="Ne","",IF(G154="Ne treba raditi na predm.","",IF((P154+P155)>1,40,IF(U154="",IF((P154+P155)>0.95,35,IF((P154+P155)>0.9,30,IF((P154+P155)>0.85,25,IF((P154+P155)>0.8,20,IF((P154+P155)>0.75,15,IF((P154+P155)>0.7,10,IF((P154+P155)>0.5,5,0))))))),IF((U154+U155)=1,40,IF((U154+U155)>0.95,35,IF((U154+U155)>0.9,30,IF((U154+U155)>0.85,25,IF((U154+U155)>0.8,20,IF((U154+U155)>0.75,15,IF((U154+U155)>0.7,10,IF((U154+U155)>0.5,5,0))))))))))))) -> 0
A155: Sud 2 | F155: =IF(E155="Sudija",1,IF(E155="Stručni saradnik",1,"")) | O155: =IF(G155="",0,IF(G155="Ne treba raditi na predm.",1+SUM(L155:N155),(SUM(L155:N155)/G155))) -> 0 | P155: =IF(K155>0,IF(G155="Ne treba raditi na predm.",O155,O155*(J155/(J155-K155))),O155) -> 0 | U155: =IF(Q155="","",R155/(Q155-S155)) | V155: =IF(P155="","",IF(C155="Ne","",IF(G155="Ne treba raditi na predm.","",IF((P154+P155)>1,40,IF(U155="",IF((P154+P155)>0.95,35,IF((P154+P155)>0.9,30,IF((P154+P155)>0.85,25,IF((P154+P155)>0.8,20,IF((P154+P155)>0.75,15,IF((P154+P155)>0.7,10,IF((P154+P155)>0.5,5,0))))))),IF((U154+U155)=1,40,IF((U154+U155)>0.95,35,IF((U154+U155)>0.9,30,IF((U154+U155)>0.85,25,IF((U154+U155)>0.8,20,IF((U154+U155)>0.75,15,IF((U154+U155)>0.7,10,IF((U154+U155)>0.5,5,0))))))))))))) -> 0
A156: Ime i prezime nosioca pravosudne funkcije | O156: Ukupna ostvarena orijentacijska norma koja se unosi u Obrazac za ocjenjivanje = | P156: =P157+P158 -> 0
A157: Sud 1 | F157: =IF(E157="Sudija",1,IF(E157="Stručni saradnik",1,"")) | O157: =IF(G157="",0,IF(G157="Ne treba raditi na predm.",1+SUM(L157:N157),(SUM(L157:N157)/G157))) -> 0 | P157: =IF(K157>0,IF(G157="Ne treba raditi na predm.",O157,O157*(J157/(J157-K157))),O157) -> 0 | U157: =IF(Q157="","",R157/(Q157-S157)) | V157: =IF(P157="","",IF(C157="Ne","",IF(G157="Ne treba raditi na predm.","",IF((P157+P158)>1,40,IF(U157="",IF((P157+P158)>0.95,35,IF((P157+P158)>0.9,30,IF((P157+P158)>0.85,25,IF((P157+P158)>0.8,20,IF((P157+P158)>0.75,15,IF((P157+P158)>0.7,10,IF((P157+P158)>0.5,5,0))))))),IF((U157+U158)=1,40,IF((U157+U158)>0.95,35,IF((U157+U158)>0.9,30,IF((U157+U158)>0.85,25,IF((U157+U158)>0.8,20,IF((U157+U158)>0.75,15,IF((U157+U158)>0.7,10,IF((U157+U158)>0.5,5,0))))))))))))) -> 0
A158: Sud 2 | F158: =IF(E158="Sudija",1,IF(E158="Stručni saradnik",1,"")) | O158: =IF(G158="",0,IF(G158="Ne treba raditi na predm.",1+SUM(L158:N158),(SUM(L158:N158)/G158))) -> 0 | P158: =IF(K158>0,IF(G158="Ne treba raditi na predm.",O158,O158*(J158/(J158-K158))),O158) -> 0 | U158: =IF(Q158="","",R158/(Q158-S158)) | V158: =IF(P158="","",IF(C158="Ne","",IF(G158="Ne treba raditi na predm.","",IF((P157+P158)>1,40,IF(U158="",IF((P157+P158)>0.95,35,IF((P157+P158)>0.9,30,IF((P157+P158)>0.85,25,IF((P157+P158)>0.8,20,IF((P157+P158)>0.75,15,IF((P157+P158)>0.7,10,IF((P157+P158)>0.5,5,0))))))),IF((U157+U158)=1,40,IF((U157+U158)>0.95,35,IF((U157+U158)>0.9,30,IF((U157+U158)>0.85,25,IF((U157+U158)>0.8,20,IF((U157+U158)>0.75,15,IF((U157+U158)>0.7,10,IF((U157+U158)>0.5,5,0))))))))))))) -> 0
A159: Ime i prezime nosioca pravosudne funkcije | O159: Ukupna ostvarena orijentacijska norma koja se unosi u Obrazac za ocjenjivanje = | P159: =P160+P161 -> 0
...

Sheet Tabela III
A1: Općinski/Osnovni sud: | B1: ='Tabela I'!C1 -> Bugojno
A2: Izvještajni period: | B2: ='Tabela I'!C2 -> 1.1.2022.- 31.12.2022.
A3: Tabela III - Kvalitet sudskih odluka po vrstama predmeta
A4: Vrsta predmeta | B4: Broj donesenih odluka na koje se može izjaviti pravni lijek | C4: Ukupan broj ožalbenih odluka | D4: Broj odbačenih pravnih lijekova | E4: Broj potvrđenih odluka | F4: Broj preinačenih odluka | G4: Broj preinačenih odluka donijetih nakon održane glavne rasprave ili pretresa pred drugostepenim sudom | H4: Broj ukinutih odluka | I4: Broj djelimično ukinutih odluka | J4: Kvalitet sudskih odluka | K4: Broj presuda koje su ukinute i predmet vraćen na ponovno suđenje
E5: Odbijen pravni lijek
B6: I | C6: II=IV+V+VI+ VII+VIII) | D6: III | E6: IV | F6: V | G6: VI | H6: VII | I6: VIII | J6: IX1 | K6: X
A7: Parnični referat
A8: P | B8: 385 | C8: =E8+F8+G8+H8+I8 -> 65 | E8: 49 | F8: 3 | H8: 12 | I8: 1 | J8: =IF(C8=0,"",IF(B8=0,1,0.75*((C8-H8-I8/2)/C8)+0.25*((B8-G8-H8-I8/2)/B8))) -> 0.84765235
A9: Mal | B9: 536 | C9: =E9+F9+G9+H9+I9 -> 20 | E9: 13 | F9: 4 | H9: 3 | J9: =IF(C9=0,"",IF(B9=0,1,0.75*((C9-H9-I9/2)/C9)+0.25*((B9-G9-H9-I9/2)/B9))) -> 0.88610075
A10: Radni sporovi | B10: 101 | C10: =E10+F10+G10+H10+I10 -> 27 | E10: 24 | F10: 1 | H10: 2 | J10: =IF(C10=0,"",IF(B10=0,1,0.75*((C10-H10-I10/2)/C10)+0.25*((B10-G10-H10-I10/2)/B10))) -> 0.93949395
A11: Pom | C11: =E11+F11+G11+H11+I11 -> 0 | J11: =IF(C11=0,"",IF(B11=0,1,0.75*((C11-H11-I11/2)/C11)+0.25*((B11-G11-H11-I11/2)/B11)))
A12: Ostalo | B12: 6 | C12: =E12+F12+G12+H12+I12 -> 6 | E12: 6 | J12: =IF(C12=0,"",IF(B12=0,1,0.75*((C12-H12-I12/2)/C12)+0.25*((B12-G12-H12-I12/2)/B12))) -> 1
A13: Privredni referat
A14: Ps | C14: =E14+F14+G14+H14+I14 -> 0 | J14: =IF(C14=0,"",IF(B14=0,1,0.75*((C14-H14-I14/2)/C14)+0.25*((B14-G14-H14-I14/2)/B14)))
A15: Mals | C15: =E15+F15+G15+H15+I15 -> 0 | J15: =IF(C15=0,"",IF(B15=0,1,0.75*((C15-H15-I15/2)/C15)+0.25*((B15-G15-H15-I15/2)/B15)))
A16: L | C16: =E16+F16+G16+H16+I16 -> 0 | J16: =IF(C16=0,"",IF(B16=0,1,0.75*((C16-H16-I16/2)/C16)+0.25*((B16-G16-H16-I16/2)/B16)))
A17: Ls | C17: =E17+F17+G17+H17+I17 -> 0 | J17: =IF(C17=0,"",IF(B17=0,1,0.75*((C17-H17-I17/2)/C17)+0.25*((B17-G17-H17-I17/2)/B17)))
A18: St | C18: =E18+F18+G18+H18+I18 -> 0 | J18: =IF(C18=0,"",IF(B18=0,1,0.75*((C18-H18-I18/2)/C18)+0.25*((B18-G18-H18-I18/2)/B18)))
A19: Ostalo | C19: =E19+F19+G19+H19+I19 -> 0 | J19: =IF(C19=0,"",IF(B19=0,1,0.75*((C19-H19-I19/2)/C19)+0.25*((B19-G19-H19-I19/2)/B19)))
A20: Krivični referat
A21: K | B21: 147 | C21: =E21+F21+G21+H21+I21 -> 66 | E21: 43 | F21: 10 | H21: 12 | I21: 1 | J21: =IF(C21=0,"",IF(B21=0,1,0.75*((C21-H21-I21/2)/C21)+0.25*((B21-G21-H21-I21/2)/B21))) -> 0.83669604
A22: Kpp | B22: 12 | C22: =E22+F22+G22+H22+I22 -> 0 | J22: =IF(C22=0,"",IF(B22=0,1,0.75*((C22-H22-I22/2)/C22)+0.25*((B22-G22-H22-I22/2)/B22)))
A23: Kps | B23: 115 | C23: =E23+F23+G23+H23+I23 -> 0 | J23: =IF(C23=0,"",IF(B23=0,1,0.75*((C23-H23-I23/2)/C23)+0.25*((B23-G23-H23-I23/2)/B23)))
A24: Kzs | C24: =E24+F24+G24+H24+I24 -> 0 | J24: =IF(C24=0,"",IF(B24=0,1,0.75*((C24-H24-I24/2)/C24)+0.25*((B24-G24-H24-I24/2)/B24)))
A25: Kbs | B25: 55 | C25: =E25+F25+G25+H25+I25 -> 0 | J25: =IF(C25=0,"",IF(B25=0,1,0.75*((C25-H25-I25/2)/C25)+0.25*((B25-G25-H25-I25/2)/B25)))
A26: Km | B26: 11 | C26: =E26+F26+G26+H26+I26 -> 0 | J26: =IF(C26=0,"",IF(B26=0,1,0.75*((C26-H26-I26/2)/C26)+0.25*((B26-G26-H26-I26/2)/B26)))
A27: Kv | B27: 57 | C27: =E27+F27+G27+H27+I27 -> 20 | E27: 16 | F27: 2 | H27: 2 | J27: =IF(C27=0,"",IF(B27=0,1,0.75*((C27-H27-I27/2)/C27)+0.25*((B27-G27-H27-I27/2)/B27))) -> 0.91622807
A28: Kvl | C28: =E28+F28+G28+H28+I28 -> 0 | J28: =IF(C28=0,"",IF(B28=0,1,0.75*((C28-H28-I28/2)/C28)+0.25*((B28-G28-H28-I28/2)/B28)))
A29: Kp | C29: =E29+F29+G29+H29+I29 -> 0 | J29: =IF(C29=0,"",IF(B29=0,1,0.75*((C29-H29-I29/2)/C29)+0.25*((B29-G29-H29-I29/2)/B29)))
A30: Iks | B30: 83 | C30: =E30+F30+G30+H30+I30 -> 1 | E30: 1 | J30: =IF(C30=0,"",IF(B30=0,1,0.75*((C30-H30-I30/2)/C30)+0.25*((B30-G30-H30-I30/2)/B30))) -> 1
A31: Pom | C31: =E31+F31+G31+H31+I31 -> 0 | J31: =IF(C31=0,"",IF(B31=0,1,0.75*((C31-H31-I31/2)/C31)+0.25*((B31-G31-H31-I31/2)/B31)))
A32: Ostalo | C32: =E32+F32+G32+H32+I32 -> 0 | J32: =IF(C32=0,"",IF(B32=0,1,0.75*((C32-H32-I32/2)/C32)+0.25*((B32-G32-H32-I32/2)/B32)))
A33: Izvršni referat
A34: I | B34: 4463 | C34: =E34+F34+G34+H34+I34 -> 114 | E34: 102 | H34: 12 | J34: =IF(C34=0,"",IF(B34=0,1,0.75*((C34-H34-I34/2)/C34)+0.25*((B34-G34-H34-I34/2)/B34))) -> 0.92038044
A35: Ip | B35: 190 | C35: =E35+F35+G35+H35+I35 -> 4 | E35: 4 | J35: =IF(C35=0,"",IF(B35=0,1,0.75*((C35-H35-I35/2)/C35)+0.25*((B35-G35-H35-I35/2)/B35))) -> 1
A36: Ostalo | C36: =E36+F36+G36+H36+I36 -> 0 | J36: =IF(C36=0,"",IF(B36=0,1,0.75*((C36-H36-I36/2)/C36)+0.25*((B36-G36-H36-I36/2)/B36)))
A37: Vanparnični referat
A38: V | B38: 213 | C38: =E38+F38+G38+H38+I38 -> 8 | E38: 6 | H38: 2 | J38: =IF(C38=0,"",IF(B38=0,1,0.75*((C38-H38-I38/2)/C38)+0.25*((B38-G38-H38-I38/2)/B38))) -> 0.81015258
A39: O | B39: 47 | C39: =E39+F39+G39+H39+I39 -> 1 | E39: 1 | J39: =IF(C39=0,"",IF(B39=0,1,0.75*((C39-H39-I39/2)/C39)+0.25*((B39-G39-H39-I39/2)/B39))) -> 1
A40: Ostalo | C40: =E40+F40+G40+H40+I40 -> 0 | J40: =IF(C40=0,"",IF(B40=0,1,0.75*((C40-H40-I40/2)/C40)+0.25*((B40-G40-H40-I40/2)/B40)))
A41: Prekršajno odjeljenje
A42: Pr | B42: 1333 | C42: =E42+F42+G42+H42+I42 -> 39 | E42: 32 | F42: 6 | H42: 1 | J42: =IF(C42=0,"",IF(B42=0,1,0.75*((C42-H42-I42/2)/C42)+0.25*((B42-G42-H42-I42/2)/B42))) -> 0.98058168
A43: Ostalo | B43: 445 | C43: =E43+F43+G43+H43+I43 -> 0 | J43: =IF(C43=0,"",IF(B43=0,1,0.75*((C43-H43-I43/2)/C43)+0.25*((B43-G43-H43-I43/2)/B43)))
A45: Registracija poslovnih subjekata | C45: =E45+F45+G45+H45+I45 -> 0 | J45: =IF(C45=0,"",IF(B45=0,1,0.75*((C45-H45-I45/2)/C45)+0.25*((B45-G45-H45-I45/2)/B45)))
A47: Ukupno | B47: =SUM(B8:B12)+SUM(B14:B19)+SUM(B21:B32)+SUM(B34:B36)+SUM(B38:B40)+B42+B43+B45 -> 8199 | C47: =SUM(C8:C12)+SUM(C14:C19)+SUM(C21:C32)+SUM(C34:C36)+SUM(C38:C40)+C42+C43+C45 -> 371 | D47: =SUM(D8:D12)+SUM(D14:D19)+SUM(D21:D32)+SUM(D34:D36)+SUM(D38:D40)+D42+D43+D45 -> 0 | E47: =SUM(E8:E12)+SUM(E14:E19)+SUM(E21:E32)+SUM(E34:E36)+SUM(E38:E40)+E42+E43+E45 -> 297 | F47: =SUM(F8:F12)+SUM(F14:F19)+SUM(F21:F32)+SUM(F34:F36)+SUM(F38:F40)+F42+F43+F45 -> 26 | G47: =SUM(G8:G12)+SUM(G14:G19)+SUM(G21:G32)+SUM(G34:G36)+SUM(G38:G40)+G42+G43+G45 -> 0 | H47: =SUM(H8:H12)+SUM(H14:H19)+SUM(H21:H32)+SUM(H34:H36)+SUM(H38:H40)+H42+H43+H45 -> 46 | I47: =SUM(I8:I12)+SUM(I14:I19)+SUM(I21:I32)+SUM(I34:I36)+SUM(I38:I40)+I42+I43+I45 -> 2 | J47: =IF(C47=0,"",IF(B47=0,1,0.75*((C47-H47-I47/2)/C47)+0.25*((B47-G47-H47-I47/2)/B47))) -> 0.90355342 | K47: =SUM(K8:K12)+SUM(K14:K19)+SUM(K21:K32)+SUM(K34:K36)+SUM(K38:K40)+K42+K43+K45 -> 0
A49: Ukupno 2021.* | B49: 8621 | C49: Obrazloženje:
A50: * Unesite podatak o Ukupnom broju donesenih odluka na koje se može izjaviti pravni lijek iz izvještaja koji ste dostavili za 2021. godinu. Ukoliko je razlika u Ukupnom broju donesenih odluka na koje se može izjaviti pravni lijek u periodu 2021/2022 veća od 20% aktiviraće se kontrolnik i potrebno je da obrazložite uzroke za nastanak te razlike.
A57: 1 Kvalitet rada sudskih odluka se automatski obračunava u skladu sa članom 17. Kriterija za ocjenjivanje rada sudija u BiH. Slijedi tekst za pojašnjenje formule za obračun kvaliteta sudskih odluka: (75% * (Ukupan broj ožalbenih odluka - Broj ukinutih odluka - Broj djelimično ukinutih odluka/2) / Ukupan broj ožalbenih odluka) + (25% * (Broj donesenih odluka na koje se može izjaviti pravni lijek - Broj preinačenih odluka donijetih nakon održane glavne raspave ili pretresa pred drugostepenim sudom - Broj ukinutih odluka - Broj djelimično ukinutih odluka/2) / Broj donesenih odluka na koje se može izjaviti pravni lijek).
A59: NAPOMENA: U Tabelu III se unose podaci o kvalitetu odluka za sve nosilace pravosudne funkcije koji su u toku godine obavljali funkciju u sudu, bez obzira na period obavljanja funkcije u sudu. U Tabelu se unose podaci za sve nosioce pravosudne funkcije: koji su obavljali funkciju u sudu cijelu godinu, koji su imenovani u sud u toku godine, koji su prešli u drugi sud u toku godine (bez obzira na nivo suda), kao i podaci za nosioce pravosudne funkcije koji su prestali obavljati funkciju u sudu zbog odlaska u penziju u 2022. godini ili iz drugih razloga (ostavke, razrješenja), a u 2022. godini su donosili odluke na koje se može izjaviti pravni lijek, i/ili sud je nakon prestanka obavljanja funkcije zaprimio žalbene odluke od strane višeg suda po izjavljenom pravnom lijeku na odluke bivšeg nosioca pravosudne funkcije. Na taj način se pravilno obračunava kolektivni kvalitet odluka u sudu.
A66: NAPOMENA: U broj donesenih odluka na koje se može izjaviti pravni lijek (Kolona I) i broj ukinutih odluka (Kolona VII) prilikom računanja procenta ukinutih odluka iz člana 17. stav (1) tačka a) i b) Kriterija za ocjenjivanje rada sudija u BiH neće se uzimati u obračun odluke koje su ukinute u sadržajno nebitnom dijelu odnosno ako je odluka ukinuta ili se smatra ukinutom zbog toga što je instancioni sud nakon donošenja ispitivane odluke izmijenio sudsku praksu, u skladu s stavom (3) navedenog člana Kriterija.

Sheet Tabela IIIa
A1: =+'Tabela I'!A1 -> Općinski/Osnovni sud: | D1: =+'Tabela I'!C1 -> Bugojno
A2: Izvještajni period: | D2: =+'Tabela I'!C2 -> 1.1.2022.- 31.12.2022.
A3: Tabela IIIa - Kvalitet sudskih odluka po nosiocima pravosudnih funkcija - Elektronski obrazac za obračun kvaliteta odluka (pogledati NAPOMENU 2 i 3)
A5: Redni broj | B5: Ime i prezime - podatak je automatski prenesen iz Tabele IIa - OBAVEZNO ZADRŽATI REDOSLIJED NPF-a iz Tabele IIa | C5: Pravosudna funkcija | D5: Ocijenjen / Nije ocijenjen u sudu | E5: Ukupan broj donesenih odluka na koje se može izjaviti pravni lijek | F5: Ukupan broj ožalbenih odluka | G5: Broj odbačenih pravnih lijekova*** | H5: Broj potvrđenih odluka | I5: Broj preinačenih odluka | J5: Broj preinačenih odluka donijetih nakon održane glavne rasprave ili pretresa pred drugostepenim sudom | K5: Broj ukinutih odluka | L5: Broj djelimično ukinutih odluka | M5: Kvalitet sudskih odluka prema članu 17. stav 1. tačka a) | N5: Broj ostvarenih bodova za kvalitet prema članu 17. stav 1. tačka a) | O5: Kvalitet sudskih odluka prema članu 17. stav 1. tačka b) | P5: Broj ostvarenih bodova za kvalitet prema članu 17. stav 1. tačka b) | Q5: UKUPAN broj ostvarenih bodova za kvalitet sudskih odluka
H6: Odbijen pravni lijek
A7: I | B7: II | C7: III | D7: IV | E7: V | F7: VI | G7: VII | H7: VIII | I7: IX | J7: X | K7: XI | L7: XII | M7: XIII | N7: XIV | O7: XV | P7: XVI | Q7: XVII
A9: 1 | B9: =IF('Tabela II'!B8="","",'Tabela II'!B8) -> Randžana Hadžibegović-Haračić | C9: Predsjednik suda * | D9: Ocijenjen | E9: 252 | F9: =SUM(H9:L9) -> 10 | H9: 7 | I9: 2 | K9: 1 | M9: =IF(D9="","",IF(D9="Nije ocijenjen ili Ne treba raditi na predmetima","",IF(D9="Ocijenjen",IF(F9<10,"Član 20. stav 7. Kriterija",(K9+(L9/2))/(F9))))) -> 0.1 | N9: =IF(D9="","",IF(D9="Nije ocijenjen ili Ne treba raditi na predmetima","",IF(D9="Ocijenjen",IF(M9="Član 20. stav 7. Kriterija","",IF(M9>0.4,0,IF(M9>0.3,4,IF(M9>0.2,8,IF(M9>0.1,12,IF(M9<=0.1,15,))))))))) -> 15 | O9: =IF(D9="","",IF(D9="Nije ocijenjen ili Ne treba raditi na predmetima","",IF(D9="Ocijenjen",IF(E9=0,"",((K9+J9+(L9/2))/(E9)))))) -> 0.003968254 | P9: =IF(D9="","",IF(D9="Nije ocijenjen ili Ne treba raditi na predmetima","",IF(D9="Ocijenjen",IF(O9>0.2,0,IF(O9>0.15,1,IF(O9>0.1,2,IF(O9>0.06,3,IF(O9>0.03,4,IF(O9<=0.03,5,))))))))) -> 5 | Q9: =IF(D9="","",IF(D9="Nije ocijenjen ili Ne treba raditi na predmetima","",IF(D9="Ocijenjen",IF(M9="Član 20. stav 7. Kriterija",P9,N9+P9)))) -> 20 | U9: Ocijenjen
A10: 2 | B10: =IF('Tabela II'!B10="","",'Tabela II'!B10) -> Amira Ždralović | C10: Predsjednik odjela | D10: Ocijenjen | E10: 503 | F10: =SUM(H10:L10) -> 32 | H10: 24 | I10: 3 | K10: 5 | M10: =IF(D10="","",IF(D10="Nije ocijenjen","",IF(D10="Ocijenjen",IF(F10<10,"Član 17. stav 7. Kriterija",(K10+(L10/2))/(F10))))) -> 0.15625 | N10: =IF(D10="","",IF(D10="Nije ocijenjen","",IF(D10="Ocijenjen",IF(M10="Član 17. stav 7. Kriterija","",IF(M10>0.4,0,IF(M10>0.3,8,IF(M10>0.2,16,IF(M10>0.1,24,IF(M10<=0.1,30,))))))))) -> 24 | O10: =IF(D10="","",IF(D10="Nije ocijenjen","",IF(D10="Ocijenjen",IF(E10=0,"",((K10+J10+(L10/2))/(E10)))))) -> 0.0099403579 | P10: =IF(D10="","",IF(D10="Nije ocijenjen","",IF(D10="Ocijenjen",IF(O10>0.2,0,IF(O10>0.15,2,IF(O10>0.1,4,IF(O10>0.06,6,IF(O10>0.03,8,IF(O10<=0.03,10,))))))))) -> 10 | Q10: =IF(D10="","",IF(D10="Nije ocijenjen","",IF(D10="Ocijenjen",IF(M10="Član 17. stav 7. Kriterija",P10,N10+P10)))) -> 34 | S10: Sudija | U10: Nije ocijenjen
A11: 3 | B11: =IF('Tabela II'!B11="","",'Tabela II'!B11) -> Darko Solomun | C11: Predsjednik odjela | D11: Ocijenjen | E11: 385 | F11: =SUM(H11:L11) -> 53 | H11: 38 | I11: 7 | K11: 7 | L11: 1 | M11: =IF(D11="","",IF(D11="Nije ocijenjen","",IF(D11="Ocijenjen",IF(F11<10,"Član 17. stav 7. Kriterija",(K11+(L11/2))/(F11))))) -> 0.14150943 | N11: =IF(D11="","",IF(D11="Nije ocijenjen","",IF(D11="Ocijenjen",IF(M11="Član 17. stav 7. Kriterija","",IF(M11>0.4,0,IF(M11>0.3,8,IF(M11>0.2,16,IF(M11>0.1,24,IF(M11<=0.1,30,))))))))) -> 24 | O11: =IF(D11="","",IF(D11="Nije ocijenjen","",IF(D11="Ocijenjen",IF(E11=0,"",((K11+J11+(L11/2))/(E11)))))) -> 0.019480519 | P11: =IF(D11="","",IF(D11="Nije ocijenjen","",IF(D11="Ocijenjen",IF(O11>0.2,0,IF(O11>0.15,2,IF(O11>0.1,4,IF(O11>0.06,6,IF(O11>0.03,8,IF(O11<=0.03,10,))))))))) -> 10 | Q11: =IF(D11="","",IF(D11="Nije ocijenjen","",IF(D11="Ocijenjen",IF(M11="Član 17. stav 7. Kriterija",P11,N11+P11)))) -> 34 | S11: Stručni saradnik
A12: 4 | B12: =IF('Tabela II'!B12="","",'Tabela II'!B12) -> Samil Ramić | C12: Predsjednik odjela | D12: Ocijenjen | E12: 721 | F12: =SUM(H12:L12) -> 7 | H12: 6 | I12: 1 | M12: =IF(D12="","",IF(D12="Nije ocijenjen","",IF(D12="Ocijenjen",IF(F12<10,"Član 17. stav 7. Kriterija",(K12+(L12/2))/(F12))))) -> Član 17. stav 7. Kriterija | N12: =IF(D12="","",IF(D12="Nije ocijenjen","",IF(D12="Ocijenjen",IF(M12="Član 17. stav 7. Kriterija","",IF(M12>0.4,0,IF(M12>0.3,8,IF(M12>0.2,16,IF(M12>0.1,24,IF(M12<=0.1,30,))))))))) | O12: =IF(D12="","",IF(D12="Nije ocijenjen","",IF(D12="Ocijenjen",IF(E12=0,"",((K12+J12+(L12/2))/(E12)))))) -> 0 | P12: =IF(D12="","",IF(D12="Nije ocijenjen","",IF(D12="Ocijenjen",IF(O12>0.2,0,IF(O12>0.15,2,IF(O12>0.1,4,IF(O12>0.06,6,IF(O12>0.03,8,IF(O12<=0.03,10,))))))))) -> 10 | Q12: =IF(D12="","",IF(D12="Nije ocijenjen","",IF(D12="Ocijenjen",IF(M12="Član 17. stav 7. Kriterija",P12,N12+P12)))) -> 10 | S12: Predsjednik odjela
A13: 5 | B13: =IF('Tabela II'!B13="","",'Tabela II'!B13) -> Safet Žuljko | C13: Sudija | D13: Ocijenjen | E13: 917 | F13: =SUM(H13:L13) -> 21 | H13: 18 | K13: 3 | M13: =IF(D13="","",IF(D13="Nije ocijenjen","",IF(D13="Ocijenjen",IF(F13<10,"Član 17. stav 7. Kriterija",(K13+(L13/2))/(F13))))) -> 0.14285714 | N13: =IF(D13="","",IF(D13="Nije ocijenjen","",IF(D13="Ocijenjen",IF(M13="Član 17. stav 7. Kriterija","",IF(M13>0.4,0,IF(M13>0.3,8,IF(M13>0.2,16,IF(M13>0.1,24,IF(M13<=0.1,30,))))))))) -> 24 | O13: =IF(D13="","",IF(D13="Nije ocijenjen","",IF(D13="Ocijenjen",IF(E13=0,"",((K13+J13+(L13/2))/(E13)))))) -> 0.0032715376 | P13: =IF(D13="","",IF(D13="Nije ocijenjen","",IF(D13="Ocijenjen",IF(O13>0.2,0,IF(O13>0.15,2,IF(O13>0.1,4,IF(O13>0.06,6,IF(O13>0.03,8,IF(O13<=0.03,10,))))))))) -> 10 | Q13: =IF(D13="","",IF(D13="Nije ocijenjen","",IF(D13="Ocijenjen",IF(M13="Član 17. stav 7. Kriterija",P13,N13+P13)))) -> 34 | S13: Predsjednik sudskog vijeća vrhovnog suda entiteta
A14: 6 | B14: =IF('Tabela II'!B14="","",'Tabela II'!B14) -> Lejla Nurikić | C14: Sudija | D14: Ocijenjen | E14: 482 | F14: =SUM(H14:L14) -> 43 | H14: 37 | I14: 2 | K14: 3 | L14: 1 | M14: =IF(D14="","",IF(D14="Nije ocijenjen","",IF(D14="Ocijenjen",IF(F14<10,"Član 17. stav 7. Kriterija",(K14+(L14/2))/(F14))))) -> 0.081395349 | N14: =IF(D14="","",IF(D14="Nije ocijenjen","",IF(D14="Ocijenjen",IF(M14="Član 17. stav 7. Kriterija","",IF(M14>0.4,0,IF(M14>0.3,8,IF(M14>0.2,16,IF(M14>0.1,24,IF(M14<=0.1,30,))))))))) -> 30 | O14: =IF(D14="","",IF(D14="Nije ocijenjen","",IF(D14="Ocijenjen",IF(E14=0,"",((K14+J14+(L14/2))/(E14)))))) -> 0.0072614108 | P14: =IF(D14="","",IF(D14="Nije ocijenjen","",IF(D14="Ocijenjen",IF(O14>0.2,0,IF(O14>0.15,2,IF(O14>0.1,4,IF(O14>0.06,6,IF(O14>0.03,8,IF(O14<=0.03,10,))))))))) -> 10 | Q14: =IF(D14="","",IF(D14="Nije ocijenjen","",IF(D14="Ocijenjen",IF(M14="Član 17. stav 7. Kriterija",P14,N14+P14)))) -> 40
A15: 7 | B15: =IF('Tabela II'!B15="","",'Tabela II'!B15) -> Katica Soldo | C15: Sudija | D15: Ocijenjen | E15: 485 | F15: =SUM(H15:L15) -> 46 | H15: 41 | I15: 1 | K15: 4 | M15: =IF(D15="","",IF(D15="Nije ocijenjen","",IF(D15="Ocijenjen",IF(F15<10,"Član 17. stav 7. Kriterija",(K15+(L15/2))/(F15))))) -> 0.086956522 | N15: =IF(D15="","",IF(D15="Nije ocijenjen","",IF(D15="Ocijenjen",IF(M15="Član 17. stav 7. Kriterija","",IF(M15>0.4,0,IF(M15>0.3,8,IF(M15>0.2,16,IF(M15>0.1,24,IF(M15<=0.1,30,))))))))) -> 30 | O15: =IF(D15="","",IF(D15="Nije ocijenjen","",IF(D15="Ocijenjen",IF(E15=0,"",((K15+J15+(L15/2))/(E15)))))) -> 0.0082474227 | P15: =IF(D15="","",IF(D15="Nije ocijenjen","",IF(D15="Ocijenjen",IF(O15>0.2,0,IF(O15>0.15,2,IF(O15>0.1,4,IF(O15>0.06,6,IF(O15>0.03,8,IF(O15<=0.03,10,))))))))) -> 10 | Q15: =IF(D15="","",IF(D15="Nije ocijenjen","",IF(D15="Ocijenjen",IF(M15="Član 17. stav 7. Kriterija",P15,N15+P15)))) -> 40
A16: 8 | B16: =IF('Tabela II'!B16="","",'Tabela II'!B16) -> Janja Pilić | C16: Sudija | D16: Nije ocijenjen | E16: 254 | F16: =SUM(H16:L16) -> 29 | H16: 22 | K16: 7 | M16: =IF(D16="","",IF(D16="Nije ocijenjen","",IF(D16="Ocijenjen",IF(F16<10,"Član 17. stav 7. Kriterija",(K16+(L16/2))/(F16))))) | N16: =IF(D16="","",IF(D16="Nije ocijenjen","",IF(D16="Ocijenjen",IF(M16="Član 17. stav 7. Kriterija","",IF(M16>0.4,0,IF(M16>0.3,8,IF(M16>0.2,16,IF(M16>0.1,24,IF(M16<=0.1,30,))))))))) | O16: =IF(D16="","",IF(D16="Nije ocijenjen","",IF(D16="Ocijenjen",IF(E16=0,"",((K16+J16+(L16/2))/(E16)))))) | P16: =IF(D16="","",IF(D16="Nije ocijenjen","",IF(D16="Ocijenjen",IF(O16>0.2,0,IF(O16>0.15,2,IF(O16>0.1,4,IF(O16>0.06,6,IF(O16>0.03,8,IF(O16<=0.03,10,))))))))) | Q16: =IF(D16="","",IF(D16="Nije ocijenjen","",IF(D16="Ocijenjen",IF(M16="Član 17. stav 7. Kriterija",P16,N16+P16)))) | U16: Ocijenjen
A17: 9 | B17: Nebojša Vrhovac | C17: Sudija | D17: Ocijenjen | E17: 578 | F17: =SUM(H17:L17) -> 42 | H17: 39 | K17: 3 | M17: =IF(D17="","",IF(D17="Nije ocijenjen","",IF(D17="Ocijenjen",IF(F17<10,"Član 17. stav 7. Kriterija",(K17+(L17/2))/(F17))))) -> 0.071428571 | N17: =IF(D17="","",IF(D17="Nije ocijenjen","",IF(D17="Ocijenjen",IF(M17="Član 17. stav 7. Kriterija","",IF(M17>0.4,0,IF(M17>0.3,8,IF(M17>0.2,16,IF(M17>0.1,24,IF(M17<=0.1,30,))))))))) -> 30 | O17: =IF(D17="","",IF(D17="Nije ocijenjen","",IF(D17="Ocijenjen",IF(E17=0,"",((K17+J17+(L17/2))/(E17)))))) -> 0.0051903114 | P17: =IF(D17="","",IF(D17="Nije ocijenjen","",IF(D17="Ocijenjen",IF(O17>0.2,0,IF(O17>0.15,2,IF(O17>0.1,4,IF(O17>0.06,6,IF(O17>0.03,8,IF(O17<=0.03,10,))))))))) -> 10 | Q17: =IF(D17="","",IF(D17="Nije ocijenjen","",IF(D17="Ocijenjen",IF(M17="Član 17. stav 7. Kriterija",P17,N17+P17)))) -> 40 | U17: Nije ocijenjen ili Ne treba raditi na predmetima
A18: 10 | B18: =IF('Tabela II'!B18="","",'Tabela II'!B18) -> Aldina Rebihić-Topoljak | C18: Sudija | D18: Ocijenjen | E18: 931 | F18: =SUM(H18:L18) -> 13 | H18: 11 | I18: 1 | K18: 1 | M18: =IF(D18="","",IF(D18="Nije ocijenjen","",IF(D18="Ocijenjen",IF(F18<10,"Član 17. stav 7. Kriterija",(K18+(L18/2))/(F18))))) -> 0.076923077 | N18: =IF(D18="","",IF(D18="Nije ocijenjen","",IF(D18="Ocijenjen",IF(M18="Član 17. stav 7. Kriterija","",IF(M18>0.4,0,IF(M18>0.3,8,IF(M18>0.2,16,IF(M18>0.1,24,IF(M18<=0.1,30,))))))))) -> 30 | O18: =IF(D18="","",IF(D18="Nije ocijenjen","",IF(D18="Ocijenjen",IF(E18=0,"",((K18+J18+(L18/2))/(E18)))))) -> 0.0010741139 | P18: =IF(D18="","",IF(D18="Nije ocijenjen","",IF(D18="Ocijenjen",IF(O18>0.2,0,IF(O18>0.15,2,IF(O18>0.1,4,IF(O18>0.06,6,IF(O18>0.03,8,IF(O18<=0.03,10,))))))))) -> 10 | Q18: =IF(D18="","",IF(D18="Nije ocijenjen","",IF(D18="Ocijenjen",IF(M18="Član 17. stav 7. Kriterija",P18,N18+P18)))) -> 40
A19: 11 | B19: =IF('Tabela II'!B19="","",'Tabela II'!B19) -> Sonsirej Radivojević | C19: Sudija | D19: Ocijenjen | E19: 490 | F19: =SUM(H19:L19) -> 35 | H19: 24 | I19: 5 | K19: 6 | M19: =IF(D19="","",IF(D19="Nije ocijenjen","",IF(D19="Ocijenjen",IF(F19<10,"Član 17. stav 7. Kriterija",(K19+(L19/2))/(F19))))) -> 0.17142857 | N19: =IF(D19="","",IF(D19="Nije ocijenjen","",IF(D19="Ocijenjen",IF(M19="Član 17. stav 7. Kriterija","",IF(M19>0.4,0,IF(M19>0.3,8,IF(M19>0.2,16,IF(M19>0.1,24,IF(M19<=0.1,30,))))))))) -> 24 | O19: =IF(D19="","",IF(D19="Nije ocijenjen","",IF(D19="Ocijenjen",IF(E19=0,"",((K19+J19+(L19/2))/(E19)))))) -> 0.012244898 | P19: =IF(D19="","",IF(D19="Nije ocijenjen","",IF(D19="Ocijenjen",IF(O19>0.2,0,IF(O19>0.15,2,IF(O19>0.1,4,IF(O19>0.06,6,IF(O19>0.03,8,IF(O19<=0.03,10,))))))))) -> 10 | Q19: =IF(D19="","",IF(D19="Nije ocijenjen","",IF(D19="Ocijenjen",IF(M19="Član 17. stav 7. Kriterija",P19,N19+P19)))) -> 34
A20: 12 | B20: =IF('Tabela II'!B20="","",'Tabela II'!B20) -> Ivan Gudelj | C20: Sudija | D20: Ocijenjen | E20: 825 | F20: =SUM(H20:L20) -> 21 | H20: 18 | I20: 2 | K20: 1 | M20: =IF(D20="","",IF(D20="Nije ocijenjen","",IF(D20="Ocijenjen",IF(F20<10,"Član 17. stav 7. Kriterija",(K20+(L20/2))/(F20))))) -> 0.047619048 | N20: =IF(D20="","",IF(D20="Nije ocijenjen","",IF(D20="Ocijenjen",IF(M20="Član 17. stav 7. Kriterija","",IF(M20>0.4,0,IF(M20>0.3,8,IF(M20>0.2,16,IF(M20>0.1,24,IF(M20<=0.1,30,))))))))) -> 30 | O20: =IF(D20="","",IF(D20="Nije ocijenjen","",IF(D20="Ocijenjen",IF(E20=0,"",((K20+J20+(L20/2))/(E20)))))) -> 0.0012121212 | P20: =IF(D20="","",IF(D20="Nije ocijenjen","",IF(D20="Ocijenjen",IF(O20>0.2,0,IF(O20>0.15,2,IF(O20>0.1,4,IF(O20>0.06,6,IF(O20>0.03,8,IF(O20<=0.03,10,))))))))) -> 10 | Q20: =IF(D20="","",IF(D20="Nije ocijenjen","",IF(D20="Ocijenjen",IF(M20="Član 17. stav 7. Kriterija",P20,N20+P20)))) -> 40
A21: 13 | B21: =IF('Tabela II'!B21="","",'Tabela II'!B21) -> Amela Agić | C21: Stručni saradnik | D21: Nije ocijenjen | E21: 481 | F21: =SUM(H21:L21) -> 5 | H21: 4 | K21: 1 | M21: =IF(D21="","",IF(D21="Nije ocijenjen","",IF(D21="Ocijenjen",IF(F21<10,"Član 17. stav 7. Kriterija",(K21+(L21/2))/(F21))))) | N21: =IF(D21="","",IF(D21="Nije ocijenjen","",IF(D21="Ocijenjen",IF(M21="Član 17. stav 7. Kriterija","",IF(M21>0.4,0,IF(M21>0.3,8,IF(M21>0.2,16,IF(M21>0.1,24,IF(M21<=0.1,30,))))))))) | O21: =IF(D21="","",IF(D21="Nije ocijenjen","",IF(D21="Ocijenjen",IF(E21=0,"",((K21+J21+(L21/2))/(E21)))))) | P21: =IF(D21="","",IF(D21="Nije ocijenjen","",IF(D21="Ocijenjen",IF(O21>0.2,0,IF(O21>0.15,2,IF(O21>0.1,4,IF(O21>0.06,6,IF(O21>0.03,8,IF(O21<=0.03,10,))))))))) | Q21: =IF(D21="","",IF(D21="Nije ocijenjen","",IF(D21="Ocijenjen",IF(M21="Član 17. stav 7. Kriterija",P21,N21+P21))))
A22: 14 | B22: =IF('Tabela II'!B22="","",'Tabela II'!B22) -> Marin Kajić | C22: Stručni saradnik | D22: Nije ocijenjen | E22: 443 | F22: =SUM(H22:L22) -> 11 | H22: 7 | I22: 1 | K22: 3 | M22: =IF(D22="","",IF(D22="Nije ocijenjen","",IF(D22="Ocijenjen",IF(F22<10,"Član 17. stav 7. Kriterija",(K22+(L22/2))/(F22))))) | N22: =IF(D22="","",IF(D22="Nije ocijenjen","",IF(D22="Ocijenjen",IF(M22="Član 17. stav 7. Kriterija","",IF(M22>0.4,0,IF(M22>0.3,8,IF(M22>0.2,16,IF(M22>0.1,24,IF(M22<=0.1,30,))))))))) | O22: =IF(D22="","",IF(D22="Nije ocijenjen","",IF(D22="Ocijenjen",IF(E22=0,"",((K22+J22+(L22/2))/(E22)))))) | P22: =IF(D22="","",IF(D22="Nije ocijenjen","",IF(D22="Ocijenjen",IF(O22>0.2,0,IF(O22>0.15,2,IF(O22>0.1,4,IF(O22>0.06,6,IF(O22>0.03,8,IF(O22<=0.03,10,))))))))) | Q22: =IF(D22="","",IF(D22="Nije ocijenjen","",IF(D22="Ocijenjen",IF(M22="Član 17. stav 7. Kriterija",P22,N22+P22))))
A23: 15 | B23: =IF('Tabela II'!B23="","",'Tabela II'!B23) -> Ivan Sokanović | C23: Stručni saradnik | D23: Nije ocijenjen | E23: 452 | F23: =SUM(H23:L23) -> 3 | H23: 1 | I23: 1 | K23: 1 | M23: =IF(D23="","",IF(D23="Nije ocijenjen","",IF(D23="Ocijenjen",IF(F23<10,"Član 17. stav 7. Kriterija",(K23+(L23/2))/(F23))))) | N23: =IF(D23="","",IF(D23="Nije ocijenjen","",IF(D23="Ocijenjen",IF(M23="Član 17. stav 7. Kriterija","",IF(M23>0.4,0,IF(M23>0.3,8,IF(M23>0.2,16,IF(M23>0.1,24,IF(M23<=0.1,30,))))))))) | O23: =IF(D23="","",IF(D23="Nije ocijenjen","",IF(D23="Ocijenjen",IF(E23=0,"",((K23+J23+(L23/2))/(E23)))))) | P23: =IF(D23="","",IF(D23="Nije ocijenjen","",IF(D23="Ocijenjen",IF(O23>0.2,0,IF(O23>0.15,2,IF(O23>0.1,4,IF(O23>0.06,6,IF(O23>0.03,8,IF(O23<=0.03,10,))))))))) | Q23: =IF(D23="","",IF(D23="Nije ocijenjen","",IF(D23="Ocijenjen",IF(M23="Član 17. stav 7. Kriterija",P23,N23+P23))))
A24: 16 | B24: =IF('Tabela II'!B24="","",'Tabela II'!B24) | F24: =SUM(H24:L24) -> 0 | M24: =IF(D24="","",IF(D24="Nije ocijenjen","",IF(D24="Ocijenjen",IF(F24<10,"Član 17. stav 7. Kriterija",(K24+(L24/2))/(F24))))) | N24: =IF(D24="","",IF(D24="Nije ocijenjen","",IF(D24="Ocijenjen",IF(M24="Član 17. stav 7. Kriterija","",IF(M24>0.4,0,IF(M24>0.3,8,IF(M24>0.2,16,IF(M24>0.1,24,IF(M24<=0.1,30,))))))))) | O24: =IF(D24="","",IF(D24="Nije ocijenjen","",IF(D24="Ocijenjen",IF(E24=0,"",((K24+J24+(L24/2))/(E24)))))) | P24: =IF(D24="","",IF(D24="Nije ocijenjen","",IF(D24="Ocijenjen",IF(O24>0.2,0,IF(O24>0.15,2,IF(O24>0.1,4,IF(O24>0.06,6,IF(O24>0.03,8,IF(O24<=0.03,10,))))))))) | Q24: =IF(D24="","",IF(D24="Nije ocijenjen","",IF(D24="Ocijenjen",IF(M24="Član 17. stav 7. Kriterija",P24,N24+P24))))
A25: 17 | B25: =IF('Tabela II'!B25="","",'Tabela II'!B25) | F25: =SUM(H25:L25) -> 0 | M25: =IF(D25="","",IF(D25="Nije ocijenjen","",IF(D25="Ocijenjen",IF(F25<10,"Član 17. stav 7. Kriterija",(K25+(L25/2))/(F25))))) | N25: =IF(D25="","",IF(D25="Nije ocijenjen","",IF(D25="Ocijenjen",IF(M25="Član 17. stav 7. Kriterija","",IF(M25>0.4,0,IF(M25>0.3,8,IF(M25>0.2,16,IF(M25>0.1,24,IF(M25<=0.1,30,))))))))) | O25: =IF(D25="","",IF(D25="Nije ocijenjen","",IF(D25="Ocijenjen",IF(E25=0,"",((K25+J25+(L25/2))/(E25)))))) | P25: =IF(D25="","",IF(D25="Nije ocijenjen","",IF(D25="Ocijenjen",IF(O25>0.2,0,IF(O25>0.15,2,IF(O25>0.1,4,IF(O25>0.06,6,IF(O25>0.03,8,IF(O25<=0.03,10,))))))))) | Q25: =IF(D25="","",IF(D25="Nije ocijenjen","",IF(D25="Ocijenjen",IF(M25="Član 17. stav 7. Kriterija",P25,N25+P25))))
A26: 18 | B26: =IF('Tabela II'!B26="","",'Tabela II'!B26) | F26: =SUM(H26:L26) -> 0 | M26: =IF(D26="","",IF(D26="Nije ocijenjen","",IF(D26="Ocijenjen",IF(F26<10,"Član 17. stav 7. Kriterija",(K26+(L26/2))/(F26))))) | N26: =IF(D26="","",IF(D26="Nije ocijenjen","",IF(D26="Ocijenjen",IF(M26="Član 17. stav 7. Kriterija","",IF(M26>0.4,0,IF(M26>0.3,8,IF(M26>0.2,16,IF(M26>0.1,24,IF(M26<=0.1,30,))))))))) | O26: =IF(D26="","",IF(D26="Nije ocijenjen","",IF(D26="Ocijenjen",IF(E26=0,"",((K26+J26+(L26/2))/(E26)))))) | P26: =IF(D26="","",IF(D26="Nije ocijenjen","",IF(D26="Ocijenjen",IF(O26>0.2,0,IF(O26>0.15,2,IF(O26>0.1,4,IF(O26>0.06,6,IF(O26>0.03,8,IF(O26<=0.03,10,))))))))) | Q26: =IF(D26="","",IF(D26="Nije ocijenjen","",IF(D26="Ocijenjen",IF(M26="Član 17. stav 7. Kriterija",P26,N26+P26))))
A27: 19 | B27: =IF('Tabela II'!B27="","",'Tabela II'!B27) | F27: =SUM(H27:L27) -> 0 | M27: =IF(D27="","",IF(D27="Nije ocijenjen","",IF(D27="Ocijenjen",IF(F27<10,"Član 17. stav 7. Kriterija",(K27+(L27/2))/(F27))))) | N27: =IF(D27="","",IF(D27="Nije ocijenjen","",IF(D27="Ocijenjen",IF(M27="Član 17. stav 7. Kriterija","",IF(M27>0.4,0,IF(M27>0.3,8,IF(M27>0.2,16,IF(M27>0.1,24,IF(M27<=0.1,30,))))))))) | O27: =IF(D27="","",IF(D27="Nije ocijenjen","",IF(D27="Ocijenjen",IF(E27=0,"",((K27+J27+(L27/2))/(E27)))))) | P27: =IF(D27="","",IF(D27="Nije ocijenjen","",IF(D27="Ocijenjen",IF(O27>0.2,0,IF(O27>0.15,2,IF(O27>0.1,4,IF(O27>0.06,6,IF(O27>0.03,8,IF(O27<=0.03,10,))))))))) | Q27: =IF(D27="","",IF(D27="Nije ocijenjen","",IF(D27="Ocijenjen",IF(M27="Član 17. stav 7. Kriterija",P27,N27+P27))))
A28: 20 | B28: =IF('Tabela II'!B28="","",'Tabela II'!B28) | F28: =SUM(H28:L28) -> 0 | M28: =IF(D28="","",IF(D28="Nije ocijenjen","",IF(D28="Ocijenjen",IF(F28<10,"Član 17. stav 7. Kriterija",(K28+(L28/2))/(F28))))) | N28: =IF(D28="","",IF(D28="Nije ocijenjen","",IF(D28="Ocijenjen",IF(M28="Član 17. stav 7. Kriterija","",IF(M28>0.4,0,IF(M28>0.3,8,IF(M28>0.2,16,IF(M28>0.1,24,IF(M28<=0.1,30,))))))))) | O28: =IF(D28="","",IF(D28="Nije ocijenjen","",IF(D28="Ocijenjen",IF(E28=0,"",((K28+J28+(L28/2))/(E28)))))) | P28: =IF(D28="","",IF(D28="Nije ocijenjen","",IF(D28="Ocijenjen",IF(O28>0.2,0,IF(O28>0.15,2,IF(O28>0.1,4,IF(O28>0.06,6,IF(O28>0.03,8,IF(O28<=0.03,10,))))))))) | Q28: =IF(D28="","",IF(D28="Nije ocijenjen","",IF(D28="Ocijenjen",IF(M28="Član 17. stav 7. Kriterija",P28,N28+P28))))
A29: 21 | B29: =IF('Tabela II'!B29="","",'Tabela II'!B29) | F29: =SUM(H29:L29) -> 0 | M29: =IF(D29="","",IF(D29="Nije ocijenjen","",IF(D29="Ocijenjen",IF(F29<10,"Član 17. stav 7. Kriterija",(K29+(L29/2))/(F29))))) | N29: =IF(D29="","",IF(D29="Nije ocijenjen","",IF(D29="Ocijenjen",IF(M29="Član 17. stav 7. Kriterija","",IF(M29>0.4,0,IF(M29>0.3,8,IF(M29>0.2,16,IF(M29>0.1,24,IF(M29<=0.1,30,))))))))) | O29: =IF(D29="","",IF(D29="Nije ocijenjen","",IF(D29="Ocijenjen",IF(E29=0,"",((K29+J29+(L29/2))/(E29)))))) | P29: =IF(D29="","",IF(D29="Nije ocijenjen","",IF(D29="Ocijenjen",IF(O29>0.2,0,IF(O29>0.15,2,IF(O29>0.1,4,IF(O29>0.06,6,IF(O29>0.03,8,IF(O29<=0.03,10,))))))))) | Q29: =IF(D29="","",IF(D29="Nije ocijenjen","",IF(D29="Ocijenjen",IF(M29="Član 17. stav 7. Kriterija",P29,N29+P29))))
A30: 22 | B30: =IF('Tabela II'!B30="","",'Tabela II'!B30) | F30: =SUM(H30:L30) -> 0 | M30: =IF(D30="","",IF(D30="Nije ocijenjen","",IF(D30="Ocijenjen",IF(F30<10,"Član 17. stav 7. Kriterija",(K30+(L30/2))/(F30))))) | N30: =IF(D30="","",IF(D30="Nije ocijenjen","",IF(D30="Ocijenjen",IF(M30="Član 17. stav 7. Kriterija","",IF(M30>0.4,0,IF(M30>0.3,8,IF(M30>0.2,16,IF(M30>0.1,24,IF(M30<=0.1,30,))))))))) | O30: =IF(D30="","",IF(D30="Nije ocijenjen","",IF(D30="Ocijenjen",IF(E30=0,"",((K30+J30+(L30/2))/(E30)))))) | P30: =IF(D30="","",IF(D30="Nije ocijenjen","",IF(D30="Ocijenjen",IF(O30>0.2,0,IF(O30>0.15,2,IF(O30>0.1,4,IF(O30>0.06,6,IF(O30>0.03,8,IF(O30<=0.03,10,))))))))) | Q30: =IF(D30="","",IF(D30="Nije ocijenjen","",IF(D30="Ocijenjen",IF(M30="Član 17. stav 7. Kriterija",P30,N30+P30))))
A31: 23 | B31: =IF('Tabela II'!B31="","",'Tabela II'!B31) | F31: =SUM(H31:L31) -> 0 | M31: =IF(D31="","",IF(D31="Nije ocijenjen","",IF(D31="Ocijenjen",IF(F31<10,"Član 17. stav 7. Kriterija",(K31+(L31/2))/(F31))))) | N31: =IF(D31="","",IF(D31="Nije ocijenjen","",IF(D31="Ocijenjen",IF(M31="Član 17. stav 7. Kriterija","",IF(M31>0.4,0,IF(M31>0.3,8,IF(M31>0.2,16,IF(M31>0.1,24,IF(M31<=0.1,30,))))))))) | O31: =IF(D31="","",IF(D31="Nije ocijenjen","",IF(D31="Ocijenjen",IF(E31=0,"",((K31+J31+(L31/2))/(E31)))))) | P31: =IF(D31="","",IF(D31="Nije ocijenjen","",IF(D31="Ocijenjen",IF(O31>0.2,0,IF(O31>0.15,2,IF(O31>0.1,4,IF(O31>0.06,6,IF(O31>0.03,8,IF(O31<=0.03,10,))))))))) | Q31: =IF(D31="","",IF(D31="Nije ocijenjen","",IF(D31="Ocijenjen",IF(M31="Član 17. stav 7. Kriterija",P31,N31+P31))))
A32: 24 | B32: =IF('Tabela II'!B32="","",'Tabela II'!B32) | F32: =SUM(H32:L32) -> 0 | M32: =IF(D32="","",IF(D32="Nije ocijenjen","",IF(D32="Ocijenjen",IF(F32<10,"Član 17. stav 7. Kriterija",(K32+(L32/2))/(F32))))) | N32: =IF(D32="","",IF(D32="Nije ocijenjen","",IF(D32="Ocijenjen",IF(M32="Član 17. stav 7. Kriterija","",IF(M32>0.4,0,IF(M32>0.3,8,IF(M32>0.2,16,IF(M32>0.1,24,IF(M32<=0.1,30,))))))))) | O32: =IF(D32="","",IF(D32="Nije ocijenjen","",IF(D32="Ocijenjen",IF(E32=0,"",((K32+J32+(L32/2))/(E32)))))) | P32: =IF(D32="","",IF(D32="Nije ocijenjen","",IF(D32="Ocijenjen",IF(O32>0.2,0,IF(O32>0.15,2,IF(O32>0.1,4,IF(O32>0.06,6,IF(O32>0.03,8,IF(O32<=0.03,10,))))))))) | Q32: =IF(D32="","",IF(D32="Nije ocijenjen","",IF(D32="Ocijenjen",IF(M32="Član 17. stav 7. Kriterija",P32,N32+P32))))
A33: 25 | B33: =IF('Tabela II'!B33="","",'Tabela II'!B33) | F33: =SUM(H33:L33) -> 0 | M33: =IF(D33="","",IF(D33="Nije ocijenjen","",IF(D33="Ocijenjen",IF(F33<10,"Član 17. stav 7. Kriterija",(K33+(L33/2))/(F33))))) | N33: =IF(D33="","",IF(D33="Nije ocijenjen","",IF(D33="Ocijenjen",IF(M33="Član 17. stav 7. Kriterija","",IF(M33>0.4,0,IF(M33>0.3,8,IF(M33>0.2,16,IF(M33>0.1,24,IF(M33<=0.1,30,))))))))) | O33: =IF(D33="","",IF(D33="Nije ocijenjen","",IF(D33="Ocijenjen",IF(E33=0,"",((K33+J33+(L33/2))/(E33)))))) | P33: =IF(D33="","",IF(D33="Nije ocijenjen","",IF(D33="Ocijenjen",IF(O33>0.2,0,IF(O33>0.15,2,IF(O33>0.1,4,IF(O33>0.06,6,IF(O33>0.03,8,IF(O33<=0.03,10,))))))))) | Q33: =IF(D33="","",IF(D33="Nije ocijenjen","",IF(D33="Ocijenjen",IF(M33="Član 17. stav 7. Kriterija",P33,N33+P33))))
A34: 26 | B34: =IF('Tabela II'!B34="","",'Tabela II'!B34) | F34: =SUM(H34:L34) -> 0 | M34: =IF(D34="","",IF(D34="Nije ocijenjen","",IF(D34="Ocijenjen",IF(F34<10,"Član 17. stav 7. Kriterija",(K34+(L34/2))/(F34))))) | N34: =IF(D34="","",IF(D34="Nije ocijenjen","",IF(D34="Ocijenjen",IF(M34="Član 17. stav 7. Kriterija","",IF(M34>0.4,0,IF(M34>0.3,8,IF(M34>0.2,16,IF(M34>0.1,24,IF(M34<=0.1,30,))))))))) | O34: =IF(D34="","",IF(D34="Nije ocijenjen","",IF(D34="Ocijenjen",IF(E34=0,"",((K34+J34+(L34/2))/(E34)))))) | P34: =IF(D34="","",IF(D34="Nije ocijenjen","",IF(D34="Ocijenjen",IF(O34>0.2,0,IF(O34>0.15,2,IF(O34>0.1,4,IF(O34>0.06,6,IF(O34>0.03,8,IF(O34<=0.03,10,))))))))) | Q34: =IF(D34="","",IF(D34="Nije ocijenjen","",IF(D34="Ocijenjen",IF(M34="Član 17. stav 7. Kriterija",P34,N34+P34))))
A35: 27 | B35: =IF('Tabela II'!B35="","",'Tabela II'!B35) | F35: =SUM(H35:L35) -> 0 | M35: =IF(D35="","",IF(D35="Nije ocijenjen","",IF(D35="Ocijenjen",IF(F35<10,"Član 17. stav 7. Kriterija",(K35+(L35/2))/(F35))))) | N35: =IF(D35="","",IF(D35="Nije ocijenjen","",IF(D35="Ocijenjen",IF(M35="Član 17. stav 7. Kriterija","",IF(M35>0.4,0,IF(M35>0.3,8,IF(M35>0.2,16,IF(M35>0.1,24,IF(M35<=0.1,30,))))))))) | O35: =IF(D35="","",IF(D35="Nije ocijenjen","",IF(D35="Ocijenjen",IF(E35=0,"",((K35+J35+(L35/2))/(E35)))))) | P35: =IF(D35="","",IF(D35="Nije ocijenjen","",IF(D35="Ocijenjen",IF(O35>0.2,0,IF(O35>0.15,2,IF(O35>0.1,4,IF(O35>0.06,6,IF(O35>0.03,8,IF(O35<=0.03,10,))))))))) | Q35: =IF(D35="","",IF(D35="Nije ocijenjen","",IF(D35="Ocijenjen",IF(M35="Član 17. stav 7. Kriterija",P35,N35+P35))))
... A68: 60 | B68: =IF('Tabela II'!B68="","",'Tabela II'!B68) | F68: =SUM(H68:L68) -> 0 | M68: =IF(D68="","",IF(D68="Nije ocijenjen","",IF(D68="Ocijenjen",IF(F68<10,"Član 17. stav 7. Kriterija",(K68+(L68/2))/(F68))))) | N68: =IF(D68="","",IF(D68="Nije ocijenjen","",IF(D68="Ocijenjen",IF(M68="Član 17. stav 7. Kriterija","",IF(M68>0.4,0,IF(M68>0.3,8,IF(M68>0.2,16,IF(M68>0.1,24,IF(M68<=0.1,30,))))))))) | O68: =IF(D68="","",IF(D68="Nije ocijenjen","",IF(D68="Ocijenjen",IF(E68=0,"",((K68+J68+(L68/2))/(E68)))))) | P68: =IF(D68="","",IF(D68="Nije ocijenjen","",IF(D68="Ocijenjen",IF(O68>0.2,0,IF(O68>0.15,2,IF(O68>0.1,4,IF(O68>0.06,6,IF(O68>0.03,8,IF(O68<=0.03,10,))))))))) | Q68: =IF(D68="","",IF(D68="Nije ocijenjen","",IF(D68="Ocijenjen",IF(M68="Član 17. stav 7. Kriterija",P68,N68+P68))))
A69: 61 | F69: =SUM(H69:L69) -> 0 | M69: =IF(D69="","",IF(D69="Nije ocijenjen","",IF(D69="Ocijenjen",IF(F69<10,"Član 17. stav 7. Kriterija",(K69+(L69/2))/(F69))))) | N69: =IF(D69="","",IF(D69="Nije ocijenjen","",IF(D69="Ocijenjen",IF(M69="Član 17. stav 7. Kriterija","",IF(M69>0.4,0,IF(M69>0.3,8,IF(M69>0.2,16,IF(M69>0.1,24,IF(M69<=0.1,30,))))))))) | O69: =IF(D69="","",IF(D69="Nije ocijenjen","",IF(D69="Ocijenjen",IF(E69=0,"",((K69+J69+(L69/2))/(E69)))))) | P69: =IF(D69="","",IF(D69="Nije ocijenjen","",IF(D69="Ocijenjen",IF(O69>0.2,0,IF(O69>0.15,2,IF(O69>0.1,4,IF(O69>0.06,6,IF(O69>0.03,8,IF(O69<=0.03,10,))))))))) | Q69: =IF(D69="","",IF(D69="Nije ocijenjen","",IF(D69="Ocijenjen",IF(M69="Član 17. stav 7. Kriterija",P69,N69+P69))))
A70: 62 | F70: =SUM(H70:L70) -> 0 | M70: =IF(D70="","",IF(D70="Nije ocijenjen","",IF(D70="Ocijenjen",IF(F70<10,"Član 17. stav 7. Kriterija",(K70+(L70/2))/(F70))))) | N70: =IF(D70="","",IF(D70="Nije ocijenjen","",IF(D70="Ocijenjen",IF(M70="Član 17. stav 7. Kriterija","",IF(M70>0.4,0,IF(M70>0.3,8,IF(M70>0.2,16,IF(M70>0.1,24,IF(M70<=0.1,30,))))))))) | O70: =IF(D70="","",IF(D70="Nije ocijenjen","",IF(D70="Ocijenjen",IF(E70=0,"",((K70+J70+(L70/2))/(E70)))))) | P70: =IF(D70="","",IF(D70="Nije ocijenjen","",IF(D70="Ocijenjen",IF(O70>0.2,0,IF(O70>0.15,2,IF(O70>0.1,4,IF(O70>0.06,6,IF(O70>0.03,8,IF(O70<=0.03,10,))))))))) | Q70: =IF(D70="","",IF(D70="Nije ocijenjen","",IF(D70="Ocijenjen",IF(M70="Član 17. stav 7. Kriterija",P70,N70+P70))))
A71: 63 | F71: =SUM(H71:L71) -> 0 | M71: =IF(D71="","",IF(D71="Nije ocijenjen","",IF(D71="Ocijenjen",IF(F71<10,"Član 17. stav 7. Kriterija",(K71+(L71/2))/(F71))))) | N71: =IF(D71="","",IF(D71="Nije ocijenjen","",IF(D71="Ocijenjen",IF(M71="Član 17. stav 7. Kriterija","",IF(M71>0.4,0,IF(M71>0.3,8,IF(M71>0.2,16,IF(M71>0.1,24,IF(M71<=0.1,30,))))))))) | O71: =IF(D71="","",IF(D71="Nije ocijenjen","",IF(D71="Ocijenjen",IF(E71=0,"",((K71+J71+(L71/2))/(E71)))))) | P71: =IF(D71="","",IF(D71="Nije ocijenjen","",IF(D71="Ocijenjen",IF(O71>0.2,0,IF(O71>0.15,2,IF(O71>0.1,4,IF(O71>0.06,6,IF(O71>0.03,8,IF(O71<=0.03,10,))))))))) | Q71: =IF(D71="","",IF(D71="Nije ocijenjen","",IF(D71="Ocijenjen",IF(M71="Član 17. stav 7. Kriterija",P71,N71+P71))))
A72: 64 | F72: =SUM(H72:L72) -> 0 | M72: =IF(D72="","",IF(D72="Nije ocijenjen","",IF(D72="Ocijenjen",IF(F72<10,"Član 17. stav 7. Kriterija",(K72+(L72/2))/(F72))))) | N72: =IF(D72="","",IF(D72="Nije ocijenjen","",IF(D72="Ocijenjen",IF(M72="Član 17. stav 7. Kriterija","",IF(M72>0.4,0,IF(M72>0.3,8,IF(M72>0.2,16,IF(M72>0.1,24,IF(M72<=0.1,30,))))))))) | O72: =IF(D72="","",IF(D72="Nije ocijenjen","",IF(D72="Ocijenjen",IF(E72=0,"",((K72+J72+(L72/2))/(E72)))))) | P72: =IF(D72="","",IF(D72="Nije ocijenjen","",IF(D72="Ocijenjen",IF(O72>0.2,0,IF(O72>0.15,2,IF(O72>0.1,4,IF(O72>0.06,6,IF(O72>0.03,8,IF(O72<=0.03,10,))))))))) | Q72: =IF(D72="","",IF(D72="Nije ocijenjen","",IF(D72="Ocijenjen",IF(M72="Član 17. stav 7. Kriterija",P72,N72+P72))))
A73: 65 | F73: =SUM(H73:L73) -> 0 | M73: =IF(D73="","",IF(D73="Nije ocijenjen","",IF(D73="Ocijenjen",IF(F73<10,"Član 17. stav 7. Kriterija",(K73+(L73/2))/(F73))))) | N73: =IF(D73="","",IF(D73="Nije ocijenjen","",IF(D73="Ocijenjen",IF(M73="Član 17. stav 7. Kriterija","",IF(M73>0.4,0,IF(M73>0.3,8,IF(M73>0.2,16,IF(M73>0.1,24,IF(M73<=0.1,30,))))))))) | O73: =IF(D73="","",IF(D73="Nije ocijenjen","",IF(D73="Ocijenjen",IF(E73=0,"",((K73+J73+(L73/2))/(E73)))))) | P73: =IF(D73="","",IF(D73="Nije ocijenjen","",IF(D73="Ocijenjen",IF(O73>0.2,0,IF(O73>0.15,2,IF(O73>0.1,4,IF(O73>0.06,6,IF(O73>0.03,8,IF(O73<=0.03,10,))))))))) | Q73: =IF(D73="","",IF(D73="Nije ocijenjen","",IF(D73="Ocijenjen",IF(M73="Član 17. stav 7. Kriterija",P73,N73+P73))))
A75: KVALITET SUDSKIH ODLUKA ** | E75: =SUM(E9:E73) -> 8199 | F75: =SUM(F9:F73) -> 371 | G75: =SUM(G9:G73) -> 0 | H75: =SUM(H9:H73) -> 297 | I75: =SUM(I9:I73) -> 26 | J75: =SUM(J9:J73) -> 0 | K75: =SUM(K9:K73) -> 46 | L75: =SUM(L9:L73) -> 2 | M75: =IF(F75=0,"",0.75*((F75-K75-(L75/2))/F75)+0.25*((E75-J75-K75-(L75/2))/E75)) -> 0.90355342
A79: Tabela IIIb - Obračun individualnog kvaliteta odluka za proces ocjenjivanja nosilaca pravosudnih funkcija koji su u periodu ocjenjivanja radili u dva suda (pogledati NAPOMENU 2)
A81: Upisati naziv Suda 1
A82: 1 | B82: Ime i prezime | C82: Predsjednik suda | F82: =SUM(H82:L82) -> 0
A83: Upisati naziv Suda 2
A84: =+A82 -> 1 | B84: =+B82 -> Ime i prezime | F84: =SUM(H84:L84) -> 0
A85: Individualni kvalitet NPF-a koji je radio u dva suda u toku perioda ocjenjivanja
A86: =+A82 -> 1 | B86: =+B82 -> Ime i prezime | C86: Predsjednik suda | E86: =+E82+E84 -> 0 | F86: =SUM(H86:L86) -> 0 | G86: =+G82+G84 -> 0 | H86: =+H82+H84 -> 0 | I86: =+I82+I84 -> 0 | J86: =+J82+J84 -> 0 | K86: =+K82+K84 -> 0 | L86: =+L82+L84 -> 0 | M86: =IF(D86="","",IF(D86="Nije ocijenjen ili Ne treba raditi na predmetima","",IF(D86="Ocijenjen",IF(F86<10,"Član 20. stav 7. Kriterija",(K86+(L86/2))/(F86))))) | N86: =IF(D86="","",IF(D86="Nije ocijenjen ili Ne treba raditi na predmetima","",IF(D86="Ocijenjen",IF(M86="Član 20. stav 7. Kriterija","",IF(M86>0.4,0,IF(M86>0.3,4,IF(M86>0.2,8,IF(M86>0.1,12,IF(M86<=0.1,15,))))))))) | O86: =IF(D86="","",IF(D86="Nije ocijenjen ili Ne treba raditi na predmetima","",IF(D86="Ocijenjen",IF(E86=0,"",((K86+J86+(L86/2))/(E86)))))) | P86: =IF(D86="","",IF(D86="Nije ocijenjen ili Ne treba raditi na predmetima","",IF(D86="Ocijenjen",IF(O86>0.2,0,IF(O86>0.15,1,IF(O86>0.1,2,IF(O86>0.06,3,IF(O86>0.03,4,IF(O86<=0.03,5,))))))))) | Q86: =IF(D86="","",IF(D86="Nije ocijenjen ili Ne treba raditi na predmetima","",IF(D86="Ocijenjen",IF(M86="Član 20. stav 7. Kriterija",P86,N86+P86))))
A88: Upisati naziv Suda 1
A89: 2 | B89: Ime i prezime | F89: =SUM(H89:L89) -> 0
A90: Upisati naziv Suda 2
A91: =+A89 -> 2 | B91: =+B89 -> Ime i prezime | F91: =SUM(H91:L91) -> 0
A92: Individualni kvalitet NPF-a koji je radio u dva suda u toku perioda ocjenjivanja
A93: =+A89 -> 2 | B93: =+B89 -> Ime i prezime | E93: =+E89+E91 -> 0 | F93: =SUM(H93:L93) -> 0 | G93: =+G89+G91 -> 0 | H93: =+H89+H91 -> 0 | I93: =+I89+I91 -> 0 | J93: =+J89+J91 -> 0 | K93: =+K89+K91 -> 0 | L93: =+L89+L91 -> 0 | M93: =IF(D93="","",IF(D93="Nije ocijenjen","",IF(D93="Ocijenjen",IF(F93<10,"Član 17. stav 7. Kriterija",(K93+(L93/2))/(F93))))) | N93: =IF(D93="","",IF(D93="Nije ocijenjen","",IF(D93="Ocijenjen",IF(M93="Član 17. stav 7. Kriterija","",IF(M93>0.4,0,IF(M93>0.3,8,IF(M93>0.2,16,IF(M93>0.1,24,IF(M93<=0.1,30,))))))))) | O93: =IF(D93="","",IF(D93="Nije ocijenjen","",IF(D93="Ocijenjen",IF(E93=0,"",((K93+J93+(L93/2))/(E93)))))) | P93: =IF(D93="","",IF(D93="Nije ocijenjen","",IF(D93="Ocijenjen",IF(O93>0.2,0,IF(O93>0.15,2,IF(O93>0.1,4,IF(O93>0.06,6,IF(O93>0.03,8,IF(O93<=0.03,10,))))))))) | Q93: =IF(D93="","",IF(D93="Nije ocijenjen","",IF(D93="Ocijenjen",IF(M93="Član 17. stav 7. Kriterija",P93,N93+P93))))
A95: Upisati naziv Suda 1
A96: 3 | B96: Ime i prezime | F96: =SUM(H96:L96) -> 0
A97: Upisati naziv Suda 2
A98: =+A96 -> 3 | B98: =+B96 -> Ime i prezime | F98: =SUM(H98:L98) -> 0
A99: Individualni kvalitet NPF-a koji je radio u dva suda u toku perioda ocjenjivanja
A100: =+A96 -> 3 | B100: =+B96 -> Ime i prezime | E100: =+E96+E98 -> 0 | F100: =SUM(H100:L100) -> 0 | G100: =+G96+G98 -> 0 | H100: =+H96+H98 -> 0 | I100: =+I96+I98 -> 0 | J100: =+J96+J98 -> 0 | K100: =+K96+K98 -> 0 | L100: =+L96+L98 -> 0 | M100: =IF(D100="","",IF(D100="Nije ocijenjen","",IF(D100="Ocijenjen",IF(F100<10,"Član 17. stav 7. Kriterija",(K100+(L100/2))/(F100))))) | N100: =IF(D100="","",IF(D100="Nije ocijenjen","",IF(D100="Ocijenjen",IF(M100="Član 17. stav 7. Kriterija","",IF(M100>0.4,0,IF(M100>0.3,8,IF(M100>0.2,16,IF(M100>0.1,24,IF(M100<=0.1,30,))))))))) | O100: =IF(D100="","",IF(D100="Nije ocijenjen","",IF(D100="Ocijenjen",IF(E100=0,"",((K100+J100+(L100/2))/(E100)))))) | P100: =IF(D100="","",IF(D100="Nije ocijenjen","",IF(D100="Ocijenjen",IF(O100>0.2,0,IF(O100>0.15,2,IF(O100>0.1,4,IF(O100>0.06,6,IF(O100>0.03,8,IF(O100<=0.03,10,))))))))) | Q100: =IF(D100="","",IF(D100="Nije ocijenjen","",IF(D100="Ocijenjen",IF(M100="Član 17. stav 7. Kriterija",P100,N100+P100))))
A102: Upisati naziv Suda 1
A103: 4 | B103: Ime i prezime | F103: =SUM(H103:L103) -> 0
A104: Upisati naziv Suda 2
A105: =+A103 -> 4 | B105: =+B103 -> Ime i prezime | F105: =SUM(H105:L105) -> 0
A106: Individualni kvalitet NPF-a koji je radio u dva suda u toku perioda ocjenjivanja
A107: =+A103 -> 4 | B107: =+B103 -> Ime i prezime | E107: =+E103+E105 -> 0 | F107: =SUM(H107:L107) -> 0 | G107: =+G103+G105 -> 0 | H107: =+H103+H105 -> 0 | I107: =+I103+I105 -> 0 | J107: =+J103+J105 -> 0 | K107: =+K103+K105 -> 0 | L107: =+L103+L105 -> 0 | M107: =IF(D107="","",IF(D107="Nije ocijenjen","",IF(D107="Ocijenjen",IF(F107<10,"Član 17. stav 7. Kriterija",(K107+(L107/2))/(F107))))) | N107: =IF(D107="","",IF(D107="Nije ocijenjen","",IF(D107="Ocijenjen",IF(M107="Član 17. stav 7. Kriterija","",IF(M107>0.4,0,IF(M107>0.3,8,IF(M107>0.2,16,IF(M107>0.1,24,IF(M107<=0.1,30,))))))))) | O107: =IF(D107="","",IF(D107="Nije ocijenjen","",IF(D107="Ocijenjen",IF(E107=0,"",((K107+J107+(L107/2))/(E107)))))) | P107: =IF(D107="","",IF(D107="Nije ocijenjen","",IF(D107="Ocijenjen",IF(O107>0.2,0,IF(O107>0.15,2,IF(O107>0.1,4,IF(O107>0.06,6,IF(O107>0.03,8,IF(O107<=0.03,10,))))))))) | Q107: =IF(D107="","",IF(D107="Nije ocijenjen","",IF(D107="Ocijenjen",IF(M107="Član 17. stav 7. Kriterija",P107,N107+P107))))
A109: Upisati naziv Suda 1
A110: 5 | B110: Ime i prezime | F110: =SUM(H110:L110) -> 0
A111: Upisati naziv Suda 2
A112: =+A110 -> 5 | B112: =+B110 -> Ime i prezime | F112: =SUM(H112:L112) -> 0
A113: Individualni kvalitet NPF-a koji je radio u dva suda u toku perioda ocjenjivanja
A114: =+A110 -> 5 | B114: =+B110 -> Ime i prezime | E114: =+E110+E112 -> 0 | F114: =SUM(H114:L114) -> 0 | G114: =+G110+G112 -> 0 | H114: =+H110+H112 -> 0 | I114: =+I110+I112 -> 0 | J114: =+J110+J112 -> 0 | K114: =+K110+K112 -> 0 | L114: =+L110+L112 -> 0 | M114: =IF(D114="","",IF(D114="Nije ocijenjen","",IF(D114="Ocijenjen",IF(F114<10,"Član 17. stav 7. Kriterija",(K114+(L114/2))/(F114))))) | N114: =IF(D114="","",IF(D114="Nije ocijenjen","",IF(D114="Ocijenjen",IF(M114="Član 17. stav 7. Kriterija","",IF(M114>0.4,0,IF(M114>0.3,8,IF(M114>0.2,16,IF(M114>0.1,24,IF(M114<=0.1,30,))))))))) | O114: =IF(D114="","",IF(D114="Nije ocijenjen","",IF(D114="Ocijenjen",IF(E114=0,"",((K114+J114+(L114/2))/(E114)))))) | P114: =IF(D114="","",IF(D114="Nije ocijenjen","",IF(D114="Ocijenjen",IF(O114>0.2,0,IF(O114>0.15,2,IF(O114>0.1,4,IF(O114>0.06,6,IF(O114>0.03,8,IF(O114<=0.03,10,))))))))) | Q114: =IF(D114="","",IF(D114="Nije ocijenjen","",IF(D114="Ocijenjen",IF(M114="Član 17. stav 7. Kriterija",P114,N114+P114))))
A116: Upisati naziv Suda 1
A117: 6 | B117: Ime i prezime | F117: =SUM(H117:L117) -> 0
A118: Upisati naziv Suda 2
A119: =+A117 -> 6 | B119: =+B117 -> Ime i prezime | F119: =SUM(H119:L119) -> 0
A120: Individualni kvalitet NPF-a koji je radio u dva suda u toku perioda ocjenjivanja
A121: =+A117 -> 6 | B121: =+B117 -> Ime i prezime | E121: =+E117+E119 -> 0 | F121: =SUM(H121:L121) -> 0 | G121: =+G117+G119 -> 0 | H121: =+H117+H119 -> 0 | I121: =+I117+I119 -> 0 | J121: =+J117+J119 -> 0 | K121: =+K117+K119 -> 0 | L121: =+L117+L119 -> 0 | M121: =IF(D121="","",IF(D121="Nije ocijenjen","",IF(D121="Ocijenjen",IF(F121<10,"Član 17. stav 7. Kriterija",(K121+(L121/2))/(F121))))) | N121: =IF(D121="","",IF(D121="Nije ocijenjen","",IF(D121="Ocijenjen",IF(M121="Član 17. stav 7. Kriterija","",IF(M121>0.4,0,IF(M121>0.3,8,IF(M121>0.2,16,IF(M121>0.1,24,IF(M121<=0.1,30,))))))))) | O121: =IF(D121="","",IF(D121="Nije ocijenjen","",IF(D121="Ocijenjen",IF(E121=0,"",((K121+J121+(L121/2))/(E121)))))) | P121: =IF(D121="","",IF(D121="Nije ocijenjen","",IF(D121="Ocijenjen",IF(O121>0.2,0,IF(O121>0.15,2,IF(O121>0.1,4,IF(O121>0.06,6,IF(O121>0.03,8,IF(O121<=0.03,10,))))))))) | Q121: =IF(D121="","",IF(D121="Nije ocijenjen","",IF(D121="Ocijenjen",IF(M121="Član 17. stav 7. Kriterija",P121,N121+P121))))
A123: Upisati naziv Suda 1
A124: 7 | B124: Ime i prezime | F124: =SUM(H124:L124) -> 0
A125: Upisati naziv Suda 2
A126: =+A124 -> 7 | B126: =+B124 -> Ime i prezime | F126: =SUM(H126:L126) -> 0
A127: Individualni kvalitet NPF-a koji je radio u dva suda u toku perioda ocjenjivanja
A128: =+A124 -> 7 | B128: =+B124 -> Ime i prezime | E128: =+E124+E126 -> 0 | F128: =SUM(H128:L128) -> 0 | G128: =+G124+G126 -> 0 | H128: =+H124+H126 -> 0 | I128: =+I124+I126 -> 0 | J128: =+J124+J126 -> 0 | K128: =+K124+K126 -> 0 | L128: =+L124+L126 -> 0 | M128: =IF(D128="","",IF(D128="Nije ocijenjen","",IF(D128="Ocijenjen",IF(F128<10,"Član 17. stav 7. Kriterija",(K128+(L128/2))/(F128))))) | N128: =IF(D128="","",IF(D128="Nije ocijenjen","",IF(D128="Ocijenjen",IF(M128="Član 17. stav 7. Kriterija","",IF(M128>0.4,0,IF(M128>0.3,8,IF(M128>0.2,16,IF(M128>0.1,24,IF(M128<=0.1,30,))))))))) | O128: =IF(D128="","",IF(D128="Nije ocijenjen","",IF(D128="Ocijenjen",IF(E128=0,"",((K128+J128+(L128/2))/(E128)))))) | P128: =IF(D128="","",IF(D128="Nije ocijenjen","",IF(D128="Ocijenjen",IF(O128>0.2,0,IF(O128>0.15,2,IF(O128>0.1,4,IF(O128>0.06,6,IF(O128>0.03,8,IF(O128<=0.03,10,))))))))) | Q128: =IF(D128="","",IF(D128="Nije ocijenjen","",IF(D128="Ocijenjen",IF(M128="Član 17. stav 7. Kriterija",P128,N128+P128))))
A130: Upisati naziv Suda 1
A131: 8 | B131: Ime i prezime | F131: =SUM(H131:L131) -> 0
A132: Upisati naziv Suda 2
A133: =+A131 -> 8 | B133: =+B131 -> Ime i prezime | F133: =SUM(H133:L133) -> 0
A134: Individualni kvalitet NPF-a koji je radio u dva suda u toku perioda ocjenjivanja
A135: =+A131 -> 8 | B135: =+B131 -> Ime i prezime | E135: =+E131+E133 -> 0 | F135: =SUM(H135:L135) -> 0 | G135: =+G131+G133 -> 0 | H135: =+H131+H133 -> 0 | I135: =+I131+I133 -> 0 | J135: =+J131+J133 -> 0 | K135: =+K131+K133 -> 0 | L135: =+L131+L133 -> 0 | M135: =IF(D135="","",IF(D135="Nije ocijenjen","",IF(D135="Ocijenjen",IF(F135<10,"Član 17. stav 7. Kriterija",(K135+(L135/2))/(F135))))) | N135: =IF(D135="","",IF(D135="Nije ocijenjen","",IF(D135="Ocijenjen",IF(M135="Član 17. stav 7. Kriterija","",IF(M135>0.4,0,IF(M135>0.3,8,IF(M135>0.2,16,IF(M135>0.1,24,IF(M135<=0.1,30,))))))))) | O135: =IF(D135="","",IF(D135="Nije ocijenjen","",IF(D135="Ocijenjen",IF(E135=0,"",((K135+J135+(L135/2))/(E135)))))) | P135: =IF(D135="","",IF(D135="Nije ocijenjen","",IF(D135="Ocijenjen",IF(O135>0.2,0,IF(O135>0.15,2,IF(O135>0.1,4,IF(O135>0.06,6,IF(O135>0.03,8,IF(O135<=0.03,10,))))))))) | Q135: =IF(D135="","",IF(D135="Nije ocijenjen","",IF(D135="Ocijenjen",IF(M135="Član 17. stav 7. Kriterija",P135,N135+P135))))
A137: Upisati naziv Suda 1
A138: 9 | B138: Ime i prezime | F138: =SUM(H138:L138) -> 0
A139: Upisati naziv Suda 2
A140: =+A138 -> 9 | B140: =+B138 -> Ime i prezime | F140: =SUM(H140:L140) -> 0
A141: Individualni kvalitet NPF-a koji je radio u dva suda u toku perioda ocjenjivanja
A142: =+A138 -> 9 | B142: =+B138 -> Ime i prezime | E142: =+E138+E140 -> 0 | F142: =SUM(H142:L142) -> 0 | G142: =+G138+G140 -> 0 | H142: =+H138+H140 -> 0 | I142: =+I138+I140 -> 0 | J142: =+J138+J140 -> 0 | K142: =+K138+K140 -> 0 | L142: =+L138+L140 -> 0 | M142: =IF(D142="","",IF(D142="Nije ocijenjen","",IF(D142="Ocijenjen",IF(F142<10,"Član 17. stav 7. Kriterija",(K142+(L142/2))/(F142))))) | N142: =IF(D142="","",IF(D142="Nije ocijenjen","",IF(D142="Ocijenjen",IF(M142="Član 17. stav 7. Kriterija","",IF(M142>0.4,0,IF(M142>0.3,8,IF(M142>0.2,16,IF(M142>0.1,24,IF(M142<=0.1,30,))))))))) | O142: =IF(D142="","",IF(D142="Nije ocijenjen","",IF(D142="Ocijenjen",IF(E142=0,"",((K142+J142+(L142/2))/(E142)))))) | P142: =IF(D142="","",IF(D142="Nije ocijenjen","",IF(D142="Ocijenjen",IF(O142>0.2,0,IF(O142>0.15,2,IF(O142>0.1,4,IF(O142>0.06,6,IF(O142>0.03,8,IF(O142<=0.03,10,))))))))) | Q142: =IF(D142="","",IF(D142="Nije ocijenjen","",IF(D142="Ocijenjen",IF(M142="Član 17. stav 7. Kriterija",P142,N142+P142))))
A144: Upisati naziv Suda 1
A145: 10 | B145: Ime i prezime | F145: =SUM(H145:L145) -> 0
A146: Upisati naziv Suda 2
A147: =+A145 -> 10 | B147: =+B145 -> Ime i prezime | F147: =SUM(H147:L147) -> 0
A148: Individualni kvalitet NPF-a koji je radio u dva suda u toku perioda ocjenjivanja
...

Sheet Tabela IV
A1: Općinski/Osnovni sud: | C1: ='Tabela I'!C1 -> Bugojno
A2: Izvještajni period: | C2: ='Tabela I'!C2 -> 1.1.2022.- 31.12.2022.
A3: Tabela IV - Ostali podaci
A5: Godina prijema predmeta | B5: Vrsta predmeta | C5: Broj nezavedenih predmeta | D5: Obrazloženje
A7: I | B7: II | C7: III | D7: IV
A27: U Tabelu IV potrebno je da unesete podatke o broju zaprimljenih predmeta koji nisu zavedeni kroz sudski upisnik (ukoliko imate takvih predmeta), navodeći podatke o godini prijema, vrsti i broju predmeta sa obrazloženjem razloga zbog kojih predmeti nisu zavedeni u sudski upisnik.

Sheet Tabela V
A1: Općinski/Osnovni sud: | H1: ='Tabela I'!C1 -> Bugojno
A2: Izvještajni period: | H2: ='Tabela I'!C2 -> 1.1.2022.- 31.12.2022.
A3: Tabela V - Pregled starosti neriješenih predmeta sa 31.12.2022. godine
A5: Godina iniciranja predmeta | B5: Broj neriješenih predmeta za naplatu komunalnih usluga | F5: Broj neriješenih predmeta na referatu predmeti registracije | L5: Broj neriješenih ZK predmeta
B6: Mal | C6: Mals | D6: I | E6: Ip | F6: Reg | G6: RegZ | H6: F1 | I6: F2 | J6: F3 | K6: Ostalo | L6: Dn | M6: Nar | N6: Rz | O6: Kpu | P6: Ostalo
B7: I | C7: II | D7: III | E7: IV | F7: I | G7: II | H7: III | I7: IV | J7: V | K7: VI | L7: VII | M7: VIII | N7: IX | O7: X | P7: XI
A8: 2022 | D8: 1902 | E8: 11 | L8: 209 | O8: 4
A9: 2021 | D9: 303 | E9: 2
A10: 2020
A11: 2019
A12: 2018
A13: 2017
A14: 2016
A15: 2015
A16: 2014
A17: 2013
A18: 2012
A19: 2011
A20: 2010
A21: 2009
... A50: 1980
A51: Stariji od 1980.
A52: UKUPNO | B52: =SUM(B8:B51) -> 0 | C52: =SUM(C8:C51) -> 0 | D52: =SUM(D8:D51) -> 2205 | E52: =SUM(E8:E51) -> 13 | F52: =SUM(F8:F51) -> 0 | G52: =SUM(G8:G51) -> 0 | H52: =SUM(H8:H51) -> 0 | I52: =SUM(I8:I51) -> 0 | ... P52: =SUM(P8:P51) -> 0
A53: SVEUKUPNO | B53: =SUM(B52:E52) -> 2218 | F53: =SUM(F52:K52) -> 0 | L53: =SUM(L52:P52) -> 213
B54: =+'Tabela I'!F13 -> 2218 | F54: ='Tabela I'!F21 -> 0 | L54: ='Tabela I'!F28 -> 213
A56: U Tabelu V potrebno je da razvrstate neriješene predmete za naplatu komunalnih usluga, predmete registracije poslovnih subjekata i ZK predmete, zaključno sa 31.12.2022. godine, prema godini iniciranja pred općinskim, osnovnim ili okružnim privrdenim sudom. Podaci iskazani u ovoj tabeli moraju biti konzistentni sa podacima iskazanim u Tabeli I i Tabeli Ia.

Sheet Tabela VI
A1: Općinski/Osnovni sud: | B1: ='Tabela I'!C1 -> Bugojno
A2: Izvještajni period: | B2: ='Tabela I'!C2 -> 1.1.2022.- 31.12.2022.
A3: Tabela VI - Odluke Ustavnog suda BiH
A4: Tabela VIa - Odluke kojima se ne usvaja apelacija
A5: Broj odluka kojima se odbacuje apelacija | B5: Broj odluka kojima se obustavlja postupak pred Ustavnim sudom BiH | C5: Broj odluka kojima se odbija apelacija | D5: Ukupno
A6: I | B6: II | C6: III | D6: IV=I+II+III
D7: =IF(SUM(A7:C7)=0," ",SUM(A7:C7))
A8: Tabela VIb - Odluke kojima se usvaja apelacija
A9: Pravni osnov | B9: Broj odluka kojima se usvaja apelacija | E9: Ukupno
B10: Broj odluka kojima se preinačuju odluke suda | C10: Broj odluka kojima se ukidaju odluke suda | D10: Broj ostalih odluka kojima se usvaja apelacija
B11: I | C11: II | D11: III | E11: IV=I+II+III
A12: Čl. 13. EK (pravo na djelotvorni pravni lijek) | E12: =IF(SUM(B12:D12)=0," ",SUM(B12:D12))
A13: Čl. 3. P7 (naknada za pogrešnu presudu) | E13: =IF(SUM(B13:D13)=0," ",SUM(B13:D13))
A14: Čl. 6. EK i II/3.e) Ustava BiH (pravo na pravično suđenje) | E14: =IF(SUM(B14:D14)=0," ",SUM(B14:D14))
A15: Čl. 5.EK i II/3d Ustava (pravo na ličnu slobodu) | E15: =IF(SUM(B15:D15)=0," ",SUM(B15:D15))
A16: Čl. 1. P.1. i II/3.k) Ustava BiH (pravo na imovinu) | E16: =IF(SUM(B16:D16)=0," ",SUM(B16:D16))
A17: Čl. 1. P.7. (Proceduralne zaštite u vezi sa protjerivanjem stranaca) | E17: =IF(SUM(B17:D17)=0," ",SUM(B17:D17))
A18: Ostalo | E18: =IF(SUM(B18:D18)=0," ",SUM(B18:D18))
A19: Tabela VIc – Predmeti u kojima se nalaže sudu da okonča predmet bez odlaganja zbog kršenja prava na donošenje odluke u razumnom roku
A20: Pravni osnov | B20: Broj odluka kojima se nalaže sudu da okonča predmet bez odlaganja zbog kršenja prava na donošenje odluke u razumnom roku jer je Ustavni sud BiH zaključio da je odugovlačenju postupka najviše doprinio
B21: prvostepeni sud | C21: drugostepeni sud | D21: sud koji rješava predmet po uloženom vanrednom pravnom lijeku | E21: Ostalo | F21: Ukupno
B22: I | C22: II | D22: III | E22: IV | F22: V=I+II+III+IV
A23: Čl. 6 EK i II/3.e) Ustava BiH (pravo na pravično suđenje) | F23: =IF(SUM(B23:E23)=0," ",SUM(B23:E23))
A24: Tabela VId - Predmeti u kojima je utvrđeno kršenje prava na donošenje odluke u razumnom roku*
A25: Broj predmeta u kojima je određena naknada nematerijalne štete zbog kršenja prava na donošenje odluke u razumnom roku
A26: Ukupan iznos određene naknade
A28: * U Tabelu VId unose se podaci o predmetima u kojima je usvojena apelacija u odnosu na odluke Vašeg suda i određena naknada nematerijalne štete zbog kršenja prava na donošenje odluke u razumnom roku, kao i ukupan iznos naknade koji je utvrdio Ustavni sud BiH.

Sheet tbl1Protok
A1: for_key | B1: godina | C1: idReferata | D1: BrNerPocGod | E1: BrPrimTokGod | F1: BrRijTokGod
A2: ='Tabela I'!$F$2 -> 0 | B2: ='Tabela I'!$F$1 -> 2022 | C2: 127 | D2: ='Tabela I'!B9 -> 0 | E2: ='Tabela I'!C9 -> 0 | F2: ='Tabela I'!E9 -> 0
A3: ='Tabela I'!$F$2 -> 0 | B3: ='Tabela I'!$F$1 -> 2022 | C3: 128 | D3: ='Tabela I'!B10 -> 0 | E3: ='Tabela I'!C10 -> 0 | F3: ='Tabela I'!E10 -> 0
A4: ='Tabela I'!$F$2 -> 0 | B4: ='Tabela I'!$F$1 -> 2022 | C4: 129 | D4: ='Tabela I'!B11 -> 3071 | E4: ='Tabela I'!C11 -> 1282 | F4: ='Tabela I'!E11 -> 2148
A5: ='Tabela I'!$F$2 -> 0 | B5: ='Tabela I'!$F$1 -> 2022 | C5: 131 | D5: ='Tabela I'!B12 -> 64 | E5: ='Tabela I'!C12 -> 23 | F5: ='Tabela I'!E12 -> 74
A6: ='Tabela I'!$F$2 -> 0 | B6: ='Tabela I'!$F$1 -> 2022 | C6: 26 | D6: ='Tabela I'!B15 -> 0 | E6: ='Tabela I'!C15 -> 0 | F6: ='Tabela I'!E15 -> 0
A7: ='Tabela I'!$F$2 -> 0 | B7: ='Tabela I'!$F$1 -> 2022 | C7: 104 | D7: ='Tabela I'!B16 -> 0 | E7: ='Tabela I'!C16 -> 0 | F7: ='Tabela I'!E16 -> 0
A8: ='Tabela I'!$F$2 -> 0 | B8: ='Tabela I'!$F$1 -> 2022 | C8: 99 | D8: ='Tabela I'!B17 -> 0 | E8: ='Tabela I'!C17 -> 0 | F8: ='Tabela I'!E17 -> 0
A9: ='Tabela I'!$F$2 -> 0 | B9: ='Tabela I'!$F$1 -> 2022 | C9: 100 | D9: ='Tabela I'!B18 -> 0 | E9: ='Tabela I'!C18 -> 0 | F9: ='Tabela I'!E18 -> 0
A10: ='Tabela I'!$F$2 -> 0 | B10: ='Tabela I'!$F$1 -> 2022 | C10: 101 | D10: ='Tabela I'!B19 -> 0 | E10: ='Tabela I'!C19 -> 0 | F10: ='Tabela I'!E19 -> 0
A11: ='Tabela I'!$F$2 -> 0 | B11: ='Tabela I'!$F$1 -> 2022 | C11: 123 | D11: ='Tabela I'!B20 -> 0 | E11: ='Tabela I'!C20 -> 0 | F11: ='Tabela I'!E20 -> 0
A12: ='Tabela I'!$F$2 -> 0 | B12: ='Tabela I'!$F$1 -> 2022 | C12: 105 | D12: ='Tabela I'!B23 -> 29 | E12: ='Tabela I'!C23 -> 2720 | F12: ='Tabela I'!E23 -> 2540
A13: ='Tabela I'!$F$2 -> 0 | B13: ='Tabela I'!$F$1 -> 2022 | C13: 106 | D13: ='Tabela I'!B24 -> 0 | E13: ='Tabela I'!C24 -> 9297 | F13: ='Tabela I'!E24 -> 9297
A14: ='Tabela I'!$F$2 -> 0 | B14: ='Tabela I'!$F$1 -> 2022 | C14: 107 | D14: ='Tabela I'!B25 -> 0 | E14: ='Tabela I'!C25 -> 1699 | F14: ='Tabela I'!E25 -> 1699
A15: ='Tabela I'!$F$2 -> 0 | B15: ='Tabela I'!$F$1 -> 2022 | C15: 108 | D15: ='Tabela I'!B26 -> 0 | E15: ='Tabela I'!C26 -> 74 | F15: ='Tabela I'!E26 -> 70
A16: ='Tabela I'!$F$2 -> 0 | B16: ='Tabela I'!$F$1 -> 2022 | C16: 60 | D16: ='Tabela I'!B27 -> 0 | E16: ='Tabela I'!C27 -> 0 | F16: ='Tabela I'!E27 -> 0
A17: ='Tabela I'!$F$2 -> 0 | B17: ='Tabela I'!$F$1 -> 2022 | C17: 65 | D17: ='Tabela I'!B30 -> 0 | E17: ='Tabela I'!C30 -> 0 | F17: ='Tabela I'!E30 -> 0

Sheet tbl1b_zk_opc_osn
A1: for_key | B1: godina | C1: idReferata | D1: BrNerPocGod | E1: BrPrimTokGod | F1: BrRijTokGod
A2: ='Tabela I'!$F$2 -> 0 | B2: ='Tabela I'!$F$1 -> 2022 | C2: 57 | D2: ='Tabela Ia'!B7 -> 29 | E2: ='Tabela Ia'!C7 -> 2720 | F2: ='Tabela Ia'!E7 -> 2540
A3: ='Tabela I'!$F$2 -> 0 | B3: ='Tabela I'!$F$1 -> 2022 | C3: 58 | D3: ='Tabela Ia'!B8 -> 0 | E3: ='Tabela Ia'!C8 -> 9297 | F3: ='Tabela Ia'!E8 -> 9297
A4: ='Tabela I'!$F$2 -> 0 | B4: ='Tabela I'!$F$1 -> 2022 | C4: 59 | D4: ='Tabela Ia'!B9 -> 0 | E4: ='Tabela Ia'!C9 -> 74 | F4: ='Tabela Ia'!E9 -> 70
A5: ='Tabela I'!$F$2 -> 0 | B5: ='Tabela I'!$F$1 -> 2022 | C5: 60 | D5: ='Tabela Ia'!B10 -> 0 | E5: ='Tabela Ia'!C10 -> 1699 | F5: ='Tabela Ia'!E10 -> 1699
D6: =SUM(D2:D5) -> 29 | E6: =SUM(E2:E5) -> 13790 | F6: =SUM(F2:F5) -> 13606

Sheet tbl2_kvalitet_rada
A1: for_key | B1: godina | C1: lista_referata | D1: DonesOdluke | E1: OdbPrLijek | F1: PotvOdluke | G1: PreinOdluke | H1: PreinOdlukeNakonRasp | I1: UkinOdluke | J1: DjelimUkin | K1: UkinVracPonSud
A2: ='Tabela I'!$F$2 -> 0 | B2: ='Tabela I'!$F$1 -> 2022 | C2: 1 | D2: ='Tabela III'!B8 -> 385 | E2: ='Tabela III'!D8 -> 0 | F2: ='Tabela III'!E8 -> 49 | G2: ='Tabela III'!F8 -> 3 | H2: ='Tabela III'!G8 -> 0 | I2: ='Tabela III'!H8 -> 12 | J2: ='Tabela III'!I8 -> 1 | K2: ='Tabela III'!K8 -> 0
A3: ='Tabela I'!$F$2 -> 0 | B3: ='Tabela I'!$F$1 -> 2022 | C3: 3 | D3: ='Tabela III'!B9 -> 536 | E3: ='Tabela III'!D9 -> 0 | F3: ='Tabela III'!E9 -> 13 | G3: ='Tabela III'!F9 -> 4 | H3: ='Tabela III'!G9 -> 0 | I3: ='Tabela III'!H9 -> 3 | J3: ='Tabela III'!I9 -> 0 | K3: ='Tabela III'!K9 -> 0
A4: ='Tabela I'!$F$2 -> 0 | B4: ='Tabela I'!$F$1 -> 2022 | C4: 2 | D4: ='Tabela III'!B10 -> 101 | E4: ='Tabela III'!D10 -> 0 | F4: ='Tabela III'!E10 -> 24 | G4: ='Tabela III'!F10 -> 1 | H4: ='Tabela III'!G10 -> 0 | I4: ='Tabela III'!H10 -> 2 | J4: ='Tabela III'!I10 -> 0 | K4: ='Tabela III'!K10 -> 0
A5: ='Tabela I'!$F$2 -> 0 | B5: ='Tabela I'!$F$1 -> 2022 | C5: 96 | D5: ='Tabela III'!B11 -> 0 | E5: ='Tabela III'!D11 -> 0 | F5: ='Tabela III'!E11 -> 0 | G5: ='Tabela III'!F11 -> 0 | H5: ='Tabela III'!G11 -> 0 | I5: ='Tabela III'!H11 -> 0 | J5: ='Tabela III'!I11 -> 0 | K5: ='Tabela III'!K11 -> 0
A6: ='Tabela I'!$F$2 -> 0 | B6: ='Tabela I'!$F$1 -> 2022 | C6: 4 | D6: ='Tabela III'!B12 -> 6 | E6: ='Tabela III'!D12 -> 0 | F6: ='Tabela III'!E12 -> 6 | G6: ='Tabela III'!F12 -> 0 | H6: ='Tabela III'!G12 -> 0 | I6: ='Tabela III'!H12 -> 0 | J6: ='Tabela III'!I12 -> 0 | K6: ='Tabela III'!K12 -> 0
A7: ='Tabela I'!$F$2 -> 0 | B7: ='Tabela I'!$F$1 -> 2022 | C7: 5 | D7: ='Tabela III'!B14 -> 0 | E7: ='Tabela III'!D14 -> 0 | F7: ='Tabela III'!E14 -> 0 | G7: ='Tabela III'!F14 -> 0 | H7: ='Tabela III'!G14 -> 0 | I7: ='Tabela III'!H14 -> 0 | J7: ='Tabela III'!I14 -> 0 | K7: ='Tabela III'!K14 -> 0
A8: ='Tabela I'!$F$2 -> 0 | B8: ='Tabela I'!$F$1 -> 2022 | C8: 6 | D8: ='Tabela III'!B15 -> 0 | E8: ='Tabela III'!D15 -> 0 | F8: ='Tabela III'!E15 -> 0 | G8: ='Tabela III'!F15 -> 0 | H8: ='Tabela III'!G15 -> 0 | I8: ='Tabela III'!H15 -> 0 | J8: ='Tabela III'!I15 -> 0 | K8: ='Tabela III'!K15 -> 0
A9: ='Tabela I'!$F$2 -> 0 | B9: ='Tabela I'!$F$1 -> 2022 | C9: 7 | D9: ='Tabela III'!B16 -> 0 | E9: ='Tabela III'!D16 -> 0 | F9: ='Tabela III'!E16 -> 0 | G9: ='Tabela III'!F16 -> 0 | H9: ='Tabela III'!G16 -> 0 | I9: ='Tabela III'!H16 -> 0 | J9: ='Tabela III'!I16 -> 0 | K9: ='Tabela III'!K16 -> 0
A10: ='Tabela I'!$F$2 -> 0 | B10: ='Tabela I'!$F$1 -> 2022 | C10: 97 | D10: ='Tabela III'!B17 -> 0 | E10: ='Tabela III'!D17 -> 0 | F10: ='Tabela III'!E17 -> 0 | G10: ='Tabela III'!F17 -> 0 | H10: ='Tabela III'!G17 -> 0 | I10: ='Tabela III'!H17 -> 0 | J10: ='Tabela III'!I17 -> 0 | K10: ='Tabela III'!K17 -> 0
A11: ='Tabela I'!$F$2 -> 0 | B11: ='Tabela I'!$F$1 -> 2022 | C11: 8 | D11: ='Tabela III'!B18 -> 0 | E11: ='Tabela III'!D18 -> 0 | F11: ='Tabela III'!E18 -> 0 | G11: ='Tabela III'!F18 -> 0 | H11: ='Tabela III'!G18 -> 0 | I11: ='Tabela III'!H18 -> 0 | J11: ='Tabela III'!I18 -> 0 | K11: ='Tabela III'!K18 -> 0
A12: ='Tabela I'!$F$2 -> 0 | B12: ='Tabela I'!$F$1 -> 2022 | C12: 10 | D12: ='Tabela III'!B19 -> 0 | E12: ='Tabela III'!D19 -> 0 | F12: ='Tabela III'!E19 -> 0 | G12: ='Tabela III'!F19 -> 0 | H12: ='Tabela III'!G19 -> 0 | I12: ='Tabela III'!H19 -> 0 | J12: ='Tabela III'!I19 -> 0 | K12: ='Tabela III'!K19 -> 0
A13: ='Tabela I'!$F$2 -> 0 | B13: ='Tabela I'!$F$1 -> 2022 | C13: 11 | D13: ='Tabela III'!B21 -> 147 | E13: ='Tabela III'!D21 -> 0 | F13: ='Tabela III'!E21 -> 43 | G13: ='Tabela III'!F21 -> 10 | H13: ='Tabela III'!G21 -> 0 | I13: ='Tabela III'!H21 -> 12 | J13: ='Tabela III'!I21 -> 1 | K13: ='Tabela III'!K21 -> 0
A14: ='Tabela I'!$F$2 -> 0 | B14: ='Tabela I'!$F$1 -> 2022 | C14: 13 | D14: ='Tabela III'!B22 -> 12 | E14: ='Tabela III'!D22 -> 0 | F14: ='Tabela III'!E22 -> 0 | G14: ='Tabela III'!F22 -> 0 | H14: ='Tabela III'!G22 -> 0 | I14: ='Tabela III'!H22 -> 0 | J14: ='Tabela III'!I22 -> 0 | K14: ='Tabela III'!K22 -> 0
A15: ='Tabela I'!$F$2 -> 0 | B15: ='Tabela I'!$F$1 -> 2022 | C15: 12 | D15: ='Tabela III'!B23 -> 115 | E15: ='Tabela III'!D23 -> 0 | F15: ='Tabela III'!E23 -> 0 | G15: ='Tabela III'!F23 -> 0 | H15: ='Tabela III'!G23 -> 0 | I15: ='Tabela III'!H23 -> 0 | J15: ='Tabela III'!I23 -> 0 | K15: ='Tabela III'!K23 -> 0
A16: ='Tabela I'!$F$2 -> 0 | B16: ='Tabela I'!$F$1 -> 2022 | C16: 92 | D16: ='Tabela III'!B24 -> 0 | E16: ='Tabela III'!D24 -> 0 | F16: ='Tabela III'!E24 -> 0 | G16: ='Tabela III'!F24 -> 0 | H16: ='Tabela III'!G24 -> 0 | I16: ='Tabela III'!H24 -> 0 | J16: ='Tabela III'!I24 -> 0 | K16: ='Tabela III'!K24 -> 0
A17: ='Tabela I'!$F$2 -> 0 | B17: ='Tabela I'!$F$1 -> 2022 | C17: 93 | D17: ='Tabela III'!B25 -> 55 | E17: ='Tabela III'!D25 -> 0 | F17: ='Tabela III'!E25 -> 0 | G17: ='Tabela III'!F25 -> 0 | H17: ='Tabela III'!G25 -> 0 | I17: ='Tabela III'!H25 -> 0 | J17: ='Tabela III'!I25 -> 0 | K17: ='Tabela III'!K25 -> 0
A18: ='Tabela I'!$F$2 -> 0 | B18: ='Tabela I'!$F$1 -> 2022 | C18: 15 | D18: ='Tabela III'!B26 -> 11 | E18: ='Tabela III'!D26 -> 0 | F18: ='Tabela III'!E26 -> 0 | G18: ='Tabela III'!F26 -> 0 | H18: ='Tabela III'!G26 -> 0 | I18: ='Tabela III'!H26 -> 0 | J18: ='Tabela III'!I26 -> 0 | K18: ='Tabela III'!K26 -> 0
A19: ='Tabela I'!$F$2 -> 0 | B19: ='Tabela I'!$F$1 -> 2022 | C19: 16 | D19: ='Tabela III'!B27 -> 57 | E19: ='Tabela III'!D27 -> 0 | F19: ='Tabela III'!E27 -> 16 | G19: ='Tabela III'!F27 -> 2 | H19: ='Tabela III'!G27 -> 0 | I19: ='Tabela III'!H27 -> 2 | J19: ='Tabela III'!I27 -> 0 | K19: ='Tabela III'!K27 -> 0
A20: ='Tabela I'!$F$2 -> 0 | B20: ='Tabela I'!$F$1 -> 2022 | C20: 69 | D20: ='Tabela III'!B28 -> 0 | E20: ='Tabela III'!D28 -> 0 | F20: ='Tabela III'!E28 -> 0 | G20: ='Tabela III'!F28 -> 0 | H20: ='Tabela III'!G28 -> 0 | I20: ='Tabela III'!H28 -> 0 | J20: ='Tabela III'!I28 -> 0 | K20: ='Tabela III'!K28 -> 0
A21: ='Tabela I'!$F$2 -> 0 | B21: ='Tabela I'!$F$1 -> 2022 | C21: 17 | D21: ='Tabela III'!B29 -> 0 | E21: ='Tabela III'!D29 -> 0 | F21: ='Tabela III'!E29 -> 0 | G21: ='Tabela III'!F29 -> 0 | H21: ='Tabela III'!G29 -> 0 | I21: ='Tabela III'!H29 -> 0 | J21: ='Tabela III'!I29 -> 0 | K21: ='Tabela III'!K29 -> 0
A22: ='Tabela I'!$F$2 -> 0 | B22: ='Tabela I'!$F$1 -> 2022 | C22: 18 | D22: ='Tabela III'!B30 -> 83 | E22: ='Tabela III'!D30 -> 0 | F22: ='Tabela III'!E30 -> 1 | G22: ='Tabela III'!F30 -> 0 | H22: ='Tabela III'!G30 -> 0 | I22: ='Tabela III'!H30 -> 0 | J22: ='Tabela III'!I30 -> 0 | K22: ='Tabela III'!K30 -> 0
A23: ='Tabela I'!$F$2 -> 0 | B23: ='Tabela I'!$F$1 -> 2022 | C23: 98 | D23: ='Tabela III'!B31 -> 0 | E23: ='Tabela III'!D31 -> 0 | F23: ='Tabela III'!E31 -> 0 | G23: ='Tabela III'!F31 -> 0 | H23: ='Tabela III'!G31 -> 0 | I23: ='Tabela III'!H31 -> 0 | J23: ='Tabela III'!I31 -> 0 | K23: ='Tabela III'!K31 -> 0
A24: ='Tabela I'!$F$2 -> 0 | B24: ='Tabela I'!$F$1 -> 2022 | C24: 19 | D24: ='Tabela III'!B32 -> 0 | E24: ='Tabela III'!D32 -> 0 | F24: ='Tabela III'!E32 -> 0 | G24: ='Tabela III'!F32 -> 0 | H24: ='Tabela III'!G32 -> 0 | I24: ='Tabela III'!H32 -> 0 | J24: ='Tabela III'!I32 -> 0 | K24: ='Tabela III'!K32 -> 0
A25: ='Tabela I'!$F$2 -> 0 | B25: ='Tabela I'!$F$1 -> 2022 | C25: 20 | D25: ='Tabela III'!B34 -> 4463 | E25: ='Tabela III'!D34 -> 0 | F25: ='Tabela III'!E34 -> 102 | G25: ='Tabela III'!F34 -> 0 | H25: ='Tabela III'!G34 -> 0 | I25: ='Tabela III'!H34 -> 12 | J25: ='Tabela III'!I34 -> 0 | K25: ='Tabela III'!K34 -> 0
A26: ='Tabela I'!$F$2 -> 0 | B26: ='Tabela I'!$F$1 -> 2022 | C26: 21 | D26: ='Tabela III'!B35 -> 190 | E26: ='Tabela III'!D35 -> 0 | F26: ='Tabela III'!E35 -> 4 | G26: ='Tabela III'!F35 -> 0 | H26: ='Tabela III'!G35 -> 0 | I26: ='Tabela III'!H35 -> 0 | J26: ='Tabela III'!I35 -> 0 | K26: ='Tabela III'!K35 -> 0
A27: ='Tabela I'!$F$2 -> 0 | B27: ='Tabela I'!$F$1 -> 2022 | C27: 22 | D27: ='Tabela III'!B36 -> 0 | E27: ='Tabela III'!D36 -> 0 | F27: ='Tabela III'!E36 -> 0 | G27: ='Tabela III'!F36 -> 0 | H27: ='Tabela III'!G36 -> 0 | I27: ='Tabela III'!H36 -> 0 | J27: ='Tabela III'!I36 -> 0 | K27: ='Tabela III'!K36 -> 0
A28: ='Tabela I'!$F$2 -> 0 | B28: ='Tabela I'!$F$1 -> 2022 | C28: 23 | D28: ='Tabela III'!B38 -> 213 | E28: ='Tabela III'!D38 -> 0 | F28: ='Tabela III'!E38 -> 6 | G28: ='Tabela III'!F38 -> 0 | H28: ='Tabela III'!G38 -> 0 | I28: ='Tabela III'!H38 -> 2 | J28: ='Tabela III'!I38 -> 0 | K28: ='Tabela III'!K38 -> 0
A29: ='Tabela I'!$F$2 -> 0 | B29: ='Tabela I'!$F$1 -> 2022 | C29: 24 | D29: ='Tabela III'!B39 -> 47 | E29: ='Tabela III'!D39 -> 0 | F29: ='Tabela III'!E39 -> 1 | G29: ='Tabela III'!F39 -> 0 | H29: ='Tabela III'!G39 -> 0 | I29: ='Tabela III'!H39 -> 0 | J29: ='Tabela III'!I39 -> 0 | K29: ='Tabela III'!K39 -> 0
A30: ='Tabela I'!$F$2 -> 0 | B30: ='Tabela I'!$F$1 -> 2022 | C30: 25 | D30: ='Tabela III'!B40 -> 0 | E30: ='Tabela III'!D40 -> 0 | F30: ='Tabela III'!E40 -> 0 | G30: ='Tabela III'!F40 -> 0 | H30: ='Tabela III'!G40 -> 0 | I30: ='Tabela III'!H40 -> 0 | J30: ='Tabela III'!I40 -> 0 | K30: ='Tabela III'!K40 -> 0
A31: ='Tabela I'!$F$2 -> 0 | B31: ='Tabela I'!$F$1 -> 2022 | C31: 28 | D31: ='Tabela III'!B42 -> 1333 | E31: ='Tabela III'!D42 -> 0 | F31: ='Tabela III'!E42 -> 32 | G31: ='Tabela III'!F42 -> 6 | H31: ='Tabela III'!G42 -> 0 | I31: ='Tabela III'!H42 -> 1 | J31: ='Tabela III'!I42 -> 0 | K31: ='Tabela III'!K42 -> 0
A32: ='Tabela I'!$F$2 -> 0 | B32: ='Tabela I'!$F$1 -> 2022 | C32: 122 | D32: =+'Tabela III'!B43 -> 445 | E32: =+'Tabela III'!D43 -> 0 | F32: =+'Tabela III'!E43 -> 0 | G32: =+'Tabela III'!F43 -> 0 | H32: =+'Tabela III'!G43 -> 0 | I32: =+'Tabela III'!H43 -> 0 | J32: =+'Tabela III'!I43 -> 0 | K32: =+'Tabela III'!K43 -> 0
A33: ='Tabela I'!$F$2 -> 0 | B33: ='Tabela I'!$F$1 -> 2022 | C33: 26 | D33: ='Tabela III'!B45 -> 0 | E33: ='Tabela III'!D45 -> 0 | F33: ='Tabela III'!E45 -> 0 | G33: ='Tabela III'!F45 -> 0 | H33: ='Tabela III'!G45 -> 0 | I33: ='Tabela III'!H45 -> 0 | J33: ='Tabela III'!I45 -> 0 | K33: ='Tabela III'!K45 -> 0
D34: =SUM(D2:D33) -> 8199 | E34: =SUM(E2:E33) -> 0 | F34: =SUM(F2:F33) -> 297 | G34: =SUM(G2:G33) -> 26 | H34: =SUM(H2:H33) -> 0 | I34: =SUM(I2:I33) -> 46 | J34: =SUM(J2:J33) -> 2 | K34: =SUM(K2:K33) -> 0

Sheet tbl II
A1: Godina | B1: Sud | C1: ImePrezime | D1: Ocjenjen | E1: Odjel | F1: Funkcija | G1: NormaPravilnik | H1: DatumOd | I1: DatumDo | J1: BroDanaZa Normu | K1: Odsustvo | L1: NormaCMS | M1: NormaVanCMS | N1: VeceVrenovanje | O1: OstvarenaNorma | P1: PreracunataNorma | Q1: BrPredURadu | R1: BrRijPred | S1: BrNerijPredSaZakProcSmet | T1: BrNerijPredBezZakProcSmet | U1: ProcRijePred | V1: BrOStBod
A2: ='Tabela I'!$F$1 -> 2022 | B2: ='Tabela I'!$F$2 -> 0 | C2: ='Tabela II'!B8 -> Randžana Hadžibegović-Haračić | D2: ='Tabela II'!C8 -> Da | E2: ='Tabela II'!D8 -> 0 | F2: ='Tabela II'!E8 -> Predsjednik suda | G2: ='Tabela II'!G8 -> 0.3 | H2: ='Tabela II'!H8 -> 01.01.2022 | I2: ='Tabela II'!I8 -> 31.12.2022 | J2: ='Tabela II'!J8 -> 260 | K2: ='Tabela II'!K8 -> 1 | L2: ='Tabela II'!L8 -> 0.3856 | M2: ='Tabela II'!M8 -> 0 | N2: ='Tabela II'!N8 -> 0 | ... V2: ='Tabela II'!V8 -> 20
A3: ='Tabela I'!$F$1 -> 2022 | B3: ='Tabela I'!$F$2 -> 0 | C3: ='Tabela II'!B9 -> 0 | D3: ='Tabela II'!C9 -> 0 | E3: ='Tabela II'!D9 -> 0 | F3: ='Tabela II'!E9 -> Predsjednik suda | G3: ='Tabela II'!G9 -> 0 | H3: ='Tabela II'!H9 -> 0 | I3: ='Tabela II'!I9 -> 0 | J3: ='Tabela II'!J9 -> 0 | K3: ='Tabela II'!K9 -> 0 | L3: ='Tabela II'!L9 -> 0 | M3: ='Tabela II'!M9 -> 0 | N3: ='Tabela II'!N9 -> 0 | ... V3: ='Tabela II'!V9
A4: ='Tabela I'!$F$1 -> 2022 | B4: ='Tabela I'!$F$2 -> 0 | C4: ='Tabela II'!B10 -> Amira Ždralović | D4: ='Tabela II'!C10 -> Da | E4: ='Tabela II'!D10 -> Građanski | F4: ='Tabela II'!E10 -> Predsjednik odjela | G4: ='Tabela II'!G10 -> 0.9 | H4: ='Tabela II'!H10 -> 01.01.2022 | I4: ='Tabela II'!I10 -> 31.12.2022 | J4: ='Tabela II'!J10 -> 260 | K4: ='Tabela II'!K10 -> 12 | L4: ='Tabela II'!L10 -> 0.9092 | M4: ='Tabela II'!M10 -> 0 | N4: ='Tabela II'!N10 -> 0 | ... V4: ='Tabela II'!V10 -> 40
A5: ='Tabela I'!$F$1 -> 2022 | B5: ='Tabela I'!$F$2 -> 0 | C5: ='Tabela II'!B11 -> Darko Solomun | D5: ='Tabela II'!C11 -> Da | E5: ='Tabela II'!D11 -> Krivično-prekršajni | F5: ='Tabela II'!E11 -> Predsjednik odjela | G5: ='Tabela II'!G11 -> 0.9 | H5: ='Tabela II'!H11 -> 01.01.2022 | I5: ='Tabela II'!I11 -> 31.12.2022 | J5: ='Tabela II'!J11 -> 260 | K5: ='Tabela II'!K11 -> 44 | L5: ='Tabela II'!L11 -> 0.7483 | M5: ='Tabela II'!M11 -> 0 | N5: ='Tabela II'!N11 -> 0 | ... V5: ='Tabela II'!V11 -> 40
A6: ='Tabela I'!$F$1 -> 2022 | B6: ='Tabela I'!$F$2 -> 0 | C6: ='Tabela II'!B12 -> Samil Ramić | D6: ='Tabela II'!C12 -> Da | E6: ='Tabela II'!D12 -> Izvršni | F6: ='Tabela II'!E12 -> Predsjednik odjela | G6: ='Tabela II'!G12 -> 0.9 | H6: ='Tabela II'!H12 -> 01.01.2022 | I6: ='Tabela II'!I12 -> 31.12.2022 | J6: ='Tabela II'!J12 -> 260 | K6: ='Tabela II'!K12 -> 1 | L6: ='Tabela II'!L12 -> 0.9134 | M6: ='Tabela II'!M12 -> 0.0154 | N6: ='Tabela II'!N12 -> 0 | ... V6: ='Tabela II'!V12 -> 40
A7: ='Tabela I'!$F$1 -> 2022 | B7: ='Tabela I'!$F$2 -> 0 | C7: ='Tabela II'!B13 -> Safet Žuljko | D7: ='Tabela II'!C13 -> Da | E7: ='Tabela II'!D13 -> Krivično-prekršajni | F7: ='Tabela II'!E13 -> Sudija | G7: ='Tabela II'!G13 -> 1 | H7: ='Tabela II'!H13 -> 01.01.2022 | I7: ='Tabela II'!I13 -> 31.12.2022 | J7: ='Tabela II'!J13 -> 260 | K7: ='Tabela II'!K13 -> 0 | L7: ='Tabela II'!L13 -> 1.0873 | M7: ='Tabela II'!M13 -> 0 | N7: ='Tabela II'!N13 -> 0 | ... V7: ='Tabela II'!V13 -> 40
A8: ='Tabela I'!$F$1 -> 2022 | B8: ='Tabela I'!$F$2 -> 0 | C8: ='Tabela II'!B14 -> Lejla Nurikić | D8: ='Tabela II'!C14 -> Da | E8: ='Tabela II'!D14 -> Građanski | F8: ='Tabela II'!E14 -> Sudija | G8: ='Tabela II'!G14 -> 1 | H8: ='Tabela II'!H14 -> 01.01.2022 | I8: ='Tabela II'!I14 -> 31.12.2022 | J8: ='Tabela II'!J14 -> 260 | K8: ='Tabela II'!K14 -> 5 | L8: ='Tabela II'!L14 -> 1.0186 | M8: ='Tabela II'!M14 -> 0 | N8: ='Tabela II'!N14 -> 0 | ... V8: ='Tabela II'!V14 -> 40
A9: ='Tabela I'!$F$1 -> 2022 | B9: ='Tabela I'!$F$2 -> 0 | C9: ='Tabela II'!B15 -> Katica Soldo | D9: ='Tabela II'!C15 -> Da | E9: ='Tabela II'!D15 -> Građanski | F9: ='Tabela II'!E15 -> Sudija | G9: ='Tabela II'!G15 -> 1 | H9: ='Tabela II'!H15 -> 01.01.2022 | I9: ='Tabela II'!I15 -> 31.12.2022 | J9: ='Tabela II'!J15 -> 260 | K9: ='Tabela II'!K15 -> 9 | L9: ='Tabela II'!L15 -> 1.1321 | M9: ='Tabela II'!M15 -> 0 | N9: ='Tabela II'!N15 -> 0 | ... V9: ='Tabela II'!V15 -> 40
A10: ='Tabela I'!$F$1 -> 2022 | B10: ='Tabela I'!$F$2 -> 0 | C10: ='Tabela II'!B16 -> Janja Pilić | D10: ='Tabela II'!C16 -> Ne | E10: ='Tabela II'!D16 -> Građanski | F10: ='Tabela II'!E16 -> Sudija | G10: ='Tabela II'!G16 -> 1 | H10: ='Tabela II'!H16 -> 01.01.2022 | I10: ='Tabela II'!I16 -> 09.09.2022 | J10: ='Tabela II'!J16 -> 180 | K10: ='Tabela II'!K16 -> 31 | L10: ='Tabela II'!L16 -> 0.7498 | M10: ='Tabela II'!M16 -> 0 | N10: ='Tabela II'!N16 -> 0 | ... V10: ='Tabela II'!V16
A11: ='Tabela I'!$F$1 -> 2022 | B11: ='Tabela I'!$F$2 -> 0 | C11: ='Tabela II'!B17 -> Nebojša Vrhovac | D11: ='Tabela II'!C17 -> Da | E11: ='Tabela II'!D17 -> Izvršni | F11: ='Tabela II'!E17 -> Sudija | G11: ='Tabela II'!G17 -> 1 | H11: ='Tabela II'!H17 -> 01.01.2022 | I11: ='Tabela II'!I17 -> 31.12.2022 | J11: ='Tabela II'!J17 -> 260 | K11: ='Tabela II'!K17 -> 29 | L11: ='Tabela II'!L17 -> 0.9271 | M11: ='Tabela II'!M17 -> 0.0184 | N11: ='Tabela II'!N17 -> 0 | ... V11: ='Tabela II'!V17 -> 40
A12: ='Tabela I'!$F$1 -> 2022 | B12: ='Tabela I'!$F$2 -> 0 | C12: ='Tabela II'!B18 -> Aldina Rebihić-Topoljak | D12: ='Tabela II'!C18 -> Da | E12: ='Tabela II'!D18 -> Krivično-prekršajni | F12: ='Tabela II'!E18 -> Sudija | G12: ='Tabela II'!G18 -> 1 | H12: ='Tabela II'!H18 -> 01.01.2022 | I12: ='Tabela II'!I18 -> 31.12.2022 | J12: ='Tabela II'!J18 -> 260 | K12: ='Tabela II'!K18 -> 0 | L12: ='Tabela II'!L18 -> 1.0136 | M12: ='Tabela II'!M18 -> 0 | N12: ='Tabela II'!N18 -> 0 | ... V12: ='Tabela II'!V18 -> 40
A13: ='Tabela I'!$F$1 -> 2022 | B13: ='Tabela I'!$F$2 -> 0 | C13: ='Tabela II'!B19 -> Sonsirej Radivojević | D13: ='Tabela II'!C19 -> Da | E13: ='Tabela II'!D19 -> Krivično-prekršajni | F13: ='Tabela II'!E19 -> Sudija | G13: ='Tabela II'!G19 -> 1 | H13: ='Tabela II'!H19 -> 01.01.2022 | I13: ='Tabela II'!I19 -> 31.12.2022 | J13: ='Tabela II'!J19 -> 260 | K13: ='Tabela II'!K19 -> 37 | L13: ='Tabela II'!L19 -> 1.0059 | M13: ='Tabela II'!M19 -> 0 | N13: ='Tabela II'!N19 -> 0 | ... V13: ='Tabela II'!V19 -> 40
... A82: ='Tabela I'!$F$1 -> 2022 | B82: ='Tabela I'!$F$2 -> 0 | C82: ='Tabela II'!B88 -> 0 | D82: ='Tabela II'!C88 -> 0 | E82: ='Tabela II'!D88 -> 0 | F82: ='Tabela II'!E88 -> 0 | G82: ='Tabela II'!G88 -> 0 | H82: ='Tabela II'!H88 -> 0 | I82: ='Tabela II'!I88 -> 0 | J82: ='Tabela II'!J88 -> 260 | K82: ='Tabela II'!K88 -> 0 | L82: ='Tabela II'!L88 -> 0 | M82: ='Tabela II'!M88 -> 0 | N82: ='Tabela II'!N88 -> 0 | ... V82: ='Tabela II'!V88
A84: Godina | B84: Sud | C84: ImePrezime | D84: Ocjenjen | E84: Odjel | F84: Funkcija | G84: NormaPravilnik | H84: DatumOd | I84: DatumDo | J84: BroDanaZa Normu | K84: Odsustvo | L84: NormaCMS | M84: NormaVanCMS | N84: VeceVrenovanje | O84: OstvarenaNorma | P84: PreracunataNorma | Q84: BrPredURadu | R84: BrRijPred | S84: BrNerijPredSaZakProcSmet | T84: BrNerijPredBezZakProcSmet | U84: ProcRijePred | V84: BrOStBod | W84: Sud
A85: ='Tabela I'!$F$1 -> 2022 | B85: ='Tabela I'!$F$2 -> 0 | C85: ='Tabela II'!D117 -> 0 | D85: ='Tabela II'!C118 -> 0 | E85: ='Tabela II'!D118 -> 0 | F85: ='Tabela II'!E118 -> Predsjednik suda | G85: ='Tabela II'!G118 -> 0 | H85: ='Tabela II'!H118 -> 0 | I85: ='Tabela II'!I118 -> 0 | J85: ='Tabela II'!J118 -> 0 | K85: ='Tabela II'!K118 -> 0 | L85: ='Tabela II'!L118 -> 0 | M85: ='Tabela II'!M118 -> 0 | N85: ='Tabela II'!N118 -> 0 | ... V85: ='Tabela II'!V118 -> 0 | W85: ='Tabela II'!A118 -> Sud 1
A86: ='Tabela I'!$F$1 -> 2022 | B86: ='Tabela I'!$F$2 -> 0 | C86: ='Tabela II'!D117 -> 0 | D86: ='Tabela II'!C119 -> 0 | E86: ='Tabela II'!D119 -> 0 | F86: ='Tabela II'!E119 -> 0 | G86: ='Tabela II'!G119 -> 0 | H86: ='Tabela II'!H119 -> 0 | I86: ='Tabela II'!I119 -> 0 | J86: ='Tabela II'!J119 -> 0 | K86: ='Tabela II'!K119 -> 0 | L86: ='Tabela II'!L119 -> 0 | M86: ='Tabela II'!M119 -> 0 | N86: ='Tabela II'!N119 -> 0 | ... V86: ='Tabela II'!V119 -> 0 | W86: ='Tabela II'!A119 -> Sud 2
A87: ='Tabela I'!$F$1 -> 2022 | B87: ='Tabela I'!$F$2 -> 0 | C87: ='Tabela II'!D120 -> 0 | D87: ='Tabela II'!C121 -> 0 | E87: ='Tabela II'!D121 -> 0 | F87: ='Tabela II'!E121 -> 0 | G87: ='Tabela II'!G121 -> 0 | H87: ='Tabela II'!H121 -> 0 | I87: ='Tabela II'!I121 -> 0 | J87: ='Tabela II'!J121 -> 0 | K87: ='Tabela II'!K121 -> 0 | L87: ='Tabela II'!L121 -> 0 | M87: ='Tabela II'!M121 -> 0 | N87: ='Tabela II'!N121 -> 0 | ... V87: ='Tabela II'!V121 -> 0 | W87: ='Tabela II'!A121 -> Sud 1
A88: ='Tabela I'!$F$1 -> 2022 | B88: ='Tabela I'!$F$2 -> 0 | C88: ='Tabela II'!D120 -> 0 | D88: ='Tabela II'!C122 -> 0 | E88: ='Tabela II'!D122 -> 0 | F88: ='Tabela II'!E122 -> 0 | G88: ='Tabela II'!G122 -> 0 | H88: ='Tabela II'!H122 -> 0 | I88: ='Tabela II'!I122 -> 0 | J88: ='Tabela II'!J122 -> 0 | K88: ='Tabela II'!K122 -> 0 | L88: ='Tabela II'!L122 -> 0 | M88: ='Tabela II'!M122 -> 0 | N88: ='Tabela II'!N122 -> 0 | ... V88: ='Tabela II'!V122 -> 0 | W88: ='Tabela II'!A122 -> Sud 2
A89: ='Tabela I'!$F$1 -> 2022 | B89: ='Tabela I'!$F$2 -> 0 | C89: ='Tabela II'!D123 -> 0 | D89: ='Tabela II'!C124 -> 0 | E89: ='Tabela II'!D124 -> 0 | F89: ='Tabela II'!E124 -> 0 | G89: ='Tabela II'!G124 -> 0 | H89: ='Tabela II'!H124 -> 0 | I89: ='Tabela II'!I124 -> 0 | J89: ='Tabela II'!J124 -> 0 | K89: ='Tabela II'!K124 -> 0 | L89: ='Tabela II'!L124 -> 0 | M89: ='Tabela II'!M124 -> 0 | N89: ='Tabela II'!N124 -> 0 | ... V89: ='Tabela II'!V124 -> 0 | W89: ='Tabela II'!A124 -> Sud 1
A90: ='Tabela I'!$F$1 -> 2022 | B90: ='Tabela I'!$F$2 -> 0 | C90: ='Tabela II'!D123 -> 0 | D90: ='Tabela II'!C125 -> 0 | E90: ='Tabela II'!D125 -> 0 | F90: ='Tabela II'!E125 -> 0 | G90: ='Tabela II'!G125 -> 0 | H90: ='Tabela II'!H125 -> 0 | I90: ='Tabela II'!I125 -> 0 | J90: ='Tabela II'!J125 -> 0 | K90: ='Tabela II'!K125 -> 0 | L90: ='Tabela II'!L125 -> 0 | M90: ='Tabela II'!M125 -> 0 | N90: ='Tabela II'!N125 -> 0 | ... V90: ='Tabela II'!V125 -> 0 | W90: ='Tabela II'!A125 -> Sud 2
A91: ='Tabela I'!$F$1 -> 2022 | B91: ='Tabela I'!$F$2 -> 0 | C91: ='Tabela II'!D126 -> 0 | D91: ='Tabela II'!C127 -> 0 | E91: ='Tabela II'!D127 -> 0 | F91: ='Tabela II'!E127 -> 0 | G91: ='Tabela II'!G127 -> 0 | H91: ='Tabela II'!H127 -> 0 | I91: ='Tabela II'!I127 -> 0 | J91: ='Tabela II'!J127 -> 0 | K91: ='Tabela II'!K127 -> 0 | L91: ='Tabela II'!L127 -> 0 | M91: ='Tabela II'!M127 -> 0 | N91: ='Tabela II'!N127 -> 0 | ... V91: ='Tabela II'!V127 -> 0 | W91: ='Tabela II'!A127 -> Sud 1
A92: ='Tabela I'!$F$1 -> 2022 | B92: ='Tabela I'!$F$2 -> 0 | C92: ='Tabela II'!D126 -> 0 | D92: ='Tabela II'!C128 -> 0 | E92: ='Tabela II'!D128 -> 0 | F92: ='Tabela II'!E128 -> 0 | G92: ='Tabela II'!G128 -> 0 | H92: ='Tabela II'!H128 -> 0 | I92: ='Tabela II'!I128 -> 0 | J92: ='Tabela II'!J128 -> 0 | K92: ='Tabela II'!K128 -> 0 | L92: ='Tabela II'!L128 -> 0 | M92: ='Tabela II'!M128 -> 0 | N92: ='Tabela II'!N128 -> 0 | ... V92: ='Tabela II'!V128 -> 0 | W92: ='Tabela II'!A128 -> Sud 2
A93: ='Tabela I'!$F$1 -> 2022 | B93: ='Tabela I'!$F$2 -> 0 | C93: ='Tabela II'!D129 -> 0 | D93: ='Tabela II'!C130 -> 0 | E93: ='Tabela II'!D130 -> 0 | F93: ='Tabela II'!E130 -> 0 | G93: ='Tabela II'!G130 -> 0 | H93: ='Tabela II'!H130 -> 0 | I93: ='Tabela II'!I130 -> 0 | J93: ='Tabela II'!J130 -> 0 | K93: ='Tabela II'!K130 -> 0 | L93: ='Tabela II'!L130 -> 0 | M93: ='Tabela II'!M130 -> 0 | N93: ='Tabela II'!N130 -> 0 | ... V93: ='Tabela II'!V130 -> 0 | W93: ='Tabela II'!A130 -> Sud 1
A94: ='Tabela I'!$F$1 -> 2022 | B94: ='Tabela I'!$F$2 -> 0 | C94: ='Tabela II'!D129 -> 0 | D94: ='Tabela II'!C131 -> 0 | E94: ='Tabela II'!D131 -> 0 | F94: ='Tabela II'!E131 -> 0 | G94: ='Tabela II'!G131 -> 0 | H94: ='Tabela II'!H131 -> 0 | I94: ='Tabela II'!I131 -> 0 | J94: ='Tabela II'!J131 -> 0 | K94: ='Tabela II'!K131 -> 0 | L94: ='Tabela II'!L131 -> 0 | M94: ='Tabela II'!M131 -> 0 | N94: ='Tabela II'!N131 -> 0 | ... V94: ='Tabela II'!V131 -> 0 | W94: ='Tabela II'!A131 -> Sud 2
A95: ='Tabela I'!$F$1 -> 2022 | B95: ='Tabela I'!$F$2 -> 0 | C95: ='Tabela II'!D132 -> 0 | D95: ='Tabela II'!C133 -> 0 | E95: ='Tabela II'!D133 -> 0 | F95: ='Tabela II'!E133 -> 0 | G95: ='Tabela II'!G133 -> 0 | H95: ='Tabela II'!H133 -> 0 | I95: ='Tabela II'!I133 -> 0 | J95: ='Tabela II'!J133 -> 0 | K95: ='Tabela II'!K133 -> 0 | L95: ='Tabela II'!L133 -> 0 | M95: ='Tabela II'!M133 -> 0 | N95: ='Tabela II'!N133 -> 0 | ... V95: ='Tabela II'!V133 -> 0 | W95: ='Tabela II'!A133 -> Sud 1
A96: ='Tabela I'!$F$1 -> 2022 | B96: ='Tabela I'!$F$2 -> 0 | C96: ='Tabela II'!D132 -> 0 | D96: ='Tabela II'!C134 -> 0 | E96: ='Tabela II'!D134 -> 0 | F96: ='Tabela II'!E134 -> 0 | G96: ='Tabela II'!G134 -> 0 | H96: ='Tabela II'!H134 -> 0 | I96: ='Tabela II'!I134 -> 0 | J96: ='Tabela II'!J134 -> 0 | K96: ='Tabela II'!K134 -> 0 | L96: ='Tabela II'!L134 -> 0 | M96: ='Tabela II'!M134 -> 0 | N96: ='Tabela II'!N134 -> 0 | ... V96: ='Tabela II'!V134 -> 0 | W96: ='Tabela II'!A134 -> Sud 2
A97: ='Tabela I'!$F$1 -> 2022 | B97: ='Tabela I'!$F$2 -> 0 | C97: ='Tabela II'!D135 -> 0 | D97: ='Tabela II'!C136 -> 0 | E97: ='Tabela II'!D136 -> 0 | F97: ='Tabela II'!E136 -> 0 | G97: ='Tabela II'!G136 -> 0 | H97: ='Tabela II'!H136 -> 0 | I97: ='Tabela II'!I136 -> 0 | J97: ='Tabela II'!J136 -> 0 | K97: ='Tabela II'!K136 -> 0 | L97: ='Tabela II'!L136 -> 0 | M97: ='Tabela II'!M136 -> 0 | N97: ='Tabela II'!N136 -> 0 | ... V97: ='Tabela II'!V136 -> 0 | W97: ='Tabela II'!A136 -> Sud 1
A98: ='Tabela I'!$F$1 -> 2022 | B98: ='Tabela I'!$F$2 -> 0 | C98: ='Tabela II'!D135 -> 0 | D98: ='Tabela II'!C137 -> 0 | E98: ='Tabela II'!D137 -> 0 | F98: ='Tabela II'!E137 -> 0 | G98: ='Tabela II'!G137 -> 0 | H98: ='Tabela II'!H137 -> 0 | I98: ='Tabela II'!I137 -> 0 | J98: ='Tabela II'!J137 -> 0 | K98: ='Tabela II'!K137 -> 0 | L98: ='Tabela II'!L137 -> 0 | M98: ='Tabela II'!M137 -> 0 | N98: ='Tabela II'!N137 -> 0 | ... V98: ='Tabela II'!V137 -> 0 | W98: ='Tabela II'!A137 -> Sud 2
A99: ='Tabela I'!$F$1 -> 2022 | B99: ='Tabela I'!$F$2 -> 0 | C99: ='Tabela II'!D138 -> 0 | D99: ='Tabela II'!C139 -> 0 | E99: ='Tabela II'!D139 -> 0 | F99: ='Tabela II'!E139 -> 0 | G99: ='Tabela II'!G139 -> 0 | H99: ='Tabela II'!H139 -> 0 | I99: ='Tabela II'!I139 -> 0 | J99: ='Tabela II'!J139 -> 0 | K99: ='Tabela II'!K139 -> 0 | L99: ='Tabela II'!L139 -> 0 | M99: ='Tabela II'!M139 -> 0 | N99: ='Tabela II'!N139 -> 0 | ... V99: ='Tabela II'!V139 -> 0 | W99: ='Tabela II'!A139 -> Sud 1
A100: ='Tabela I'!$F$1 -> 2022 | B100: ='Tabela I'!$F$2 -> 0 | C100: ='Tabela II'!D138 -> 0 | D100: ='Tabela II'!C140 -> 0 | E100: ='Tabela II'!D140 -> 0 | F100: ='Tabela II'!E140 -> 0 | G100: ='Tabela II'!G140 -> 0 | H100: ='Tabela II'!H140 -> 0 | I100: ='Tabela II'!I140 -> 0 | J100: ='Tabela II'!J140 -> 0 | K100: ='Tabela II'!K140 -> 0 | L100: ='Tabela II'!L140 -> 0 | M100: ='Tabela II'!M140 -> 0 | N100: ='Tabela II'!N140 -> 0 | ... V100: ='Tabela II'!V140 -> 0 | W100: ='Tabela II'!A140 -> Sud 2
A101: ='Tabela I'!$F$1 -> 2022 | B101: ='Tabela I'!$F$2 -> 0 | C101: ='Tabela II'!#REF! -> #REF! | D101: ='Tabela II'!#REF! -> #REF! | E101: ='Tabela II'!#REF! -> #REF! | F101: ='Tabela II'!#REF! -> #REF! | G101: ='Tabela II'!#REF! -> #REF! | H101: ='Tabela II'!#REF! -> #REF! | I101: ='Tabela II'!#REF! -> #REF! | J101: ='Tabela II'!#REF! -> #REF! | ... W101: ='Tabela II'!#REF! -> #REF!
A102: ='Tabela I'!$F$1 -> 2022 | B102: ='Tabela I'!$F$2 -> 0 | C102: ='Tabela II'!#REF! -> #REF! | D102: ='Tabela II'!#REF! -> #REF! | E102: ='Tabela II'!#REF! -> #REF! | F102: ='Tabela II'!#REF! -> #REF! | G102: ='Tabela II'!#REF! -> #REF! | H102: ='Tabela II'!#REF! -> #REF! | I102: ='Tabela II'!#REF! -> #REF! | J102: ='Tabela II'!#REF! -> #REF! | ... W102: ='Tabela II'!#REF! -> #REF!
A103: ='Tabela I'!$F$1 -> 2022 | B103: ='Tabela I'!$F$2 -> 0 | C103: ='Tabela II'!D159 -> 0 | D103: ='Tabela II'!C160 -> 0 | E103: ='Tabela II'!D160 -> 0 | F103: ='Tabela II'!E160 -> 0 | G103: ='Tabela II'!G160 -> 0 | H103: ='Tabela II'!H160 -> 0 | I103: ='Tabela II'!I160 -> 0 | J103: ='Tabela II'!J160 -> 0 | K103: ='Tabela II'!K160 -> 0 | L103: ='Tabela II'!L160 -> 0 | M103: ='Tabela II'!M160 -> 0 | N103: ='Tabela II'!N160 -> 0 | ... V103: ='Tabela II'!V160 -> 0 | W103: ='Tabela II'!A160 -> Sud 1
A104: ='Tabela I'!$F$1 -> 2022 | B104: ='Tabela I'!$F$2 -> 0 | C104: ='Tabela II'!D159 -> 0 | D104: ='Tabela II'!C161 -> 0 | E104: ='Tabela II'!D161 -> 0 | F104: ='Tabela II'!E161 -> 0 | G104: ='Tabela II'!G161 -> 0 | H104: ='Tabela II'!H161 -> 0 | I104: ='Tabela II'!I161 -> 0 | J104: ='Tabela II'!J161 -> 0 | K104: ='Tabela II'!K161 -> 0 | L104: ='Tabela II'!L161 -> 0 | M104: ='Tabela II'!M161 -> 0 | N104: ='Tabela II'!N161 -> 0 | ... V104: ='Tabela II'!V161 -> 0 | W104: ='Tabela II'!A161 -> Sud 2

Sheet tblIIIa
A1: Sud | B1: Godina | C1: ImePrezime | D1: Funkcija | E1: Ocij/NijeOcij | F1: UkBrDonOdlnsmiPrLijek | G1: UkBrOzOdl | H1: BrOdbPravLijekova | I1: BrPotOdl | J1: BrPreinOdl | K1: BrPreOdlNakOdGlRas/PretPredDrugSud | L1: BrUkOdl | M1: BrDjelUkOdl | N1: KvaSudOdlČl16/1/a | O1: BrOstBodZaKvalČl16/1/a | P1: KvalSudOdlČl16/1/b | Q1: BrOstBodZaKvalČl16/1/b | R1: UkBrOstBodZaKval | S1: KvalSudOdlČl16/1/b
A2: ='Tabela I'!$F$2 -> 0 | B2: ='Tabela I'!$F$1 -> 2022 | C2: =+'Tabela IIIa'!B9 -> Randžana Hadžibegović-Haračić | D2: =+'Tabela IIIa'!C9 -> Predsjednik suda * | E2: =+'Tabela IIIa'!D9 -> Ocijenjen | F2: =+'Tabela IIIa'!E9 -> 252 | G2: =+'Tabela IIIa'!F9 -> 10 | H2: =+'Tabela IIIa'!G9 -> 0 | I2: =+'Tabela IIIa'!H9 -> 7 | J2: =+'Tabela IIIa'!I9 -> 2 | ... R2: =+'Tabela IIIa'!Q9 -> 20 | V2: Ocijenjen
A3: ='Tabela I'!$F$2 -> 0 | B3: ='Tabela I'!$F$1 -> 2022 | C3: ='Tabela IIIa'!B10 -> Amira Ždralović | D3: =+'Tabela IIIa'!C10 -> Predsjednik odjela | E3: =+'Tabela IIIa'!D10 -> Ocijenjen | F3: =+'Tabela IIIa'!E10 -> 503 | G3: =+'Tabela IIIa'!F10 -> 32 | H3: =+'Tabela IIIa'!G10 -> 0 | I3: =+'Tabela IIIa'!H10 -> 24 | J3: =+'Tabela IIIa'!I10 -> 3 | K3: =+'Tabela IIIa'!J10 -> 0 | ... R3: =+'Tabela IIIa'!Q10 -> 34 | T3: Sudija | V3: Nije ocijenjen
A4: ='Tabela I'!$F$2 -> 0 | B4: ='Tabela I'!$F$1 -> 2022 | C4: =+'Tabela IIIa'!B11 -> Darko Solomun | D4: =+'Tabela IIIa'!C11 -> Predsjednik odjela | E4: =+'Tabela IIIa'!D11 -> Ocijenjen | F4: =+'Tabela IIIa'!E11 -> 385 | G4: =+'Tabela IIIa'!F11 -> 53 | H4: =+'Tabela IIIa'!G11 -> 0 | I4: =+'Tabela IIIa'!H11 -> 38 | J4: =+'Tabela IIIa'!I11 -> 7 | ... R4: =+'Tabela IIIa'!Q11 -> 34 | T4: Stručni saradnik
A5: ='Tabela I'!$F$2 -> 0 | B5: ='Tabela I'!$F$1 -> 2022 | C5: =+'Tabela IIIa'!B12 -> Samil Ramić | D5: =+'Tabela IIIa'!C12 -> Predsjednik odjela | E5: =+'Tabela IIIa'!D12 -> Ocijenjen | F5: =+'Tabela IIIa'!E12 -> 721 | G5: =+'Tabela IIIa'!F12 -> 7 | H5: =+'Tabela IIIa'!G12 -> 0 | I5: =+'Tabela IIIa'!H12 -> 6 | J5: =+'Tabela IIIa'!I12 -> 1 | ... R5: =+'Tabela IIIa'!Q12 -> 10
A6: ='Tabela I'!$F$2 -> 0 | B6: ='Tabela I'!$F$1 -> 2022 | C6: =+'Tabela IIIa'!B13 -> Safet Žuljko | D6: =+'Tabela IIIa'!C13 -> Sudija | E6: =+'Tabela IIIa'!D13 -> Ocijenjen | F6: =+'Tabela IIIa'!E13 -> 917 | G6: =+'Tabela IIIa'!F13 -> 21 | H6: =+'Tabela IIIa'!G13 -> 0 | I6: =+'Tabela IIIa'!H13 -> 18 | J6: =+'Tabela IIIa'!I13 -> 0 | ... R6: =+'Tabela IIIa'!Q13 -> 34
A7: ='Tabela I'!$F$2 -> 0 | B7: ='Tabela I'!$F$1 -> 2022 | C7: =+'Tabela IIIa'!B14 -> Lejla Nurikić | D7: =+'Tabela IIIa'!C14 -> Sudija | E7: =+'Tabela IIIa'!D14 -> Ocijenjen | F7: =+'Tabela IIIa'!E14 -> 482 | G7: =+'Tabela IIIa'!F14 -> 43 | H7: =+'Tabela IIIa'!G14 -> 0 | I7: =+'Tabela IIIa'!H14 -> 37 | J7: =+'Tabela IIIa'!I14 -> 2 | ... R7: =+'Tabela IIIa'!Q14 -> 40
A8: ='Tabela I'!$F$2 -> 0 | B8: ='Tabela I'!$F$1 -> 2022 | C8: =+'Tabela IIIa'!B15 -> Katica Soldo | D8: =+'Tabela IIIa'!C15 -> Sudija | E8: =+'Tabela IIIa'!D15 -> Ocijenjen | F8: =+'Tabela IIIa'!E15 -> 485 | G8: =+'Tabela IIIa'!F15 -> 46 | H8: =+'Tabela IIIa'!G15 -> 0 | I8: =+'Tabela IIIa'!H15 -> 41 | J8: =+'Tabela IIIa'!I15 -> 1 | ... R8: =+'Tabela IIIa'!Q15 -> 40
A9: ='Tabela I'!$F$2 -> 0 | B9: ='Tabela I'!$F$1 -> 2022 | C9: =+'Tabela IIIa'!B16 -> Janja Pilić | D9: =+'Tabela IIIa'!C16 -> Sudija | E9: =+'Tabela IIIa'!D16 -> Nije ocijenjen | F9: =+'Tabela IIIa'!E16 -> 254 | G9: =+'Tabela IIIa'!F16 -> 29 | H9: =+'Tabela IIIa'!G16 -> 0 | I9: =+'Tabela IIIa'!H16 -> 22 | J9: =+'Tabela IIIa'!I16 -> 0 | ... R9: =+'Tabela IIIa'!Q16
A10: ='Tabela I'!$F$2 -> 0 | B10: ='Tabela I'!$F$1 -> 2022 | C10: =+'Tabela IIIa'!B17 -> Nebojša Vrhovac | D10: =+'Tabela IIIa'!C17 -> Sudija | E10: =+'Tabela IIIa'!D17 -> Ocijenjen | F10: =+'Tabela IIIa'!E17 -> 578 | G10: =+'Tabela IIIa'!F17 -> 42 | H10: =+'Tabela IIIa'!G17 -> 0 | I10: =+'Tabela IIIa'!H17 -> 39 | J10: =+'Tabela IIIa'!I17 -> 0 | ... R10: =+'Tabela IIIa'!Q17 -> 40
A11: ='Tabela I'!$F$2 -> 0 | B11: ='Tabela I'!$F$1 -> 2022 | C11: =+'Tabela IIIa'!B18 -> Aldina Rebihić-Topoljak | D11: =+'Tabela IIIa'!C18 -> Sudija | E11: =+'Tabela IIIa'!D18 -> Ocijenjen | F11: =+'Tabela IIIa'!E18 -> 931 | G11: =+'Tabela IIIa'!F18 -> 13 | H11: =+'Tabela IIIa'!G18 -> 0 | I11: =+'Tabela IIIa'!H18 -> 11 | J11: =+'Tabela IIIa'!I18 -> 1 | ... R11: =+'Tabela IIIa'!Q18 -> 40
A12: ='Tabela I'!$F$2 -> 0 | B12: ='Tabela I'!$F$1 -> 2022 | C12: =+'Tabela IIIa'!B19 -> Sonsirej Radivojević | D12: =+'Tabela IIIa'!C19 -> Sudija | E12: =+'Tabela IIIa'!D19 -> Ocijenjen | F12: =+'Tabela IIIa'!E19 -> 490 | G12: =+'Tabela IIIa'!F19 -> 35 | H12: =+'Tabela IIIa'!G19 -> 0 | I12: =+'Tabela IIIa'!H19 -> 24 | J12: =+'Tabela IIIa'!I19 -> 5 | ... R12: =+'Tabela IIIa'!Q19 -> 34
A13: ='Tabela I'!$F$2 -> 0 | B13: ='Tabela I'!$F$1 -> 2022 | C13: =+'Tabela IIIa'!B20 -> Ivan Gudelj | D13: =+'Tabela IIIa'!C20 -> Sudija | E13: =+'Tabela IIIa'!D20 -> Ocijenjen | F13: =+'Tabela IIIa'!E20 -> 825 | G13: =+'Tabela IIIa'!F20 -> 21 | H13: =+'Tabela IIIa'!G20 -> 0 | I13: =+'Tabela IIIa'!H20 -> 18 | J13: =+'Tabela IIIa'!I20 -> 2 | ... R13: =+'Tabela IIIa'!Q20 -> 40
A14: ='Tabela I'!$F$2 -> 0 | B14: ='Tabela I'!$F$1 -> 2022 | C14: =+'Tabela IIIa'!B21 -> Amela Agić | D14: =+'Tabela IIIa'!C21 -> Stručni saradnik | E14: =+'Tabela IIIa'!D21 -> Nije ocijenjen | F14: =+'Tabela IIIa'!E21 -> 481 | G14: =+'Tabela IIIa'!F21 -> 5 | H14: =+'Tabela IIIa'!G21 -> 0 | I14: =+'Tabela IIIa'!H21 -> 4 | J14: =+'Tabela IIIa'!I21 -> 0 | ... R14: =+'Tabela IIIa'!Q21
A15: ='Tabela I'!$F$2 -> 0 | B15: ='Tabela I'!$F$1 -> 2022 | C15: =+'Tabela IIIa'!B22 -> Marin Kajić | D15: =+'Tabela IIIa'!C22 -> Stručni saradnik | E15: =+'Tabela IIIa'!D22 -> Nije ocijenjen | F15: =+'Tabela IIIa'!E22 -> 443 | G15: =+'Tabela IIIa'!F22 -> 11 | H15: =+'Tabela IIIa'!G22 -> 0 | I15: =+'Tabela IIIa'!H22 -> 7 | J15: =+'Tabela IIIa'!I22 -> 1 | ... R15: =+'Tabela IIIa'!Q22
A16: ='Tabela I'!$F$2 -> 0 | B16: ='Tabela I'!$F$1 -> 2022 | C16: =+'Tabela IIIa'!B23 -> Ivan Sokanović | D16: =+'Tabela IIIa'!C23 -> Stručni saradnik | E16: =+'Tabela IIIa'!D23 -> Nije ocijenjen | F16: =+'Tabela IIIa'!E23 -> 452 | G16: =+'Tabela IIIa'!F23 -> 3 | H16: =+'Tabela IIIa'!G23 -> 0 | I16: =+'Tabela IIIa'!H23 -> 1 | J16: =+'Tabela IIIa'!I23 -> 1 | ... R16: =+'Tabela IIIa'!Q23
... A66: ='Tabela I'!$F$2 -> 0 | B66: ='Tabela I'!$F$1 -> 2022 | C66: =+'Tabela IIIa'!B73 -> 0 | D66: =+'Tabela IIIa'!C73 -> 0 | E66: =+'Tabela IIIa'!D73 -> 0 | F66: =+'Tabela IIIa'!E73 -> 0 | G66: =+'Tabela IIIa'!F73 -> 0 | H66: =+'Tabela IIIa'!G73 -> 0 | I66: =+'Tabela IIIa'!H73 -> 0 | J66: =+'Tabela IIIa'!I73 -> 0 | ... R66: =+'Tabela IIIa'!Q73
A69: Tabela IIIb
A71: ='Tabela I'!$F$2 -> 0 | B71: ='Tabela I'!$F$1 -> 2022 | C71: =+'Tabela IIIa'!B86 -> Ime i prezime | D71: =+'Tabela IIIa'!C86 -> Predsjednik suda | E71: =+'Tabela IIIa'!D86 -> 0 | F71: =+'Tabela IIIa'!E86 -> 0 | G71: =+'Tabela IIIa'!F86 -> 0 | H71: =+'Tabela IIIa'!G86 -> 0 | I71: =+'Tabela IIIa'!H86 -> 0 | J71: =+'Tabela IIIa'!I86 -> 0 | ... R71: =+'Tabela IIIa'!Q86
A72: ='Tabela I'!$F$2 -> 0 | B72: ='Tabela I'!$F$1 -> 2022 | C72: =+'Tabela IIIa'!B93 -> Ime i prezime | D72: =+'Tabela IIIa'!C93 -> 0 | E72: =+'Tabela IIIa'!D93 -> 0 | F72: =+'Tabela IIIa'!E93 -> 0 | G72: =+'Tabela IIIa'!F93 -> 0 | H72: =+'Tabela IIIa'!G93 -> 0 | I72: =+'Tabela IIIa'!H93 -> 0 | J72: =+'Tabela IIIa'!I93 -> 0 | ... R72: =+'Tabela IIIa'!Q93
A73: ='Tabela I'!$F$2 -> 0 | B73: ='Tabela I'!$F$1 -> 2022 | C73: =+'Tabela IIIa'!B100 -> Ime i prezime | D73: =+'Tabela IIIa'!C100 -> 0 | E73: =+'Tabela IIIa'!D100 -> 0 | F73: =+'Tabela IIIa'!E100 -> 0 | G73: =+'Tabela IIIa'!F100 -> 0 | H73: =+'Tabela IIIa'!G100 -> 0 | I73: =+'Tabela IIIa'!H100 -> 0 | J73: =+'Tabela IIIa'!I100 -> 0 | ... R73: =+'Tabela IIIa'!Q100
A74: ='Tabela I'!$F$2 -> 0 | B74: ='Tabela I'!$F$1 -> 2022 | C74: =+'Tabela IIIa'!B107 -> Ime i prezime | D74: =+'Tabela IIIa'!C107 -> 0 | E74: =+'Tabela IIIa'!D107 -> 0 | F74: =+'Tabela IIIa'!E107 -> 0 | G74: =+'Tabela IIIa'!F107 -> 0 | H74: =+'Tabela IIIa'!G107 -> 0 | I74: =+'Tabela IIIa'!H107 -> 0 | J74: =+'Tabela IIIa'!I107 -> 0 | ... R74: =+'Tabela IIIa'!Q107
A75: ='Tabela I'!$F$2 -> 0 | B75: ='Tabela I'!$F$1 -> 2022 | C75: =+'Tabela IIIa'!B114 -> Ime i prezime | D75: =+'Tabela IIIa'!C114 -> 0 | E75: =+'Tabela IIIa'!D114 -> 0 | F75: =+'Tabela IIIa'!E114 -> 0 | G75: =+'Tabela IIIa'!F114 -> 0 | H75: =+'Tabela IIIa'!G114 -> 0 | I75: =+'Tabela IIIa'!H114 -> 0 | J75: =+'Tabela IIIa'!I114 -> 0 | ... R75: =+'Tabela IIIa'!Q114
A76: ='Tabela I'!$F$2 -> 0 | B76: ='Tabela I'!$F$1 -> 2022 | C76: =+'Tabela IIIa'!B149 -> Ime i prezime | D76: =+'Tabela IIIa'!C149 -> 0 | E76: =+'Tabela IIIa'!D149 -> 0 | F76: =+'Tabela IIIa'!E149 -> 0 | G76: =+'Tabela IIIa'!F149 -> 0 | H76: =+'Tabela IIIa'!G149 -> 0 | I76: =+'Tabela IIIa'!H149 -> 0 | J76: =+'Tabela IIIa'!I149 -> 0 | ... R76: =+'Tabela IIIa'!Q149
A77: ='Tabela I'!$F$2 -> 0 | B77: ='Tabela I'!$F$1 -> 2022 | C77: =+'Tabela IIIa'!B156 -> Ime i prezime | D77: =+'Tabela IIIa'!C156 -> 0 | E77: =+'Tabela IIIa'!D156 -> 0 | F77: =+'Tabela IIIa'!E156 -> 0 | G77: =+'Tabela IIIa'!F156 -> 0 | H77: =+'Tabela IIIa'!G156 -> 0 | I77: =+'Tabela IIIa'!H156 -> 0 | J77: =+'Tabela IIIa'!I156 -> 0 | ... R77: =+'Tabela IIIa'!Q156
A78: ='Tabela I'!$F$2 -> 0 | B78: ='Tabela I'!$F$1 -> 2022 | C78: =+'Tabela IIIa'!B163 -> Ime i prezime | D78: =+'Tabela IIIa'!C163 -> 0 | E78: =+'Tabela IIIa'!D163 -> 0 | F78: =+'Tabela IIIa'!E163 -> 0 | G78: =+'Tabela IIIa'!F163 -> 0 | H78: =+'Tabela IIIa'!G163 -> 0 | I78: =+'Tabela IIIa'!H163 -> 0 | J78: =+'Tabela IIIa'!I163 -> 0 | ... R78: =+'Tabela IIIa'!Q163
A79: ='Tabela I'!$F$2 -> 0 | B79: ='Tabela I'!$F$1 -> 2022 | C79: =+'Tabela IIIa'!B177 -> Ime i prezime | D79: =+'Tabela IIIa'!C177 -> 0 | E79: =+'Tabela IIIa'!D177 -> 0 | F79: =+'Tabela IIIa'!E177 -> 0 | G79: =+'Tabela IIIa'!F177 -> 0 | H79: =+'Tabela IIIa'!G177 -> 0 | I79: =+'Tabela IIIa'!H177 -> 0 | J79: =+'Tabela IIIa'!I177 -> 0 | ... R79: =+'Tabela IIIa'!Q177
A80: ='Tabela I'!$F$2 -> 0 | B80: ='Tabela I'!$F$1 -> 2022 | C80: =+'Tabela IIIa'!B184 -> Ime i prezime | D80: =+'Tabela IIIa'!C184 -> 0 | E80: =+'Tabela IIIa'!D184 -> 0 | F80: =+'Tabela IIIa'!E184 -> 0 | G80: =+'Tabela IIIa'!F184 -> 0 | H80: =+'Tabela IIIa'!G184 -> 0 | I80: =+'Tabela IIIa'!H184 -> 0 | J80: =+'Tabela IIIa'!I184 -> 0 | ... R80: =+'Tabela IIIa'!Q184

Sheet tbl4InicAkt
A1: for_key | B1: godina | C1: idReferata | D1: Zalba | E1: 2022 | F1: 2021 | G1: 2020 | H1: 2019 | I1: 2018 | J1: 2017 | K1: 2016 | L1: 2015 | M1: 2014 | N1: 2013 | O1: 2012 | P1: 2011 | Q1: 2010 | R1: 2009 | S1: 2008 | T1: 2007 | U1: 2006 | V1: 2005 | W1: 2004 | X1: 2003 | Y1: 2002 | Z1: 2001 | AA1: 2000 | AB1: 1999 | AC1: 1998 | AD1: 1997 | AE1: 1996 | AF1: 1995 | AG1: 1994 | AH1: 1993 | AI1: 1992 | AJ1: 1991 | AK1: 1990 | AL1: 1989 | AM1: 1988 | AN1: 1987 | AO1: 1986 | AP1: 1985 | AQ1: 1984 | AR1: 1983 | AS1: 1982 | AT1: 1981 | AU1: 1980 | AV1: Stariji od 1980
A2: ='Tabela I'!$F$2 -> 0 | B2: ='Tabela I'!$F$1 -> 2022 | C2: 26 | D2: 0 | E2: ='Tabela V'!$F$8 -> 0 | F2: ='Tabela V'!$F$9 -> 0 | G2: ='Tabela V'!$F$10 -> 0 | H2: ='Tabela V'!$F$11 -> 0 | I2: ='Tabela V'!$F$12 -> 0 | J2: ='Tabela V'!$F$13 -> 0 | K2: ='Tabela V'!$F$14 -> 0 | L2: ='Tabela V'!$F$15 -> 0 | M2: ='Tabela V'!$F$16 -> 0 | N2: ='Tabela V'!$F$17 -> 0 | O2: ='Tabela V'!$F$18 -> 0 | P2: ='Tabela V'!$F$19 -> 0 | Q2: ='Tabela V'!$F$20 -> 0 | R2: ='Tabela V'!$F$21 -> 0 | S2: ='Tabela V'!$F$22 -> 0 | T2: ='Tabela V'!$F$23 -> 0 | U2: ='Tabela V'!$F$24 -> 0 | V2: ='Tabela V'!$F$25 -> 0 | W2: ='Tabela V'!$F$26 -> 0 | X2: ='Tabela V'!$F$27 -> 0 | Y2: ='Tabela V'!$F$28 -> 0 | Z2: ='Tabela V'!$F$29 -> 0 | AA2: ='Tabela V'!$F$30 -> 0 | AB2: ='Tabela V'!$F$31 -> 0 | AC2: ='Tabela V'!$F$32 -> 0 | AD2: ='Tabela V'!$F$33 -> 0 | AE2: ='Tabela V'!$F$34 -> 0 | AF2: ='Tabela V'!$F$35 -> 0 | AG2: ='Tabela V'!$F$36 -> 0 | AH2: ='Tabela V'!$F$37 -> 0 | AI2: ='Tabela V'!$F$38 -> 0 | AJ2: ='Tabela V'!$F$39 -> 0 | AK2: ='Tabela V'!$F$40 -> 0 | AL2: ='Tabela V'!$F$41 -> 0 | AM2: ='Tabela V'!$F$42 -> 0 | AN2: ='Tabela V'!$F$43 -> 0 | AO2: ='Tabela V'!$F$44 -> 0 | AP2: ='Tabela V'!$F$45 -> 0 | AQ2: ='Tabela V'!$F$46 -> 0 | AR2: ='Tabela V'!$F$47 -> 0 | AS2: ='Tabela V'!$F$48 -> 0 | AT2: ='Tabela V'!$F$49 -> 0 | AU2: ='Tabela V'!$F$50 -> 0 | AV2: ='Tabela V'!$F$51 -> 0
A3: ='Tabela I'!$F$2 -> 0 | B3: ='Tabela I'!$F$1 -> 2022 | C3: 104 | D3: 0 | E3: ='Tabela V'!$G$8 -> 0 | F3: ='Tabela V'!$G$9 -> 0 | G3: ='Tabela V'!$G$10 -> 0 | H3: ='Tabela V'!$G$11 -> 0 | I3: ='Tabela V'!$G$12 -> 0 | J3: ='Tabela V'!$G$13 -> 0 | K3: ='Tabela V'!$G$14 -> 0 | L3: ='Tabela V'!$G$15 -> 0 | M3: ='Tabela V'!$G$16 -> 0 | N3: ='Tabela V'!$G$17 -> 0 | O3: ='Tabela V'!$G$18 -> 0 | P3: ='Tabela V'!$G$19 -> 0 | Q3: ='Tabela V'!$G$20 -> 0 | R3: ='Tabela V'!$G$21 -> 0 | S3: ='Tabela V'!$G$22 -> 0 | T3: ='Tabela V'!$G$23 -> 0 | U3: ='Tabela V'!$G$24 -> 0 | V3: ='Tabela V'!$G$25 -> 0 | W3: ='Tabela V'!$G$26 -> 0 | X3: ='Tabela V'!$G$27 -> 0 | Y3: ='Tabela V'!$G$28 -> 0 | Z3: ='Tabela V'!$G$29 -> 0 | AA3: ='Tabela V'!$G$30 -> 0 | AB3: ='Tabela V'!$G$31 -> 0 | AC3: ='Tabela V'!$G$32 -> 0 | AD3: ='Tabela V'!$G$33 -> 0 | AE3: ='Tabela V'!$G$34 -> 0 | AF3: ='Tabela V'!$G$35 -> 0 | AG3: ='Tabela V'!$G$36 -> 0 | AH3: ='Tabela V'!$G$37 -> 0 | AI3: ='Tabela V'!$G$38 -> 0 | AJ3: ='Tabela V'!$G$39 -> 0 | AK3: ='Tabela V'!$G$40 -> 0 | AL3: ='Tabela V'!$G$41 -> 0 | AM3: ='Tabela V'!$G$42 -> 0 | AN3: ='Tabela V'!$G$43 -> 0 | AO3: ='Tabela V'!$G$44 -> 0 | AP3: ='Tabela V'!$G$45 -> 0 | AQ3: ='Tabela V'!$G$46 -> 0 | AR3: ='Tabela V'!$G$47 -> 0 | AS3: ='Tabela V'!$G$48 -> 0 | AT3: ='Tabela V'!$G$49 -> 0 | AU3: ='Tabela V'!$G$50 -> 0 | AV3: ='Tabela V'!$G$51 -> 0
A4: ='Tabela I'!$F$2 -> 0 | B4: ='Tabela I'!$F$1 -> 2022 | C4: 99 | D4: 0 | E4: ='Tabela V'!$H$8 -> 0 | F4: ='Tabela V'!$H$9 -> 0 | G4: ='Tabela V'!$H$10 -> 0 | H4: ='Tabela V'!$H$11 -> 0 | I4: ='Tabela V'!$H$12 -> 0 | J4: ='Tabela V'!$H$13 -> 0 | K4: ='Tabela V'!$H$14 -> 0 | L4: ='Tabela V'!$H$15 -> 0 | M4: ='Tabela V'!$H$16 -> 0 | N4: ='Tabela V'!$H$17 -> 0 | O4: ='Tabela V'!$H$18 -> 0 | P4: ='Tabela V'!$H$19 -> 0 | Q4: ='Tabela V'!$H$20 -> 0 | R4: ='Tabela V'!$H$21 -> 0 | S4: ='Tabela V'!$H$22 -> 0 | T4: ='Tabela V'!$H$23 -> 0 | U4: ='Tabela V'!$H$24 -> 0 | V4: ='Tabela V'!$H$25 -> 0 | W4: ='Tabela V'!$H$26 -> 0 | X4: ='Tabela V'!$H$27 -> 0 | Y4: ='Tabela V'!$H$28 -> 0 | Z4: ='Tabela V'!$H$29 -> 0 | AA4: ='Tabela V'!$H$30 -> 0 | AB4: ='Tabela V'!$H$31 -> 0 | AC4: ='Tabela V'!$H$32 -> 0 | AD4: ='Tabela V'!$H$33 -> 0 | AE4: ='Tabela V'!$H$34 -> 0 | AF4: ='Tabela V'!$H$35 -> 0 | AG4: ='Tabela V'!$H$36 -> 0 | AH4: ='Tabela V'!$H$37 -> 0 | AI4: ='Tabela V'!$H$38 -> 0 | AJ4: ='Tabela V'!$H$39 -> 0 | AK4: ='Tabela V'!$H$40 -> 0 | AL4: ='Tabela V'!$H$41 -> 0 | AM4: ='Tabela V'!$H$42 -> 0 | AN4: ='Tabela V'!$H$43 -> 0 | AO4: ='Tabela V'!$H$44 -> 0 | AP4: ='Tabela V'!$H$45 -> 0 | AQ4: ='Tabela V'!$H$46 -> 0 | AR4: ='Tabela V'!$H$47 -> 0 | AS4: ='Tabela V'!$H$48 -> 0 | AT4: ='Tabela V'!$H$49 -> 0 | AU4: ='Tabela V'!$H$50 -> 0 | AV4: ='Tabela V'!$H$51 -> 0
A5: ='Tabela I'!$F$2 -> 0 | B5: ='Tabela I'!$F$1 -> 2022 | C5: 100 | D5: 0 | E5: ='Tabela V'!$I$8 -> 0 | F5: ='Tabela V'!$I$9 -> 0 | G5: ='Tabela V'!$I$10 -> 0 | H5: ='Tabela V'!$I$11 -> 0 | I5: ='Tabela V'!$I$12 -> 0 | J5: ='Tabela V'!$I$13 -> 0 | K5: ='Tabela V'!$I$14 -> 0 | L5: ='Tabela V'!$I$15 -> 0 | M5: ='Tabela V'!$I$16 -> 0 | N5: ='Tabela V'!$I$17 -> 0 | O5: ='Tabela V'!$I$18 -> 0 | P5: ='Tabela V'!$I$19 -> 0 | Q5: ='Tabela V'!$I$20 -> 0 | R5: ='Tabela V'!$I$21 -> 0 | S5: ='Tabela V'!$I$22 -> 0 | T5: ='Tabela V'!$I$23 -> 0 | U5: ='Tabela V'!$I$24 -> 0 | V5: ='Tabela V'!$I$25 -> 0 | W5: ='Tabela V'!$I$26 -> 0 | X5: ='Tabela V'!$I$27 -> 0 | Y5: ='Tabela V'!$I$28 -> 0 | Z5: ='Tabela V'!$I$29 -> 0 | AA5: ='Tabela V'!$I$30 -> 0 | AB5: ='Tabela V'!$I$31 -> 0 | AC5: ='Tabela V'!$I$32 -> 0 | AD5: ='Tabela V'!$I$33 -> 0 | AE5: ='Tabela V'!$I$34 -> 0 | AF5: ='Tabela V'!$I$35 -> 0 | AG5: ='Tabela V'!$I$36 -> 0 | AH5: ='Tabela V'!$I$37 -> 0 | AI5: ='Tabela V'!$I$38 -> 0 | AJ5: ='Tabela V'!$I$39 -> 0 | AK5: ='Tabela V'!$I$40 -> 0 | AL5: ='Tabela V'!$I$41 -> 0 | AM5: ='Tabela V'!$I$42 -> 0 | AN5: ='Tabela V'!$I$43 -> 0 | AO5: ='Tabela V'!$I$44 -> 0 | AP5: ='Tabela V'!$I$45 -> 0 | AQ5: ='Tabela V'!$I$46 -> 0 | AR5: ='Tabela V'!$I$47 -> 0 | AS5: ='Tabela V'!$I$48 -> 0 | AT5: ='Tabela V'!$I$49 -> 0 | AU5: ='Tabela V'!$I$50 -> 0 | AV5: ='Tabela V'!$I$51 -> 0
A6: ='Tabela I'!$F$2 -> 0 | B6: ='Tabela I'!$F$1 -> 2022 | C6: 101 | D6: 0 | E6: ='Tabela V'!$J$8 -> 0 | F6: ='Tabela V'!$J$9 -> 0 | G6: ='Tabela V'!$J$10 -> 0 | H6: ='Tabela V'!$J$11 -> 0 | I6: ='Tabela V'!$J$12 -> 0 | J6: ='Tabela V'!$J$13 -> 0 | K6: ='Tabela V'!$J$14 -> 0 | L6: ='Tabela V'!$J$15 -> 0 | M6: ='Tabela V'!$J$16 -> 0 | N6: ='Tabela V'!$J$17 -> 0 | O6: ='Tabela V'!$J$18 -> 0 | P6: ='Tabela V'!$J$19 -> 0 | Q6: ='Tabela V'!$J$20 -> 0 | R6: ='Tabela V'!$J$21 -> 0 | S6: ='Tabela V'!$J$22 -> 0 | T6: ='Tabela V'!$J$23 -> 0 | U6: ='Tabela V'!$J$24 -> 0 | V6: ='Tabela V'!$J$25 -> 0 | W6: ='Tabela V'!$J$26 -> 0 | X6: ='Tabela V'!$J$27 -> 0 | Y6: ='Tabela V'!$J$28 -> 0 | Z6: ='Tabela V'!$J$29 -> 0 | AA6: ='Tabela V'!$J$30 -> 0 | AB6: ='Tabela V'!$J$31 -> 0 | AC6: ='Tabela V'!$J$32 -> 0 | AD6: ='Tabela V'!$J$33 -> 0 | AE6: ='Tabela V'!$J$34 -> 0 | AF6: ='Tabela V'!$J$35 -> 0 | AG6: ='Tabela V'!$J$36 -> 0 | AH6: ='Tabela V'!$J$37 -> 0 | AI6: ='Tabela V'!$J$38 -> 0 | AJ6: ='Tabela V'!$J$39 -> 0 | AK6: ='Tabela V'!$J$40 -> 0 | AL6: ='Tabela V'!$J$41 -> 0 | AM6: ='Tabela V'!$J$42 -> 0 | AN6: ='Tabela V'!$J$43 -> 0 | AO6: ='Tabela V'!$J$44 -> 0 | AP6: ='Tabela V'!$J$45 -> 0 | AQ6: ='Tabela V'!$J$46 -> 0 | AR6: ='Tabela V'!$J$47 -> 0 | AS6: ='Tabela V'!$J$48 -> 0 | AT6: ='Tabela V'!$J$49 -> 0 | AU6: ='Tabela V'!$J$50 -> 0 | AV6: ='Tabela V'!$J$51 -> 0
A7: ='Tabela I'!$F$2 -> 0 | B7: ='Tabela I'!$F$1 -> 2022 | C7: 123 | D7: 0 | E7: ='Tabela V'!$K$8 -> 0 | F7: ='Tabela V'!$K$9 -> 0 | G7: ='Tabela V'!$K$10 -> 0 | H7: ='Tabela V'!$K$11 -> 0 | I7: ='Tabela V'!$K$12 -> 0 | J7: ='Tabela V'!$K$13 -> 0 | K7: ='Tabela V'!$K$14 -> 0 | L7: ='Tabela V'!$K$15 -> 0 | M7: ='Tabela V'!$K$16 -> 0 | N7: ='Tabela V'!$K$17 -> 0 | O7: ='Tabela V'!$K$18 -> 0 | P7: ='Tabela V'!$K$19 -> 0 | Q7: ='Tabela V'!$K$20 -> 0 | R7: ='Tabela V'!$K$21 -> 0 | S7: ='Tabela V'!$K$22 -> 0 | T7: ='Tabela V'!$K$23 -> 0 | U7: ='Tabela V'!$K$24 -> 0 | V7: ='Tabela V'!$K$25 -> 0 | W7: ='Tabela V'!$K$26 -> 0 | X7: ='Tabela V'!$K$27 -> 0 | Y7: ='Tabela V'!$K$28 -> 0 | Z7: ='Tabela V'!$K$29 -> 0 | AA7: ='Tabela V'!$K$30 -> 0 | AB7: ='Tabela V'!$K$31 -> 0 | AC7: ='Tabela V'!$K$32 -> 0 | AD7: ='Tabela V'!$K$33 -> 0 | AE7: ='Tabela V'!$K$34 -> 0 | AF7: ='Tabela V'!$K$35 -> 0 | AG7: ='Tabela V'!$K$36 -> 0 | AH7: ='Tabela V'!$K$37 -> 0 | AI7: ='Tabela V'!$K$38 -> 0 | AJ7: ='Tabela V'!$K$39 -> 0 | AK7: ='Tabela V'!$K$40 -> 0 | AL7: ='Tabela V'!$K$41 -> 0 | AM7: ='Tabela V'!$K$42 -> 0 | AN7: ='Tabela V'!$K$43 -> 0 | AO7: ='Tabela V'!$K$44 -> 0 | AP7: ='Tabela V'!$K$45 -> 0 | AQ7: ='Tabela V'!$K$46 -> 0 | AR7: ='Tabela V'!$K$47 -> 0 | AS7: ='Tabela V'!$K$48 -> 0 | AT7: ='Tabela V'!$K$49 -> 0 | AU7: ='Tabela V'!$K$50 -> 0 | AV7: ='Tabela V'!$K$51 -> 0
A8: ='Tabela I'!$F$2 -> 0 | B8: ='Tabela I'!$F$1 -> 2022 | C8: 105 | D8: 0 | E8: ='Tabela V'!$L$8 -> 209 | F8: ='Tabela V'!$L$9 -> 0 | G8: ='Tabela V'!$L$10 -> 0 | H8: ='Tabela V'!$L$11 -> 0 | I8: ='Tabela V'!$L$12 -> 0 | J8: ='Tabela V'!$L$13 -> 0 | K8: ='Tabela V'!$L$14 -> 0 | L8: ='Tabela V'!$L$15 -> 0 | M8: ='Tabela V'!$L$16 -> 0 | N8: ='Tabela V'!$L$17 -> 0 | O8: ='Tabela V'!$L$18 -> 0 | P8: ='Tabela V'!$L$19 -> 0 | Q8: ='Tabela V'!$L$20 -> 0 | R8: ='Tabela V'!$L$21 -> 0 | S8: ='Tabela V'!$L$22 -> 0 | T8: ='Tabela V'!$L$23 -> 0 | U8: ='Tabela V'!$L$24 -> 0 | V8: ='Tabela V'!$L$25 -> 0 | W8: ='Tabela V'!$L$26 -> 0 | X8: ='Tabela V'!$L$27 -> 0 | Y8: ='Tabela V'!$L$28 -> 0 | Z8: ='Tabela V'!$L$29 -> 0 | AA8: ='Tabela V'!$L$30 -> 0 | AB8: ='Tabela V'!$L$31 -> 0 | AC8: ='Tabela V'!$L$32 -> 0 | AD8: ='Tabela V'!$L$33 -> 0 | AE8: ='Tabela V'!$L$34 -> 0 | AF8: ='Tabela V'!$L$35 -> 0 | AG8: ='Tabela V'!$L$36 -> 0 | AH8: ='Tabela V'!$L$37 -> 0 | AI8: ='Tabela V'!$L$38 -> 0 | AJ8: ='Tabela V'!$L$39 -> 0 | AK8: ='Tabela V'!$L$40 -> 0 | AL8: ='Tabela V'!$L$41 -> 0 | AM8: ='Tabela V'!$L$42 -> 0 | AN8: ='Tabela V'!$L$43 -> 0 | AO8: ='Tabela V'!$L$44 -> 0 | AP8: ='Tabela V'!$L$45 -> 0 | AQ8: ='Tabela V'!$L$46 -> 0 | AR8: ='Tabela V'!$L$47 -> 0 | AS8: ='Tabela V'!$L$48 -> 0 | AT8: ='Tabela V'!$L$49 -> 0 | AU8: ='Tabela V'!$L$50 -> 0 | AV8: ='Tabela V'!$L$51 -> 0
A9: ='Tabela I'!$F$2 -> 0 | B9: ='Tabela I'!$F$1 -> 2022 | C9: 106 | D9: 0 | E9: ='Tabela V'!$M$8 -> 0 | F9: ='Tabela V'!$M$9 -> 0 | G9: ='Tabela V'!$M$10 -> 0 | H9: ='Tabela V'!$M$11 -> 0 | I9: ='Tabela V'!$M$12 -> 0 | J9: ='Tabela V'!$M$13 -> 0 | K9: ='Tabela V'!$M$14 -> 0 | L9: ='Tabela V'!$M$15 -> 0 | M9: ='Tabela V'!$M$16 -> 0 | N9: ='Tabela V'!$M$17 -> 0 | O9: ='Tabela V'!$M$18 -> 0 | P9: ='Tabela V'!$M$19 -> 0 | Q9: ='Tabela V'!$M$20 -> 0 | R9: ='Tabela V'!$M$21 -> 0 | S9: ='Tabela V'!$M$22 -> 0 | T9: ='Tabela V'!$M$23 -> 0 | U9: ='Tabela V'!$M$24 -> 0 | V9: ='Tabela V'!$M$25 -> 0 | W9: ='Tabela V'!$M$26 -> 0 | X9: ='Tabela V'!$M$27 -> 0 | Y9: ='Tabela V'!$M$28 -> 0 | Z9: ='Tabela V'!$M$29 -> 0 | AA9: ='Tabela V'!$M$30 -> 0 | AB9: ='Tabela V'!$M$31 -> 0 | AC9: ='Tabela V'!$M$32 -> 0 | AD9: ='Tabela V'!$M$33 -> 0 | AE9: ='Tabela V'!$M$34 -> 0 | AF9: ='Tabela V'!$M$35 -> 0 | AG9: ='Tabela V'!$M$36 -> 0 | AH9: ='Tabela V'!$M$37 -> 0 | AI9: ='Tabela V'!$M$38 -> 0 | AJ9: ='Tabela V'!$M$39 -> 0 | AK9: ='Tabela V'!$M$40 -> 0 | AL9: ='Tabela V'!$M$41 -> 0 | AM9: ='Tabela V'!$M$42 -> 0 | AN9: ='Tabela V'!$M$43 -> 0 | AO9: ='Tabela V'!$M$44 -> 0 | AP9: ='Tabela V'!$M$45 -> 0 | AQ9: ='Tabela V'!$M$46 -> 0 | AR9: ='Tabela V'!$M$47 -> 0 | AS9: ='Tabela V'!$M$48 -> 0 | AT9: ='Tabela V'!$M$49 -> 0 | AU9: ='Tabela V'!$M$50 -> 0 | AV9: ='Tabela V'!$M$51 -> 0
A10: ='Tabela I'!$F$2 -> 0 | B10: ='Tabela I'!$F$1 -> 2022 | C10: 107 | D10: 0 | E10: ='Tabela V'!$N$8 -> 0 | F10: ='Tabela V'!$N$9 -> 0 | G10: ='Tabela V'!$N$10 -> 0 | H10: ='Tabela V'!$N$11 -> 0 | I10: ='Tabela V'!$N$12 -> 0 | J10: ='Tabela V'!$N$13 -> 0 | K10: ='Tabela V'!$N$14 -> 0 | L10: ='Tabela V'!$N$15 -> 0 | M10: ='Tabela V'!$N$16 -> 0 | N10: ='Tabela V'!$N$17 -> 0 | O10: ='Tabela V'!$N$18 -> 0 | P10: ='Tabela V'!$N$19 -> 0 | Q10: ='Tabela V'!$N$20 -> 0 | R10: ='Tabela V'!$N$21 -> 0 | S10: ='Tabela V'!$N$22 -> 0 | T10: ='Tabela V'!$N$23 -> 0 | U10: ='Tabela V'!$N$24 -> 0 | V10: ='Tabela V'!$N$25 -> 0 | W10: ='Tabela V'!$N$26 -> 0 | X10: ='Tabela V'!$N$27 -> 0 | Y10: ='Tabela V'!$N$28 -> 0 | Z10: ='Tabela V'!$N$29 -> 0 | AA10: ='Tabela V'!$N$30 -> 0 | AB10: ='Tabela V'!$N$31 -> 0 | AC10: ='Tabela V'!$N$32 -> 0 | AD10: ='Tabela V'!$N$33 -> 0 | AE10: ='Tabela V'!$N$34 -> 0 | AF10: ='Tabela V'!$N$35 -> 0 | AG10: ='Tabela V'!$N$36 -> 0 | AH10: ='Tabela V'!$N$37 -> 0 | AI10: ='Tabela V'!$N$38 -> 0 | AJ10: ='Tabela V'!$N$39 -> 0 | AK10: ='Tabela V'!$N$40 -> 0 | AL10: ='Tabela V'!$N$41 -> 0 | AM10: ='Tabela V'!$N$42 -> 0 | AN10: ='Tabela V'!$N$43 -> 0 | AO10: ='Tabela V'!$N$44 -> 0 | AP10: ='Tabela V'!$N$45 -> 0 | AQ10: ='Tabela V'!$N$46 -> 0 | AR10: ='Tabela V'!$N$47 -> 0 | AS10: ='Tabela V'!$N$48 -> 0 | AT10: ='Tabela V'!$N$49 -> 0 | AU10: ='Tabela V'!$N$50 -> 0 | AV10: ='Tabela V'!$N$51 -> 0
A11: ='Tabela I'!$F$2 -> 0 | B11: ='Tabela I'!$F$1 -> 2022 | C11: 108 | D11: 0 | E11: ='Tabela V'!$O$8 -> 4 | F11: ='Tabela V'!$O$9 -> 0 | G11: ='Tabela V'!$O$10 -> 0 | H11: ='Tabela V'!$O$11 -> 0 | I11: ='Tabela V'!$O$12 -> 0 | J11: ='Tabela V'!$O$13 -> 0 | K11: ='Tabela V'!$O$14 -> 0 | L11: ='Tabela V'!$O$15 -> 0 | M11: ='Tabela V'!$O$16 -> 0 | N11: ='Tabela V'!$O$17 -> 0 | O11: ='Tabela V'!$O$18 -> 0 | P11: ='Tabela V'!$O$19 -> 0 | Q11: ='Tabela V'!$O$20 -> 0 | R11: ='Tabela V'!$O$21 -> 0 | S11: ='Tabela V'!$O$22 -> 0 | T11: ='Tabela V'!$O$23 -> 0 | U11: ='Tabela V'!$O$24 -> 0 | V11: ='Tabela V'!$O$25 -> 0 | W11: ='Tabela V'!$O$26 -> 0 | X11: ='Tabela V'!$O$27 -> 0 | Y11: ='Tabela V'!$O$28 -> 0 | Z11: ='Tabela V'!$O$29 -> 0 | AA11: ='Tabela V'!$O$30 -> 0 | AB11: ='Tabela V'!$O$31 -> 0 | AC11: ='Tabela V'!$O$32 -> 0 | AD11: ='Tabela V'!$O$33 -> 0 | AE11: ='Tabela V'!$O$34 -> 0 | AF11: ='Tabela V'!$O$35 -> 0 | AG11: ='Tabela V'!$O$36 -> 0 | AH11: ='Tabela V'!$O$37 -> 0 | AI11: ='Tabela V'!$O$38 -> 0 | AJ11: ='Tabela V'!$O$39 -> 0 | AK11: ='Tabela V'!$O$40 -> 0 | AL11: ='Tabela V'!$O$41 -> 0 | AM11: ='Tabela V'!$O$42 -> 0 | AN11: ='Tabela V'!$O$43 -> 0 | AO11: ='Tabela V'!$O$44 -> 0 | AP11: ='Tabela V'!$O$45 -> 0 | AQ11: ='Tabela V'!$O$46 -> 0 | AR11: ='Tabela V'!$O$47 -> 0 | AS11: ='Tabela V'!$O$48 -> 0 | AT11: ='Tabela V'!$O$49 -> 0 | AU11: ='Tabela V'!$O$50 -> 0 | AV11: ='Tabela V'!$O$51 -> 0
A12: ='Tabela I'!$F$2 -> 0 | B12: ='Tabela I'!$F$1 -> 2022 | C12: 60 | D12: 0 | E12: ='Tabela V'!$P$8 -> 0 | F12: ='Tabela V'!$P$9 -> 0 | G12: ='Tabela V'!$P$10 -> 0 | H12: ='Tabela V'!$P$11 -> 0 | I12: ='Tabela V'!$P$12 -> 0 | J12: ='Tabela V'!$P$13 -> 0 | K12: ='Tabela V'!$P$14 -> 0 | L12: ='Tabela V'!$P$15 -> 0 | M12: ='Tabela V'!$P$16 -> 0 | N12: ='Tabela V'!$P$17 -> 0 | O12: ='Tabela V'!$P$18 -> 0 | P12: ='Tabela V'!$P$19 -> 0 | Q12: ='Tabela V'!$P$20 -> 0 | R12: ='Tabela V'!$P$21 -> 0 | S12: ='Tabela V'!$P$22 -> 0 | T12: ='Tabela V'!$P$23 -> 0 | U12: ='Tabela V'!$P$24 -> 0 | V12: ='Tabela V'!$P$25 -> 0 | W12: ='Tabela V'!$P$26 -> 0 | X12: ='Tabela V'!$P$27 -> 0 | Y12: ='Tabela V'!$P$28 -> 0 | Z12: ='Tabela V'!$P$29 -> 0 | AA12: ='Tabela V'!$P$30 -> 0 | AB12: ='Tabela V'!$P$31 -> 0 | AC12: ='Tabela V'!$P$32 -> 0 | AD12: ='Tabela V'!$P$33 -> 0 | AE12: ='Tabela V'!$P$34 -> 0 | AF12: ='Tabela V'!$P$35 -> 0 | AG12: ='Tabela V'!$P$36 -> 0 | AH12: ='Tabela V'!$P$37 -> 0 | AI12: ='Tabela V'!$P$38 -> 0 | AJ12: ='Tabela V'!$P$39 -> 0 | AK12: ='Tabela V'!$P$40 -> 0 | AL12: ='Tabela V'!$P$41 -> 0 | AM12: ='Tabela V'!$P$42 -> 0 | AN12: ='Tabela V'!$P$43 -> 0 | AO12: ='Tabela V'!$P$44 -> 0 | AP12: ='Tabela V'!$P$45 -> 0 | AQ12: ='Tabela V'!$P$46 -> 0 | AR12: ='Tabela V'!$P$47 -> 0 | AS12: ='Tabela V'!$P$48 -> 0 | AT12: ='Tabela V'!$P$49 -> 0 | AU12: ='Tabela V'!$P$50 -> 0 | AV12: ='Tabela V'!$P$51 -> 0
A13: ='Tabela I'!$F$2 -> 0 | B13: ='Tabela I'!$F$1 -> 2022 | C13: 127 | D13: 0 | E13: =+'Tabela V'!$B$8 -> 0 | F13: =+'Tabela V'!$B$9 -> 0 | G13: =+'Tabela V'!$B$10 -> 0 | H13: =+'Tabela V'!$B$11 -> 0 | I13: =+'Tabela V'!$B$12 -> 0 | J13: =+'Tabela V'!$B$13 -> 0 | K13: =+'Tabela V'!$B$14 -> 0 | L13: =+'Tabela V'!$B$15 -> 0 | M13: =+'Tabela V'!$B$16 -> 0 | N13: =+'Tabela V'!$B$17 -> 0 | O13: =+'Tabela V'!$B$18 -> 0 | P13: =+'Tabela V'!$B$19 -> 0 | Q13: =+'Tabela V'!$B$20 -> 0 | R13: =+'Tabela V'!$B$21 -> 0 | S13: =+'Tabela V'!$B$22 -> 0 | T13: =+'Tabela V'!$B$23 -> 0 | U13: =+'Tabela V'!$B$24 -> 0 | V13: =+'Tabela V'!$B$25 -> 0 | W13: =+'Tabela V'!$B$26 -> 0 | X13: =+'Tabela V'!$B$27 -> 0 | Y13: =+'Tabela V'!$B$28 -> 0 | Z13: =+'Tabela V'!$B$29 -> 0 | AA13: =+'Tabela V'!$B$30 -> 0 | AB13: =+'Tabela V'!$B$31 -> 0 | AC13: =+'Tabela V'!$B$32 -> 0 | AD13: =+'Tabela V'!$B$33 -> 0 | AE13: =+'Tabela V'!$B$34 -> 0 | AF13: =+'Tabela V'!$B$35 -> 0 | AG13: =+'Tabela V'!$B$36 -> 0 | AH13: =+'Tabela V'!$B$37 -> 0 | AI13: =+'Tabela V'!$B$38 -> 0 | AJ13: =+'Tabela V'!$B$39 -> 0 | AK13: =+'Tabela V'!$B$40 -> 0 | AL13: =+'Tabela V'!$B$41 -> 0 | AM13: =+'Tabela V'!$B$42 -> 0 | AN13: =+'Tabela V'!$B$43 -> 0 | AO13: =+'Tabela V'!$B$44 -> 0 | AP13: =+'Tabela V'!$B$45 -> 0 | AQ13: =+'Tabela V'!$B$46 -> 0 | AR13: =+'Tabela V'!$B$47 -> 0 | AS13: =+'Tabela V'!$B$48 -> 0 | AT13: =+'Tabela V'!$B$49 -> 0 | AU13: =+'Tabela V'!$B$50 -> 0 | AV13: =+'Tabela V'!$B$51 -> 0
A14: ='Tabela I'!$F$2 -> 0 | B14: ='Tabela I'!$F$1 -> 2022 | C14: 128 | D14: 0 | E14: =+'Tabela V'!$C$8 -> 0 | F14: =+'Tabela V'!$C$9 -> 0 | G14: =+'Tabela V'!$C$10 -> 0 | H14: =+'Tabela V'!$C$11 -> 0 | I14: =+'Tabela V'!$C$12 -> 0 | J14: =+'Tabela V'!$C$13 -> 0 | K14: =+'Tabela V'!$C$14 -> 0 | L14: =+'Tabela V'!$C$15 -> 0 | M14: =+'Tabela V'!$C$16 -> 0 | N14: =+'Tabela V'!$C$17 -> 0 | O14: =+'Tabela V'!$C$18 -> 0 | P14: =+'Tabela V'!$C$19 -> 0 | Q14: =+'Tabela V'!$C$20 -> 0 | R14: =+'Tabela V'!$C$21 -> 0 | S14: =+'Tabela V'!$C$22 -> 0 | T14: =+'Tabela V'!$C$23 -> 0 | U14: =+'Tabela V'!$C$24 -> 0 | V14: =+'Tabela V'!$C$25 -> 0 | W14: =+'Tabela V'!$C$26 -> 0 | X14: =+'Tabela V'!$C$27 -> 0 | Y14: =+'Tabela V'!$C$28 -> 0 | Z14: =+'Tabela V'!$C$29 -> 0 | AA14: =+'Tabela V'!$C$30 -> 0 | AB14: =+'Tabela V'!$C$31 -> 0 | AC14: =+'Tabela V'!$C$32 -> 0 | AD14: =+'Tabela V'!$C$33 -> 0 | AE14: =+'Tabela V'!$C$34 -> 0 | AF14: =+'Tabela V'!$C$35 -> 0 | AG14: =+'Tabela V'!$C$36 -> 0 | AH14: =+'Tabela V'!$C$37 -> 0 | AI14: =+'Tabela V'!$C$38 -> 0 | AJ14: =+'Tabela V'!$C$39 -> 0 | AK14: =+'Tabela V'!$C$40 -> 0 | AL14: =+'Tabela V'!$C$41 -> 0 | AM14: =+'Tabela V'!$C$42 -> 0 | AN14: =+'Tabela V'!$C$43 -> 0 | AO14: =+'Tabela V'!$C$44 -> 0 | AP14: =+'Tabela V'!$C$45 -> 0 | AQ14: =+'Tabela V'!$C$46 -> 0 | AR14: =+'Tabela V'!$C$47 -> 0 | AS14: =+'Tabela V'!$C$48 -> 0 | AT14: =+'Tabela V'!$C$49 -> 0 | AU14: =+'Tabela V'!$C$50 -> 0 | AV14: =+'Tabela V'!$C$51 -> 0
A15: ='Tabela I'!$F$2 -> 0 | B15: ='Tabela I'!$F$1 -> 2022 | C15: 129 | D15: 0 | E15: =+'Tabela V'!$D$8 -> 1902 | F15: =+'Tabela V'!$D$9 -> 303 | G15: =+'Tabela V'!$D$10 -> 0 | H15: =+'Tabela V'!$D$11 -> 0 | I15: =+'Tabela V'!$D$12 -> 0 | J15: =+'Tabela V'!$D$13 -> 0 | K15: =+'Tabela V'!$D$14 -> 0 | L15: =+'Tabela V'!$D$15 -> 0 | M15: =+'Tabela V'!$D$16 -> 0 | N15: =+'Tabela V'!$D$17 -> 0 | O15: =+'Tabela V'!$D$18 -> 0 | P15: =+'Tabela V'!$D$19 -> 0 | Q15: =+'Tabela V'!$D$20 -> 0 | R15: =+'Tabela V'!$D$21 -> 0 | S15: =+'Tabela V'!$D$22 -> 0 | T15: =+'Tabela V'!$D$23 -> 0 | U15: =+'Tabela V'!$D$24 -> 0 | V15: =+'Tabela V'!$D$25 -> 0 | W15: =+'Tabela V'!$D$26 -> 0 | X15: =+'Tabela V'!$D$27 -> 0 | Y15: =+'Tabela V'!$D$28 -> 0 | Z15: =+'Tabela V'!$D$29 -> 0 | AA15: =+'Tabela V'!$D$30 -> 0 | AB15: =+'Tabela V'!$D$31 -> 0 | AC15: =+'Tabela V'!$D$32 -> 0 | AD15: =+'Tabela V'!$D$33 -> 0 | AE15: =+'Tabela V'!$D$34 -> 0 | AF15: =+'Tabela V'!$D$35 -> 0 | AG15: =+'Tabela V'!$D$36 -> 0 | AH15: =+'Tabela V'!$D$37 -> 0 | AI15: =+'Tabela V'!$D$38 -> 0 | AJ15: =+'Tabela V'!$D$39 -> 0 | AK15: =+'Tabela V'!$D$40 -> 0 | AL15: =+'Tabela V'!$D$41 -> 0 | AM15: =+'Tabela V'!$D$42 -> 0 | AN15: =+'Tabela V'!$D$43 -> 0 | AO15: =+'Tabela V'!$D$44 -> 0 | AP15: =+'Tabela V'!$D$45 -> 0 | AQ15: =+'Tabela V'!$D$46 -> 0 | AR15: =+'Tabela V'!$D$47 -> 0 | AS15: =+'Tabela V'!$D$48 -> 0 | AT15: =+'Tabela V'!$D$49 -> 0 | AU15: =+'Tabela V'!$D$50 -> 0 | AV15: =+'Tabela V'!$D$51 -> 0
A16: ='Tabela I'!$F$2 -> 0 | B16: ='Tabela I'!$F$1 -> 2022 | C16: 131 | D16: 0 | E16: =+'Tabela V'!$E$8 -> 11 | F16: =+'Tabela V'!$E$9 -> 2 | G16: =+'Tabela V'!$E$10 -> 0 | H16: =+'Tabela V'!$E$11 -> 0 | I16: =+'Tabela V'!$E$12 -> 0 | J16: =+'Tabela V'!$E$13 -> 0 | K16: =+'Tabela V'!$E$14 -> 0 | L16: =+'Tabela V'!$E$15 -> 0 | M16: =+'Tabela V'!$E$16 -> 0 | N16: =+'Tabela V'!$E$17 -> 0 | O16: =+'Tabela V'!$E$18 -> 0 | P16: =+'Tabela V'!$E$19 -> 0 | Q16: =+'Tabela V'!$E$20 -> 0 | R16: =+'Tabela V'!$E$21 -> 0 | S16: =+'Tabela V'!$E$22 -> 0 | T16: =+'Tabela V'!$E$23 -> 0 | U16: =+'Tabela V'!$E$24 -> 0 | V16: =+'Tabela V'!$E$25 -> 0 | W16: =+'Tabela V'!$E$26 -> 0 | X16: =+'Tabela V'!$E$27 -> 0 | Y16: =+'Tabela V'!$E$28 -> 0 | Z16: =+'Tabela V'!$E$29 -> 0 | AA16: =+'Tabela V'!$E$30 -> 0 | AB16: =+'Tabela V'!$E$31 -> 0 | AC16: =+'Tabela V'!$E$32 -> 0 | AD16: =+'Tabela V'!$E$33 -> 0 | AE16: =+'Tabela V'!$E$34 -> 0 | AF16: =+'Tabela V'!$E$35 -> 0 | AG16: =+'Tabela V'!$E$36 -> 0 | AH16: =+'Tabela V'!$E$37 -> 0 | AI16: =+'Tabela V'!$E$38 -> 0 | AJ16: =+'Tabela V'!$E$39 -> 0 | AK16: =+'Tabela V'!$E$40 -> 0 | AL16: =+'Tabela V'!$E$41 -> 0 | AM16: =+'Tabela V'!$E$42 -> 0 | AN16: =+'Tabela V'!$E$43 -> 0 | AO16: =+'Tabela V'!$E$44 -> 0 | AP16: =+'Tabela V'!$E$45 -> 0 | AQ16: =+'Tabela V'!$E$46 -> 0 | AR16: =+'Tabela V'!$E$47 -> 0 | AS16: =+'Tabela V'!$E$48 -> 0 | AT16: =+'Tabela V'!$E$49 -> 0 | AU16: =+'Tabela V'!$E$50 -> 0 | AV16: =+'Tabela V'!$E$51 -> 0
E17: =SUM(E2:E16) -> 2126 | F17: =SUM(F2:F16) -> 305 | G17: =SUM(G2:G16) -> 0 | H17: =SUM(H2:H16) -> 0 | I17: =SUM(I2:I16) -> 0 | J17: =SUM(J2:J16) -> 0 | K17: =SUM(K2:K16) -> 0 | L17: =SUM(L2:L16) -> 0 | ... AV17: =SUM(AV2:AV16) -> 0

Sheet tbl10_ust_sud
A1: for_key | B1: godina | C1: BrOdbacApel | D1: BrObustPost | E1: BrOdbijApel
A2: ='Tabela I'!$F$2 -> 0 | B2: ='Tabela I'!$F$1 -> 2022 | C2: ='Tabela VI'!A7 -> 0 | D2: ='Tabela VI'!B7 -> 0 | E2: ='Tabela VI'!C7 -> 0
A5: for_key | B5: godina | C5: Pravni osnov | D5: BrPreinOdl | E5: BrUkidOdl | F5: BrUsvApel
A6: ='Tabela I'!$F$2 -> 0 | B6: ='Tabela I'!$F$1 -> 2022 | C6: 1 | D6: ='Tabela VI'!B12 -> 0 | E6: ='Tabela VI'!C12 -> 0 | F6: ='Tabela VI'!D12 -> 0
A7: ='Tabela I'!$F$2 -> 0 | B7: ='Tabela I'!$F$1 -> 2022 | C7: 2 | D7: ='Tabela VI'!B13 -> 0 | E7: ='Tabela VI'!C13 -> 0 | F7: ='Tabela VI'!D13 -> 0
A8: ='Tabela I'!$F$2 -> 0 | B8: ='Tabela I'!$F$1 -> 2022 | C8: 3 | D8: ='Tabela VI'!B14 -> 0 | E8: ='Tabela VI'!C14 -> 0 | F8: ='Tabela VI'!D14 -> 0
A9: ='Tabela I'!$F$2 -> 0 | B9: ='Tabela I'!$F$1 -> 2022 | C9: 4 | D9: ='Tabela VI'!B15 -> 0 | E9: ='Tabela VI'!C15 -> 0 | F9: ='Tabela VI'!D15 -> 0
A10: ='Tabela I'!$F$2 -> 0 | B10: ='Tabela I'!$F$1 -> 2022 | C10: 5 | D10: ='Tabela VI'!B16 -> 0 | E10: ='Tabela VI'!C16 -> 0 | F10: ='Tabela VI'!D16 -> 0
A11: ='Tabela I'!$F$2 -> 0 | B11: ='Tabela I'!$F$1 -> 2022 | C11: 6 | D11: ='Tabela VI'!B17 -> 0 | E11: ='Tabela VI'!C17 -> 0 | F11: ='Tabela VI'!D17 -> 0
A12: ='Tabela I'!$F$2 -> 0 | B12: ='Tabela I'!$F$1 -> 2022 | C12: 7 | D12: ='Tabela VI'!B18 -> 0 | E12: ='Tabela VI'!C18 -> 0 | F12: ='Tabela VI'!D18 -> 0
A15: for_key | B15: godina | C15: Pravni osnov | D15: PrvostSud | E15: DrugostSud | F15: SudPoUlPrLij | G15: Ostalo
A16: ='Tabela I'!$F$2 -> 0 | B16: ='Tabela I'!$F$1 -> 2022 | C16: 3 | D16: ='Tabela VI'!B23 -> 0 | E16: ='Tabela VI'!C23 -> 0 | F16: ='Tabela VI'!D23 -> 0 | G16: ='Tabela VI'!E23 -> 0
A19: for_key | B19: godina | C19: BrNaknNematStete | D19: UkIznosNaknade
A20: ='Tabela I'!$F$2 -> 0 | B20: ='Tabela I'!$F$1 -> 2022 | C20: ='Tabela VI'!B25 -> 0 | D20: ='Tabela VI'!B26 -> 0
